{"text_format":"1","workbook":"xlsx","n_sheets":31,"sheets":["Datos Generales","Info General","datos","Formato 1","F01","Formato 2","F02","Formato 3","F03","Formato 4","F04","Formato 5","F05","Formato 6 a)","F06a","Formato 6 b)","F06b","Formato 6 c)","F06c","Formato 6 d)","F06d","Formato 7 a)","F07a","Formato 7 b)","F07b","Formato 7 c)","F07c","Formato 7 d)","F07d","Formato 8","F08"],"not_rendered":{"charts":0,"images":4,"macros":1,"external_links":1,"defined_names":199,"comments":0,"pivot_tables":0},"unopened":[],"bounds":{"document_bytes":16777216,"sheet_cells":100000,"rows_first":2000,"rows_last":500,"rows_between":2000,"halvings":0,"cell_chars":16384,"cell_head_chars":4096},"cells_cut":0,"cells_raw":0,"read":"whole","date_system":"1900"}

{"sheet":"Datos Generales","index":0,"n_rows":11,"n_cols":3,"rows_kept":11,"cut":false,"hidden":false,"merged":[[0,0,0,4],[2,2,2,3]]}
["ESTADOS FINANCIEROS - DATOS GENERALES"]
[]
[null,"NOMBRE DEL ENTE PÚBLICO","Municipio de  Valle de Santiago, Gto."]
[]
[null,"ENTIDAD FEDERATIVA"]
[]
[null,"MUNICIPIO"]
[]
[null,"AÑO DEL INFORME"]
[]
[null,"PERIODO DE INFORME"]

{"sheet":"Info General","index":1,"n_rows":33,"n_cols":9,"rows_kept":33,"cut":false,"hidden":true,"merged":[]}
[]
[]
[null,"ESTADOS FINANCIEROS - DATOS GENERALES"]
[]
[]
[null,"NOMBRE DEL ENTE PÚBLICO",{"$f":"IF(TRIM(ENTE)=\"\", IF(MUNICIPIO=\"No Aplica\",IF(ENTIDAD_FEDERATIVA=\"Ciudad de México\",ENTIDAD_FEDERATIVA,CONCATENATE(\"Gobierno del Estado de \",ENTIDAD_FEDERATIVA)),CONCATENATE(TRIM(ENTE),IF(ENTIDAD_FEDERATIVA=\"Ciudad de México\",\"Delegación \",\"Municipio de \"),MUNICIPIO, \", \",IF(ENTIDAD_FEDERATIVA=\"Ciudad de México\",ENTIDAD_FEDERATIVA,CONCATENATE(\"Gobierno del Estado de \",ENTIDAD_FEDERATIVA)))),CONCATENATE(TRIM(ENTE),\", \",IF(ENTIDAD_FEDERATIVA=\"Ciudad de México\",ENTIDAD_FEDERATIVA,CONCATENATE(\"Gobierno del Estado de \",ENTIDAD_FEDERATIVA))))","v":"Municipio de Valle de Santiago, Gto., Gobierno del Estado de Guanajuato"}]
[null,null,{"$f":"CONCATENATE(ENTE_PUBLICO,\" (a)\")","v":"Municipio de Valle de Santiago, Gto., Gobierno del Estado de Guanajuato (a)"}]
[null,"ENTIDAD FEDERATIVA","Guanajuato"]
[]
[null,"MUNICIPIO","Valle de Santiago"]
[null,null,{"$f":"IF(MUNICIPIO=\"No Aplica\", IF(ENTIDAD_FEDERATIVA=\"Ciudad de México\",ENTIDAD_FEDERATIVA,CONCATENATE(\"Gobierno del Estado de \",ENTIDAD_FEDERATIVA)),CONCATENATE(IF(ENTIDAD_FEDERATIVA=\"Ciudad de México\",\"Delegación \",\"Municipio de \"), MUNICIPIO, IF(ENTIDAD_FEDERATIVA=\"Ciudad de México\",CONCATENATE(\", \",ENTIDAD_FEDERATIVA),CONCATENATE(\", Gobierno del Estado de \",ENTIDAD_FEDERATIVA))))","v":"Municipio de Valle de Santiago, Gobierno del Estado de Guanajuato"}]
[null,"AÑO DEL INFORME",2022]
[]
[null,"PERIODO DE INFORME","Al 31 de diciembre de 2021 y al 30 de marzo de 2022 (b)"]
[null,null,1]
[null,null,"Del 1 de enero al 30 de marzo de 2022 (b)"]
[]
[null,null,null,{"$f":"IF(PERIODO=1,CONCATENATE(\"Monto pagado de la inversión al 30 de marzo de \",ANIO_INFORME,\" (k)\"),IF(PERIODO=2,CONCATENATE(\"Monto pagado de la inversión al 30 de junio de \",ANIO_INFORME,\" (k)\"),IF(PERIODO=3,CONCATENATE(\"Monto pagado de la inversión al 30 de septiembre de \",ANIO_INFORME,\" (k)\"),IF(PERIODO=4,CONCATENATE(\"Monto pagado de la inversión al 31 de diciembre de \",ANIO_INFORME,\" (k)\")))))","v":"Monto pagado de la inversión al 30 de marzo de 2022 (k)"},{"$f":"IF(PERIODO=1,CONCATENATE(\"Monto pagado de la inversión actualizado al 30 de marzo de \",ANIO_INFORME,\" (l)\"),IF(PERIODO=2,CONCATENATE(\"Monto pagado de la inversión actualizado al 30 de junio de \",ANIO_INFORME,\" (l)\"),IF(PERIODO=3,CONCATENATE(\"Monto pagado de la inversión actualizado al 30 de septiembre de \",ANIO_INFORME,\" (l)\"),IF(PERIODO=4,CONCATENATE(\"Monto pagado de la inversión actualizado al 31 de diciembre de \",ANIO_INFORME,\" (l)\")))))","v":"Monto pagado de la inversión actualizado al 30 de marzo de 2022 (l)"},{"$f":"IF(PERIODO=1,CONCATENATE(\"Saldo pendiente por pagar de la inversión al 30 de marzo de \",ANIO_INFORME,\" (m = g – l)\"),IF(PERIODO=2,CONCATENATE(\"Saldo pendiente por pagar de la inversión al 30 de junio de \",ANIO_INFORME,\" (m = g – l)\"),IF(PERIODO=3,CONCATENATE(\"Saldo pendiente por pagar de la inversión al 30 de septiembre de \",ANIO_INFORME,\" (m = g – l)\"),IF(PERIODO=4,CONCATENATE(\"Saldo pendiente por pagar de la inversión al 31 de diciembre de \",ANIO_INFORME,\" (m = g – l)\")))))","v":"Saldo pendiente por pagar de la inversión al 30 de marzo de 2022 (m = g – l)"}]
[]
[null,null,null,{"$f":"CONCATENATE(ANIO_INFORME, \" (d)\")","v":"2022 (d)"},{"$f":"CONCATENATE(\"31 de diciembre de \",ANIO_INFORME-1, \" (e)\")","v":"31 de diciembre de 2021 (e)"},{"$f":"CONCATENATE(\"Saldo al 31 de diciembre de \",ANIO_INFORME-1, \" (d)\")","v":"Saldo al 31 de diciembre de 2021 (d)"}]
[]
[]
[null,null,null,{"$f":"ANIO_INFORME + 1","v":2023},{"$f":"CONCATENATE(ANIO_INFORME + 2, \" (d)\")","v":"2024 (d)"},{"$f":"CONCATENATE(ANIO_INFORME + 3, \" (d)\")","v":"2025 (d)"},{"$f":"CONCATENATE(ANIO_INFORME + 4, \" (d)\")","v":"2026 (d)"},{"$f":"CONCATENATE(ANIO_INFORME + 5, \" (d)\")","v":"2027 (d)"},{"$f":"CONCATENATE(ANIO_INFORME + 6, \" (d)\")","v":"2028 (d)"}]
[]
[null,null,null,{"$f":"CONCATENATE(ANIO_INFORME - 5, \" \",CHAR(185),\" (c)\")","v":"2017 ¹ (c)"},{"$f":"CONCATENATE(ANIO_INFORME - 4, \" \",CHAR(185),\" (c)\")","v":"2018 ¹ (c)"},{"$f":"CONCATENATE(ANIO_INFORME - 3, \" \",CHAR(185),\" (c)\")","v":"2019 ¹ (c)"},{"$f":"CONCATENATE(ANIO_INFORME - 2, \" \",CHAR(185),\" (c)\")","v":"2020 ¹ (c)"},{"$f":"CONCATENATE(ANIO_INFORME - 1, \" \",CHAR(185),\" (c)\")","v":"2021 ¹ (c)"},{"$f":"ANIO_INFORME","v":2022}]
[]
[]
[]
[null,null,null,"MIN_VALUE","MAX_VALUE"]
[null,null,null,-1.7976931348623099E+100,1.7976931348623099E+100]
[]
[null,null,null,"MIN_FECHA","MAX_FECHA"]
[null,null,null,"2000-01-01","2050-12-31"]

{"sheet":"datos","index":2,"n_rows":572,"n_cols":67,"rows_kept":572,"cut":false,"hidden":true,"merged":[]}
[null,"ENTIDAD FEDERATIVA",null,null,"Aguascalientes",null,"Baja California",null,"Baja California Sur",null,"Campeche",null,"Coahuila de Zaragoza",null,"Colima",null,"Chiapas",null,"Chihuahua",null,"Ciudad de México",null,"Durango",null,"Guanajuato",null,"Guerrero",null,"Hidalgo",null,"Jalisco",null,"México",null,"Michoacán de Ocampo",null,"Morelos",null,"Nayarit",null,"Nuevo León",null,"Oaxaca",null,"Puebla",null,"Querétaro",null,"Quintana Roo",null,"San Luis Potosí",null,"Sinaloa",null,"Sonora",null,"Tabasco",null,"Tamaulipas",null,"Tlaxcala",null,"Veracruz de Ignacio de la Llave",null,"Yucatán",null,"Zacatecas"]
[1,"Aguascalientes",null,0,"No Aplica",0,"No Aplica",0,"No Aplica",0,"No Aplica",0,"No Aplica",0,"No Aplica",0,"No Aplica",0,"No Aplica",0,"No Aplica",0,"No Aplica",0,"No Aplica",0,"No Aplica",0,"No Aplica",0,"No Aplica",0,"No Aplica",0,"No Aplica",0,"No Aplica",0,"No Aplica",0,"No Aplica",0,"No Aplica",0,"No Aplica",0,"No Aplica",0,"No Aplica",0,"No Aplica",0,"No Aplica",0,"No Aplica",0,"No Aplica",0,"No Aplica",0,"No Aplica",0,"No Aplica",0,"No Aplica",0,"No Aplica"]
[2,"Baja California",null,1,"Aguascalientes",2,"Ensenada",3,"Comondú",4,"Calakmul",5,"Abasolo",6,"Armería",7,"Acacoyagua",8,"Ahumada",9,"Álvaro Obregón",10,"Canatlán",11,"Abasolo",12,"Acapulco de Juárez",13,"Acatlán",14,"Acatic",15,"Acambay ",16,"Acuitzio",17,"Amacuzac",18,"Acaponeta",19,"Abasolo",20,"Abejones",21,"Acajete",22,"Amealco de Bonfil",23,"Bacalar",24,"Ahualulco",25,"Ahome",26,"Aconchi",27,"Balancán",28,"Abasolo",29,"Acuamanala de Miguel Hidalgo",30,"Acajete",31,"Abalá",32,"Apozol"]
[3,"Baja California Sur",null,1,"Asientos",2,"Mexicali",3,"La Paz",4,"Calkiní",5,"Acuña",6,"Colima",7,"Acala",8,"Aldama",9,"Azcapotzalco",10,"Canelas",11,"Acámbaro",12,"Acatepec",13,"Acaxochitlán",14,"Acatlán de Juárez",15,"Acolman",16,"Aguililla",17,"Atlatlahucan",18,"Ahuacatlán",19,"Agualeguas",20,"Acatlán de Pérez Figueroa",21,"Acateno",22,"Arroyo Seco",23,"Benito Juárez",24,"Alaquines",25,"Angostura",26,"Agua Prieta",27,"Cárdenas",28,"Aldama",29,"Amaxac de Guerrero",30,"Acatlán",31,"Acanceh",32,"Apulco"]
[4,"Campeche",null,1,"Calvillo",2,"Playas de Rosarito",3,"Loreto",4,"Campeche",5,"Allende",6,"Comala",7,"Acapetahua",8,"Allende",9,"Benito Juárez",10,"Coneto de Comonfort",11,"Apaseo el Alto",12,"Ahuacuotzingo",13,"Actopan",14,"Ahualulco de Mercado",15,"Aculco",16,"Álvaro Obregón",17,"Axochiapan",18,"Amatlán de Cañas",19,"Allende",20,"Ánimas Trujano",21,"Acatlán",22,"Cadereyta de Montes",23,"Cozumel",24,"Aquismón",25,"Badiraguato",26,"Alamos",27,"Centla",28,"Altamira",29,"Apetatitlán de Antonio Carvajal",30,"Acayucan",31,"Akil",32,"Atolinga"]
[5,"Coahuila de Zaragoza",null,1,"Cosío",2,"Tecate",3,"Los Cabos",4,"Candelaria",5,"Arteaga",6,"Coquimatlán",7,"Aldama",8,"Aquiles Serdán",9,"Coyoacán",10,"Cuencamé",11,"Apaseo el Grande",12,"Ajuchitlán del Progreso",13,"Agua Blanca de Iturbide",14,"Amacueca",15,"Almoloya de Alquisiras",16,"Angamacutiro",17,"Ayala",18,"Bahía de Banderas",19,"Anáhuac",20,"Asunción Cacalotepec",21,"Acatzingo",22,"Colón",23,"Felipe Carrillo Puerto",24,"Armadillo de los Infante",25,"Choix",26,"Altar",27,"Centro",28,"Antiguo Morelos",29,"Apizaco",30,"Actopan",31,"Baca",32,"Benito Juárez"]
[6,"Colima",null,1,"El Llano",2,"Tijuana",3,"Mulegé",4,"Carmen",5,"Candela",6,"Cuauhtémoc",7,"Altamirano",8,"Ascensión",9,"Cuajimalpa de Morelos",10,"Durango",11,"Atarjea",12,"Alcozauca de Guerrero",13,"Ajacuba",14,"Amatitán",15,"Almoloya de Juárez",16,"Angangueo",17,"Coatlán del Río",18,"Compostela",19,"Apodaca",20,"Asunción Cuyotepeji",21,"Acteopan",22,"Corregidora",23,"Isla Mujeres",24,"Axtla de Terrazas",25,"Concordia",26,"Arivechi",27,"Comalcalco",28,"Burgos",29,"Atlangatepec",30,"Acula",31,"Bokobá",32,"Calera"]
[7,"Chiapas",null,1,"Jesús María",null,null,null,null,4,"Champotón",5,"Castaños",6,"Ixtlahuacán",7,"Amatán",8,"Bachíniva",9,"Cuauhtémoc",10,"El Oro",11,"Celaya",12,"Alpoyeca",13,"Alfajayucan",14,"Ameca",15,"Almoloya del Río",16,"Apatzingán",17,"Cuautla",18,"Del Nayar",19,"Aramberri",20,"Asunción Ixtaltepec",21,"Ahuacatlán",22,"El Marqués",23,"José María Morelos",24,"Cárdenas",25,"Cosalá",26,"Arizpe",27,"Cunduacán",28,"Bustamante",29,"Atltzayanca",30,"Acultzingo",31,"Buctzotz",32,"Cañitas de Felipe Pescador"]
[8,"Chihuahua",null,1,"Pabellón de Arteaga",null,null,null,null,4,"Escárcega",5,"Cuatro Ciénegas",6,"Manzanillo",7,"Amatenango de la Frontera",8,"Balleza",9,"Gustavo A. Madero",10,"General Simón Bolívar",11,"Comonfort",12,"Apaxtla",13,"Almoloya",14,"Arandas",15,"Amanalco",16,"Aporo",17,"Cuernavaca",18,"Huajicori",19,"Bustamante",20,"Asunción Nochixtlán",21,"Ahuatlán",22,"Ezequiel Montes",23,"Lázaro Cárdenas",24,"Catorce",25,"Culiacán",26,"Atil",27,"Emiliano Zapata",28,"Camargo",29,"Benito Juárez",30,"Agua Dulce",31,"Cacalchén",32,"Chalchihuites"]
[9,"Ciudad de México",null,1,"Rincón de Romos",null,null,null,null,4,"Hecelchakán",5,"Escobedo",6,"Minatitlán",7,"Amatenango del Valle",8,"Batopilas",9,"Iztacalco",10,"Gómez Palacio",11,"Coroneo",12,"Arcelia",13,"Apan",14,"Atemajac de Brizuela",15,"Amatepec",16,"Aquila",17,"Emiliano Zapata",18,"Ixtlán del Río",19,"Cadereyta Jiménez",20,"Asunción Ocotlán",21,"Ahuazotepec",22,"Huimilpan",23,"Othón P. Blanco",24,"Cedral",25,"El Fuerte",26,"Bacadéhuachi",27,"Huimanguillo",28,"Casas",29,"Calpulalpan",30,"Álamo Temapache",31,"Calotmul",32,"Concepción del Oro"]
[10,"Durango",null,1,"San Francisco de los Romo",null,null,null,null,4,"Hopelchén",5,"Francisco I. Madero",6,"Tecomán",7,"Angel Albino Corzo",8,"Bocoyna",9,"Iztapalapa",10,"Guadalupe Victoria",11,"Cortazar",12,"Atenango del Río",13,"Atitalaquia",14,"Atengo",15,"Amecameca",16,"Ario",17,"Huitzilac",18,"Jala",19,"Carmen",20,"Asunción Tlacolulita",21,"Ahuehuetitla",22,"Jalpan de Serra",23,"Solidaridad",24,"Cerritos",25,"Elota",26,"Bacanora",27,"Jalapa",28,"Ciudad Madero",29,"Chiautempan",30,"Alpatláhuac",31,"Cansahcab",32,"Cuauhtémoc"]
[11,"Guanajuato",null,1,"San José de Gracia",null,null,null,null,4,"Palizada",5,"Frontera",6,"Villa de Álvarez",7,"Arriaga",8,"Buenaventura",9,"La Magdalena Contreras",10,"Guanaceví",11,"Cuerámaro",12,"Atlamajalcingo del Monte",13,"Atlapexco",14,"Atenguillo",15,"Apaxco",16,"Arteaga",17,"Jantetelco",18,"La Yesca",19,"Cerralvo",20,"Ayoquezco de Aldama",21,"Ajalpan",22,"Landa de Matamoros",23,"Tulum",24,"Cerro de San Pedro",25,"Escuinapa",26,"Bacerac",27,"Jalpa de Méndez",28,"Cruillas",29,"Contla de Juan Cuamatzi",30,"Alto Lucero de Gutiérrez Barrios",31,"Cantamayec",32,"El Plateado de Joaquín Amaro"]
[12,"Guerrero",null,1,"Tepezalá",null,null,null,null,4,"Tenabo",5,"General Cepeda",null,null,7,"Bejucal de Ocampo",8,"Camargo",9,"Miguel Hidalgo",10,"Hidalgo",11,"Doctor Mora",12,"Atlixtac",13,"Atotonilco de Tula",14,"Atotonilco el Alto",15,"Atenco",16,"Briseñas",17,"Jiutepec",18,"Rosamorada",19,"China",20,"Ayotzintepec",21,"Albino Zertuche",22,"Pedro Escobedo",null,null,24,"Charcas",25,"Guamuchil",26,"Bacoachi",27,"Jonuta",28,"El Mante",29,"Cuapiaxtla",30,"Altotonga",31,"Celestún",32,"El Salvador"]
[13,"Hidalgo",null,null,null,null,null,null,null,null,null,5,"Guerrero",null,null,7,"Belizario Domínguez",8,"Carichí",9,"Milpa Alta",10,"Indé",11,"Dolores Hidalgo Cuna de la Independencia Nacional",12,"Atoyac de Álvarez",13,"Atotonilco el Grande",14,"Atoyac",15,"Atizapán",16,"Buenavista",17,"Jojutla",18,"Ruíz",19,"Ciénega de Flores",20,"Calihualá",21,"Aljojuca",22,"Peñamiller",null,null,24,"Ciudad del Maíz",25,"Guasave",26,"Bácum",27,"Macuspana",28,"Gómez Farías",29,"Cuaxomulco",30,"Alvarado",31,"Cenotillo",32,"Fresnillo"]
[14,"Jalisco",null,null,null,null,null,null,null,null,null,5,"Hidalgo",null,null,7,"Bella Vista",8,"Casas Grandes",9,"Tláhuac",10,"Lerdo",11,"Guanajuato",12,"Ayutla de los Libres",13,"Calnali",14,"Autlán de Navarro",15,"Atizapán de Zaragoza",16,"Carácuaro",17,"Jonacatepec",18,"San Blas",19,"Dr. Arroyo",20,"Candelaria Loxicha",21,"Altepexi",22,"Pinal de Amoles",null,null,24,"Ciudad Fernández",25,"Mazatlán",26,"Banámichi",27,"Nacajuca",28,"González",29,"El Carmen Tequexquitla",30,"Amatitlán",31,"Chacsinkín",32,"Genaro Codina"]
[15,"México",null,null,null,null,null,null,null,null,null,5,"Jiménez",null,null,7,"Benemérito de las Américas",8,"Chihuahua",9,"Tlalpan",10,"Mapimí",11,"Huanímaro",12,"Azoyú",13,"Cardonal",14,"Ayotlán",15,"Atlacomulco",16,"Charapan",17,"Mazatepec",18,"San Pedro Lagunillas",19,"Dr. Coss",20,"Capulálpam de Méndez",21,"Amixtlán",22,"Querétaro",null,null,24,"Ciudad Valles",25,"Mocorito",26,"Baviácora",27,"Paraíso",28,"Güémez",29,"Emiliano Zapata",30,"Amatlán de los Reyes",31,"Chankom",32,"General Enrique Estrada"]
[16,"Michoacán de Ocampo",null,null,null,null,null,null,null,null,null,5,"Juárez",null,null,7,"Berriozábal",8,"Chínipas",9,"Venustiano Carranza",10,"Mezquital",11,"Irapuato",12,"Benito Juárez",13,"Chapantongo",14,"Ayutla",15,"Atlautla",16,"Charo",17,"Miacatlán",18,"Santa María del Oro",19,"Dr. González",20,"Chahuites",21,"Amozoc",22,"San Joaquín",null,null,24,"Coxcatlán",25,"Navolato",26,"Bavispe",27,"Tacotalpa",28,"Guerrero",29,"Españita",30,"Angel R. Cabada",31,"Chapab",32,"General Francisco R. Murguía"]
[17,"Morelos",null,null,null,null,null,null,null,null,null,5,"Lamadrid",null,null,7,"Bochil",8,"Coronado",9,"Xochimilco",10,"Nazas",11,"Jaral del Progreso",12,"Buenavista de Cuéllar",13,"Chapulhuacán",14,"Bolaños",15,"Axapusco",16,"Chavinda",17,"Ocuituco",18,"Santiago Ixcuintla",19,"Galeana",20,"Chalcatongo de Hidalgo",21,"Aquixtla",22,"San Juan del Río",null,null,24,"Ebano",25,"Rosario",26,"Benito Juárez",27,"Teapa",28,"Gustavo Díaz Ordaz",29,"Huamantla",30,"Apazapan",31,"Chemax",32,"General Pánfilo Natera"]
[18,"Nayarit",null,null,null,null,null,null,null,null,null,5,"Matamoros",null,null,7,"Cacahoatán",8,"Coyame del Sotol",null,null,10,"Nombre de Dios",11,"Jerécuaro",12,"Chilapa de Álvarez",13,"Chilcuautla",14,"Cabo Corrientes",15,"Ayapango",16,"Cherán",17,"Puente de Ixtla",18,"Tecuala",19,"García",20,"Chiquihuitlán de Benito Juárez",21,"Atempan",22,"Tequisquiapan",null,null,24,"El Naranjo",25,"Salvador Alvarado",26,"Benjamín Hill",27,"Tenosique",28,"Hidalgo",29,"Hueyotlipan",30,"Aquila",31,"Chichimilá",32,"Guadalupe"]
[19,"Nuevo León",null,null,null,null,null,null,null,null,null,5,"Monclova",null,null,7,"Catazajá",8,"Cuauhtémoc",null,null,10,"Nuevo Ideal",11,"León",12,"Chilpancingo de los Bravo",13,"Cuautepec de Hinojosa",14,"Cañadas de Obregón",15,"Calimaya",16,"Chilchota",17,"Temixco",18,"Tepic",19,"Gral. Bravo",20,"Ciénega de Zimatlán",21,"Atexcal",22,"Tolimán",null,null,24,"Guadalcázar",25,"San Ignacio",26,"Caborca",null,null,28,"Jaumave",29,"Ixtacuixtla de Mariano Matamoros",30,"Astacinga",31,"Chicxulub Pueblo",32,"Huanusco"]
[20,"Oaxaca",null,null,null,null,null,null,null,null,null,5,"Morelos",null,null,7,"Chalchihuitán",8,"Cusihuiriachi",null,null,10,"Ocampo",11,"Manuel Doblado",12,"Coahuayutla de José María Izazaga",13,"El Arenal",14,"Casimiro Castillo",15,"Capulhuac",16,"Chinicuila",17,"Temoac",18,"Tuxpan",19,"Gral. Escobedo",20,"Ciudad Ixtepec",21,"Atlequizayan",null,null,null,null,24,"Huehuetlán",25,"Sinaloa",26,"Cajeme",null,null,28,"Jiménez",29,"Ixtenco",30,"Atlahuilco",31,"Chikindzonot",32,"Jalpa"]
[21,"Puebla",null,null,null,null,null,null,null,null,null,5,"Múzquiz",null,null,7,"Chamula",8,"Delicias",null,null,10,"Otáez",11,"Moroleón",12,"Cochoapa el Grande",13,"Eloxochitlán",14,"Chapala",15,"Chalco",16,"Chucándiro",17,"Tepalcingo",18,"Xalisco",19,"Gral. Terán",20,"Coatecas Altas",21,"Atlixco",null,null,null,null,24,"Lagunillas",null,null,26,"Cananea",null,null,28,"Llera",29,"La Magdalena Tlaltelulco",30,"Atoyac",31,"Chocholá",32,"Jerez"]
[22,"Querétaro",null,null,null,null,null,null,null,null,null,5,"Nadadores",null,null,7,"Chanal",8,"Dr. Belisario Domínguez",null,null,10,"Pánuco de Coronado",11,"Ocampo",12,"Cocula",13,"Emiliano Zapata",14,"Chimaltitán",15,"Chapa de Mota",16,"Churintzio",17,"Tepoztlán",null,null,19,"Gral. Treviño",20,"Coicoyán de las Flores",21,"Atoyatempan",null,null,null,null,24,"Matehuala",null,null,26,"Carbó",null,null,28,"Mainero",29,"Lázaro Cárdenas",30,"Atzacan",31,"Chumayel",32,"Jiménez del Teul"]
[23,"Quintana Roo",null,null,null,null,null,null,null,null,null,5,"Nava",null,null,7,"Chapultenango",8,"El Tule",null,null,10,"Peñón Blanco",11,"Pénjamo",12,"Copala",13,"Epazoyucan",14,"Chiquilistlán",15,"Chapultepec",16,"Churumuco",17,"Tetecala",null,null,19,"Gral. Zaragoza",20,"Concepción Buenavista",21,"Atzala",null,null,null,null,24,"Matlapa",null,null,26,"Cucurpe",null,null,28,"Matamoros",29,"Mazatecochco de José María Morelos",30,"Atzalan",31,"Conkal",32,"Juan Aldama"]
[24,"San Luis Potosí",null,null,null,null,null,null,null,null,null,5,"Ocampo",null,null,7,"Chenalhó",8,"Galeana",null,null,10,"Poanas",11,"Pueblo Nuevo",12,"Copalillo",13,"Francisco I. Madero",14,"Cihuatlán",15,"Chiautla",16,"Coahuayana",17,"Tetela del Volcán",null,null,19,"Gral. Zuazua",20,"Concepción Pápalo",21,"Atzitzihuacán",null,null,null,null,24,"Mexquitic de Carmona",null,null,26,"Cumpas",null,null,28,"Méndez",29,"Muñoz de Domingo Arenas",30,"Ayahualulco",31,"Cousey",32,"Juchipila"]
[25,"Sinaloa",null,null,null,null,null,null,null,null,null,5,"Parras",null,null,7,"Chiapa de Corzo",8,"Gómez Farías",null,null,10,"Pueblo Nuevo",11,"Purísima del Rincón",12,"Copanatoyac",13,"Huasca de Ocampo",14,"Cocula",15,"Chicoloapan",16,"Coalcomán de Vázquez Pallares",17,"Tlalnepantla",null,null,19,"Guadalupe",20,"Constancia del Rosario",21,"Atzitzintla",null,null,null,null,24,"Moctezuma",null,null,26,"Divisaderos",null,null,28,"Mier",29,"Nanacamilpa de Mariano Arista",30,"Banderilla",31,"Cuncunul",32,"Loreto"]
[26,"Sonora",null,null,null,null,null,null,null,null,null,5,"Piedras Negras",null,null,7,"Chiapilla",8,"Gran Morelos",null,null,10,"Rodeo",11,"Romita",12,"Coyuca de Benítez",13,"Huautla",14,"Colotlán",15,"Chiconcuac",16,"Coeneo",17,"Tlaltizapán de Zapata",null,null,19,"Hidalgo",20,"Cosolapa",21,"Axutla",null,null,null,null,24,"Rayón",null,null,26,"Empalme",null,null,28,"Miguel Alemán",29,"Natívitas",30,"Benito Juárez",31,"Cuzamá",32,"Luis Moya"]
[27,"Tabasco",null,null,null,null,null,null,null,null,null,5,"Progreso",null,null,7,"Chicoasén",8,"Guachochi",null,null,10,"San Bernardo",11,"Salamanca",12,"Coyuca de Catalán",13,"Huazalingo",14,"Concepción de Buenos Aires",15,"Chimalhuacán",16,"Cojumatlán de Régules",17,"Tlaquiltenango",null,null,19,"Higueras",20,"Cosoltepec",21,"Ayotoxco de Guerrero",null,null,null,null,24,"Rioverde",null,null,26,"Etchojoa",null,null,28,"Miquihuana",29,"Panotla",30,"Boca del Río",31,"Dzán",32,"Mazapil"]
[28,"Tamaulipas",null,null,null,null,null,null,null,null,null,5,"Ramos Arizpe",null,null,7,"Chicomuselo",8,"Guadalupe",null,null,10,"San Dimas",11,"Salvatierra",12,"Cuajinicuilapa",13,"Huehuetla",14,"Cuautitlán de García Barragán",15,"Coacalco de Berriozábal",16,"Contepec",17,"Tlayacapan",null,null,19,"Hualahuises",20,"Cuilápam de Guerrero",21,"Calpan",null,null,null,null,24,"Salinas",null,null,26,"Fronteras",null,null,28,"Nuevo Laredo",29,"Papalotla de Xicohténcatl",30,"Calcahualco",31,"Dzemul",32,"Melchor Ocampo"]
[29,"Tlaxcala",null,null,null,null,null,null,null,null,null,5,"Sabinas",null,null,7,"Chilón",8,"Guadalupe y Calvo",null,null,10,"San Juan de Guadalupe",11,"San Diego de la Unión",12,"Cualác",13,"Huejutla de Reyes",14,"Cuautla",15,"Coatepec Harinas",16,"Copándaro",17,"Totolapan",null,null,19,"Iturbide",20,"Cuyamecalco Villa de Zaragoza",21,"Caltepec",null,null,null,null,24,"San Antonio",null,null,26,"General Plutarco Elías Calles",null,null,28,"Nuevo Morelos",29,"San Damián Texóloc",30,"Camarón de Tejeda",31,"Dzidzantún",32,"Mezquital del Oro"]
[30,"Veracruz de Ignacio de la Llave",null,null,null,null,null,null,null,null,null,5,"Sacramento",null,null,7,"Cintalapa",8,"Guazapares",null,null,10,"San Juan del Río",11,"San Felipe",12,"Cuautepec",13,"Huichapan",14,"Cuquío",15,"Cocotitlán",16,"Cotija",17,"Xochitepec",null,null,19,"Juárez",20,"El Barrio de la Soledad",21,"Camocuautla",null,null,null,null,24,"San Ciro de Acosta",null,null,26,"Granados",null,null,28,"Ocampo",29,"San Francisco Tetlanohcan",30,"Camerino Z. Mendoza",31,"Dzilam de Bravo",32,"Miguel Auza"]
[31,"Yucatán",null,null,null,null,null,null,null,null,null,5,"Saltillo",null,null,7,"Coapilla",8,"Guerrero",null,null,10,"San Luis del Cordero",11,"San Francisco del Rincón",12,"Cuetzala del Progreso",13,"Ixmiquilpan",14,"Degollado",15,"Coyotepec",16,"Cuitzeo",17,"Yautepec",null,null,19,"Lampazos de Naranjo",20,"El Espinal",21,"Cañada Morelos",null,null,null,null,24,"San Luis Potosí",null,null,26,"Guaymas",null,null,28,"Padilla",29,"San Jerónimo Zacualpan",30,"Carlos A. Carrillo",31,"Dzilam González",32,"Momax"]
[32,"Zacatecas",null,null,null,null,null,null,null,null,null,5,"San Buenaventura",null,null,7,"Comitán de Domínguez",8,"Hidalgo del Parral",null,null,10,"San Pedro del Gallo",11,"San José Iturbide",12,"Cutzamala de Pinzón",13,"Jacala de Ledezma",14,"Ejutla",15,"Cuautitlán",16,"Ecuandureo",17,"Yecapixtla",null,null,19,"Linares",20,"Eloxochitlán de Flores Magón",21,"Caxhuacan",null,null,null,null,24,"San Martín Chalchicuautla",null,null,26,"Hermosillo",null,null,28,"Palmillas",29,"San José Teacalco",30,"Carrillo Puerto",31,"Dzitás",32,"Monte Escobedo"]
[null,null,null,null,null,null,null,null,null,null,null,5,"San Juan de Sabinas",null,null,7,"Copainalá",8,"Huejotitán",null,null,10,"Santa Clara",11,"San Luis de la Paz",12,"Eduardo Neri",13,"Jaltocán",14,"El Arenal",15,"Cuautitlán Izcalli",16,"Epitacio Huerta",17,"Zacatepec",null,null,19,"Los Aldamas",20,"Fresnillo de Trujano",21,"Chalchicomula de Sesma",null,null,null,null,24,"San Nicolás Tolentino",null,null,26,"Huachinera",null,null,28,"Reynosa",29,"San Juan Huactzinco",30,"Castillo de Teayo",31,"Dzoncauich",32,"Morelos"]
[null,null,null,null,null,null,null,null,null,null,null,5,"San Pedro",null,null,7,"El Bosque",8,"Ignacio Zaragoza",null,null,10,"Santiago Papasquiaro",11,"San Miguel de Allende",12,"Florencio Villarreal",13,"Juárez Hidalgo",14,"El Grullo",15,"Donato Guerra",16,"Erongarícuaro",17,"Zacualpan",null,null,19,"Los Herreras",20,"Guadalupe de Ramírez",21,"Chapulco",null,null,null,null,24,"San Vicente Tancuayalab",null,null,26,"Huásabas",null,null,28,"Río Bravo",29,"San Lorenzo Axocomanitla",30,"Catemaco",31,"Espita",32,"Moyahua de Estrada"]
[null,null,null,null,null,null,null,null,null,null,null,5,"Sierra Mojada",null,null,7,"El Parral",8,"Janos",null,null,10,"Súchil",11,"Santa Catarina",12,"General Canuto A. Neri",13,"La Misión",14,"El Limón",15,"Ecatepec de Morelos",16,"Gabriel Zamora",null,null,null,null,19,"Los Ramones",20,"Guadalupe Etla",21,"Chiautla",null,null,null,null,24,"Santa Catarina",null,null,26,"Huatabampo",null,null,28,"San Carlos",29,"San Lucas Tecopilco",30,"Cazones de Herrera",31,"Halachó",32,"Nochistlán de Mejía"]
[null,null,null,null,null,null,null,null,null,null,null,5,"Torreón",null,null,7,"El Porvenir",8,"Jiménez",null,null,10,"Tamazula",11,"Santa Cruz de Juventino Rosas",12,"General Heliodoro Castillo",13,"Lolotla",14,"El Salto",15,"Ecatzingo",16,"Hidalgo",null,null,null,null,19,"Marín",20,"Guelatao de Juárez",21,"Chiautzingo",null,null,null,null,24,"Santa María del Río",null,null,26,"Huépac",null,null,28,"San Fernando",29,"San Pablo del Monte",30,"Cerro Azul",31,"Hocabá",32,"Noria de Ángeles"]
[null,null,null,null,null,null,null,null,null,null,null,5,"Viesca",null,null,7,"Emiliano Zapata",8,"Juárez",null,null,10,"Tepehuanes",11,"Santiago Maravatío",12,"Huamuxtitlán",13,"Metepec",14,"Encarnación de Díaz",15,"El Oro",16,"Huandacareo",null,null,null,null,19,"Melchor Ocampo",20,"Guevea de Humboldt",21,"Chichiquila",null,null,null,null,24,"Santo Domingo",null,null,26,"Imuris",null,null,28,"San Nicolás",29,"Sanctórum de Lázaro Cárdenas",30,"Chacaltianguis",31,"Hoctún",32,"Ojocaliente"]
[null,null,null,null,null,null,null,null,null,null,null,5,"Villa Unión",null,null,7,"Escuintla",8,"Julimes",null,null,10,"Tlahualilo",11,"Silao",12,"Huitzuco de los Figueroa",13,"Metztitlán",14,"Etzatlán",15,"Huehuetoca",16,"Huaniqueo",null,null,null,null,19,"Mier y Noriega",20,"Heroica Ciudad de Ejutla de Crespo",21,"Chiconcuautla",null,null,null,null,24,"Soledad de Graciano Sánchez",null,null,26,"La Colorada",null,null,28,"Soto la Marina",29,"Santa Ana Nopalucan",30,"Chalma",31,"Homún",32,"Pánuco"]
[null,null,null,null,null,null,null,null,null,null,null,5,"Zaragoza",null,null,7,"Francisco León",8,"La Cruz",null,null,10,"Topia",11,"Tarandacuao",12,"Iguala de la Independencia",13,"Mineral de la Reforma",14,"Gómez Farías",15,"Hueypoxtla",16,"Huetamo",null,null,null,null,19,"Mina",20,"Heroica Ciudad de Huajuapan de León",21,"Chietla",null,null,null,null,24,"Tamasopo",null,null,26,"Magdalena",null,null,28,"Tampico",29,"Santa Apolonia Teacalco",30,"Chiconamel",31,"Huhí",32,"Pinos"]
[null,null,null,null,null,null,null,null,null,null,null,null,null,null,null,7,"Frontera Comalapa",8,"López",null,null,10,"Vicente Guerrero",11,"Tarimoro",12,"Igualapa",13,"Mineral del Chico",14,"Guachinango",15,"Huixquilucan",16,"Huiramba",null,null,null,null,19,"Montemorelos",20,"Heroica Ciudad de Juchitán de Zaragoza",21,"Chigmecatitlán",null,null,null,null,24,"Tamazunchale",null,null,26,"Mazatán",null,null,28,"Tula",29,"Santa Catarina Ayometla",30,"Chiconquiaco",31,"Hunucmá",32,"Río Grande"]
[null,null,null,null,null,null,null,null,null,null,null,null,null,null,null,7,"Frontera Hidalgo",8,"Madera",null,null,null,null,11,"Tierra Blanca",12,"Iliatenco",13,"Mineral del Monte",14,"Guadalajara",15,"Isidro Fabela",16,"Indaparapeo",null,null,null,null,19,"Monterrey",20,"Heroica Ciudad de Tlaxiaco",21,"Chignahuapan",null,null,null,null,24,"Tampacán",null,null,26,"Moctezuma",null,null,28,"Valle Hermoso",29,"Santa Cruz Quilehtla",30,"Chicontepec",31,"Ixil",32,"Sain Alto"]
[null,null,null,null,null,null,null,null,null,null,null,null,null,null,null,7,"Huehuetán",8,"Maguarichi",null,null,null,null,11,"Uriangato",12,"Ixcateopan de Cuauhtémoc",13,"Mixquiahuala de Juárez",14,"Hostotipaquillo",15,"Ixtapaluca",16,"Irimbo",null,null,null,null,19,"Parás",20,"Heroica Villa Tezoatlán de Segura y Luna, Cuna de la Independencia de Oaxaca",21,"Chignautla",null,null,null,null,24,"Tampamolón Corona",null,null,26,"Naco",null,null,28,"Victoria",29,"Santa Cruz Tlaxcala",30,"Chinameca",31,"Izamal",32,"Santa María de la Paz"]
[null,"PERIODO",null,null,"AÑO",null,null,null,null,null,null,null,null,null,null,7,"Huitiupán",8,"Manuel Benavides",null,null,null,null,11,"Valle de Santiago",12,"José Joaquín de Herrera",13,"Molango de Escamilla",14,"Huejúcar",15,"Ixtapan de la Sal",16,"Ixtlán",null,null,null,null,19,"Pesquería",20,"Huautepec",21,"Chila",null,null,null,null,24,"Tamuín",null,null,26,"Nácori Chico",null,null,28,"Villagrán",29,"Santa Isabel Xiloxoxtla",30,"Chinampa de Gorostiza",31,"Kanasín",32,"Sombrerete"]
[null,"Primer trimestre",null,null,2017,null,null,null,null,null,null,null,null,null,null,7,"Huixtán",8,"Matachí",null,null,null,null,11,"Victoria",12,"Juan R. Escudero",13,"Nicolás Flores",14,"Huejuquilla el Alto",15,"Ixtapan del Oro",16,"Jacona",null,null,null,null,19,"Rayones",20,"Huautla de Jiménez",21,"Chila de la Sal",null,null,null,null,24,"Tancanhuitz",null,null,26,"Nacozari de García",null,null,28,"Xicoténcatl",29,"Tenancingo",30,"Chocamán",31,"Kantunil",32,"Susticacán"]
[null,"Segundo trimestre",null,null,2018,null,null,null,null,null,null,null,null,null,null,7,"Huixtla",8,"Matamoros",null,null,null,null,11,"Villagrán",12,"Juchitán",13,"Nopala de Villagrán",14,"Ixtlahuacán de los Membrillos",15,"Ixtlahuaca",16,"Jiménez",null,null,null,null,19,"Sabinas Hidalgo",20,"Ixpantepec Nieves",21,"Chilchotla",null,null,null,null,24,"Tanlajás",null,null,26,"Navojoa",null,null,null,null,29,"Teolocholco",30,"Chontla",31,"Kaua",32,"Tabasco"]
[null,"Tercer trimestre",null,null,2019,null,null,null,null,null,null,null,null,null,null,7,"Ixhuatán",8,"Meoqui",null,null,null,null,11,"Xichú",12,"La Unión de Isidoro Montes de Oca",13,"Omitlán de Juárez",14,"Ixtlahuacán del Río",15,"Jaltenco",16,"Jiquilpan",null,null,null,null,19,"Salinas Victoria",20,"Ixtlán de Juárez",21,"Chinantla",null,null,null,null,24,"Tanquián de Escobedo",null,null,26,"Nogales",null,null,null,null,29,"Tepetitla de Lardizábal",30,"Chumatlán",31,"Kinchil",32,"Tepechitlán"]
[null,"Cuarto trimestre",null,null,2020,null,null,null,null,null,null,null,null,null,null,7,"Ixtacomitán",8,"Morelos",null,null,null,null,11,"Yuriria",12,"Leonardo Bravo",13,"Pachuca de Soto",14,"Jalostotitlán",15,"Jilotepec",16,"José Sixto Verduzco",null,null,null,null,19,"San Nicolás de los Garza",20,"La Compañía",21,"Coatepec",null,null,null,null,24,"Tierra Nueva",null,null,26,"Onavas",null,null,null,null,29,"Tepeyanco",30,"Citlaltépetl",31,"Kopomá",32,"Tepetongo"]
[null,null,null,null,2021,null,null,null,null,null,null,null,null,null,null,7,"Ixtapa",8,"Moris",null,null,null,null,null,null,12,"Malinaltepec",13,"Pacula",14,"Jamay",15,"Jilotzingo",16,"Juárez",null,null,null,null,19,"San Pedro Garza García",20,"La Pe",21,"Coatzingo",null,null,null,null,24,"Vanegas",null,null,26,"Opodepe",null,null,null,null,29,"Terrenate",30,"Coacoatzintla",31,"Mama",32,"Teúl de González Ortega"]
[null,null,null,null,2022,null,null,null,null,null,null,null,null,null,null,7,"Ixtapangajoya",8,"Namiquipa",null,null,null,null,null,null,12,"Marquelia",13,"Pisaflores",14,"Jesús María",15,"Jiquipilco",16,"Jungapeo",null,null,null,null,19,"Santa Catarina",20,"La Reforma",21,"Cohetzala",null,null,null,null,24,"Venado",null,null,26,"Oquitoa",null,null,null,null,29,"Tetla de la Solidaridad",30,"Coahuitlán",31,"Maní",32,"Tlaltenango de Sánchez Román"]
[null,null,null,null,2023,null,null,null,null,null,null,null,null,null,null,7,"Jiquipilas",8,"Nonoava",null,null,null,null,null,null,12,"Mártir de Cuilapan",13,"Progreso de Obregón",14,"Jilotlán de los Dolores",15,"Jocotitlán",16,"La Huacana",null,null,null,null,19,"Santiago",20,"La Trinidad Vista Hermosa",21,"Cohuecan",null,null,null,null,24,"Villa de Arista",null,null,26,"Pitiquito",null,null,null,null,29,"Tetlatlahuca",30,"Coatepec",31,"Maxcanú",32,"Trancoso"]
[null,null,null,null,2024,null,null,null,null,null,null,null,null,null,null,7,"Jitotol",8,"Nuevo Casas Grandes",null,null,null,null,null,null,12,"Metlatónoc",13,"San Agustín Metzquititlán",14,"Jocotepec",15,"Joquicingo",16,"La Piedad",null,null,null,null,19,"Vallecillo",20,"Loma Bonita",21,"Coronango",null,null,null,null,24,"Villa de Arriaga",null,null,26,"Puerto Peñasco",null,null,null,null,29,"Tlaxcala",30,"Coatzacoalcos",31,"Mayapán",32,"Trinidad García de la Cadena"]
[null,null,null,null,2025,null,null,null,null,null,null,null,null,null,null,7,"Juárez",8,"Ocampo",null,null,null,null,null,null,12,"Mochitlán",13,"San Agustín Tlaxiaca",14,"Juanacatlán",15,"Juchitepec",16,"Lagunillas",null,null,null,null,19,"Villaldama",20,"Magdalena Apasco",21,"Coxcatlán",null,null,null,null,24,"Villa de Guadalupe",null,null,26,"Quiriego",null,null,null,null,29,"Tlaxco",30,"Coatzintla",31,"Mérida",32,"Valparaíso"]
[null,null,null,null,2026,null,null,null,null,null,null,null,null,null,null,7,"La Concordia",8,"Ojinaga",null,null,null,null,null,null,12,"Olinalá",13,"San Bartolo Tutotepec",14,"Juchitlán",15,"La Paz",16,"Lázaro Cárdenas",null,null,null,null,null,null,20,"Magdalena Jaltepec",21,"Coyomeapan",null,null,null,null,24,"Villa de la Paz",null,null,26,"Rayón",null,null,null,null,29,"Tocatlán",30,"Coetzala",31,"Mocochá",32,"Vetagrande"]
[null,null,null,null,2027,null,null,null,null,null,null,null,null,null,null,7,"La Grandeza",8,"Praxedis G. Guerrero",null,null,null,null,null,null,12,"Ometepec",13,"San Felipe Orizatlán",14,"La Barca",15,"Lerma",16,"Los Reyes",null,null,null,null,null,null,20,"Magdalena Mixtepec",21,"Coyotepec",null,null,null,null,24,"Villa de Ramos",null,null,26,"Rosario",null,null,null,null,29,"Totolac",30,"Colipa",31,"Motul",32,"Villa de Cos"]
[null,null,null,null,2028,null,null,null,null,null,null,null,null,null,null,7,"La Independencia",8,"Riva Palacio",null,null,null,null,null,null,12,"Pedro Ascencio Alquisiras",13,"San Salvador",14,"La Huerta",15,"Luvianos",16,"Madero",null,null,null,null,null,null,20,"Magdalena Ocotlán",21,"Cuapiaxtla de Madero",null,null,null,null,24,"Villa de Reyes",null,null,26,"Sahuaripa",null,null,null,null,29,"Tzompantepec",30,"Comapa",31,"Muna",32,"Villa García"]
[null,null,null,null,2029,null,null,null,null,null,null,null,null,null,null,7,"La Libertad",8,"Rosales",null,null,null,null,null,null,12,"Petatlán",13,"Santiago de Anaya",14,"La Manzanilla de la Paz",15,"Malinalco",16,"Maravatío",null,null,null,null,null,null,20,"Magdalena Peñasco",21,"Cuautempan",null,null,null,null,24,"Villa Hidalgo",null,null,26,"San Felipe de Jesús",null,null,null,null,29,"Xaloztoc",30,"Córdoba",31,"Muxupip",32,"Villa González Ortega"]
[null,null,null,null,2030,null,null,null,null,null,null,null,null,null,null,7,"La Trinitaria",8,"Rosario",null,null,null,null,null,null,12,"Pilcaya",13,"Santiago Tulantepec de Lugo Guerrero",14,"Lagos de Moreno",15,"Melchor Ocampo",16,"Marcos Castellanos",null,null,null,null,null,null,20,"Magdalena Teitipac",21,"Cuautinchán",null,null,null,null,24,"Villa Juárez",null,null,26,"San Ignacio Río Muerto",null,null,null,null,29,"Xaltocan",30,"Cosamaloapan de Carpio",31,"Opichén",32,"Villa Hidalgo"]
[null,null,null,null,2031,null,null,null,null,null,null,null,null,null,null,7,"Larráinzar",8,"San Francisco de Borja",null,null,null,null,null,null,12,"Pungarabato",13,"Singuilucan",14,"Magdalena",15,"Metepec",16,"Morelia",null,null,null,null,null,null,20,"Magdalena Tequisistlán",21,"Cuautlancingo",null,null,null,null,24,"Xilitla",null,null,26,"San Javier",null,null,null,null,29,"Xicohtzinco",30,"Cosautlán de Carvajal",31,"Oxkutzcab",32,"Villanueva"]
[null,null,null,null,2032,null,null,null,null,null,null,null,null,null,null,7,"Las Margaritas",8,"San Francisco de Conchos",null,null,null,null,null,null,12,"Quechultenango",13,"Tasquillo",14,"Mascota",15,"Mexicaltzingo",16,"Morelos",null,null,null,null,null,null,20,"Magdalena Tlacotepec",21,"Cuayuca de Andrade",null,null,null,null,24,"Zaragoza",null,null,26,"San Luis Río Colorado",null,null,null,null,29,"Yauhquemehcan",30,"Coscomatepec",31,"Panabá",32,"Zacatecas"]
[null,null,null,null,2033,null,null,null,null,null,null,null,null,null,null,7,"Las Rosas",8,"San Francisco del Oro",null,null,null,null,null,null,12,"San Luis Acatlán",13,"Tecozautla",14,"Mazamitla",15,"Morelos",16,"Múgica",null,null,null,null,null,null,20,"Magdalena Yodocono de Porfirio Díaz",21,"Cuetzalan del Progreso",null,null,null,null,null,null,null,null,26,"San Miguel de Horcasitas",null,null,null,null,29,"Zacatelco",30,"Cosoleacaque",31,"Peto"]
[null,null,null,null,2034,null,null,null,null,null,null,null,null,null,null,7,"Mapastepec",8,"Santa Bárbara",null,null,null,null,null,null,12,"San Marcos",13,"Tenango de Doria",14,"Mexticacán",15,"Naucalpan de Juárez",16,"Nahuatzen",null,null,null,null,null,null,20,"Magdalena Zahuatlán",21,"Cuyoaco",null,null,null,null,null,null,null,null,26,"San Pedro de la Cueva",null,null,null,null,29,"Ziltlaltépec de Trinidad Sánchez Santos",30,"Cotaxtla",31,"Progreso"]
[null,null,null,null,2035,null,null,null,null,null,null,null,null,null,null,7,"Maravilla Tenejapa",8,"Santa Isabel",null,null,null,null,null,null,12,"San Miguel Totolapan",13,"Tepeapulco",14,"Mezquitic",15,"Nextlalpan",16,"Nocupétaro",null,null,null,null,null,null,20,"Mariscala de Juárez",21,"Domingo Arenas",null,null,null,null,null,null,null,null,26,"Santa Ana",null,null,null,null,null,null,30,"Coxquihui",31,"Quintana Roo"]
[null,null,null,null,2036,null,null,null,null,null,null,null,null,null,null,7,"Marqués de Comillas",8,"Satevó",null,null,null,null,null,null,12,"Taxco de Alarcón",13,"Tepehuacán de Guerrero",14,"Mixtlán",15,"Nezahualcóyotl",16,"Nuevo Parangaricutiro",null,null,null,null,null,null,20,"Mártires de Tacubaya",21,"Eloxochitlán",null,null,null,null,null,null,null,null,26,"Santa Cruz",null,null,null,null,null,null,30,"Coyutla",31,"Río Lagartos"]
[null,null,null,null,2037,null,null,null,null,null,null,null,null,null,null,7,"Mazapa de Madero",8,"Saucillo",null,null,null,null,null,null,12,"Tecoanapa",13,"Tepeji del Río de Ocampo",14,"Ocotlán",15,"Nicolás Romero",16,"Nuevo Urecho",null,null,null,null,null,null,20,"Matías Romero Avendaño",21,"Epatlán",null,null,null,null,null,null,null,null,26,"Sáric",null,null,null,null,null,null,30,"Cuichapa",31,"Sacalum"]
[null,null,null,null,2038,null,null,null,null,null,null,null,null,null,null,7,"Mazatán",8,"Temósachic",null,null,null,null,null,null,12,"Técpan de Galeana",13,"Tepetitlán",14,"Ojuelos de Jalisco",15,"Nopaltepec",16,"Numarán",null,null,null,null,null,null,20,"Mazatlán Villa de Flores",21,"Esperanza",null,null,null,null,null,null,null,null,26,"Soyopa",null,null,null,null,null,null,30,"Cuitláhuac",31,"Samahil"]
[null,null,null,null,2039,null,null,null,null,null,null,null,null,null,null,7,"Metapa",8,"Urique",null,null,null,null,null,null,12,"Teloloapan",13,"Tetepango",14,"Pihuamo",15,"Ocoyoacac",16,"Ocampo",null,null,null,null,null,null,20,"Mesones Hidalgo",21,"Francisco Z. Mena",null,null,null,null,null,null,null,null,26,"Suaqui Grande",null,null,null,null,null,null,30,"El Higo",31,"San Felipe"]
[null,null,null,null,2040,null,null,null,null,null,null,null,null,null,null,7,"Mezcalapa",8,"Uruachi",null,null,null,null,null,null,12,"Tepecoacuilco de Trujano",13,"Tezontepec de Aldama",14,"Poncitlán",15,"Ocuilan",16,"Pajacuarán",null,null,null,null,null,null,20,"Miahuatlán de Porfirio Díaz",21,"General Felipe Ángeles",null,null,null,null,null,null,null,null,26,"Tepache",null,null,null,null,null,null,30,"Emiliano Zapata",31,"Sanahcat"]
[null,null,null,null,2041,null,null,null,null,null,null,null,null,null,null,7,"Mitontic",8,"Valle de Zaragoza",null,null,null,null,null,null,12,"Tetipac",13,"Tianguistengo",14,"Puerto Vallarta",15,"Otumba",16,"Panindícuaro",null,null,null,null,null,null,20,"Mixistlán de la Reforma",21,"Guadalupe",null,null,null,null,null,null,null,null,26,"Trincheras",null,null,null,null,null,null,30,"Espinal",31,"Santa Elena"]
[null,null,null,null,2042,null,null,null,null,null,null,null,null,null,null,7,"Montecristo de Guerrero",null,null,null,null,null,null,null,null,12,"Tixtla de Guerrero",13,"Tizayuca",14,"Quitupan",15,"Otzoloapan",16,"Paracho",null,null,null,null,null,null,20,"Monjas",21,"Guadalupe Victoria",null,null,null,null,null,null,null,null,26,"Tubutama",null,null,null,null,null,null,30,"Filomeno Mata",31,"Seyé"]
[null,null,null,null,2043,null,null,null,null,null,null,null,null,null,null,7,"Motozintla",null,null,null,null,null,null,null,null,12,"Tlacoachistlahuaca",13,"Tlahuelilpan",14,"San Cristóbal de la Barranca",15,"Otzolotepec",16,"Parácuaro",null,null,null,null,null,null,20,"Natividad",21,"Hermenegildo Galeana",null,null,null,null,null,null,null,null,26,"Ures",null,null,null,null,null,null,30,"Fortín",31,"Sinanché"]
[null,null,null,null,2044,null,null,null,null,null,null,null,null,null,null,7,"Nicolás Ruíz",null,null,null,null,null,null,null,null,12,"Tlacoapa",13,"Tlahuiltepa",14,"San Diego de Alejandría",15,"Ozumba",16,"Pátzcuaro",null,null,null,null,null,null,20,"Nazareno Etla",21,"Honey",null,null,null,null,null,null,null,null,26,"Villa Hidalgo",null,null,null,null,null,null,30,"Gutiérrez Zamora",31,"Sotuta"]
[null,null,null,null,2045,null,null,null,null,null,null,null,null,null,null,7,"Ocosingo",null,null,null,null,null,null,null,null,12,"Tlalchapa",13,"Tlanalapa",14,"San Gabriel",15,"Papalotla",16,"Penjamillo",null,null,null,null,null,null,20,"Nejapa de Madero",21,"Huaquechula",null,null,null,null,null,null,null,null,26,"Villa Pesqueira",null,null,null,null,null,null,30,"Hidalgotitlán",31,"Sucilá"]
[null,null,null,null,2046,null,null,null,null,null,null,null,null,null,null,7,"Ocotepec",null,null,null,null,null,null,null,null,12,"Tlalixtaquilla de Maldonado",13,"Tlanchinol",14,"San Ignacio Cerro Gordo",15,"Polotitlán",16,"Peribán",null,null,null,null,null,null,20,"Nuevo Zoquiápam",21,"Huatlatlauca",null,null,null,null,null,null,null,null,26,"Yécora",null,null,null,null,null,null,30,"Huatusco",31,"Sudzal"]
[null,null,null,null,2047,null,null,null,null,null,null,null,null,null,null,7,"Ocozocoautla de Espinosa",null,null,null,null,null,null,null,null,12,"Tlapa de Comonfort",13,"Tlaxcoapan",14,"San Juan de los Lagos",15,"Rayón",16,"Purépero",null,null,null,null,null,null,20,"Oaxaca de Juárez",21,"Huauchinango",null,null,null,null,null,null,null,null,null,null,null,null,null,null,null,null,30,"Huayacocotla",31,"Suma"]
[null,null,null,null,2048,null,null,null,null,null,null,null,null,null,null,7,"Ostuacán",null,null,null,null,null,null,null,null,12,"Tlapehuala",13,"Tolcayuca",14,"San Juanito de Escobedo",15,"San Antonio la Isla",16,"Puruándiro",null,null,null,null,null,null,20,"Ocotlán de Morelos",21,"Huehuetla",null,null,null,null,null,null,null,null,null,null,null,null,null,null,null,null,30,"Hueyapan de Ocampo",31,"Tahdziú"]
[null,null,null,null,2049,null,null,null,null,null,null,null,null,null,null,7,"Osumacinta",null,null,null,null,null,null,null,null,12,"Xalpatláhuac",13,"Tula de Allende",14,"San Julián",15,"San Felipe del Progreso",16,"Queréndaro",null,null,null,null,null,null,20,"Pinotepa de Don Luis",21,"Huehuetlán el Chico",null,null,null,null,null,null,null,null,null,null,null,null,null,null,null,null,30,"Huiloapan de Cuauhtémoc",31,"Tahmek"]
[null,null,null,null,2050,null,null,null,null,null,null,null,null,null,null,7,"Oxchuc",null,null,null,null,null,null,null,null,12,"Xochihuehuetlán",13,"Tulancingo de Bravo",14,"San Marcos",15,"San José del Rincón",16,"Quiroga",null,null,null,null,null,null,20,"Pluma Hidalgo",21,"Huehuetlán el Grande",null,null,null,null,null,null,null,null,null,null,null,null,null,null,null,null,30,"Ignacio de la Llave",31,"Teabo"]
[null,null,null,null,null,null,null,null,null,null,null,null,null,null,null,7,"Palenque",null,null,null,null,null,null,null,null,12,"Xochistlahuaca",13,"Villa de Tezontepec",14,"San Martín de Bolaños",15,"San Martín de las Pirámides",16,"Sahuayo",null,null,null,null,null,null,20,"Putla Villa de Guerrero",21,"Huejotzingo",null,null,null,null,null,null,null,null,null,null,null,null,null,null,null,null,30,"Ilamatlán",31,"Tecoh"]
[null,null,null,null,null,null,null,null,null,null,null,null,null,null,null,7,"Pantelhó",null,null,null,null,null,null,null,null,12,"Zapotitlán Tablas",13,"Xochiatipan",14,"San Martín Hidalgo",15,"San Mateo Atenco",16,"Salvador Escalante",null,null,null,null,null,null,20,"Reforma de Pineda",21,"Hueyapan",null,null,null,null,null,null,null,null,null,null,null,null,null,null,null,null,30,"Isla",31,"Tekal de Venegas"]
[null,null,null,null,null,null,null,null,null,null,null,null,null,null,null,7,"Pantepec",null,null,null,null,null,null,null,null,12,"Zihuatanejo de Azueta",13,"Xochicoatlán",14,"San Miguel el Alto",15,"San Simón de Guerrero",16,"San Lucas",null,null,null,null,null,null,20,"Reyes Etla",21,"Hueytamalco",null,null,null,null,null,null,null,null,null,null,null,null,null,null,null,null,30,"Ixcatepec",31,"Tekantó"]
[null,null,null,null,null,null,null,null,null,null,null,null,null,null,null,7,"Pichucalco",null,null,null,null,null,null,null,null,12,"Zirándaro",13,"Yahualica",14,"San Pedro Tlaquepaque",15,"Santo Tomás",16,"Santa Ana Maya",null,null,null,null,null,null,20,"Rojas de Cuauhtémoc",21,"Hueytlalpan",null,null,null,null,null,null,null,null,null,null,null,null,null,null,null,null,30,"Ixhuacán de los Reyes",31,"Tekax"]
[null,null,null,null,null,null,null,null,null,null,null,null,null,null,null,7,"Pijijiapan",null,null,null,null,null,null,null,null,12,"Zitlala",13,"Zacualtipán de Ángeles",14,"San Sebastián del Oeste",15,"Soyaniquilpan de Juárez",16,"Senguio",null,null,null,null,null,null,20,"Salina Cruz",21,"Huitzilan de Serdán",null,null,null,null,null,null,null,null,null,null,null,null,null,null,null,null,30,"Ixhuatlán de Madero",31,"Tekit"]
[null,null,null,null,null,null,null,null,null,null,null,null,null,null,null,7,"Pueblo Nuevo Solistahuacán",null,null,null,null,null,null,null,null,null,null,13,"Zapotlán de Juárez",14,"Santa María de los Ángeles",15,"Sultepec",16,"Susupuato",null,null,null,null,null,null,20,"San Agustín Amatengo",21,"Huitziltepec",null,null,null,null,null,null,null,null,null,null,null,null,null,null,null,null,30,"Ixhuatlán del Café",31,"Tekom"]
[null,null,null,null,null,null,null,null,null,null,null,null,null,null,null,7,"Rayón",null,null,null,null,null,null,null,null,null,null,13,"Zempoala",14,"Santa María del Oro",15,"Tecámac",16,"Tacámbaro",null,null,null,null,null,null,20,"San Agustín Atenango",21,"Ixcamilpa de Guerrero",null,null,null,null,null,null,null,null,null,null,null,null,null,null,null,null,30,"Ixhuatlán del Sureste",31,"Telchac Pueblo"]
[null,null,null,null,null,null,null,null,null,null,null,null,null,null,null,7,"Reforma",null,null,null,null,null,null,null,null,null,null,13,"Zimapán",14,"Sayula",15,"Tejupilco",16,"Tancítaro",null,null,null,null,null,null,20,"San Agustín Chayuco",21,"Ixcaquixtla",null,null,null,null,null,null,null,null,null,null,null,null,null,null,null,null,30,"Ixhuatlancillo",31,"Telchac Puerto"]
[null,null,null,null,null,null,null,null,null,null,null,null,null,null,null,7,"Sabanilla",null,null,null,null,null,null,null,null,null,null,null,null,14,"Tala",15,"Temamatla",16,"Tangamandapio",null,null,null,null,null,null,20,"San Agustín de las Juntas",21,"Ixtacamaxtitlán",null,null,null,null,null,null,null,null,null,null,null,null,null,null,null,null,30,"Ixmatlahuacan",31,"Temax"]
[null,null,null,null,null,null,null,null,null,null,null,null,null,null,null,7,"Salto de Agua",null,null,null,null,null,null,null,null,null,null,null,null,14,"Talpa de Allende",15,"Temascalapa",16,"Tangancícuaro",null,null,null,null,null,null,20,"San Agustín Etla",21,"Ixtepec",null,null,null,null,null,null,null,null,null,null,null,null,null,null,null,null,30,"Ixtaczoquitlán",31,"Temozón"]
[null,null,null,null,null,null,null,null,null,null,null,null,null,null,null,7,"San Andrés Duraznal",null,null,null,null,null,null,null,null,null,null,null,null,14,"Tamazula de Gordiano",15,"Temascalcingo",16,"Tanhuato",null,null,null,null,null,null,20,"San Agustín Loxicha",21,"Izúcar de Matamoros",null,null,null,null,null,null,null,null,null,null,null,null,null,null,null,null,30,"Jalacingo",31,"Tepakán"]
[null,null,null,null,null,null,null,null,null,null,null,null,null,null,null,7,"San Cristóbal de las Casas",null,null,null,null,null,null,null,null,null,null,null,null,14,"Tapalpa",15,"Temascaltepec",16,"Taretan",null,null,null,null,null,null,20,"San Agustín Tlacotepec",21,"Jalpan",null,null,null,null,null,null,null,null,null,null,null,null,null,null,null,null,30,"Jalcomulco",31,"Tetiz"]
[null,null,null,null,null,null,null,null,null,null,null,null,null,null,null,7,"San Fernando",null,null,null,null,null,null,null,null,null,null,null,null,14,"Tecalitlán",15,"Temoaya",16,"Tarímbaro",null,null,null,null,null,null,20,"San Agustín Yatareni",21,"Jolalpan",null,null,null,null,null,null,null,null,null,null,null,null,null,null,null,null,30,"Jáltipan",31,"Teya"]
[null,null,null,null,null,null,null,null,null,null,null,null,null,null,null,7,"San Juan Cancuc",null,null,null,null,null,null,null,null,null,null,null,null,14,"Techaluta de Montenegro",15,"Tenancingo",16,"Tepalcatepec",null,null,null,null,null,null,20,"San Andrés Cabecera Nueva",21,"Jonotla",null,null,null,null,null,null,null,null,null,null,null,null,null,null,null,null,30,"Jamapa",31,"Ticul"]
[null,null,null,null,null,null,null,null,null,null,null,null,null,null,null,7,"San Lucas",null,null,null,null,null,null,null,null,null,null,null,null,14,"Tecolotlán",15,"Tenango del Aire",16,"Tingambato",null,null,null,null,null,null,20,"San Andrés Dinicuiti",21,"Jopala",null,null,null,null,null,null,null,null,null,null,null,null,null,null,null,null,30,"Jesús Carranza",31,"Timucuy"]
[null,null,null,null,null,null,null,null,null,null,null,null,null,null,null,7,"Santiago el Pinar",null,null,null,null,null,null,null,null,null,null,null,null,14,"Tenamaxtlán",15,"Tenango del Valle",16,"Tingüindín",null,null,null,null,null,null,20,"San Andrés Huaxpaltepec",21,"Juan C. Bonilla",null,null,null,null,null,null,null,null,null,null,null,null,null,null,null,null,30,"Jilotepec",31,"Tinum"]
[null,null,null,null,null,null,null,null,null,null,null,null,null,null,null,7,"Siltepec",null,null,null,null,null,null,null,null,null,null,null,null,14,"Teocaltiche",15,"Teoloyucan",16,"Tiquicheo de Nicolás Romero",null,null,null,null,null,null,20,"San Andrés Huayápam",21,"Juan Galindo",null,null,null,null,null,null,null,null,null,null,null,null,null,null,null,null,30,"José Azueta",31,"Tixcacalcupul"]
[null,null,null,null,null,null,null,null,null,null,null,null,null,null,null,7,"Simojovel",null,null,null,null,null,null,null,null,null,null,null,null,14,"Teocuitatlán de Corona",15,"Teotihuacán",16,"Tlalpujahua",null,null,null,null,null,null,20,"San Andrés Ixtlahuaca",21,"Juan N. Méndez",null,null,null,null,null,null,null,null,null,null,null,null,null,null,null,null,30,"Juan Rodríguez Clara",31,"Tixkokob"]
[null,null,null,null,null,null,null,null,null,null,null,null,null,null,null,7,"Sitalá",null,null,null,null,null,null,null,null,null,null,null,null,14,"Tepatitlán de Morelos",15,"Tepetlaoxtoc",16,"Tlazazalca",null,null,null,null,null,null,20,"San Andrés Lagunas",21,"La Magdalena Tlatlauquitepec",null,null,null,null,null,null,null,null,null,null,null,null,null,null,null,null,30,"Juchique de Ferrer",31,"Tixmehuac"]
[null,null,null,null,null,null,null,null,null,null,null,null,null,null,null,7,"Socoltenango",null,null,null,null,null,null,null,null,null,null,null,null,14,"Tequila",15,"Tepetlixpa",16,"Tocumbo",null,null,null,null,null,null,20,"San Andrés Nuxiño",21,"Lafragua",null,null,null,null,null,null,null,null,null,null,null,null,null,null,null,null,30,"La Antigua",31,"Tixpéhual"]
[null,null,null,null,null,null,null,null,null,null,null,null,null,null,null,7,"Solosuchiapa",null,null,null,null,null,null,null,null,null,null,null,null,14,"Teuchitlán",15,"Tepotzotlán",16,"Tumbiscatío",null,null,null,null,null,null,20,"San Andrés Paxtlán",21,"Libres",null,null,null,null,null,null,null,null,null,null,null,null,null,null,null,null,30,"La Perla",31,"Tizimín"]
[null,null,null,null,null,null,null,null,null,null,null,null,null,null,null,7,"Soyaló",null,null,null,null,null,null,null,null,null,null,null,null,14,"Tizapán el Alto",15,"Tequixquiac",16,"Turicato",null,null,null,null,null,null,20,"San Andrés Sinaxtla",21,"Los Reyes de Juárez",null,null,null,null,null,null,null,null,null,null,null,null,null,null,null,null,30,"Landero y Coss",31,"Tunkás"]
[null,null,null,null,null,null,null,null,null,null,null,null,null,null,null,7,"Suchiapa",null,null,null,null,null,null,null,null,null,null,null,null,14,"Tlajomulco de Zúñiga",15,"Texcaltitlán",16,"Tuxpan",null,null,null,null,null,null,20,"San Andrés Solaga",21,"Mazapiltepec de Juárez",null,null,null,null,null,null,null,null,null,null,null,null,null,null,null,null,30,"Las Choapas",31,"Tzucacab"]
[null,null,null,null,null,null,null,null,null,null,null,null,null,null,null,7,"Suchiate",null,null,null,null,null,null,null,null,null,null,null,null,14,"Tolimán",15,"Texcalyacac",16,"Tuzantla",null,null,null,null,null,null,20,"San Andrés Teotilálpam",21,"Mixtla",null,null,null,null,null,null,null,null,null,null,null,null,null,null,null,null,30,"Las Minas",31,"Uayma"]
[null,null,null,null,null,null,null,null,null,null,null,null,null,null,null,7,"Sunuapa",null,null,null,null,null,null,null,null,null,null,null,null,14,"Tomatlán",15,"Texcoco",16,"Tzintzuntzan",null,null,null,null,null,null,20,"San Andrés Tepetlapa",21,"Molcaxac",null,null,null,null,null,null,null,null,null,null,null,null,null,null,null,null,30,"Las Vigas de Ramírez",31,"Ucú"]
[null,null,null,null,null,null,null,null,null,null,null,null,null,null,null,7,"Tapachula",null,null,null,null,null,null,null,null,null,null,null,null,14,"Tonalá",15,"Tezoyuca",16,"Tzitzio",null,null,null,null,null,null,20,"San Andrés Yaá",21,"Naupan",null,null,null,null,null,null,null,null,null,null,null,null,null,null,null,null,30,"Lerdo de Tejada",31,"Umán"]
[null,null,null,null,null,null,null,null,null,null,null,null,null,null,null,7,"Tapalapa",null,null,null,null,null,null,null,null,null,null,null,null,14,"Tonaya",15,"Tianguistenco",16,"Uruapan",null,null,null,null,null,null,20,"San Andrés Zabache",21,"Nauzontla",null,null,null,null,null,null,null,null,null,null,null,null,null,null,null,null,30,"Los Reyes",31,"Valladolid"]
[null,null,null,null,null,null,null,null,null,null,null,null,null,null,null,7,"Tapilula",null,null,null,null,null,null,null,null,null,null,null,null,14,"Tonila",15,"Timilpan",16,"Venustiano Carranza",null,null,null,null,null,null,20,"San Andrés Zautla",21,"Nealtican",null,null,null,null,null,null,null,null,null,null,null,null,null,null,null,null,30,"Magdalena",31,"Xocchel"]
[null,null,null,null,null,null,null,null,null,null,null,null,null,null,null,7,"Tecpatán",null,null,null,null,null,null,null,null,null,null,null,null,14,"Totatiche",15,"Tlalmanalco",16,"Villamar",null,null,null,null,null,null,20,"San Antonino Castillo Velasco",21,"Nicolás Bravo",null,null,null,null,null,null,null,null,null,null,null,null,null,null,null,null,30,"Maltrata",31,"Yaxcabá"]
[null,null,null,null,null,null,null,null,null,null,null,null,null,null,null,7,"Tenejapa",null,null,null,null,null,null,null,null,null,null,null,null,14,"Tototlán",15,"Tlalnepantla de Baz",16,"Vista Hermosa",null,null,null,null,null,null,20,"San Antonino el Alto",21,"Nopalucan",null,null,null,null,null,null,null,null,null,null,null,null,null,null,null,null,30,"Manlio Fabio Altamirano",31,"Yaxkukul"]
[null,null,null,null,null,null,null,null,null,null,null,null,null,null,null,7,"Teopisca",null,null,null,null,null,null,null,null,null,null,null,null,14,"Tuxcacuesco",15,"Tlatlaya",16,"Yurécuaro",null,null,null,null,null,null,20,"San Antonino Monte Verde",21,"Ocotepec",null,null,null,null,null,null,null,null,null,null,null,null,null,null,null,null,30,"Mariano Escobedo",31,"Yobaín"]
[null,null,null,null,null,null,null,null,null,null,null,null,null,null,null,7,"Tila",null,null,null,null,null,null,null,null,null,null,null,null,14,"Tuxcueca",15,"Toluca",16,"Zacapu",null,null,null,null,null,null,20,"San Antonio Acutla",21,"Ocoyucan",null,null,null,null,null,null,null,null,null,null,null,null,null,null,null,null,30,"Martínez de la Torre"]
[null,null,null,null,null,null,null,null,null,null,null,null,null,null,null,7,"Tonalá",null,null,null,null,null,null,null,null,null,null,null,null,14,"Tuxpan",15,"Tonanitla",16,"Zamora",null,null,null,null,null,null,20,"San Antonio de la Cal",21,"Olintla",null,null,null,null,null,null,null,null,null,null,null,null,null,null,null,null,30,"Mecatlán"]
[null,null,null,null,null,null,null,null,null,null,null,null,null,null,null,7,"Totolapa",null,null,null,null,null,null,null,null,null,null,null,null,14,"Unión de San Antonio",15,"Tonatico",16,"Zináparo",null,null,null,null,null,null,20,"San Antonio Huitepec",21,"Oriental",null,null,null,null,null,null,null,null,null,null,null,null,null,null,null,null,30,"Mecayapan"]
[null,null,null,null,null,null,null,null,null,null,null,null,null,null,null,7,"Tumbalá",null,null,null,null,null,null,null,null,null,null,null,null,14,"Unión de Tula",15,"Tultepec",16,"Zinapécuaro",null,null,null,null,null,null,20,"San Antonio Nanahuatípam",21,"Pahuatlán",null,null,null,null,null,null,null,null,null,null,null,null,null,null,null,null,30,"Medellín"]
[null,null,null,null,null,null,null,null,null,null,null,null,null,null,null,7,"Tuxtla Chico",null,null,null,null,null,null,null,null,null,null,null,null,14,"Valle de Guadalupe",15,"Tultitlán",16,"Ziracuaretiro",null,null,null,null,null,null,20,"San Antonio Sinicahua",21,"Palmar de Bravo",null,null,null,null,null,null,null,null,null,null,null,null,null,null,null,null,30,"Miahuatlán"]
[null,null,null,null,null,null,null,null,null,null,null,null,null,null,null,7,"Tuxtla Gutiérrez",null,null,null,null,null,null,null,null,null,null,null,null,14,"Valle de Juárez",15,"Valle de Bravo",16,"Zitácuaro",null,null,null,null,null,null,20,"San Antonio Tepetlapa",21,"Pantepec",null,null,null,null,null,null,null,null,null,null,null,null,null,null,null,null,30,"Minatitlán"]
[null,null,null,null,null,null,null,null,null,null,null,null,null,null,null,7,"Tuzantán",null,null,null,null,null,null,null,null,null,null,null,null,14,"Villa Corona",15,"Valle de Chalco Solidaridad",null,null,null,null,null,null,null,null,20,"San Baltazar Chichicápam",21,"Petlalcingo",null,null,null,null,null,null,null,null,null,null,null,null,null,null,null,null,30,"Misantla"]
[null,null,null,null,null,null,null,null,null,null,null,null,null,null,null,7,"Tzimol",null,null,null,null,null,null,null,null,null,null,null,null,14,"Villa Guerrero",15,"Villa de Allende",null,null,null,null,null,null,null,null,20,"San Baltazar Loxicha",21,"Piaxtla",null,null,null,null,null,null,null,null,null,null,null,null,null,null,null,null,30,"Mixtla de Altamirano"]
[null,null,null,null,null,null,null,null,null,null,null,null,null,null,null,7,"Unión Juárez",null,null,null,null,null,null,null,null,null,null,null,null,14,"Villa Hidalgo",15,"Villa del Carbón",null,null,null,null,null,null,null,null,20,"San Baltazar Yatzachi el Bajo",21,"Puebla",null,null,null,null,null,null,null,null,null,null,null,null,null,null,null,null,30,"Moloacán"]
[null,null,null,null,null,null,null,null,null,null,null,null,null,null,null,7,"Venustiano Carranza",null,null,null,null,null,null,null,null,null,null,null,null,14,"Villa Purificación",15,"Villa Guerrero",null,null,null,null,null,null,null,null,20,"San Bartolo Coyotepec",21,"Quecholac",null,null,null,null,null,null,null,null,null,null,null,null,null,null,null,null,30,"Nanchital de Lázaro Cárdenas del Río"]
[null,null,null,null,null,null,null,null,null,null,null,null,null,null,null,7,"Villa Comaltitlán",null,null,null,null,null,null,null,null,null,null,null,null,14,"Yahualica de González Gallo",15,"Villa Victoria",null,null,null,null,null,null,null,null,20,"San Bartolo Soyaltepec",21,"Quimixtlán",null,null,null,null,null,null,null,null,null,null,null,null,null,null,null,null,30,"Naolinco"]
[null,null,null,null,null,null,null,null,null,null,null,null,null,null,null,7,"Villa Corzo",null,null,null,null,null,null,null,null,null,null,null,null,14,"Zacoalco de Torres",15,"Xalatlaco",null,null,null,null,null,null,null,null,20,"San Bartolo Yautepec",21,"Rafael Lara Grajales",null,null,null,null,null,null,null,null,null,null,null,null,null,null,null,null,30,"Naranjal"]
[null,null,null,null,null,null,null,null,null,null,null,null,null,null,null,7,"Villaflores",null,null,null,null,null,null,null,null,null,null,null,null,14,"Zapopan",15,"Xonacatlán",null,null,null,null,null,null,null,null,20,"San Bartolomé Ayautla",21,"San Andrés Cholula",null,null,null,null,null,null,null,null,null,null,null,null,null,null,null,null,30,"Naranjos Amatlán"]
[null,null,null,null,null,null,null,null,null,null,null,null,null,null,null,7,"Yajalón",null,null,null,null,null,null,null,null,null,null,null,null,14,"Zapotiltic",15,"Zacazonapan",null,null,null,null,null,null,null,null,20,"San Bartolomé Loxicha",21,"San Antonio Cañada",null,null,null,null,null,null,null,null,null,null,null,null,null,null,null,null,30,"Nautla"]
[null,null,null,null,null,null,null,null,null,null,null,null,null,null,null,7,"Zinacantán",null,null,null,null,null,null,null,null,null,null,null,null,14,"Zapotitlán de Vadillo",15,"Zacualpan",null,null,null,null,null,null,null,null,20,"San Bartolomé Quialana",21,"San Diego la Mesa Tochimiltzingo",null,null,null,null,null,null,null,null,null,null,null,null,null,null,null,null,30,"Nogales"]
[null,null,null,null,null,null,null,null,null,null,null,null,null,null,null,null,null,null,null,null,null,null,null,null,null,null,null,null,null,14,"Zapotlán del Rey",15,"Zinacantepec",null,null,null,null,null,null,null,null,20,"San Bartolomé Yucuañe",21,"San Felipe Teotlalcingo",null,null,null,null,null,null,null,null,null,null,null,null,null,null,null,null,30,"Oluta"]
[null,null,null,null,null,null,null,null,null,null,null,null,null,null,null,null,null,null,null,null,null,null,null,null,null,null,null,null,null,14,"Zapotlán el Grande",15,"Zumpahuacán",null,null,null,null,null,null,null,null,20,"San Bartolomé Zoogocho",21,"San Felipe Tepatlán",null,null,null,null,null,null,null,null,null,null,null,null,null,null,null,null,30,"Omealca"]
[null,null,null,null,null,null,null,null,null,null,null,null,null,null,null,null,null,null,null,null,null,null,null,null,null,null,null,null,null,14,"Zapotlanejo",15,"Zumpango",null,null,null,null,null,null,null,null,20,"San Bernardo Mixtepec",21,"San Gabriel Chilac",null,null,null,null,null,null,null,null,null,null,null,null,null,null,null,null,30,"Orizaba"]
[null,null,null,null,null,null,null,null,null,null,null,null,null,null,null,null,null,null,null,null,null,null,null,null,null,null,null,null,null,null,null,null,null,null,null,null,null,null,null,null,null,20,"San Blas Atempa",21,"San Gregorio Atzompa",null,null,null,null,null,null,null,null,null,null,null,null,null,null,null,null,30,"Otatitlán"]
[null,null,null,null,null,null,null,null,null,null,null,null,null,null,null,null,null,null,null,null,null,null,null,null,null,null,null,null,null,null,null,null,null,null,null,null,null,null,null,null,null,20,"San Carlos Yautepec",21,"San Jerónimo Tecuanipan",null,null,null,null,null,null,null,null,null,null,null,null,null,null,null,null,30,"Oteapan"]
[null,null,null,null,null,null,null,null,null,null,null,null,null,null,null,null,null,null,null,null,null,null,null,null,null,null,null,null,null,null,null,null,null,null,null,null,null,null,null,null,null,20,"San Cristóbal Amatlán",21,"San Jerónimo Xayacatlán",null,null,null,null,null,null,null,null,null,null,null,null,null,null,null,null,30,"Ozuluama de Mascareñas"]
[null,null,null,null,null,null,null,null,null,null,null,null,null,null,null,null,null,null,null,null,null,null,null,null,null,null,null,null,null,null,null,null,null,null,null,null,null,null,null,null,null,20,"San Cristóbal Amoltepec",21,"San José Chiapa",null,null,null,null,null,null,null,null,null,null,null,null,null,null,null,null,30,"Pajapan"]
[null,null,null,null,null,null,null,null,null,null,null,null,null,null,null,null,null,null,null,null,null,null,null,null,null,null,null,null,null,null,null,null,null,null,null,null,null,null,null,null,null,20,"San Cristóbal Lachirioag",21,"San José Miahuatlán",null,null,null,null,null,null,null,null,null,null,null,null,null,null,null,null,30,"Pánuco"]
[null,null,null,null,null,null,null,null,null,null,null,null,null,null,null,null,null,null,null,null,null,null,null,null,null,null,null,null,null,null,null,null,null,null,null,null,null,null,null,null,null,20,"San Cristóbal Suchixtlahuaca",21,"San Juan Atenco",null,null,null,null,null,null,null,null,null,null,null,null,null,null,null,null,30,"Papantla"]
[null,null,null,null,null,null,null,null,null,null,null,null,null,null,null,null,null,null,null,null,null,null,null,null,null,null,null,null,null,null,null,null,null,null,null,null,null,null,null,null,null,20,"San Dionisio del Mar",21,"San Juan Atzompa",null,null,null,null,null,null,null,null,null,null,null,null,null,null,null,null,30,"Paso de Ovejas"]
[null,null,null,null,null,null,null,null,null,null,null,null,null,null,null,null,null,null,null,null,null,null,null,null,null,null,null,null,null,null,null,null,null,null,null,null,null,null,null,null,null,20,"San Dionisio Ocotepec",21,"San Martín Texmelucan",null,null,null,null,null,null,null,null,null,null,null,null,null,null,null,null,30,"Paso del Macho"]
[null,null,null,null,null,null,null,null,null,null,null,null,null,null,null,null,null,null,null,null,null,null,null,null,null,null,null,null,null,null,null,null,null,null,null,null,null,null,null,null,null,20,"San Dionisio Ocotlán",21,"San Martín Totoltepec",null,null,null,null,null,null,null,null,null,null,null,null,null,null,null,null,30,"Perote"]
[null,null,null,null,null,null,null,null,null,null,null,null,null,null,null,null,null,null,null,null,null,null,null,null,null,null,null,null,null,null,null,null,null,null,null,null,null,null,null,null,null,20,"San Esteban Atatlahuca",21,"San Matías Tlalancaleca",null,null,null,null,null,null,null,null,null,null,null,null,null,null,null,null,30,"Platón Sánchez"]
[null,null,null,null,null,null,null,null,null,null,null,null,null,null,null,null,null,null,null,null,null,null,null,null,null,null,null,null,null,null,null,null,null,null,null,null,null,null,null,null,null,20,"San Felipe Jalapa de Díaz",21,"San Miguel Ixitlán",null,null,null,null,null,null,null,null,null,null,null,null,null,null,null,null,30,"Playa Vicente"]
[null,null,null,null,null,null,null,null,null,null,null,null,null,null,null,null,null,null,null,null,null,null,null,null,null,null,null,null,null,null,null,null,null,null,null,null,null,null,null,null,null,20,"San Felipe Tejalápam",21,"San Miguel Xoxtla",null,null,null,null,null,null,null,null,null,null,null,null,null,null,null,null,30,"Poza Rica de Hidalgo"]
[null,null,null,null,null,null,null,null,null,null,null,null,null,null,null,null,null,null,null,null,null,null,null,null,null,null,null,null,null,null,null,null,null,null,null,null,null,null,null,null,null,20,"San Felipe Usila",21,"San Nicolás Buenos Aires",null,null,null,null,null,null,null,null,null,null,null,null,null,null,null,null,30,"Pueblo Viejo"]
[null,null,null,null,null,null,null,null,null,null,null,null,null,null,null,null,null,null,null,null,null,null,null,null,null,null,null,null,null,null,null,null,null,null,null,null,null,null,null,null,null,20,"San Francisco Cahuacuá",21,"San Nicolás de los Ranchos",null,null,null,null,null,null,null,null,null,null,null,null,null,null,null,null,30,"Puente Nacional"]
[null,null,null,null,null,null,null,null,null,null,null,null,null,null,null,null,null,null,null,null,null,null,null,null,null,null,null,null,null,null,null,null,null,null,null,null,null,null,null,null,null,20,"San Francisco Cajonos",21,"San Pablo Anicano",null,null,null,null,null,null,null,null,null,null,null,null,null,null,null,null,30,"Rafael Delgado"]
[null,null,null,null,null,null,null,null,null,null,null,null,null,null,null,null,null,null,null,null,null,null,null,null,null,null,null,null,null,null,null,null,null,null,null,null,null,null,null,null,null,20,"San Francisco Chapulapa",21,"San Pedro Cholula",null,null,null,null,null,null,null,null,null,null,null,null,null,null,null,null,30,"Rafael Lucio"]
[null,null,null,null,null,null,null,null,null,null,null,null,null,null,null,null,null,null,null,null,null,null,null,null,null,null,null,null,null,null,null,null,null,null,null,null,null,null,null,null,null,20,"San Francisco Chindúa",21,"San Pedro Yeloixtlahuaca",null,null,null,null,null,null,null,null,null,null,null,null,null,null,null,null,30,"Río Blanco"]
[null,null,null,null,null,null,null,null,null,null,null,null,null,null,null,null,null,null,null,null,null,null,null,null,null,null,null,null,null,null,null,null,null,null,null,null,null,null,null,null,null,20,"San Francisco del Mar",21,"San Salvador el Seco",null,null,null,null,null,null,null,null,null,null,null,null,null,null,null,null,30,"Saltabarranca"]
[null,null,null,null,null,null,null,null,null,null,null,null,null,null,null,null,null,null,null,null,null,null,null,null,null,null,null,null,null,null,null,null,null,null,null,null,null,null,null,null,null,20,"San Francisco Huehuetlán",21,"San Salvador el Verde",null,null,null,null,null,null,null,null,null,null,null,null,null,null,null,null,30,"San Andrés Tenejapan"]
[null,null,null,null,null,null,null,null,null,null,null,null,null,null,null,null,null,null,null,null,null,null,null,null,null,null,null,null,null,null,null,null,null,null,null,null,null,null,null,null,null,20,"San Francisco Ixhuatán",21,"San Salvador Huixcolotla",null,null,null,null,null,null,null,null,null,null,null,null,null,null,null,null,30,"San Andrés Tuxtla"]
[null,null,null,null,null,null,null,null,null,null,null,null,null,null,null,null,null,null,null,null,null,null,null,null,null,null,null,null,null,null,null,null,null,null,null,null,null,null,null,null,null,20,"San Francisco Jaltepetongo",21,"San Sebastián Tlacotepec",null,null,null,null,null,null,null,null,null,null,null,null,null,null,null,null,30,"San Juan Evangelista"]
[null,null,null,null,null,null,null,null,null,null,null,null,null,null,null,null,null,null,null,null,null,null,null,null,null,null,null,null,null,null,null,null,null,null,null,null,null,null,null,null,null,20,"San Francisco Lachigoló",21,"Santa Catarina Tlaltempan",null,null,null,null,null,null,null,null,null,null,null,null,null,null,null,null,30,"San Rafael"]
[null,null,null,null,null,null,null,null,null,null,null,null,null,null,null,null,null,null,null,null,null,null,null,null,null,null,null,null,null,null,null,null,null,null,null,null,null,null,null,null,null,20,"San Francisco Logueche",21,"Santa Inés Ahuatempan",null,null,null,null,null,null,null,null,null,null,null,null,null,null,null,null,30,"Santiago Sochiapan"]
[null,null,null,null,null,null,null,null,null,null,null,null,null,null,null,null,null,null,null,null,null,null,null,null,null,null,null,null,null,null,null,null,null,null,null,null,null,null,null,null,null,20,"San Francisco Nuxaño",21,"Santa Isabel Cholula",null,null,null,null,null,null,null,null,null,null,null,null,null,null,null,null,30,"Santiago Tuxtla"]
[null,null,null,null,null,null,null,null,null,null,null,null,null,null,null,null,null,null,null,null,null,null,null,null,null,null,null,null,null,null,null,null,null,null,null,null,null,null,null,null,null,20,"San Francisco Ozolotepec",21,"Santiago Miahuatlán",null,null,null,null,null,null,null,null,null,null,null,null,null,null,null,null,30,"Sayula de Alemán"]
[null,null,null,null,null,null,null,null,null,null,null,null,null,null,null,null,null,null,null,null,null,null,null,null,null,null,null,null,null,null,null,null,null,null,null,null,null,null,null,null,null,20,"San Francisco Sola",21,"Santo Tomás Hueyotlipan",null,null,null,null,null,null,null,null,null,null,null,null,null,null,null,null,30,"Sochiapa"]
[null,null,null,null,null,null,null,null,null,null,null,null,null,null,null,null,null,null,null,null,null,null,null,null,null,null,null,null,null,null,null,null,null,null,null,null,null,null,null,null,null,20,"San Francisco Telixtlahuaca",21,"Soltepec",null,null,null,null,null,null,null,null,null,null,null,null,null,null,null,null,30,"Soconusco"]
[null,null,null,null,null,null,null,null,null,null,null,null,null,null,null,null,null,null,null,null,null,null,null,null,null,null,null,null,null,null,null,null,null,null,null,null,null,null,null,null,null,20,"San Francisco Teopan",21,"Tecali de Herrera",null,null,null,null,null,null,null,null,null,null,null,null,null,null,null,null,30,"Soledad Atzompa"]
[null,null,null,null,null,null,null,null,null,null,null,null,null,null,null,null,null,null,null,null,null,null,null,null,null,null,null,null,null,null,null,null,null,null,null,null,null,null,null,null,null,20,"San Francisco Tlapancingo",21,"Tecamachalco",null,null,null,null,null,null,null,null,null,null,null,null,null,null,null,null,30,"Soledad de Doblado"]
[null,null,null,null,null,null,null,null,null,null,null,null,null,null,null,null,null,null,null,null,null,null,null,null,null,null,null,null,null,null,null,null,null,null,null,null,null,null,null,null,null,20,"San Gabriel Mixtepec",21,"Tecomatlán",null,null,null,null,null,null,null,null,null,null,null,null,null,null,null,null,30,"Soteapan"]
[null,null,null,null,null,null,null,null,null,null,null,null,null,null,null,null,null,null,null,null,null,null,null,null,null,null,null,null,null,null,null,null,null,null,null,null,null,null,null,null,null,20,"San Ildefonso Amatlán",21,"Tehuacán",null,null,null,null,null,null,null,null,null,null,null,null,null,null,null,null,30,"Tamalín"]
[null,null,null,null,null,null,null,null,null,null,null,null,null,null,null,null,null,null,null,null,null,null,null,null,null,null,null,null,null,null,null,null,null,null,null,null,null,null,null,null,null,20,"San Ildefonso Sola",21,"Tehuitzingo",null,null,null,null,null,null,null,null,null,null,null,null,null,null,null,null,30,"Tamiahua"]
[null,null,null,null,null,null,null,null,null,null,null,null,null,null,null,null,null,null,null,null,null,null,null,null,null,null,null,null,null,null,null,null,null,null,null,null,null,null,null,null,null,20,"San Ildefonso Villa Alta",21,"Tenampulco",null,null,null,null,null,null,null,null,null,null,null,null,null,null,null,null,30,"Tampico Alto"]
[null,null,null,null,null,null,null,null,null,null,null,null,null,null,null,null,null,null,null,null,null,null,null,null,null,null,null,null,null,null,null,null,null,null,null,null,null,null,null,null,null,20,"San Jacinto Amilpas",21,"Teopantlán",null,null,null,null,null,null,null,null,null,null,null,null,null,null,null,null,30,"Tancoco"]
[null,null,null,null,null,null,null,null,null,null,null,null,null,null,null,null,null,null,null,null,null,null,null,null,null,null,null,null,null,null,null,null,null,null,null,null,null,null,null,null,null,20,"San Jacinto Tlacotepec",21,"Teotlalco",null,null,null,null,null,null,null,null,null,null,null,null,null,null,null,null,30,"Tantima"]
[null,null,null,null,null,null,null,null,null,null,null,null,null,null,null,null,null,null,null,null,null,null,null,null,null,null,null,null,null,null,null,null,null,null,null,null,null,null,null,null,null,20,"San Jerónimo Coatlán",21,"Tepanco de López",null,null,null,null,null,null,null,null,null,null,null,null,null,null,null,null,30,"Tantoyuca"]
[null,null,null,null,null,null,null,null,null,null,null,null,null,null,null,null,null,null,null,null,null,null,null,null,null,null,null,null,null,null,null,null,null,null,null,null,null,null,null,null,null,20,"San Jerónimo Silacayoapilla",21,"Tepango de Rodríguez",null,null,null,null,null,null,null,null,null,null,null,null,null,null,null,null,30,"Tatahuicapan de Juárez"]
[null,null,null,null,null,null,null,null,null,null,null,null,null,null,null,null,null,null,null,null,null,null,null,null,null,null,null,null,null,null,null,null,null,null,null,null,null,null,null,null,null,20,"San Jerónimo Sosola",21,"Tepatlaxco de Hidalgo",null,null,null,null,null,null,null,null,null,null,null,null,null,null,null,null,30,"Tatatila"]
[null,null,null,null,null,null,null,null,null,null,null,null,null,null,null,null,null,null,null,null,null,null,null,null,null,null,null,null,null,null,null,null,null,null,null,null,null,null,null,null,null,20,"San Jerónimo Taviche",21,"Tepeaca",null,null,null,null,null,null,null,null,null,null,null,null,null,null,null,null,30,"Tecolutla"]
[null,null,null,null,null,null,null,null,null,null,null,null,null,null,null,null,null,null,null,null,null,null,null,null,null,null,null,null,null,null,null,null,null,null,null,null,null,null,null,null,null,20,"San Jerónimo Tecóatl",21,"Tepemaxalco",null,null,null,null,null,null,null,null,null,null,null,null,null,null,null,null,30,"Tehuipango"]
[null,null,null,null,null,null,null,null,null,null,null,null,null,null,null,null,null,null,null,null,null,null,null,null,null,null,null,null,null,null,null,null,null,null,null,null,null,null,null,null,null,20,"San Jerónimo Tlacochahuaya",21,"Tepeojuma",null,null,null,null,null,null,null,null,null,null,null,null,null,null,null,null,30,"Tempoal"]
[null,null,null,null,null,null,null,null,null,null,null,null,null,null,null,null,null,null,null,null,null,null,null,null,null,null,null,null,null,null,null,null,null,null,null,null,null,null,null,null,null,20,"San Jorge Nuchita",21,"Tepetzintla",null,null,null,null,null,null,null,null,null,null,null,null,null,null,null,null,30,"Tenampa"]
[null,null,null,null,null,null,null,null,null,null,null,null,null,null,null,null,null,null,null,null,null,null,null,null,null,null,null,null,null,null,null,null,null,null,null,null,null,null,null,null,null,20,"San José Ayuquila",21,"Tepexco",null,null,null,null,null,null,null,null,null,null,null,null,null,null,null,null,30,"Tenochtitlán"]
[null,null,null,null,null,null,null,null,null,null,null,null,null,null,null,null,null,null,null,null,null,null,null,null,null,null,null,null,null,null,null,null,null,null,null,null,null,null,null,null,null,20,"San José Chiltepec",21,"Tepexi de Rodríguez",null,null,null,null,null,null,null,null,null,null,null,null,null,null,null,null,30,"Teocelo"]
[null,null,null,null,null,null,null,null,null,null,null,null,null,null,null,null,null,null,null,null,null,null,null,null,null,null,null,null,null,null,null,null,null,null,null,null,null,null,null,null,null,20,"San José del Peñasco",21,"Tepeyahualco",null,null,null,null,null,null,null,null,null,null,null,null,null,null,null,null,30,"Tepatlaxco"]
[null,null,null,null,null,null,null,null,null,null,null,null,null,null,null,null,null,null,null,null,null,null,null,null,null,null,null,null,null,null,null,null,null,null,null,null,null,null,null,null,null,20,"San José del Progreso",21,"Tepeyahualco de Cuauhtémoc",null,null,null,null,null,null,null,null,null,null,null,null,null,null,null,null,30,"Tepetlán"]
[null,null,null,null,null,null,null,null,null,null,null,null,null,null,null,null,null,null,null,null,null,null,null,null,null,null,null,null,null,null,null,null,null,null,null,null,null,null,null,null,null,20,"San José Estancia Grande",21,"Tetela de Ocampo",null,null,null,null,null,null,null,null,null,null,null,null,null,null,null,null,30,"Tepetzintla"]
[null,null,null,null,null,null,null,null,null,null,null,null,null,null,null,null,null,null,null,null,null,null,null,null,null,null,null,null,null,null,null,null,null,null,null,null,null,null,null,null,null,20,"San José Independencia",21,"Teteles de Avila Castillo",null,null,null,null,null,null,null,null,null,null,null,null,null,null,null,null,30,"Tequila"]
[null,null,null,null,null,null,null,null,null,null,null,null,null,null,null,null,null,null,null,null,null,null,null,null,null,null,null,null,null,null,null,null,null,null,null,null,null,null,null,null,null,20,"San José Lachiguiri",21,"Teziutlán",null,null,null,null,null,null,null,null,null,null,null,null,null,null,null,null,30,"Texcatepec"]
[null,null,null,null,null,null,null,null,null,null,null,null,null,null,null,null,null,null,null,null,null,null,null,null,null,null,null,null,null,null,null,null,null,null,null,null,null,null,null,null,null,20,"San José Tenango",21,"Tianguismanalco",null,null,null,null,null,null,null,null,null,null,null,null,null,null,null,null,30,"Texhuacán"]
[null,null,null,null,null,null,null,null,null,null,null,null,null,null,null,null,null,null,null,null,null,null,null,null,null,null,null,null,null,null,null,null,null,null,null,null,null,null,null,null,null,20,"San Juan Achiutla",21,"Tilapa",null,null,null,null,null,null,null,null,null,null,null,null,null,null,null,null,30,"Texistepec"]
[null,null,null,null,null,null,null,null,null,null,null,null,null,null,null,null,null,null,null,null,null,null,null,null,null,null,null,null,null,null,null,null,null,null,null,null,null,null,null,null,null,20,"San Juan Atepec",21,"Tlachichuca",null,null,null,null,null,null,null,null,null,null,null,null,null,null,null,null,30,"Tezonapa"]
[null,null,null,null,null,null,null,null,null,null,null,null,null,null,null,null,null,null,null,null,null,null,null,null,null,null,null,null,null,null,null,null,null,null,null,null,null,null,null,null,null,20,"San Juan Bautista Atatlahuca",21,"Tlacotepec de Benito Juárez",null,null,null,null,null,null,null,null,null,null,null,null,null,null,null,null,30,"Tierra Blanca"]
[null,null,null,null,null,null,null,null,null,null,null,null,null,null,null,null,null,null,null,null,null,null,null,null,null,null,null,null,null,null,null,null,null,null,null,null,null,null,null,null,null,20,"San Juan Bautista Coixtlahuaca",21,"Tlacuilotepec",null,null,null,null,null,null,null,null,null,null,null,null,null,null,null,null,30,"Tihuatlán"]
[null,null,null,null,null,null,null,null,null,null,null,null,null,null,null,null,null,null,null,null,null,null,null,null,null,null,null,null,null,null,null,null,null,null,null,null,null,null,null,null,null,20,"San Juan Bautista Cuicatlán",21,"Tlahuapan",null,null,null,null,null,null,null,null,null,null,null,null,null,null,null,null,30,"Tlachichilco"]
[null,null,null,null,null,null,null,null,null,null,null,null,null,null,null,null,null,null,null,null,null,null,null,null,null,null,null,null,null,null,null,null,null,null,null,null,null,null,null,null,null,20,"San Juan Bautista Guelache",21,"Tlaltenango",null,null,null,null,null,null,null,null,null,null,null,null,null,null,null,null,30,"Tlacojalpan"]
[null,null,null,null,null,null,null,null,null,null,null,null,null,null,null,null,null,null,null,null,null,null,null,null,null,null,null,null,null,null,null,null,null,null,null,null,null,null,null,null,null,20,"San Juan Bautista Jayacatlán",21,"Tlanepantla",null,null,null,null,null,null,null,null,null,null,null,null,null,null,null,null,30,"Tlacolulan"]
[null,null,null,null,null,null,null,null,null,null,null,null,null,null,null,null,null,null,null,null,null,null,null,null,null,null,null,null,null,null,null,null,null,null,null,null,null,null,null,null,null,20,"San Juan Bautista Lo de Soto",21,"Tlaola",null,null,null,null,null,null,null,null,null,null,null,null,null,null,null,null,30,"Tlacotalpan"]
[null,null,null,null,null,null,null,null,null,null,null,null,null,null,null,null,null,null,null,null,null,null,null,null,null,null,null,null,null,null,null,null,null,null,null,null,null,null,null,null,null,20,"San Juan Bautista Suchitepec",21,"Tlapacoya",null,null,null,null,null,null,null,null,null,null,null,null,null,null,null,null,30,"Tlacotepec de Mejía"]
[null,null,null,null,null,null,null,null,null,null,null,null,null,null,null,null,null,null,null,null,null,null,null,null,null,null,null,null,null,null,null,null,null,null,null,null,null,null,null,null,null,20,"San Juan Bautista Tlachichilco",21,"Tlapanalá",null,null,null,null,null,null,null,null,null,null,null,null,null,null,null,null,30,"Tlalixcoyan"]
[null,null,null,null,null,null,null,null,null,null,null,null,null,null,null,null,null,null,null,null,null,null,null,null,null,null,null,null,null,null,null,null,null,null,null,null,null,null,null,null,null,20,"San Juan Bautista Tlacoatzintepec",21,"Tlatlauquitepec",null,null,null,null,null,null,null,null,null,null,null,null,null,null,null,null,30,"Tlalnelhuayocan"]
[null,null,null,null,null,null,null,null,null,null,null,null,null,null,null,null,null,null,null,null,null,null,null,null,null,null,null,null,null,null,null,null,null,null,null,null,null,null,null,null,null,20,"San Juan Bautista Tuxtepec",21,"Tlaxco",null,null,null,null,null,null,null,null,null,null,null,null,null,null,null,null,30,"Tlaltetela"]
[null,null,null,null,null,null,null,null,null,null,null,null,null,null,null,null,null,null,null,null,null,null,null,null,null,null,null,null,null,null,null,null,null,null,null,null,null,null,null,null,null,20,"San Juan Bautista Valle Nacional",21,"Tochimilco",null,null,null,null,null,null,null,null,null,null,null,null,null,null,null,null,30,"Tlapacoyan"]
[null,null,null,null,null,null,null,null,null,null,null,null,null,null,null,null,null,null,null,null,null,null,null,null,null,null,null,null,null,null,null,null,null,null,null,null,null,null,null,null,null,20,"San Juan Cacahuatepec",21,"Tochtepec",null,null,null,null,null,null,null,null,null,null,null,null,null,null,null,null,30,"Tlaquilpa"]
[null,null,null,null,null,null,null,null,null,null,null,null,null,null,null,null,null,null,null,null,null,null,null,null,null,null,null,null,null,null,null,null,null,null,null,null,null,null,null,null,null,20,"San Juan Chicomezúchil",21,"Totoltepec de Guerrero",null,null,null,null,null,null,null,null,null,null,null,null,null,null,null,null,30,"Tlilapan"]
[null,null,null,null,null,null,null,null,null,null,null,null,null,null,null,null,null,null,null,null,null,null,null,null,null,null,null,null,null,null,null,null,null,null,null,null,null,null,null,null,null,20,"San Juan Chilateca",21,"Tulcingo",null,null,null,null,null,null,null,null,null,null,null,null,null,null,null,null,30,"Tomatlán"]
[null,null,null,null,null,null,null,null,null,null,null,null,null,null,null,null,null,null,null,null,null,null,null,null,null,null,null,null,null,null,null,null,null,null,null,null,null,null,null,null,null,20,"San Juan Cieneguilla",21,"Tuzamapan de Galeana",null,null,null,null,null,null,null,null,null,null,null,null,null,null,null,null,30,"Tonayán"]
[null,null,null,null,null,null,null,null,null,null,null,null,null,null,null,null,null,null,null,null,null,null,null,null,null,null,null,null,null,null,null,null,null,null,null,null,null,null,null,null,null,20,"San Juan Coatzóspam",21,"Tzicatlacoyan",null,null,null,null,null,null,null,null,null,null,null,null,null,null,null,null,30,"Totutla"]
[null,null,null,null,null,null,null,null,null,null,null,null,null,null,null,null,null,null,null,null,null,null,null,null,null,null,null,null,null,null,null,null,null,null,null,null,null,null,null,null,null,20,"San Juan Colorado",21,"Venustiano Carranza",null,null,null,null,null,null,null,null,null,null,null,null,null,null,null,null,30,"Tres Valles"]
[null,null,null,null,null,null,null,null,null,null,null,null,null,null,null,null,null,null,null,null,null,null,null,null,null,null,null,null,null,null,null,null,null,null,null,null,null,null,null,null,null,20,"San Juan Comaltepec",21,"Vicente Guerrero",null,null,null,null,null,null,null,null,null,null,null,null,null,null,null,null,30,"Tuxpan"]
[null,null,null,null,null,null,null,null,null,null,null,null,null,null,null,null,null,null,null,null,null,null,null,null,null,null,null,null,null,null,null,null,null,null,null,null,null,null,null,null,null,20,"San Juan Cotzocón",21,"Xayacatlán de Bravo",null,null,null,null,null,null,null,null,null,null,null,null,null,null,null,null,30,"Tuxtilla"]
[null,null,null,null,null,null,null,null,null,null,null,null,null,null,null,null,null,null,null,null,null,null,null,null,null,null,null,null,null,null,null,null,null,null,null,null,null,null,null,null,null,20,"San Juan de los Cués",21,"Xicotepec",null,null,null,null,null,null,null,null,null,null,null,null,null,null,null,null,30,"Ursulo Galván"]
[null,null,null,null,null,null,null,null,null,null,null,null,null,null,null,null,null,null,null,null,null,null,null,null,null,null,null,null,null,null,null,null,null,null,null,null,null,null,null,null,null,20,"San Juan del Estado",21,"Xicotlán",null,null,null,null,null,null,null,null,null,null,null,null,null,null,null,null,30,"Uxpanapa"]
[null,null,null,null,null,null,null,null,null,null,null,null,null,null,null,null,null,null,null,null,null,null,null,null,null,null,null,null,null,null,null,null,null,null,null,null,null,null,null,null,null,20,"San Juan del Río",21,"Xiutetelco",null,null,null,null,null,null,null,null,null,null,null,null,null,null,null,null,30,"Vega de Alatorre"]
[null,null,null,null,null,null,null,null,null,null,null,null,null,null,null,null,null,null,null,null,null,null,null,null,null,null,null,null,null,null,null,null,null,null,null,null,null,null,null,null,null,20,"San Juan Diuxi",21,"Xochiapulco",null,null,null,null,null,null,null,null,null,null,null,null,null,null,null,null,30,"Veracruz"]
[null,null,null,null,null,null,null,null,null,null,null,null,null,null,null,null,null,null,null,null,null,null,null,null,null,null,null,null,null,null,null,null,null,null,null,null,null,null,null,null,null,20,"San Juan Evangelista Analco",21,"Xochiltepec",null,null,null,null,null,null,null,null,null,null,null,null,null,null,null,null,30,"Villa Aldama"]
[null,null,null,null,null,null,null,null,null,null,null,null,null,null,null,null,null,null,null,null,null,null,null,null,null,null,null,null,null,null,null,null,null,null,null,null,null,null,null,null,null,20,"San Juan Guelavía",21,"Xochitlán de Vicente Suárez",null,null,null,null,null,null,null,null,null,null,null,null,null,null,null,null,30,"Xalapa"]
[null,null,null,null,null,null,null,null,null,null,null,null,null,null,null,null,null,null,null,null,null,null,null,null,null,null,null,null,null,null,null,null,null,null,null,null,null,null,null,null,null,20,"San Juan Guichicovi",21,"Xochitlán Todos Santos",null,null,null,null,null,null,null,null,null,null,null,null,null,null,null,null,30,"Xico"]
[null,null,null,null,null,null,null,null,null,null,null,null,null,null,null,null,null,null,null,null,null,null,null,null,null,null,null,null,null,null,null,null,null,null,null,null,null,null,null,null,null,20,"San Juan Ihualtepec",21,"Yaonáhuac",null,null,null,null,null,null,null,null,null,null,null,null,null,null,null,null,30,"Xoxocotla"]
[null,null,null,null,null,null,null,null,null,null,null,null,null,null,null,null,null,null,null,null,null,null,null,null,null,null,null,null,null,null,null,null,null,null,null,null,null,null,null,null,null,20,"San Juan Juquila Mixes",21,"Yehualtepec",null,null,null,null,null,null,null,null,null,null,null,null,null,null,null,null,30,"Yanga"]
[null,null,null,null,null,null,null,null,null,null,null,null,null,null,null,null,null,null,null,null,null,null,null,null,null,null,null,null,null,null,null,null,null,null,null,null,null,null,null,null,null,20,"San Juan Juquila Vijanos",21,"Zacapala",null,null,null,null,null,null,null,null,null,null,null,null,null,null,null,null,30,"Yecuatla"]
[null,null,null,null,null,null,null,null,null,null,null,null,null,null,null,null,null,null,null,null,null,null,null,null,null,null,null,null,null,null,null,null,null,null,null,null,null,null,null,null,null,20,"San Juan Lachao",21,"Zacapoaxtla",null,null,null,null,null,null,null,null,null,null,null,null,null,null,null,null,30,"Zacualpan"]
[null,null,null,null,null,null,null,null,null,null,null,null,null,null,null,null,null,null,null,null,null,null,null,null,null,null,null,null,null,null,null,null,null,null,null,null,null,null,null,null,null,20,"San Juan Lachigalla",21,"Zacatlán",null,null,null,null,null,null,null,null,null,null,null,null,null,null,null,null,30,"Zaragoza"]
[null,null,null,null,null,null,null,null,null,null,null,null,null,null,null,null,null,null,null,null,null,null,null,null,null,null,null,null,null,null,null,null,null,null,null,null,null,null,null,null,null,20,"San Juan Lajarcia",21,"Zapotitlán",null,null,null,null,null,null,null,null,null,null,null,null,null,null,null,null,30,"Zentla"]
[null,null,null,null,null,null,null,null,null,null,null,null,null,null,null,null,null,null,null,null,null,null,null,null,null,null,null,null,null,null,null,null,null,null,null,null,null,null,null,null,null,20,"San Juan Lalana",21,"Zapotitlán de Méndez",null,null,null,null,null,null,null,null,null,null,null,null,null,null,null,null,30,"Zongolica"]
[null,null,null,null,null,null,null,null,null,null,null,null,null,null,null,null,null,null,null,null,null,null,null,null,null,null,null,null,null,null,null,null,null,null,null,null,null,null,null,null,null,20,"San Juan Mazatlán",21,"Zaragoza",null,null,null,null,null,null,null,null,null,null,null,null,null,null,null,null,30,"Zontecomatlán de López y Fuentes"]
[null,null,null,null,null,null,null,null,null,null,null,null,null,null,null,null,null,null,null,null,null,null,null,null,null,null,null,null,null,null,null,null,null,null,null,null,null,null,null,null,null,20,"San Juan Mixtepec -Dto. 08 -",21,"Zautla",null,null,null,null,null,null,null,null,null,null,null,null,null,null,null,null,30,"Zozocolco de Hidalgo"]
[null,null,null,null,null,null,null,null,null,null,null,null,null,null,null,null,null,null,null,null,null,null,null,null,null,null,null,null,null,null,null,null,null,null,null,null,null,null,null,null,null,20,"San Juan Mixtepec -Dto. 26 -",21,"Zihuateutla"]
[null,null,null,null,null,null,null,null,null,null,null,null,null,null,null,null,null,null,null,null,null,null,null,null,null,null,null,null,null,null,null,null,null,null,null,null,null,null,null,null,null,20,"San Juan Ñumí",21,"Zinacatepec"]
[null,null,null,null,null,null,null,null,null,null,null,null,null,null,null,null,null,null,null,null,null,null,null,null,null,null,null,null,null,null,null,null,null,null,null,null,null,null,null,null,null,20,"San Juan Ozolotepec",21,"Zongozotla"]
[null,null,null,null,null,null,null,null,null,null,null,null,null,null,null,null,null,null,null,null,null,null,null,null,null,null,null,null,null,null,null,null,null,null,null,null,null,null,null,null,null,20,"San Juan Petlapa",21,"Zoquiapan"]
[null,null,null,null,null,null,null,null,null,null,null,null,null,null,null,null,null,null,null,null,null,null,null,null,null,null,null,null,null,null,null,null,null,null,null,null,null,null,null,null,null,20,"San Juan Quiahije",21,"Zoquitlán"]
[null,null,null,null,null,null,null,null,null,null,null,null,null,null,null,null,null,null,null,null,null,null,null,null,null,null,null,null,null,null,null,null,null,null,null,null,null,null,null,null,null,20,"San Juan Quiotepec"]
[null,null,null,null,null,null,null,null,null,null,null,null,null,null,null,null,null,null,null,null,null,null,null,null,null,null,null,null,null,null,null,null,null,null,null,null,null,null,null,null,null,20,"San Juan Sayultepec"]
[null,null,null,null,null,null,null,null,null,null,null,null,null,null,null,null,null,null,null,null,null,null,null,null,null,null,null,null,null,null,null,null,null,null,null,null,null,null,null,null,null,20,"San Juan Tabaá"]
[null,null,null,null,null,null,null,null,null,null,null,null,null,null,null,null,null,null,null,null,null,null,null,null,null,null,null,null,null,null,null,null,null,null,null,null,null,null,null,null,null,20,"San Juan Tamazola"]
[null,null,null,null,null,null,null,null,null,null,null,null,null,null,null,null,null,null,null,null,null,null,null,null,null,null,null,null,null,null,null,null,null,null,null,null,null,null,null,null,null,20,"San Juan Teita"]
[null,null,null,null,null,null,null,null,null,null,null,null,null,null,null,null,null,null,null,null,null,null,null,null,null,null,null,null,null,null,null,null,null,null,null,null,null,null,null,null,null,20,"San Juan Teitipac"]
[null,null,null,null,null,null,null,null,null,null,null,null,null,null,null,null,null,null,null,null,null,null,null,null,null,null,null,null,null,null,null,null,null,null,null,null,null,null,null,null,null,20,"San Juan Tepeuxila"]
[null,null,null,null,null,null,null,null,null,null,null,null,null,null,null,null,null,null,null,null,null,null,null,null,null,null,null,null,null,null,null,null,null,null,null,null,null,null,null,null,null,20,"San Juan Teposcolula"]
[null,null,null,null,null,null,null,null,null,null,null,null,null,null,null,null,null,null,null,null,null,null,null,null,null,null,null,null,null,null,null,null,null,null,null,null,null,null,null,null,null,20,"San Juan Yaeé"]
[null,null,null,null,null,null,null,null,null,null,null,null,null,null,null,null,null,null,null,null,null,null,null,null,null,null,null,null,null,null,null,null,null,null,null,null,null,null,null,null,null,20,"San Juan Yatzona"]
[null,null,null,null,null,null,null,null,null,null,null,null,null,null,null,null,null,null,null,null,null,null,null,null,null,null,null,null,null,null,null,null,null,null,null,null,null,null,null,null,null,20,"San Juan Yucuita"]
[null,null,null,null,null,null,null,null,null,null,null,null,null,null,null,null,null,null,null,null,null,null,null,null,null,null,null,null,null,null,null,null,null,null,null,null,null,null,null,null,null,20,"San Lorenzo"]
[null,null,null,null,null,null,null,null,null,null,null,null,null,null,null,null,null,null,null,null,null,null,null,null,null,null,null,null,null,null,null,null,null,null,null,null,null,null,null,null,null,20,"San Lorenzo Albarradas"]
[null,null,null,null,null,null,null,null,null,null,null,null,null,null,null,null,null,null,null,null,null,null,null,null,null,null,null,null,null,null,null,null,null,null,null,null,null,null,null,null,null,20,"San Lorenzo Cacaotepec"]
[null,null,null,null,null,null,null,null,null,null,null,null,null,null,null,null,null,null,null,null,null,null,null,null,null,null,null,null,null,null,null,null,null,null,null,null,null,null,null,null,null,20,"San Lorenzo Cuaunecuiltitla"]
[null,null,null,null,null,null,null,null,null,null,null,null,null,null,null,null,null,null,null,null,null,null,null,null,null,null,null,null,null,null,null,null,null,null,null,null,null,null,null,null,null,20,"San Lorenzo Texmelúcan"]
[null,null,null,null,null,null,null,null,null,null,null,null,null,null,null,null,null,null,null,null,null,null,null,null,null,null,null,null,null,null,null,null,null,null,null,null,null,null,null,null,null,20,"San Lorenzo Victoria"]
[null,null,null,null,null,null,null,null,null,null,null,null,null,null,null,null,null,null,null,null,null,null,null,null,null,null,null,null,null,null,null,null,null,null,null,null,null,null,null,null,null,20,"San Lucas Camotlán"]
[null,null,null,null,null,null,null,null,null,null,null,null,null,null,null,null,null,null,null,null,null,null,null,null,null,null,null,null,null,null,null,null,null,null,null,null,null,null,null,null,null,20,"San Lucas Ojitlán"]
[null,null,null,null,null,null,null,null,null,null,null,null,null,null,null,null,null,null,null,null,null,null,null,null,null,null,null,null,null,null,null,null,null,null,null,null,null,null,null,null,null,20,"San Lucas Quiaviní"]
[null,null,null,null,null,null,null,null,null,null,null,null,null,null,null,null,null,null,null,null,null,null,null,null,null,null,null,null,null,null,null,null,null,null,null,null,null,null,null,null,null,20,"San Lucas Zoquiápam"]
[null,null,null,null,null,null,null,null,null,null,null,null,null,null,null,null,null,null,null,null,null,null,null,null,null,null,null,null,null,null,null,null,null,null,null,null,null,null,null,null,null,20,"San Luis Amatlán"]
[null,null,null,null,null,null,null,null,null,null,null,null,null,null,null,null,null,null,null,null,null,null,null,null,null,null,null,null,null,null,null,null,null,null,null,null,null,null,null,null,null,20,"San Marcial Ozolotepec"]
[null,null,null,null,null,null,null,null,null,null,null,null,null,null,null,null,null,null,null,null,null,null,null,null,null,null,null,null,null,null,null,null,null,null,null,null,null,null,null,null,null,20,"San Marcos Arteaga"]
[null,null,null,null,null,null,null,null,null,null,null,null,null,null,null,null,null,null,null,null,null,null,null,null,null,null,null,null,null,null,null,null,null,null,null,null,null,null,null,null,null,20,"San Martín de los Cansecos"]
[null,null,null,null,null,null,null,null,null,null,null,null,null,null,null,null,null,null,null,null,null,null,null,null,null,null,null,null,null,null,null,null,null,null,null,null,null,null,null,null,null,20,"San Martín Huamelúlpam"]
[null,null,null,null,null,null,null,null,null,null,null,null,null,null,null,null,null,null,null,null,null,null,null,null,null,null,null,null,null,null,null,null,null,null,null,null,null,null,null,null,null,20,"San Martín Itunyoso"]
[null,null,null,null,null,null,null,null,null,null,null,null,null,null,null,null,null,null,null,null,null,null,null,null,null,null,null,null,null,null,null,null,null,null,null,null,null,null,null,null,null,20,"San Martín Lachilá"]
[null,null,null,null,null,null,null,null,null,null,null,null,null,null,null,null,null,null,null,null,null,null,null,null,null,null,null,null,null,null,null,null,null,null,null,null,null,null,null,null,null,20,"San Martín Peras"]
[null,null,null,null,null,null,null,null,null,null,null,null,null,null,null,null,null,null,null,null,null,null,null,null,null,null,null,null,null,null,null,null,null,null,null,null,null,null,null,null,null,20,"San Martín Tilcajete"]
[null,null,null,null,null,null,null,null,null,null,null,null,null,null,null,null,null,null,null,null,null,null,null,null,null,null,null,null,null,null,null,null,null,null,null,null,null,null,null,null,null,20,"San Martín Toxpalan"]
[null,null,null,null,null,null,null,null,null,null,null,null,null,null,null,null,null,null,null,null,null,null,null,null,null,null,null,null,null,null,null,null,null,null,null,null,null,null,null,null,null,20,"San Martín Zacatepec"]
[null,null,null,null,null,null,null,null,null,null,null,null,null,null,null,null,null,null,null,null,null,null,null,null,null,null,null,null,null,null,null,null,null,null,null,null,null,null,null,null,null,20,"San Mateo Cajonos"]
[null,null,null,null,null,null,null,null,null,null,null,null,null,null,null,null,null,null,null,null,null,null,null,null,null,null,null,null,null,null,null,null,null,null,null,null,null,null,null,null,null,20,"San Mateo del Mar"]
[null,null,null,null,null,null,null,null,null,null,null,null,null,null,null,null,null,null,null,null,null,null,null,null,null,null,null,null,null,null,null,null,null,null,null,null,null,null,null,null,null,20,"San Mateo Etlatongo"]
[null,null,null,null,null,null,null,null,null,null,null,null,null,null,null,null,null,null,null,null,null,null,null,null,null,null,null,null,null,null,null,null,null,null,null,null,null,null,null,null,null,20,"San Mateo Nejápam"]
[null,null,null,null,null,null,null,null,null,null,null,null,null,null,null,null,null,null,null,null,null,null,null,null,null,null,null,null,null,null,null,null,null,null,null,null,null,null,null,null,null,20,"San Mateo Peñasco"]
[null,null,null,null,null,null,null,null,null,null,null,null,null,null,null,null,null,null,null,null,null,null,null,null,null,null,null,null,null,null,null,null,null,null,null,null,null,null,null,null,null,20,"San Mateo Piñas"]
[null,null,null,null,null,null,null,null,null,null,null,null,null,null,null,null,null,null,null,null,null,null,null,null,null,null,null,null,null,null,null,null,null,null,null,null,null,null,null,null,null,20,"San Mateo Río Hondo"]
[null,null,null,null,null,null,null,null,null,null,null,null,null,null,null,null,null,null,null,null,null,null,null,null,null,null,null,null,null,null,null,null,null,null,null,null,null,null,null,null,null,20,"San Mateo Sindihui"]
[null,null,null,null,null,null,null,null,null,null,null,null,null,null,null,null,null,null,null,null,null,null,null,null,null,null,null,null,null,null,null,null,null,null,null,null,null,null,null,null,null,20,"San Mateo Tlapiltepec"]
[null,null,null,null,null,null,null,null,null,null,null,null,null,null,null,null,null,null,null,null,null,null,null,null,null,null,null,null,null,null,null,null,null,null,null,null,null,null,null,null,null,20,"San Mateo Yoloxochitlán"]
[null,null,null,null,null,null,null,null,null,null,null,null,null,null,null,null,null,null,null,null,null,null,null,null,null,null,null,null,null,null,null,null,null,null,null,null,null,null,null,null,null,20,"San Mateo Yucutindó"]
[null,null,null,null,null,null,null,null,null,null,null,null,null,null,null,null,null,null,null,null,null,null,null,null,null,null,null,null,null,null,null,null,null,null,null,null,null,null,null,null,null,20,"San Melchor Betaza"]
[null,null,null,null,null,null,null,null,null,null,null,null,null,null,null,null,null,null,null,null,null,null,null,null,null,null,null,null,null,null,null,null,null,null,null,null,null,null,null,null,null,20,"San Miguel Achiutla"]
[null,null,null,null,null,null,null,null,null,null,null,null,null,null,null,null,null,null,null,null,null,null,null,null,null,null,null,null,null,null,null,null,null,null,null,null,null,null,null,null,null,20,"San Miguel Ahuehuetitlán"]
[null,null,null,null,null,null,null,null,null,null,null,null,null,null,null,null,null,null,null,null,null,null,null,null,null,null,null,null,null,null,null,null,null,null,null,null,null,null,null,null,null,20,"San Miguel Aloápam"]
[null,null,null,null,null,null,null,null,null,null,null,null,null,null,null,null,null,null,null,null,null,null,null,null,null,null,null,null,null,null,null,null,null,null,null,null,null,null,null,null,null,20,"San Miguel Amatitlán"]
[null,null,null,null,null,null,null,null,null,null,null,null,null,null,null,null,null,null,null,null,null,null,null,null,null,null,null,null,null,null,null,null,null,null,null,null,null,null,null,null,null,20,"San Miguel Amatlán"]
[null,null,null,null,null,null,null,null,null,null,null,null,null,null,null,null,null,null,null,null,null,null,null,null,null,null,null,null,null,null,null,null,null,null,null,null,null,null,null,null,null,20,"San Miguel Chicahua"]
[null,null,null,null,null,null,null,null,null,null,null,null,null,null,null,null,null,null,null,null,null,null,null,null,null,null,null,null,null,null,null,null,null,null,null,null,null,null,null,null,null,20,"San Miguel Chimalapa"]
[null,null,null,null,null,null,null,null,null,null,null,null,null,null,null,null,null,null,null,null,null,null,null,null,null,null,null,null,null,null,null,null,null,null,null,null,null,null,null,null,null,20,"San Miguel Coatlán"]
[null,null,null,null,null,null,null,null,null,null,null,null,null,null,null,null,null,null,null,null,null,null,null,null,null,null,null,null,null,null,null,null,null,null,null,null,null,null,null,null,null,20,"San Miguel del Puerto"]
[null,null,null,null,null,null,null,null,null,null,null,null,null,null,null,null,null,null,null,null,null,null,null,null,null,null,null,null,null,null,null,null,null,null,null,null,null,null,null,null,null,20,"San Miguel del Río"]
[null,null,null,null,null,null,null,null,null,null,null,null,null,null,null,null,null,null,null,null,null,null,null,null,null,null,null,null,null,null,null,null,null,null,null,null,null,null,null,null,null,20,"San Miguel Ejutla"]
[null,null,null,null,null,null,null,null,null,null,null,null,null,null,null,null,null,null,null,null,null,null,null,null,null,null,null,null,null,null,null,null,null,null,null,null,null,null,null,null,null,20,"San Miguel el Grande"]
[null,null,null,null,null,null,null,null,null,null,null,null,null,null,null,null,null,null,null,null,null,null,null,null,null,null,null,null,null,null,null,null,null,null,null,null,null,null,null,null,null,20,"San Miguel Huautla"]
[null,null,null,null,null,null,null,null,null,null,null,null,null,null,null,null,null,null,null,null,null,null,null,null,null,null,null,null,null,null,null,null,null,null,null,null,null,null,null,null,null,20,"San Miguel Mixtepec"]
[null,null,null,null,null,null,null,null,null,null,null,null,null,null,null,null,null,null,null,null,null,null,null,null,null,null,null,null,null,null,null,null,null,null,null,null,null,null,null,null,null,20,"San Miguel Panixtlahuaca"]
[null,null,null,null,null,null,null,null,null,null,null,null,null,null,null,null,null,null,null,null,null,null,null,null,null,null,null,null,null,null,null,null,null,null,null,null,null,null,null,null,null,20,"San Miguel Peras"]
[null,null,null,null,null,null,null,null,null,null,null,null,null,null,null,null,null,null,null,null,null,null,null,null,null,null,null,null,null,null,null,null,null,null,null,null,null,null,null,null,null,20,"San Miguel Piedras"]
[null,null,null,null,null,null,null,null,null,null,null,null,null,null,null,null,null,null,null,null,null,null,null,null,null,null,null,null,null,null,null,null,null,null,null,null,null,null,null,null,null,20,"San Miguel Quetzaltepec"]
[null,null,null,null,null,null,null,null,null,null,null,null,null,null,null,null,null,null,null,null,null,null,null,null,null,null,null,null,null,null,null,null,null,null,null,null,null,null,null,null,null,20,"San Miguel Santa Flor"]
[null,null,null,null,null,null,null,null,null,null,null,null,null,null,null,null,null,null,null,null,null,null,null,null,null,null,null,null,null,null,null,null,null,null,null,null,null,null,null,null,null,20,"San Miguel Soyaltepec"]
[null,null,null,null,null,null,null,null,null,null,null,null,null,null,null,null,null,null,null,null,null,null,null,null,null,null,null,null,null,null,null,null,null,null,null,null,null,null,null,null,null,20,"San Miguel Suchixtepec"]
[null,null,null,null,null,null,null,null,null,null,null,null,null,null,null,null,null,null,null,null,null,null,null,null,null,null,null,null,null,null,null,null,null,null,null,null,null,null,null,null,null,20,"San Miguel Tecomatlán"]
[null,null,null,null,null,null,null,null,null,null,null,null,null,null,null,null,null,null,null,null,null,null,null,null,null,null,null,null,null,null,null,null,null,null,null,null,null,null,null,null,null,20,"San Miguel Tenango"]
[null,null,null,null,null,null,null,null,null,null,null,null,null,null,null,null,null,null,null,null,null,null,null,null,null,null,null,null,null,null,null,null,null,null,null,null,null,null,null,null,null,20,"San Miguel Tequixtepec"]
[null,null,null,null,null,null,null,null,null,null,null,null,null,null,null,null,null,null,null,null,null,null,null,null,null,null,null,null,null,null,null,null,null,null,null,null,null,null,null,null,null,20,"San Miguel Tilquiápam"]
[null,null,null,null,null,null,null,null,null,null,null,null,null,null,null,null,null,null,null,null,null,null,null,null,null,null,null,null,null,null,null,null,null,null,null,null,null,null,null,null,null,20,"San Miguel Tlacamama"]
[null,null,null,null,null,null,null,null,null,null,null,null,null,null,null,null,null,null,null,null,null,null,null,null,null,null,null,null,null,null,null,null,null,null,null,null,null,null,null,null,null,20,"San Miguel Tlacotepec"]
[null,null,null,null,null,null,null,null,null,null,null,null,null,null,null,null,null,null,null,null,null,null,null,null,null,null,null,null,null,null,null,null,null,null,null,null,null,null,null,null,null,20,"San Miguel Tulancingo"]
[null,null,null,null,null,null,null,null,null,null,null,null,null,null,null,null,null,null,null,null,null,null,null,null,null,null,null,null,null,null,null,null,null,null,null,null,null,null,null,null,null,20,"San Miguel Yotao"]
[null,null,null,null,null,null,null,null,null,null,null,null,null,null,null,null,null,null,null,null,null,null,null,null,null,null,null,null,null,null,null,null,null,null,null,null,null,null,null,null,null,20,"San Nicolás"]
[null,null,null,null,null,null,null,null,null,null,null,null,null,null,null,null,null,null,null,null,null,null,null,null,null,null,null,null,null,null,null,null,null,null,null,null,null,null,null,null,null,20,"San Nicolás Hidalgo"]
[null,null,null,null,null,null,null,null,null,null,null,null,null,null,null,null,null,null,null,null,null,null,null,null,null,null,null,null,null,null,null,null,null,null,null,null,null,null,null,null,null,20,"San Pablo Coatlán"]
[null,null,null,null,null,null,null,null,null,null,null,null,null,null,null,null,null,null,null,null,null,null,null,null,null,null,null,null,null,null,null,null,null,null,null,null,null,null,null,null,null,20,"San Pablo Cuatro Venados"]
[null,null,null,null,null,null,null,null,null,null,null,null,null,null,null,null,null,null,null,null,null,null,null,null,null,null,null,null,null,null,null,null,null,null,null,null,null,null,null,null,null,20,"San Pablo Etla"]
[null,null,null,null,null,null,null,null,null,null,null,null,null,null,null,null,null,null,null,null,null,null,null,null,null,null,null,null,null,null,null,null,null,null,null,null,null,null,null,null,null,20,"San Pablo Huitzo"]
[null,null,null,null,null,null,null,null,null,null,null,null,null,null,null,null,null,null,null,null,null,null,null,null,null,null,null,null,null,null,null,null,null,null,null,null,null,null,null,null,null,20,"San Pablo Huixtepec"]
[null,null,null,null,null,null,null,null,null,null,null,null,null,null,null,null,null,null,null,null,null,null,null,null,null,null,null,null,null,null,null,null,null,null,null,null,null,null,null,null,null,20,"San Pablo Macuiltianguis"]
[null,null,null,null,null,null,null,null,null,null,null,null,null,null,null,null,null,null,null,null,null,null,null,null,null,null,null,null,null,null,null,null,null,null,null,null,null,null,null,null,null,20,"San Pablo Tijaltepec"]
[null,null,null,null,null,null,null,null,null,null,null,null,null,null,null,null,null,null,null,null,null,null,null,null,null,null,null,null,null,null,null,null,null,null,null,null,null,null,null,null,null,20,"San Pablo Villa de Mitla"]
[null,null,null,null,null,null,null,null,null,null,null,null,null,null,null,null,null,null,null,null,null,null,null,null,null,null,null,null,null,null,null,null,null,null,null,null,null,null,null,null,null,20,"San Pablo Yaganiza"]
[null,null,null,null,null,null,null,null,null,null,null,null,null,null,null,null,null,null,null,null,null,null,null,null,null,null,null,null,null,null,null,null,null,null,null,null,null,null,null,null,null,20,"San Pedro Amuzgos"]
[null,null,null,null,null,null,null,null,null,null,null,null,null,null,null,null,null,null,null,null,null,null,null,null,null,null,null,null,null,null,null,null,null,null,null,null,null,null,null,null,null,20,"San Pedro Apóstol"]
[null,null,null,null,null,null,null,null,null,null,null,null,null,null,null,null,null,null,null,null,null,null,null,null,null,null,null,null,null,null,null,null,null,null,null,null,null,null,null,null,null,20,"San Pedro Atoyac"]
[null,null,null,null,null,null,null,null,null,null,null,null,null,null,null,null,null,null,null,null,null,null,null,null,null,null,null,null,null,null,null,null,null,null,null,null,null,null,null,null,null,20,"San Pedro Cajonos"]
[null,null,null,null,null,null,null,null,null,null,null,null,null,null,null,null,null,null,null,null,null,null,null,null,null,null,null,null,null,null,null,null,null,null,null,null,null,null,null,null,null,20,"San Pedro Comitancillo"]
[null,null,null,null,null,null,null,null,null,null,null,null,null,null,null,null,null,null,null,null,null,null,null,null,null,null,null,null,null,null,null,null,null,null,null,null,null,null,null,null,null,20,"San Pedro Coxcaltepec Cántaros"]
[null,null,null,null,null,null,null,null,null,null,null,null,null,null,null,null,null,null,null,null,null,null,null,null,null,null,null,null,null,null,null,null,null,null,null,null,null,null,null,null,null,20,"San Pedro el Alto"]
[null,null,null,null,null,null,null,null,null,null,null,null,null,null,null,null,null,null,null,null,null,null,null,null,null,null,null,null,null,null,null,null,null,null,null,null,null,null,null,null,null,20,"San Pedro Huamelula"]
[null,null,null,null,null,null,null,null,null,null,null,null,null,null,null,null,null,null,null,null,null,null,null,null,null,null,null,null,null,null,null,null,null,null,null,null,null,null,null,null,null,20,"San Pedro Huilotepec"]
[null,null,null,null,null,null,null,null,null,null,null,null,null,null,null,null,null,null,null,null,null,null,null,null,null,null,null,null,null,null,null,null,null,null,null,null,null,null,null,null,null,20,"San Pedro Ixcatlán"]
[null,null,null,null,null,null,null,null,null,null,null,null,null,null,null,null,null,null,null,null,null,null,null,null,null,null,null,null,null,null,null,null,null,null,null,null,null,null,null,null,null,20,"San Pedro Ixtlahuaca"]
[null,null,null,null,null,null,null,null,null,null,null,null,null,null,null,null,null,null,null,null,null,null,null,null,null,null,null,null,null,null,null,null,null,null,null,null,null,null,null,null,null,20,"San Pedro Jaltepetongo"]
[null,null,null,null,null,null,null,null,null,null,null,null,null,null,null,null,null,null,null,null,null,null,null,null,null,null,null,null,null,null,null,null,null,null,null,null,null,null,null,null,null,20,"San Pedro Jicayán"]
[null,null,null,null,null,null,null,null,null,null,null,null,null,null,null,null,null,null,null,null,null,null,null,null,null,null,null,null,null,null,null,null,null,null,null,null,null,null,null,null,null,20,"San Pedro Jocotipac"]
[null,null,null,null,null,null,null,null,null,null,null,null,null,null,null,null,null,null,null,null,null,null,null,null,null,null,null,null,null,null,null,null,null,null,null,null,null,null,null,null,null,20,"San Pedro Juchatengo"]
[null,null,null,null,null,null,null,null,null,null,null,null,null,null,null,null,null,null,null,null,null,null,null,null,null,null,null,null,null,null,null,null,null,null,null,null,null,null,null,null,null,20,"San Pedro Mártir"]
[null,null,null,null,null,null,null,null,null,null,null,null,null,null,null,null,null,null,null,null,null,null,null,null,null,null,null,null,null,null,null,null,null,null,null,null,null,null,null,null,null,20,"San Pedro Mártir Quiechapa"]
[null,null,null,null,null,null,null,null,null,null,null,null,null,null,null,null,null,null,null,null,null,null,null,null,null,null,null,null,null,null,null,null,null,null,null,null,null,null,null,null,null,20,"San Pedro Mártir Yucuxaco"]
[null,null,null,null,null,null,null,null,null,null,null,null,null,null,null,null,null,null,null,null,null,null,null,null,null,null,null,null,null,null,null,null,null,null,null,null,null,null,null,null,null,20,"San Pedro Mixtepec -Dto. 22 -"]
[null,null,null,null,null,null,null,null,null,null,null,null,null,null,null,null,null,null,null,null,null,null,null,null,null,null,null,null,null,null,null,null,null,null,null,null,null,null,null,null,null,20,"San Pedro Mixtepec -Dto. 26 -"]
[null,null,null,null,null,null,null,null,null,null,null,null,null,null,null,null,null,null,null,null,null,null,null,null,null,null,null,null,null,null,null,null,null,null,null,null,null,null,null,null,null,20,"San Pedro Molinos"]
[null,null,null,null,null,null,null,null,null,null,null,null,null,null,null,null,null,null,null,null,null,null,null,null,null,null,null,null,null,null,null,null,null,null,null,null,null,null,null,null,null,20,"San Pedro Nopala"]
[null,null,null,null,null,null,null,null,null,null,null,null,null,null,null,null,null,null,null,null,null,null,null,null,null,null,null,null,null,null,null,null,null,null,null,null,null,null,null,null,null,20,"San Pedro Ocopetatillo"]
[null,null,null,null,null,null,null,null,null,null,null,null,null,null,null,null,null,null,null,null,null,null,null,null,null,null,null,null,null,null,null,null,null,null,null,null,null,null,null,null,null,20,"San Pedro Ocotepec"]
[null,null,null,null,null,null,null,null,null,null,null,null,null,null,null,null,null,null,null,null,null,null,null,null,null,null,null,null,null,null,null,null,null,null,null,null,null,null,null,null,null,20,"San Pedro Pochutla"]
[null,null,null,null,null,null,null,null,null,null,null,null,null,null,null,null,null,null,null,null,null,null,null,null,null,null,null,null,null,null,null,null,null,null,null,null,null,null,null,null,null,20,"San Pedro Quiatoni"]
[null,null,null,null,null,null,null,null,null,null,null,null,null,null,null,null,null,null,null,null,null,null,null,null,null,null,null,null,null,null,null,null,null,null,null,null,null,null,null,null,null,20,"San Pedro Sochiápam"]
[null,null,null,null,null,null,null,null,null,null,null,null,null,null,null,null,null,null,null,null,null,null,null,null,null,null,null,null,null,null,null,null,null,null,null,null,null,null,null,null,null,20,"San Pedro Tapanatepec"]
[null,null,null,null,null,null,null,null,null,null,null,null,null,null,null,null,null,null,null,null,null,null,null,null,null,null,null,null,null,null,null,null,null,null,null,null,null,null,null,null,null,20,"San Pedro Taviche"]
[null,null,null,null,null,null,null,null,null,null,null,null,null,null,null,null,null,null,null,null,null,null,null,null,null,null,null,null,null,null,null,null,null,null,null,null,null,null,null,null,null,20,"San Pedro Teozacoalco"]
[null,null,null,null,null,null,null,null,null,null,null,null,null,null,null,null,null,null,null,null,null,null,null,null,null,null,null,null,null,null,null,null,null,null,null,null,null,null,null,null,null,20,"San Pedro Teutila"]
[null,null,null,null,null,null,null,null,null,null,null,null,null,null,null,null,null,null,null,null,null,null,null,null,null,null,null,null,null,null,null,null,null,null,null,null,null,null,null,null,null,20,"San Pedro Tidaá"]
[null,null,null,null,null,null,null,null,null,null,null,null,null,null,null,null,null,null,null,null,null,null,null,null,null,null,null,null,null,null,null,null,null,null,null,null,null,null,null,null,null,20,"San Pedro Topiltepec"]
[null,null,null,null,null,null,null,null,null,null,null,null,null,null,null,null,null,null,null,null,null,null,null,null,null,null,null,null,null,null,null,null,null,null,null,null,null,null,null,null,null,20,"San Pedro Totolápam"]
[null,null,null,null,null,null,null,null,null,null,null,null,null,null,null,null,null,null,null,null,null,null,null,null,null,null,null,null,null,null,null,null,null,null,null,null,null,null,null,null,null,20,"San Pedro y San Pablo Ayutla"]
[null,null,null,null,null,null,null,null,null,null,null,null,null,null,null,null,null,null,null,null,null,null,null,null,null,null,null,null,null,null,null,null,null,null,null,null,null,null,null,null,null,20,"San Pedro y San Pablo Teposcolula"]
[null,null,null,null,null,null,null,null,null,null,null,null,null,null,null,null,null,null,null,null,null,null,null,null,null,null,null,null,null,null,null,null,null,null,null,null,null,null,null,null,null,20,"San Pedro y San Pablo Tequixtepec"]
[null,null,null,null,null,null,null,null,null,null,null,null,null,null,null,null,null,null,null,null,null,null,null,null,null,null,null,null,null,null,null,null,null,null,null,null,null,null,null,null,null,20,"San Pedro Yaneri"]
[null,null,null,null,null,null,null,null,null,null,null,null,null,null,null,null,null,null,null,null,null,null,null,null,null,null,null,null,null,null,null,null,null,null,null,null,null,null,null,null,null,20,"San Pedro Yólox"]
[null,null,null,null,null,null,null,null,null,null,null,null,null,null,null,null,null,null,null,null,null,null,null,null,null,null,null,null,null,null,null,null,null,null,null,null,null,null,null,null,null,20,"San Pedro Yucunama"]
[null,null,null,null,null,null,null,null,null,null,null,null,null,null,null,null,null,null,null,null,null,null,null,null,null,null,null,null,null,null,null,null,null,null,null,null,null,null,null,null,null,20,"San Raymundo Jalpan"]
[null,null,null,null,null,null,null,null,null,null,null,null,null,null,null,null,null,null,null,null,null,null,null,null,null,null,null,null,null,null,null,null,null,null,null,null,null,null,null,null,null,20,"San Sebastián Abasolo"]
[null,null,null,null,null,null,null,null,null,null,null,null,null,null,null,null,null,null,null,null,null,null,null,null,null,null,null,null,null,null,null,null,null,null,null,null,null,null,null,null,null,20,"San Sebastián Coatlán"]
[null,null,null,null,null,null,null,null,null,null,null,null,null,null,null,null,null,null,null,null,null,null,null,null,null,null,null,null,null,null,null,null,null,null,null,null,null,null,null,null,null,20,"San Sebastián Ixcapa"]
[null,null,null,null,null,null,null,null,null,null,null,null,null,null,null,null,null,null,null,null,null,null,null,null,null,null,null,null,null,null,null,null,null,null,null,null,null,null,null,null,null,20,"San Sebastián Nicananduta"]
[null,null,null,null,null,null,null,null,null,null,null,null,null,null,null,null,null,null,null,null,null,null,null,null,null,null,null,null,null,null,null,null,null,null,null,null,null,null,null,null,null,20,"San Sebastián Río Hondo"]
[null,null,null,null,null,null,null,null,null,null,null,null,null,null,null,null,null,null,null,null,null,null,null,null,null,null,null,null,null,null,null,null,null,null,null,null,null,null,null,null,null,20,"San Sebastián Tecomaxtlahuaca"]
[null,null,null,null,null,null,null,null,null,null,null,null,null,null,null,null,null,null,null,null,null,null,null,null,null,null,null,null,null,null,null,null,null,null,null,null,null,null,null,null,null,20,"San Sebastián Teitipac"]
[null,null,null,null,null,null,null,null,null,null,null,null,null,null,null,null,null,null,null,null,null,null,null,null,null,null,null,null,null,null,null,null,null,null,null,null,null,null,null,null,null,20,"San Sebastián Tutla"]
[null,null,null,null,null,null,null,null,null,null,null,null,null,null,null,null,null,null,null,null,null,null,null,null,null,null,null,null,null,null,null,null,null,null,null,null,null,null,null,null,null,20,"San Simón Almolongas"]
[null,null,null,null,null,null,null,null,null,null,null,null,null,null,null,null,null,null,null,null,null,null,null,null,null,null,null,null,null,null,null,null,null,null,null,null,null,null,null,null,null,20,"San Simón Zahuatlán"]
[null,null,null,null,null,null,null,null,null,null,null,null,null,null,null,null,null,null,null,null,null,null,null,null,null,null,null,null,null,null,null,null,null,null,null,null,null,null,null,null,null,20,"San Vicente Coatlán"]
[null,null,null,null,null,null,null,null,null,null,null,null,null,null,null,null,null,null,null,null,null,null,null,null,null,null,null,null,null,null,null,null,null,null,null,null,null,null,null,null,null,20,"San Vicente Lachixío"]
[null,null,null,null,null,null,null,null,null,null,null,null,null,null,null,null,null,null,null,null,null,null,null,null,null,null,null,null,null,null,null,null,null,null,null,null,null,null,null,null,null,20,"San Vicente Nuñú"]
[null,null,null,null,null,null,null,null,null,null,null,null,null,null,null,null,null,null,null,null,null,null,null,null,null,null,null,null,null,null,null,null,null,null,null,null,null,null,null,null,null,20,"Santa Ana"]
[null,null,null,null,null,null,null,null,null,null,null,null,null,null,null,null,null,null,null,null,null,null,null,null,null,null,null,null,null,null,null,null,null,null,null,null,null,null,null,null,null,20,"Santa Ana Ateixtlahuaca"]
[null,null,null,null,null,null,null,null,null,null,null,null,null,null,null,null,null,null,null,null,null,null,null,null,null,null,null,null,null,null,null,null,null,null,null,null,null,null,null,null,null,20,"Santa Ana Cuauhtémoc"]
[null,null,null,null,null,null,null,null,null,null,null,null,null,null,null,null,null,null,null,null,null,null,null,null,null,null,null,null,null,null,null,null,null,null,null,null,null,null,null,null,null,20,"Santa Ana del Valle"]
[null,null,null,null,null,null,null,null,null,null,null,null,null,null,null,null,null,null,null,null,null,null,null,null,null,null,null,null,null,null,null,null,null,null,null,null,null,null,null,null,null,20,"Santa Ana Tavela"]
[null,null,null,null,null,null,null,null,null,null,null,null,null,null,null,null,null,null,null,null,null,null,null,null,null,null,null,null,null,null,null,null,null,null,null,null,null,null,null,null,null,20,"Santa Ana Tlapacoyan"]
[null,null,null,null,null,null,null,null,null,null,null,null,null,null,null,null,null,null,null,null,null,null,null,null,null,null,null,null,null,null,null,null,null,null,null,null,null,null,null,null,null,20,"Santa Ana Yareni"]
[null,null,null,null,null,null,null,null,null,null,null,null,null,null,null,null,null,null,null,null,null,null,null,null,null,null,null,null,null,null,null,null,null,null,null,null,null,null,null,null,null,20,"Santa Ana Zegache"]
[null,null,null,null,null,null,null,null,null,null,null,null,null,null,null,null,null,null,null,null,null,null,null,null,null,null,null,null,null,null,null,null,null,null,null,null,null,null,null,null,null,20,"Santa Catalina Quierí"]
[null,null,null,null,null,null,null,null,null,null,null,null,null,null,null,null,null,null,null,null,null,null,null,null,null,null,null,null,null,null,null,null,null,null,null,null,null,null,null,null,null,20,"Santa Catarina Cuixtla"]
[null,null,null,null,null,null,null,null,null,null,null,null,null,null,null,null,null,null,null,null,null,null,null,null,null,null,null,null,null,null,null,null,null,null,null,null,null,null,null,null,null,20,"Santa Catarina Ixtepeji"]
[null,null,null,null,null,null,null,null,null,null,null,null,null,null,null,null,null,null,null,null,null,null,null,null,null,null,null,null,null,null,null,null,null,null,null,null,null,null,null,null,null,20,"Santa Catarina Juquila"]
[null,null,null,null,null,null,null,null,null,null,null,null,null,null,null,null,null,null,null,null,null,null,null,null,null,null,null,null,null,null,null,null,null,null,null,null,null,null,null,null,null,20,"Santa Catarina Lachatao"]
[null,null,null,null,null,null,null,null,null,null,null,null,null,null,null,null,null,null,null,null,null,null,null,null,null,null,null,null,null,null,null,null,null,null,null,null,null,null,null,null,null,20,"Santa Catarina Loxicha"]
[null,null,null,null,null,null,null,null,null,null,null,null,null,null,null,null,null,null,null,null,null,null,null,null,null,null,null,null,null,null,null,null,null,null,null,null,null,null,null,null,null,20,"Santa Catarina Mechoacán"]
[null,null,null,null,null,null,null,null,null,null,null,null,null,null,null,null,null,null,null,null,null,null,null,null,null,null,null,null,null,null,null,null,null,null,null,null,null,null,null,null,null,20,"Santa Catarina Minas"]
[null,null,null,null,null,null,null,null,null,null,null,null,null,null,null,null,null,null,null,null,null,null,null,null,null,null,null,null,null,null,null,null,null,null,null,null,null,null,null,null,null,20,"Santa Catarina Quiané"]
[null,null,null,null,null,null,null,null,null,null,null,null,null,null,null,null,null,null,null,null,null,null,null,null,null,null,null,null,null,null,null,null,null,null,null,null,null,null,null,null,null,20,"Santa Catarina Quioquitani"]
[null,null,null,null,null,null,null,null,null,null,null,null,null,null,null,null,null,null,null,null,null,null,null,null,null,null,null,null,null,null,null,null,null,null,null,null,null,null,null,null,null,20,"Santa Catarina Tayata"]
[null,null,null,null,null,null,null,null,null,null,null,null,null,null,null,null,null,null,null,null,null,null,null,null,null,null,null,null,null,null,null,null,null,null,null,null,null,null,null,null,null,20,"Santa Catarina Ticuá"]
[null,null,null,null,null,null,null,null,null,null,null,null,null,null,null,null,null,null,null,null,null,null,null,null,null,null,null,null,null,null,null,null,null,null,null,null,null,null,null,null,null,20,"Santa Catarina Yosonotú"]
[null,null,null,null,null,null,null,null,null,null,null,null,null,null,null,null,null,null,null,null,null,null,null,null,null,null,null,null,null,null,null,null,null,null,null,null,null,null,null,null,null,20,"Santa Catarina Zapoquila"]
[null,null,null,null,null,null,null,null,null,null,null,null,null,null,null,null,null,null,null,null,null,null,null,null,null,null,null,null,null,null,null,null,null,null,null,null,null,null,null,null,null,20,"Santa Cruz Acatepec"]
[null,null,null,null,null,null,null,null,null,null,null,null,null,null,null,null,null,null,null,null,null,null,null,null,null,null,null,null,null,null,null,null,null,null,null,null,null,null,null,null,null,20,"Santa Cruz Amilpas"]
[null,null,null,null,null,null,null,null,null,null,null,null,null,null,null,null,null,null,null,null,null,null,null,null,null,null,null,null,null,null,null,null,null,null,null,null,null,null,null,null,null,20,"Santa Cruz de Bravo"]
[null,null,null,null,null,null,null,null,null,null,null,null,null,null,null,null,null,null,null,null,null,null,null,null,null,null,null,null,null,null,null,null,null,null,null,null,null,null,null,null,null,20,"Santa Cruz Itundujia"]
[null,null,null,null,null,null,null,null,null,null,null,null,null,null,null,null,null,null,null,null,null,null,null,null,null,null,null,null,null,null,null,null,null,null,null,null,null,null,null,null,null,20,"Santa Cruz Mixtepec"]
[null,null,null,null,null,null,null,null,null,null,null,null,null,null,null,null,null,null,null,null,null,null,null,null,null,null,null,null,null,null,null,null,null,null,null,null,null,null,null,null,null,20,"Santa Cruz Nundaco"]
[null,null,null,null,null,null,null,null,null,null,null,null,null,null,null,null,null,null,null,null,null,null,null,null,null,null,null,null,null,null,null,null,null,null,null,null,null,null,null,null,null,20,"Santa Cruz Papalutla"]
[null,null,null,null,null,null,null,null,null,null,null,null,null,null,null,null,null,null,null,null,null,null,null,null,null,null,null,null,null,null,null,null,null,null,null,null,null,null,null,null,null,20,"Santa Cruz Tacache de Mina"]
[null,null,null,null,null,null,null,null,null,null,null,null,null,null,null,null,null,null,null,null,null,null,null,null,null,null,null,null,null,null,null,null,null,null,null,null,null,null,null,null,null,20,"Santa Cruz Tacahua"]
[null,null,null,null,null,null,null,null,null,null,null,null,null,null,null,null,null,null,null,null,null,null,null,null,null,null,null,null,null,null,null,null,null,null,null,null,null,null,null,null,null,20,"Santa Cruz Tayata"]
[null,null,null,null,null,null,null,null,null,null,null,null,null,null,null,null,null,null,null,null,null,null,null,null,null,null,null,null,null,null,null,null,null,null,null,null,null,null,null,null,null,20,"Santa Cruz Xitla"]
[null,null,null,null,null,null,null,null,null,null,null,null,null,null,null,null,null,null,null,null,null,null,null,null,null,null,null,null,null,null,null,null,null,null,null,null,null,null,null,null,null,20,"Santa Cruz Xoxocotlán"]
[null,null,null,null,null,null,null,null,null,null,null,null,null,null,null,null,null,null,null,null,null,null,null,null,null,null,null,null,null,null,null,null,null,null,null,null,null,null,null,null,null,20,"Santa Cruz Zenzontepec"]
[null,null,null,null,null,null,null,null,null,null,null,null,null,null,null,null,null,null,null,null,null,null,null,null,null,null,null,null,null,null,null,null,null,null,null,null,null,null,null,null,null,20,"Santa Gertrudis"]
[null,null,null,null,null,null,null,null,null,null,null,null,null,null,null,null,null,null,null,null,null,null,null,null,null,null,null,null,null,null,null,null,null,null,null,null,null,null,null,null,null,20,"Santa Inés de Zaragoza"]
[null,null,null,null,null,null,null,null,null,null,null,null,null,null,null,null,null,null,null,null,null,null,null,null,null,null,null,null,null,null,null,null,null,null,null,null,null,null,null,null,null,20,"Santa Inés del Monte"]
[null,null,null,null,null,null,null,null,null,null,null,null,null,null,null,null,null,null,null,null,null,null,null,null,null,null,null,null,null,null,null,null,null,null,null,null,null,null,null,null,null,20,"Santa Inés Yatzeche"]
[null,null,null,null,null,null,null,null,null,null,null,null,null,null,null,null,null,null,null,null,null,null,null,null,null,null,null,null,null,null,null,null,null,null,null,null,null,null,null,null,null,20,"Santa Lucía del Camino"]
[null,null,null,null,null,null,null,null,null,null,null,null,null,null,null,null,null,null,null,null,null,null,null,null,null,null,null,null,null,null,null,null,null,null,null,null,null,null,null,null,null,20,"Santa Lucía Miahuatlán"]
[null,null,null,null,null,null,null,null,null,null,null,null,null,null,null,null,null,null,null,null,null,null,null,null,null,null,null,null,null,null,null,null,null,null,null,null,null,null,null,null,null,20,"Santa Lucía Monteverde"]
[null,null,null,null,null,null,null,null,null,null,null,null,null,null,null,null,null,null,null,null,null,null,null,null,null,null,null,null,null,null,null,null,null,null,null,null,null,null,null,null,null,20,"Santa Lucía Ocotlán"]
[null,null,null,null,null,null,null,null,null,null,null,null,null,null,null,null,null,null,null,null,null,null,null,null,null,null,null,null,null,null,null,null,null,null,null,null,null,null,null,null,null,20,"Santa Magdalena Jicotlán"]
[null,null,null,null,null,null,null,null,null,null,null,null,null,null,null,null,null,null,null,null,null,null,null,null,null,null,null,null,null,null,null,null,null,null,null,null,null,null,null,null,null,20,"Santa María Alotepec"]
[null,null,null,null,null,null,null,null,null,null,null,null,null,null,null,null,null,null,null,null,null,null,null,null,null,null,null,null,null,null,null,null,null,null,null,null,null,null,null,null,null,20,"Santa María Apazco"]
[null,null,null,null,null,null,null,null,null,null,null,null,null,null,null,null,null,null,null,null,null,null,null,null,null,null,null,null,null,null,null,null,null,null,null,null,null,null,null,null,null,20,"Santa María Atzompa"]
[null,null,null,null,null,null,null,null,null,null,null,null,null,null,null,null,null,null,null,null,null,null,null,null,null,null,null,null,null,null,null,null,null,null,null,null,null,null,null,null,null,20,"Santa María Camotlán"]
[null,null,null,null,null,null,null,null,null,null,null,null,null,null,null,null,null,null,null,null,null,null,null,null,null,null,null,null,null,null,null,null,null,null,null,null,null,null,null,null,null,20,"Santa María Chachoápam"]
[null,null,null,null,null,null,null,null,null,null,null,null,null,null,null,null,null,null,null,null,null,null,null,null,null,null,null,null,null,null,null,null,null,null,null,null,null,null,null,null,null,20,"Santa María Chilchotla"]
[null,null,null,null,null,null,null,null,null,null,null,null,null,null,null,null,null,null,null,null,null,null,null,null,null,null,null,null,null,null,null,null,null,null,null,null,null,null,null,null,null,20,"Santa María Chimalapa"]
[null,null,null,null,null,null,null,null,null,null,null,null,null,null,null,null,null,null,null,null,null,null,null,null,null,null,null,null,null,null,null,null,null,null,null,null,null,null,null,null,null,20,"Santa María Colotepec"]
[null,null,null,null,null,null,null,null,null,null,null,null,null,null,null,null,null,null,null,null,null,null,null,null,null,null,null,null,null,null,null,null,null,null,null,null,null,null,null,null,null,20,"Santa María Cortijo"]
[null,null,null,null,null,null,null,null,null,null,null,null,null,null,null,null,null,null,null,null,null,null,null,null,null,null,null,null,null,null,null,null,null,null,null,null,null,null,null,null,null,20,"Santa María Coyotepec"]
[null,null,null,null,null,null,null,null,null,null,null,null,null,null,null,null,null,null,null,null,null,null,null,null,null,null,null,null,null,null,null,null,null,null,null,null,null,null,null,null,null,20,"Santa María del Rosario"]
[null,null,null,null,null,null,null,null,null,null,null,null,null,null,null,null,null,null,null,null,null,null,null,null,null,null,null,null,null,null,null,null,null,null,null,null,null,null,null,null,null,20,"Santa María del Tule"]
[null,null,null,null,null,null,null,null,null,null,null,null,null,null,null,null,null,null,null,null,null,null,null,null,null,null,null,null,null,null,null,null,null,null,null,null,null,null,null,null,null,20,"Santa María Ecatepec"]
[null,null,null,null,null,null,null,null,null,null,null,null,null,null,null,null,null,null,null,null,null,null,null,null,null,null,null,null,null,null,null,null,null,null,null,null,null,null,null,null,null,20,"Santa María Guelacé"]
[null,null,null,null,null,null,null,null,null,null,null,null,null,null,null,null,null,null,null,null,null,null,null,null,null,null,null,null,null,null,null,null,null,null,null,null,null,null,null,null,null,20,"Santa María Guienagati"]
[null,null,null,null,null,null,null,null,null,null,null,null,null,null,null,null,null,null,null,null,null,null,null,null,null,null,null,null,null,null,null,null,null,null,null,null,null,null,null,null,null,20,"Santa María Huatulco"]
[null,null,null,null,null,null,null,null,null,null,null,null,null,null,null,null,null,null,null,null,null,null,null,null,null,null,null,null,null,null,null,null,null,null,null,null,null,null,null,null,null,20,"Santa María Huazolotitlán"]
[null,null,null,null,null,null,null,null,null,null,null,null,null,null,null,null,null,null,null,null,null,null,null,null,null,null,null,null,null,null,null,null,null,null,null,null,null,null,null,null,null,20,"Santa María Ipalapa"]
[null,null,null,null,null,null,null,null,null,null,null,null,null,null,null,null,null,null,null,null,null,null,null,null,null,null,null,null,null,null,null,null,null,null,null,null,null,null,null,null,null,20,"Santa María Ixcatlán"]
[null,null,null,null,null,null,null,null,null,null,null,null,null,null,null,null,null,null,null,null,null,null,null,null,null,null,null,null,null,null,null,null,null,null,null,null,null,null,null,null,null,20,"Santa María Jacatepec"]
[null,null,null,null,null,null,null,null,null,null,null,null,null,null,null,null,null,null,null,null,null,null,null,null,null,null,null,null,null,null,null,null,null,null,null,null,null,null,null,null,null,20,"Santa María Jalapa del Marqués"]
[null,null,null,null,null,null,null,null,null,null,null,null,null,null,null,null,null,null,null,null,null,null,null,null,null,null,null,null,null,null,null,null,null,null,null,null,null,null,null,null,null,20,"Santa María Jaltianguis"]
[null,null,null,null,null,null,null,null,null,null,null,null,null,null,null,null,null,null,null,null,null,null,null,null,null,null,null,null,null,null,null,null,null,null,null,null,null,null,null,null,null,20,"Santa María la Asunción"]
[null,null,null,null,null,null,null,null,null,null,null,null,null,null,null,null,null,null,null,null,null,null,null,null,null,null,null,null,null,null,null,null,null,null,null,null,null,null,null,null,null,20,"Santa María Lachixío"]
[null,null,null,null,null,null,null,null,null,null,null,null,null,null,null,null,null,null,null,null,null,null,null,null,null,null,null,null,null,null,null,null,null,null,null,null,null,null,null,null,null,20,"Santa María Mixtequilla"]
[null,null,null,null,null,null,null,null,null,null,null,null,null,null,null,null,null,null,null,null,null,null,null,null,null,null,null,null,null,null,null,null,null,null,null,null,null,null,null,null,null,20,"Santa María Nativitas"]
[null,null,null,null,null,null,null,null,null,null,null,null,null,null,null,null,null,null,null,null,null,null,null,null,null,null,null,null,null,null,null,null,null,null,null,null,null,null,null,null,null,20,"Santa María Nduayaco"]
[null,null,null,null,null,null,null,null,null,null,null,null,null,null,null,null,null,null,null,null,null,null,null,null,null,null,null,null,null,null,null,null,null,null,null,null,null,null,null,null,null,20,"Santa María Ozolotepec"]
[null,null,null,null,null,null,null,null,null,null,null,null,null,null,null,null,null,null,null,null,null,null,null,null,null,null,null,null,null,null,null,null,null,null,null,null,null,null,null,null,null,20,"Santa María Pápalo"]
[null,null,null,null,null,null,null,null,null,null,null,null,null,null,null,null,null,null,null,null,null,null,null,null,null,null,null,null,null,null,null,null,null,null,null,null,null,null,null,null,null,20,"Santa María Peñoles"]
[null,null,null,null,null,null,null,null,null,null,null,null,null,null,null,null,null,null,null,null,null,null,null,null,null,null,null,null,null,null,null,null,null,null,null,null,null,null,null,null,null,20,"Santa María Petapa"]
[null,null,null,null,null,null,null,null,null,null,null,null,null,null,null,null,null,null,null,null,null,null,null,null,null,null,null,null,null,null,null,null,null,null,null,null,null,null,null,null,null,20,"Santa María Quiegolani"]
[null,null,null,null,null,null,null,null,null,null,null,null,null,null,null,null,null,null,null,null,null,null,null,null,null,null,null,null,null,null,null,null,null,null,null,null,null,null,null,null,null,20,"Santa María Sola"]
[null,null,null,null,null,null,null,null,null,null,null,null,null,null,null,null,null,null,null,null,null,null,null,null,null,null,null,null,null,null,null,null,null,null,null,null,null,null,null,null,null,20,"Santa María Tataltepec"]
[null,null,null,null,null,null,null,null,null,null,null,null,null,null,null,null,null,null,null,null,null,null,null,null,null,null,null,null,null,null,null,null,null,null,null,null,null,null,null,null,null,20,"Santa María Tecomavaca"]
[null,null,null,null,null,null,null,null,null,null,null,null,null,null,null,null,null,null,null,null,null,null,null,null,null,null,null,null,null,null,null,null,null,null,null,null,null,null,null,null,null,20,"Santa María Temaxcalapa"]
[null,null,null,null,null,null,null,null,null,null,null,null,null,null,null,null,null,null,null,null,null,null,null,null,null,null,null,null,null,null,null,null,null,null,null,null,null,null,null,null,null,20,"Santa María Temaxcaltepec"]
[null,null,null,null,null,null,null,null,null,null,null,null,null,null,null,null,null,null,null,null,null,null,null,null,null,null,null,null,null,null,null,null,null,null,null,null,null,null,null,null,null,20,"Santa María Teopoxco"]
[null,null,null,null,null,null,null,null,null,null,null,null,null,null,null,null,null,null,null,null,null,null,null,null,null,null,null,null,null,null,null,null,null,null,null,null,null,null,null,null,null,20,"Santa María Tepantlali"]
[null,null,null,null,null,null,null,null,null,null,null,null,null,null,null,null,null,null,null,null,null,null,null,null,null,null,null,null,null,null,null,null,null,null,null,null,null,null,null,null,null,20,"Santa María Texcatitlán"]
[null,null,null,null,null,null,null,null,null,null,null,null,null,null,null,null,null,null,null,null,null,null,null,null,null,null,null,null,null,null,null,null,null,null,null,null,null,null,null,null,null,20,"Santa María Tlahuitoltepec"]
[null,null,null,null,null,null,null,null,null,null,null,null,null,null,null,null,null,null,null,null,null,null,null,null,null,null,null,null,null,null,null,null,null,null,null,null,null,null,null,null,null,20,"Santa María Tlalixtac"]
[null,null,null,null,null,null,null,null,null,null,null,null,null,null,null,null,null,null,null,null,null,null,null,null,null,null,null,null,null,null,null,null,null,null,null,null,null,null,null,null,null,20,"Santa María Tonameca"]
[null,null,null,null,null,null,null,null,null,null,null,null,null,null,null,null,null,null,null,null,null,null,null,null,null,null,null,null,null,null,null,null,null,null,null,null,null,null,null,null,null,20,"Santa María Totolapilla"]
[null,null,null,null,null,null,null,null,null,null,null,null,null,null,null,null,null,null,null,null,null,null,null,null,null,null,null,null,null,null,null,null,null,null,null,null,null,null,null,null,null,20,"Santa María Xadani"]
[null,null,null,null,null,null,null,null,null,null,null,null,null,null,null,null,null,null,null,null,null,null,null,null,null,null,null,null,null,null,null,null,null,null,null,null,null,null,null,null,null,20,"Santa María Yalina"]
[null,null,null,null,null,null,null,null,null,null,null,null,null,null,null,null,null,null,null,null,null,null,null,null,null,null,null,null,null,null,null,null,null,null,null,null,null,null,null,null,null,20,"Santa María Yavesía"]
[null,null,null,null,null,null,null,null,null,null,null,null,null,null,null,null,null,null,null,null,null,null,null,null,null,null,null,null,null,null,null,null,null,null,null,null,null,null,null,null,null,20,"Santa María Yolotepec"]
[null,null,null,null,null,null,null,null,null,null,null,null,null,null,null,null,null,null,null,null,null,null,null,null,null,null,null,null,null,null,null,null,null,null,null,null,null,null,null,null,null,20,"Santa María Yosoyúa"]
[null,null,null,null,null,null,null,null,null,null,null,null,null,null,null,null,null,null,null,null,null,null,null,null,null,null,null,null,null,null,null,null,null,null,null,null,null,null,null,null,null,20,"Santa María Yucuhiti"]
[null,null,null,null,null,null,null,null,null,null,null,null,null,null,null,null,null,null,null,null,null,null,null,null,null,null,null,null,null,null,null,null,null,null,null,null,null,null,null,null,null,20,"Santa María Zacatepec"]
[null,null,null,null,null,null,null,null,null,null,null,null,null,null,null,null,null,null,null,null,null,null,null,null,null,null,null,null,null,null,null,null,null,null,null,null,null,null,null,null,null,20,"Santa María Zaniza"]
[null,null,null,null,null,null,null,null,null,null,null,null,null,null,null,null,null,null,null,null,null,null,null,null,null,null,null,null,null,null,null,null,null,null,null,null,null,null,null,null,null,20,"Santa María Zoquitlán"]
[null,null,null,null,null,null,null,null,null,null,null,null,null,null,null,null,null,null,null,null,null,null,null,null,null,null,null,null,null,null,null,null,null,null,null,null,null,null,null,null,null,20,"Santiago Amoltepec"]
[null,null,null,null,null,null,null,null,null,null,null,null,null,null,null,null,null,null,null,null,null,null,null,null,null,null,null,null,null,null,null,null,null,null,null,null,null,null,null,null,null,20,"Santiago Apoala"]
[null,null,null,null,null,null,null,null,null,null,null,null,null,null,null,null,null,null,null,null,null,null,null,null,null,null,null,null,null,null,null,null,null,null,null,null,null,null,null,null,null,20,"Santiago Apóstol"]
[null,null,null,null,null,null,null,null,null,null,null,null,null,null,null,null,null,null,null,null,null,null,null,null,null,null,null,null,null,null,null,null,null,null,null,null,null,null,null,null,null,20,"Santiago Astata"]
[null,null,null,null,null,null,null,null,null,null,null,null,null,null,null,null,null,null,null,null,null,null,null,null,null,null,null,null,null,null,null,null,null,null,null,null,null,null,null,null,null,20,"Santiago Atitlán"]
[null,null,null,null,null,null,null,null,null,null,null,null,null,null,null,null,null,null,null,null,null,null,null,null,null,null,null,null,null,null,null,null,null,null,null,null,null,null,null,null,null,20,"Santiago Ayuquililla"]
[null,null,null,null,null,null,null,null,null,null,null,null,null,null,null,null,null,null,null,null,null,null,null,null,null,null,null,null,null,null,null,null,null,null,null,null,null,null,null,null,null,20,"Santiago Cacaloxtepec"]
[null,null,null,null,null,null,null,null,null,null,null,null,null,null,null,null,null,null,null,null,null,null,null,null,null,null,null,null,null,null,null,null,null,null,null,null,null,null,null,null,null,20,"Santiago Camotlán"]
[null,null,null,null,null,null,null,null,null,null,null,null,null,null,null,null,null,null,null,null,null,null,null,null,null,null,null,null,null,null,null,null,null,null,null,null,null,null,null,null,null,20,"Santiago Chazumba"]
[null,null,null,null,null,null,null,null,null,null,null,null,null,null,null,null,null,null,null,null,null,null,null,null,null,null,null,null,null,null,null,null,null,null,null,null,null,null,null,null,null,20,"Santiago Choápam"]
[null,null,null,null,null,null,null,null,null,null,null,null,null,null,null,null,null,null,null,null,null,null,null,null,null,null,null,null,null,null,null,null,null,null,null,null,null,null,null,null,null,20,"Santiago Comaltepec"]
[null,null,null,null,null,null,null,null,null,null,null,null,null,null,null,null,null,null,null,null,null,null,null,null,null,null,null,null,null,null,null,null,null,null,null,null,null,null,null,null,null,20,"Santiago del Río"]
[null,null,null,null,null,null,null,null,null,null,null,null,null,null,null,null,null,null,null,null,null,null,null,null,null,null,null,null,null,null,null,null,null,null,null,null,null,null,null,null,null,20,"Santiago Huajolotitlán"]
[null,null,null,null,null,null,null,null,null,null,null,null,null,null,null,null,null,null,null,null,null,null,null,null,null,null,null,null,null,null,null,null,null,null,null,null,null,null,null,null,null,20,"Santiago Huauclilla"]
[null,null,null,null,null,null,null,null,null,null,null,null,null,null,null,null,null,null,null,null,null,null,null,null,null,null,null,null,null,null,null,null,null,null,null,null,null,null,null,null,null,20,"Santiago Ihuitlán Plumas"]
[null,null,null,null,null,null,null,null,null,null,null,null,null,null,null,null,null,null,null,null,null,null,null,null,null,null,null,null,null,null,null,null,null,null,null,null,null,null,null,null,null,20,"Santiago Ixcuintepec"]
[null,null,null,null,null,null,null,null,null,null,null,null,null,null,null,null,null,null,null,null,null,null,null,null,null,null,null,null,null,null,null,null,null,null,null,null,null,null,null,null,null,20,"Santiago Ixtayutla"]
[null,null,null,null,null,null,null,null,null,null,null,null,null,null,null,null,null,null,null,null,null,null,null,null,null,null,null,null,null,null,null,null,null,null,null,null,null,null,null,null,null,20,"Santiago Jamiltepec"]
[null,null,null,null,null,null,null,null,null,null,null,null,null,null,null,null,null,null,null,null,null,null,null,null,null,null,null,null,null,null,null,null,null,null,null,null,null,null,null,null,null,20,"Santiago Jocotepec"]
[null,null,null,null,null,null,null,null,null,null,null,null,null,null,null,null,null,null,null,null,null,null,null,null,null,null,null,null,null,null,null,null,null,null,null,null,null,null,null,null,null,20,"Santiago Juxtlahuaca"]
[null,null,null,null,null,null,null,null,null,null,null,null,null,null,null,null,null,null,null,null,null,null,null,null,null,null,null,null,null,null,null,null,null,null,null,null,null,null,null,null,null,20,"Santiago Lachiguiri"]
[null,null,null,null,null,null,null,null,null,null,null,null,null,null,null,null,null,null,null,null,null,null,null,null,null,null,null,null,null,null,null,null,null,null,null,null,null,null,null,null,null,20,"Santiago Lalopa"]
[null,null,null,null,null,null,null,null,null,null,null,null,null,null,null,null,null,null,null,null,null,null,null,null,null,null,null,null,null,null,null,null,null,null,null,null,null,null,null,null,null,20,"Santiago Laollaga"]
[null,null,null,null,null,null,null,null,null,null,null,null,null,null,null,null,null,null,null,null,null,null,null,null,null,null,null,null,null,null,null,null,null,null,null,null,null,null,null,null,null,20,"Santiago Laxopa"]
[null,null,null,null,null,null,null,null,null,null,null,null,null,null,null,null,null,null,null,null,null,null,null,null,null,null,null,null,null,null,null,null,null,null,null,null,null,null,null,null,null,20,"Santiago Llano Grande"]
[null,null,null,null,null,null,null,null,null,null,null,null,null,null,null,null,null,null,null,null,null,null,null,null,null,null,null,null,null,null,null,null,null,null,null,null,null,null,null,null,null,20,"Santiago Matatlán"]
[null,null,null,null,null,null,null,null,null,null,null,null,null,null,null,null,null,null,null,null,null,null,null,null,null,null,null,null,null,null,null,null,null,null,null,null,null,null,null,null,null,20,"Santiago Miltepec"]
[null,null,null,null,null,null,null,null,null,null,null,null,null,null,null,null,null,null,null,null,null,null,null,null,null,null,null,null,null,null,null,null,null,null,null,null,null,null,null,null,null,20,"Santiago Minas"]
[null,null,null,null,null,null,null,null,null,null,null,null,null,null,null,null,null,null,null,null,null,null,null,null,null,null,null,null,null,null,null,null,null,null,null,null,null,null,null,null,null,20,"Santiago Nacaltepec"]
[null,null,null,null,null,null,null,null,null,null,null,null,null,null,null,null,null,null,null,null,null,null,null,null,null,null,null,null,null,null,null,null,null,null,null,null,null,null,null,null,null,20,"Santiago Nejapilla"]
[null,null,null,null,null,null,null,null,null,null,null,null,null,null,null,null,null,null,null,null,null,null,null,null,null,null,null,null,null,null,null,null,null,null,null,null,null,null,null,null,null,20,"Santiago Niltepec"]
[null,null,null,null,null,null,null,null,null,null,null,null,null,null,null,null,null,null,null,null,null,null,null,null,null,null,null,null,null,null,null,null,null,null,null,null,null,null,null,null,null,20,"Santiago Nundiche"]
[null,null,null,null,null,null,null,null,null,null,null,null,null,null,null,null,null,null,null,null,null,null,null,null,null,null,null,null,null,null,null,null,null,null,null,null,null,null,null,null,null,20,"Santiago Nuyoó"]
[null,null,null,null,null,null,null,null,null,null,null,null,null,null,null,null,null,null,null,null,null,null,null,null,null,null,null,null,null,null,null,null,null,null,null,null,null,null,null,null,null,20,"Santiago Pinotepa Nacional"]
[null,null,null,null,null,null,null,null,null,null,null,null,null,null,null,null,null,null,null,null,null,null,null,null,null,null,null,null,null,null,null,null,null,null,null,null,null,null,null,null,null,20,"Santiago Suchilquitongo"]
[null,null,null,null,null,null,null,null,null,null,null,null,null,null,null,null,null,null,null,null,null,null,null,null,null,null,null,null,null,null,null,null,null,null,null,null,null,null,null,null,null,20,"Santiago Tamazola"]
[null,null,null,null,null,null,null,null,null,null,null,null,null,null,null,null,null,null,null,null,null,null,null,null,null,null,null,null,null,null,null,null,null,null,null,null,null,null,null,null,null,20,"Santiago Tapextla"]
[null,null,null,null,null,null,null,null,null,null,null,null,null,null,null,null,null,null,null,null,null,null,null,null,null,null,null,null,null,null,null,null,null,null,null,null,null,null,null,null,null,20,"Santiago Tenango"]
[null,null,null,null,null,null,null,null,null,null,null,null,null,null,null,null,null,null,null,null,null,null,null,null,null,null,null,null,null,null,null,null,null,null,null,null,null,null,null,null,null,20,"Santiago Tepetlapa"]
[null,null,null,null,null,null,null,null,null,null,null,null,null,null,null,null,null,null,null,null,null,null,null,null,null,null,null,null,null,null,null,null,null,null,null,null,null,null,null,null,null,20,"Santiago Tetepec"]
[null,null,null,null,null,null,null,null,null,null,null,null,null,null,null,null,null,null,null,null,null,null,null,null,null,null,null,null,null,null,null,null,null,null,null,null,null,null,null,null,null,20,"Santiago Texcalcingo"]
[null,null,null,null,null,null,null,null,null,null,null,null,null,null,null,null,null,null,null,null,null,null,null,null,null,null,null,null,null,null,null,null,null,null,null,null,null,null,null,null,null,20,"Santiago Textitlán"]
[null,null,null,null,null,null,null,null,null,null,null,null,null,null,null,null,null,null,null,null,null,null,null,null,null,null,null,null,null,null,null,null,null,null,null,null,null,null,null,null,null,20,"Santiago Tilantongo"]
[null,null,null,null,null,null,null,null,null,null,null,null,null,null,null,null,null,null,null,null,null,null,null,null,null,null,null,null,null,null,null,null,null,null,null,null,null,null,null,null,null,20,"Santiago Tillo"]
[null,null,null,null,null,null,null,null,null,null,null,null,null,null,null,null,null,null,null,null,null,null,null,null,null,null,null,null,null,null,null,null,null,null,null,null,null,null,null,null,null,20,"Santiago Tlazoyaltepec"]
[null,null,null,null,null,null,null,null,null,null,null,null,null,null,null,null,null,null,null,null,null,null,null,null,null,null,null,null,null,null,null,null,null,null,null,null,null,null,null,null,null,20,"Santiago Xanica"]
[null,null,null,null,null,null,null,null,null,null,null,null,null,null,null,null,null,null,null,null,null,null,null,null,null,null,null,null,null,null,null,null,null,null,null,null,null,null,null,null,null,20,"Santiago Xiacuí"]
[null,null,null,null,null,null,null,null,null,null,null,null,null,null,null,null,null,null,null,null,null,null,null,null,null,null,null,null,null,null,null,null,null,null,null,null,null,null,null,null,null,20,"Santiago Yaitepec"]
[null,null,null,null,null,null,null,null,null,null,null,null,null,null,null,null,null,null,null,null,null,null,null,null,null,null,null,null,null,null,null,null,null,null,null,null,null,null,null,null,null,20,"Santiago Yaveo"]
[null,null,null,null,null,null,null,null,null,null,null,null,null,null,null,null,null,null,null,null,null,null,null,null,null,null,null,null,null,null,null,null,null,null,null,null,null,null,null,null,null,20,"Santiago Yolomécatl"]
[null,null,null,null,null,null,null,null,null,null,null,null,null,null,null,null,null,null,null,null,null,null,null,null,null,null,null,null,null,null,null,null,null,null,null,null,null,null,null,null,null,20,"Santiago Yosondúa"]
[null,null,null,null,null,null,null,null,null,null,null,null,null,null,null,null,null,null,null,null,null,null,null,null,null,null,null,null,null,null,null,null,null,null,null,null,null,null,null,null,null,20,"Santiago Yucuyachi"]
[null,null,null,null,null,null,null,null,null,null,null,null,null,null,null,null,null,null,null,null,null,null,null,null,null,null,null,null,null,null,null,null,null,null,null,null,null,null,null,null,null,20,"Santiago Zacatepec"]
[null,null,null,null,null,null,null,null,null,null,null,null,null,null,null,null,null,null,null,null,null,null,null,null,null,null,null,null,null,null,null,null,null,null,null,null,null,null,null,null,null,20,"Santiago Zoochila"]
[null,null,null,null,null,null,null,null,null,null,null,null,null,null,null,null,null,null,null,null,null,null,null,null,null,null,null,null,null,null,null,null,null,null,null,null,null,null,null,null,null,20,"Santo Domingo Albarradas"]
[null,null,null,null,null,null,null,null,null,null,null,null,null,null,null,null,null,null,null,null,null,null,null,null,null,null,null,null,null,null,null,null,null,null,null,null,null,null,null,null,null,20,"Santo Domingo Armenta"]
[null,null,null,null,null,null,null,null,null,null,null,null,null,null,null,null,null,null,null,null,null,null,null,null,null,null,null,null,null,null,null,null,null,null,null,null,null,null,null,null,null,20,"Santo Domingo Chihuitán"]
[null,null,null,null,null,null,null,null,null,null,null,null,null,null,null,null,null,null,null,null,null,null,null,null,null,null,null,null,null,null,null,null,null,null,null,null,null,null,null,null,null,20,"Santo Domingo de Morelos"]
[null,null,null,null,null,null,null,null,null,null,null,null,null,null,null,null,null,null,null,null,null,null,null,null,null,null,null,null,null,null,null,null,null,null,null,null,null,null,null,null,null,20,"Santo Domingo Ingenio"]
[null,null,null,null,null,null,null,null,null,null,null,null,null,null,null,null,null,null,null,null,null,null,null,null,null,null,null,null,null,null,null,null,null,null,null,null,null,null,null,null,null,20,"Santo Domingo Ixcatlán"]
[null,null,null,null,null,null,null,null,null,null,null,null,null,null,null,null,null,null,null,null,null,null,null,null,null,null,null,null,null,null,null,null,null,null,null,null,null,null,null,null,null,20,"Santo Domingo Nuxaá"]
[null,null,null,null,null,null,null,null,null,null,null,null,null,null,null,null,null,null,null,null,null,null,null,null,null,null,null,null,null,null,null,null,null,null,null,null,null,null,null,null,null,20,"Santo Domingo Ozolotepec"]
[null,null,null,null,null,null,null,null,null,null,null,null,null,null,null,null,null,null,null,null,null,null,null,null,null,null,null,null,null,null,null,null,null,null,null,null,null,null,null,null,null,20,"Santo Domingo Petapa"]
[null,null,null,null,null,null,null,null,null,null,null,null,null,null,null,null,null,null,null,null,null,null,null,null,null,null,null,null,null,null,null,null,null,null,null,null,null,null,null,null,null,20,"Santo Domingo Roayaga"]
[null,null,null,null,null,null,null,null,null,null,null,null,null,null,null,null,null,null,null,null,null,null,null,null,null,null,null,null,null,null,null,null,null,null,null,null,null,null,null,null,null,20,"Santo Domingo Tehuantepec"]
[null,null,null,null,null,null,null,null,null,null,null,null,null,null,null,null,null,null,null,null,null,null,null,null,null,null,null,null,null,null,null,null,null,null,null,null,null,null,null,null,null,20,"Santo Domingo Teojomulco"]
[null,null,null,null,null,null,null,null,null,null,null,null,null,null,null,null,null,null,null,null,null,null,null,null,null,null,null,null,null,null,null,null,null,null,null,null,null,null,null,null,null,20,"Santo Domingo Tepuxtepec"]
[null,null,null,null,null,null,null,null,null,null,null,null,null,null,null,null,null,null,null,null,null,null,null,null,null,null,null,null,null,null,null,null,null,null,null,null,null,null,null,null,null,20,"Santo Domingo Tlatayápam"]
[null,null,null,null,null,null,null,null,null,null,null,null,null,null,null,null,null,null,null,null,null,null,null,null,null,null,null,null,null,null,null,null,null,null,null,null,null,null,null,null,null,20,"Santo Domingo Tomaltepec"]
[null,null,null,null,null,null,null,null,null,null,null,null,null,null,null,null,null,null,null,null,null,null,null,null,null,null,null,null,null,null,null,null,null,null,null,null,null,null,null,null,null,20,"Santo Domingo Tonalá"]
[null,null,null,null,null,null,null,null,null,null,null,null,null,null,null,null,null,null,null,null,null,null,null,null,null,null,null,null,null,null,null,null,null,null,null,null,null,null,null,null,null,20,"Santo Domingo Tonaltepec"]
[null,null,null,null,null,null,null,null,null,null,null,null,null,null,null,null,null,null,null,null,null,null,null,null,null,null,null,null,null,null,null,null,null,null,null,null,null,null,null,null,null,20,"Santo Domingo Xagacía"]
[null,null,null,null,null,null,null,null,null,null,null,null,null,null,null,null,null,null,null,null,null,null,null,null,null,null,null,null,null,null,null,null,null,null,null,null,null,null,null,null,null,20,"Santo Domingo Yanhuitlán"]
[null,null,null,null,null,null,null,null,null,null,null,null,null,null,null,null,null,null,null,null,null,null,null,null,null,null,null,null,null,null,null,null,null,null,null,null,null,null,null,null,null,20,"Santo Domingo Yodohino"]
[null,null,null,null,null,null,null,null,null,null,null,null,null,null,null,null,null,null,null,null,null,null,null,null,null,null,null,null,null,null,null,null,null,null,null,null,null,null,null,null,null,20,"Santo Domingo Zanatepec"]
[null,null,null,null,null,null,null,null,null,null,null,null,null,null,null,null,null,null,null,null,null,null,null,null,null,null,null,null,null,null,null,null,null,null,null,null,null,null,null,null,null,20,"Santo Tomás Jalieza"]
[null,null,null,null,null,null,null,null,null,null,null,null,null,null,null,null,null,null,null,null,null,null,null,null,null,null,null,null,null,null,null,null,null,null,null,null,null,null,null,null,null,20,"Santo Tomás Mazaltepec"]
[null,null,null,null,null,null,null,null,null,null,null,null,null,null,null,null,null,null,null,null,null,null,null,null,null,null,null,null,null,null,null,null,null,null,null,null,null,null,null,null,null,20,"Santo Tomás Ocotepec"]
[null,null,null,null,null,null,null,null,null,null,null,null,null,null,null,null,null,null,null,null,null,null,null,null,null,null,null,null,null,null,null,null,null,null,null,null,null,null,null,null,null,20,"Santo Tomás Tamazulapan"]
[null,null,null,null,null,null,null,null,null,null,null,null,null,null,null,null,null,null,null,null,null,null,null,null,null,null,null,null,null,null,null,null,null,null,null,null,null,null,null,null,null,20,"Santos Reyes Nopala"]
[null,null,null,null,null,null,null,null,null,null,null,null,null,null,null,null,null,null,null,null,null,null,null,null,null,null,null,null,null,null,null,null,null,null,null,null,null,null,null,null,null,20,"Santos Reyes Pápalo"]
[null,null,null,null,null,null,null,null,null,null,null,null,null,null,null,null,null,null,null,null,null,null,null,null,null,null,null,null,null,null,null,null,null,null,null,null,null,null,null,null,null,20,"Santos Reyes Tepejillo"]
[null,null,null,null,null,null,null,null,null,null,null,null,null,null,null,null,null,null,null,null,null,null,null,null,null,null,null,null,null,null,null,null,null,null,null,null,null,null,null,null,null,20,"Santos Reyes Yucuná"]
[null,null,null,null,null,null,null,null,null,null,null,null,null,null,null,null,null,null,null,null,null,null,null,null,null,null,null,null,null,null,null,null,null,null,null,null,null,null,null,null,null,20,"Silacayoápam"]
[null,null,null,null,null,null,null,null,null,null,null,null,null,null,null,null,null,null,null,null,null,null,null,null,null,null,null,null,null,null,null,null,null,null,null,null,null,null,null,null,null,20,"Sitio de Xitlapehua"]
[null,null,null,null,null,null,null,null,null,null,null,null,null,null,null,null,null,null,null,null,null,null,null,null,null,null,null,null,null,null,null,null,null,null,null,null,null,null,null,null,null,20,"Soledad Etla"]
[null,null,null,null,null,null,null,null,null,null,null,null,null,null,null,null,null,null,null,null,null,null,null,null,null,null,null,null,null,null,null,null,null,null,null,null,null,null,null,null,null,20,"Tamazulápam del Espíritu Santo"]
[null,null,null,null,null,null,null,null,null,null,null,null,null,null,null,null,null,null,null,null,null,null,null,null,null,null,null,null,null,null,null,null,null,null,null,null,null,null,null,null,null,20,"Tanetze de Zaragoza"]
[null,null,null,null,null,null,null,null,null,null,null,null,null,null,null,null,null,null,null,null,null,null,null,null,null,null,null,null,null,null,null,null,null,null,null,null,null,null,null,null,null,20,"Taniche"]
[null,null,null,null,null,null,null,null,null,null,null,null,null,null,null,null,null,null,null,null,null,null,null,null,null,null,null,null,null,null,null,null,null,null,null,null,null,null,null,null,null,20,"Tataltepec de Valdés"]
[null,null,null,null,null,null,null,null,null,null,null,null,null,null,null,null,null,null,null,null,null,null,null,null,null,null,null,null,null,null,null,null,null,null,null,null,null,null,null,null,null,20,"Teococuilco de Marcos Pérez"]
[null,null,null,null,null,null,null,null,null,null,null,null,null,null,null,null,null,null,null,null,null,null,null,null,null,null,null,null,null,null,null,null,null,null,null,null,null,null,null,null,null,20,"Teotitlán de Flores Magón"]
[null,null,null,null,null,null,null,null,null,null,null,null,null,null,null,null,null,null,null,null,null,null,null,null,null,null,null,null,null,null,null,null,null,null,null,null,null,null,null,null,null,20,"Teotitlán del Valle"]
[null,null,null,null,null,null,null,null,null,null,null,null,null,null,null,null,null,null,null,null,null,null,null,null,null,null,null,null,null,null,null,null,null,null,null,null,null,null,null,null,null,20,"Teotongo"]
[null,null,null,null,null,null,null,null,null,null,null,null,null,null,null,null,null,null,null,null,null,null,null,null,null,null,null,null,null,null,null,null,null,null,null,null,null,null,null,null,null,20,"Tepelmeme Villa de Morelos"]
[null,null,null,null,null,null,null,null,null,null,null,null,null,null,null,null,null,null,null,null,null,null,null,null,null,null,null,null,null,null,null,null,null,null,null,null,null,null,null,null,null,20,"Tlacolula de Matamoros"]
[null,null,null,null,null,null,null,null,null,null,null,null,null,null,null,null,null,null,null,null,null,null,null,null,null,null,null,null,null,null,null,null,null,null,null,null,null,null,null,null,null,20,"Tlacotepec Plumas"]
[null,null,null,null,null,null,null,null,null,null,null,null,null,null,null,null,null,null,null,null,null,null,null,null,null,null,null,null,null,null,null,null,null,null,null,null,null,null,null,null,null,20,"Tlalixtac de Cabrera"]
[null,null,null,null,null,null,null,null,null,null,null,null,null,null,null,null,null,null,null,null,null,null,null,null,null,null,null,null,null,null,null,null,null,null,null,null,null,null,null,null,null,20,"Totontepec Villa de Morelos"]
[null,null,null,null,null,null,null,null,null,null,null,null,null,null,null,null,null,null,null,null,null,null,null,null,null,null,null,null,null,null,null,null,null,null,null,null,null,null,null,null,null,20,"Trinidad Zaachila"]
[null,null,null,null,null,null,null,null,null,null,null,null,null,null,null,null,null,null,null,null,null,null,null,null,null,null,null,null,null,null,null,null,null,null,null,null,null,null,null,null,null,20,"Unión Hidalgo"]
[null,null,null,null,null,null,null,null,null,null,null,null,null,null,null,null,null,null,null,null,null,null,null,null,null,null,null,null,null,null,null,null,null,null,null,null,null,null,null,null,null,20,"Valerio Trujano"]
[null,null,null,null,null,null,null,null,null,null,null,null,null,null,null,null,null,null,null,null,null,null,null,null,null,null,null,null,null,null,null,null,null,null,null,null,null,null,null,null,null,20,"Villa de Chilapa de Díaz"]
[null,null,null,null,null,null,null,null,null,null,null,null,null,null,null,null,null,null,null,null,null,null,null,null,null,null,null,null,null,null,null,null,null,null,null,null,null,null,null,null,null,20,"Villa de Etla"]
[null,null,null,null,null,null,null,null,null,null,null,null,null,null,null,null,null,null,null,null,null,null,null,null,null,null,null,null,null,null,null,null,null,null,null,null,null,null,null,null,null,20,"Villa de Tamazulápam del Progreso"]
[null,null,null,null,null,null,null,null,null,null,null,null,null,null,null,null,null,null,null,null,null,null,null,null,null,null,null,null,null,null,null,null,null,null,null,null,null,null,null,null,null,20,"Villa de Tututepec de Melchor Ocampo"]
[null,null,null,null,null,null,null,null,null,null,null,null,null,null,null,null,null,null,null,null,null,null,null,null,null,null,null,null,null,null,null,null,null,null,null,null,null,null,null,null,null,20,"Villa de Zaachila"]
[null,null,null,null,null,null,null,null,null,null,null,null,null,null,null,null,null,null,null,null,null,null,null,null,null,null,null,null,null,null,null,null,null,null,null,null,null,null,null,null,null,20,"Villa Díaz Ordaz"]
[null,null,null,null,null,null,null,null,null,null,null,null,null,null,null,null,null,null,null,null,null,null,null,null,null,null,null,null,null,null,null,null,null,null,null,null,null,null,null,null,null,20,"Villa Hidalgo"]
[null,null,null,null,null,null,null,null,null,null,null,null,null,null,null,null,null,null,null,null,null,null,null,null,null,null,null,null,null,null,null,null,null,null,null,null,null,null,null,null,null,20,"Villa Sola de Vega"]
[null,null,null,null,null,null,null,null,null,null,null,null,null,null,null,null,null,null,null,null,null,null,null,null,null,null,null,null,null,null,null,null,null,null,null,null,null,null,null,null,null,20,"Villa Talea de Castro"]
[null,null,null,null,null,null,null,null,null,null,null,null,null,null,null,null,null,null,null,null,null,null,null,null,null,null,null,null,null,null,null,null,null,null,null,null,null,null,null,null,null,20,"Villa Tejúpam de la Unión"]
[null,null,null,null,null,null,null,null,null,null,null,null,null,null,null,null,null,null,null,null,null,null,null,null,null,null,null,null,null,null,null,null,null,null,null,null,null,null,null,null,null,20,"Yaxe"]
[null,null,null,null,null,null,null,null,null,null,null,null,null,null,null,null,null,null,null,null,null,null,null,null,null,null,null,null,null,null,null,null,null,null,null,null,null,null,null,null,null,20,"Yogana"]
[null,null,null,null,null,null,null,null,null,null,null,null,null,null,null,null,null,null,null,null,null,null,null,null,null,null,null,null,null,null,null,null,null,null,null,null,null,null,null,null,null,20,"Yutanduchi de Guerrero"]
[null,null,null,null,null,null,null,null,null,null,null,null,null,null,null,null,null,null,null,null,null,null,null,null,null,null,null,null,null,null,null,null,null,null,null,null,null,null,null,null,null,20,"Zapotitlán Lagunas"]
[null,null,null,null,null,null,null,null,null,null,null,null,null,null,null,null,null,null,null,null,null,null,null,null,null,null,null,null,null,null,null,null,null,null,null,null,null,null,null,null,null,20,"Zapotitlán Palmas"]
[null,null,null,null,null,null,null,null,null,null,null,null,null,null,null,null,null,null,null,null,null,null,null,null,null,null,null,null,null,null,null,null,null,null,null,null,null,null,null,null,null,20,"Zimatlán de Álvarez"]

{"sheet":"Formato 1","index":3,"n_rows":81,"n_cols":6,"rows_kept":81,"cut":false,"hidden":false,"merged":[[1,0,1,5],[2,0,2,5],[3,0,3,5],[4,0,4,5],[0,0,0,5]]}
["Formato 1 Estado de Situación Financiera Detallado - LDF"]
[{"$f":"ENTE_PUBLICO_A","v":"Municipio de Valle de Santiago, Gto., Gobierno del Estado de Guanajuato (a)"}]
["Estado de Situación Financiera Detallado - LDF"]
[{"$f":"PERIODO_INFORME","v":"Al 31 de diciembre de 2021 y al 30 de marzo de 2022 (b)"}]
["(PESOS)"]
["   Concepto (c)",{"$f":"ANIO","v":"2022 (d)"},{"$f":"ULTIMO","v":"31 de diciembre de 2021 (e)"},"Concepto (c)",{"$f":"ANIO","v":"2022 (d)"},{"$f":"ULTIMO","v":"31 de diciembre de 2021 (e)"}]
["ACTIVO",null,null,"PASIVO"]
["Activo Circulante",null,null,"Pasivo Circulante"]
["a. Efectivo y Equivalentes (a=a1+a2+a3+a4+a5+a6+a7)",{"$f":"SUM(B10:B16)","v":112751093.86999999},{"$f":"SUM(C10:C16)","v":80504979.969999999},"a. Cuentas por Pagar a Corto Plazo (a=a1+a2+a3+a4+a5+a6+a7+a8+a9)",{"$f":"SUM(E10:E18)","v":12561889.84},{"$f":"SUM(F10:F18)","v":44143115.549999997}]
["a1) Efectivo",0,0,"a1) Servicios Personales por Pagar a Corto Plazo",226028.76,1280404.99]
["a2) Bancos/Tesorería",11260729.630000001,16556224.970000001,"a2) Proveedores por Pagar a Corto Plazo",776847.54,5140978.21]
["a3) Bancos/Dependencias y Otros",0,0,"a3) Contratistas por Obras Públicas por Pagar a Corto Plazo",6424847.1200000001,23137837.370000001]
["a4) Inversiones Temporales (Hasta 3 meses)",98097401.670000002,60258345.280000001,"a4) Participaciones y Aportaciones por Pagar a Corto Plazo",0,0]
["a5) Fondos con Afectación Específica",3362005.44,3659452.59,"a5) Transferencias Otorgadas por Pagar a Corto Plazo",8395.15,8609938.3900000006]
["a6) Depósitos de Fondos de Terceros en Garantía y/o Administración",30957.13,30957.13,"a6) Intereses, Comisiones y Otros Gastos de la Deuda Pública por Pagar a Corto Plazo",0,0]
["a7) Otros Efectivos y Equivalentes",0,0,"a7) Retenciones y Contribuciones por Pagar a Corto Plazo",2271716.31,4179110.72]
["b. Derechos a Recibir Efectivo o Equivalentes (b=b1+b2+b3+b4+b5+b6+b7)",{"$f":"SUM(B18:B24)","v":7848948.5700000003},{"$f":"SUM(C18:C24)","v":7180258.1600000001},"a8) Devoluciones de la Ley de Ingresos por Pagar a Corto Plazo",0,0]
["b1) Inversiones Financieras de Corto Plazo",0,0,"a9) Otras Cuentas por Pagar a Corto Plazo",2854054.96,1794845.87]
["b2) Cuentas por Cobrar a Corto Plazo",926032.5,928678.43,"b. Documentos por Pagar a Corto Plazo (b=b1+b2+b3)",{"$f":"SUM(E20:E22)","v":0},{"$f":"SUM(F20:F22)","v":0}]
["b3) Deudores Diversos por Cobrar a Corto Plazo",1704719.61,146725.21,"b1) Documentos Comerciales por Pagar a Corto Plazo",0,0]
["b4) Ingresos por Recuperar a Corto Plazo",0,0,"b2) Documentos con Contratistas por Obras Públicas por Pagar a Corto Plazo",0,0]
["b5) Deudores por Anticipos de la Tesorería a Corto Plazo",175000,20235.84,"b3) Otros Documentos por Pagar a Corto Plazo",0,0]
["b6) Préstamos Otorgados a Corto Plazo",0,0,"c. Porción a Corto Plazo de la Deuda Pública a Largo Plazo (c=c1+c2)",{"$f":"E24+E25","v":1205357.1299999999},{"$f":"F24+F25","v":0}]
["b7) Otros Derechos a Recibir Efectivo o Equivalentes a Corto Plazo",5043196.46,6084618.6799999997,"c1) Porción a Corto Plazo de la Deuda Pública",1205357.1299999999,0]
["c. Derechos a Recibir Bienes o Servicios (c=c1+c2+c3+c4+c5)",{"$f":"SUM(B26:B30)","v":4616064.1900000004},{"$f":"SUM(C26:C30)","v":16028715.59},"c2) Porción a Corto Plazo de Arrendamiento Financiero",0,0]
["c1) Anticipo a Proveedores por Adquisición de Bienes y Prestación de Servicios a Corto Plazo",600,600,"d. Títulos y Valores a Corto Plazo",0,0]
["c2) Anticipo a Proveedores por Adquisición de Bienes Inmuebles y Muebles a Corto Plazo",0,0,"e. Pasivos Diferidos a Corto Plazo (e=e1+e2+e3)",{"$f":"SUM(E28:E30)","v":0},{"$f":"SUM(F28:F30)","v":0}]
["c3) Anticipo a Proveedores por Adquisición de Bienes Intangibles a Corto Plazo",0,0,"e1) Ingresos Cobrados por Adelantado a Corto Plazo",0,0]
["c4) Anticipo a Contratistas por Obras Públicas a Corto Plazo",4615464.1900000004,16028115.59,"e2) Intereses Cobrados por Adelantado a Corto Plazo",0,0]
["c5) Otros Derechos a Recibir Bienes o Servicios a Corto Plazo",0,0,"e3) Otros Pasivos Diferidos a Corto Plazo",0,0]
["d. Inventarios (d=d1+d2+d3+d4+d5)",{"$f":"SUM(B32:B36)","v":0},{"$f":"SUM(C32:C36)","v":0},"f. Fondos y Bienes de Terceros en Garantía y/o Administración a Corto Plazo (f=f1+f2+f3+f4+f5+f6)",{"$f":"SUM(E32:E37)","v":0},{"$f":"SUM(F32:F37)","v":0}]
["d1) Inventario de Mercancías para Venta",0,0,"f1) Fondos en Garantía a Corto Plazo",0,0]
["d2) Inventario de Mercancías Terminadas",0,0,"f2) Fondos en Administración a Corto Plazo",0,0]
["d3) Inventario de Mercancías en Proceso de Elaboración",0,0,"f3) Fondos Contingentes a Corto Plazo",0,0]
["d4) Inventario de Materias Primas, Materiales y Suministros para Producción",0,0,"f4) Fondos de Fideicomisos, Mandatos y Contratos Análogos a Corto Plazo",0,0]
["d5) Bienes en Tránsito",0,0,"f5) Otros Fondos de Terceros en Garantía y/o Administración a Corto Plazo",0,0]
["e. Almacenes",0,0,"f6) Valores y Bienes en Garantía a Corto Plazo",0,0]
["f.  Estimación por Pérdida o Deterioro de Activos Circulantes (f=f1+f2)",{"$f":"SUM(B39:B40)","v":0},{"$f":"SUM(C39:C40)","v":0},"g. Provisiones a Corto Plazo (g=g1+g2+g3)",{"$f":"SUM(E39:E41)","v":0},{"$f":"SUM(F39:F41)","v":0}]
["f1) Estimaciones para Cuentas Incobrables por Derechos a Recibir Efectivo o Equivalentes",0,0,"g1) Provisión para Demandas y Juicios a Corto Plazo",0,0]
["f2) Estimación por Deterioro de Inventarios",0,0,"g2) Provisión para Contingencias a Corto Plazo",0,0]
["g. Otros Activos Circulantes (g=g1+g2+g3+g4)",{"$f":"SUM(B42:B45)","v":0},{"$f":"SUM(C42:C45)","v":0},"g3) Otras Provisiones a Corto Plazo",0,0]
["g1) Valores en Garantía",0,0,"h. Otros Pasivos a Corto Plazo (h=h1+h2+h3)",{"$f":"SUM(E43:E45)","v":0},{"$f":"SUM(F43:F45)","v":0}]
["g2) Bienes en Garantía (excluye depósitos de fondos)",0,0,"h1) Ingresos por Clasificar",0,0]
["g3) Bienes Derivados de Embargos, Decomisos, Aseguramientos y Dación en Pago",0,0,"h2) Recaudación por Participar",0,0]
["g4) Adquisición con Fondos de Terceros",0,0,"h3) Otros Pasivos Circulantes",0,0]
[]
["IA. Total de Activos Circulantes (IA = a + b + c + d + e + f + g)",{"$f":"B9+B17+B25+B31+B38+B41","v":125216106.63},{"$f":"C9+C17+C25+CC4331+C38+C41","v":103713953.72},"IIA. Total de Pasivos Circulantes (IIA = a + b + c + d + e + f + g + h)",{"$f":"E9+E19+E23+E26+E27+E31+E38+E42","v":13767246.969999999},{"$f":"F9+F19+F23+F26+F27+F31+F38+F42","v":44143115.549999997}]
[]
["Activo No Circulante",null,null,"Pasivo No Circulante"]
["a. Inversiones Financieras a Largo Plazo",0,0,"a. Cuentas por Pagar a Largo Plazo",0,0]
["b. Derechos a Recibir Efectivo o Equivalentes a Largo Plazo ",0,0,"b. Documentos por Pagar a Largo Plazo",0,0]
["c. Bienes Inmuebles, Infraestructura y Construcciones en Proceso ",364824636.07999998,340245485.75,"c. Deuda Pública a Largo Plazo",8035714.3600000003,9642857.1999999993]
["d. Bienes Muebles ",83420898.769999996,83384944.810000002,"d. Pasivos Diferidos a Largo Plazo",0,0]
["e. Activos Intangibles ",135966.14000000001,135966.14000000001,"e. Fondos y Bienes de Terceros en Garantía y/o en Administración a Largo Plazo",0,0]
["f. Depreciación, Deterioro y Amortización Acumulada de Bienes ",-44948317.509999998,-44948317.509999998,"f. Provisiones a Largo Plazo",0,0]
["g. Activos Diferidos",1176759.67,1176759.67]
["h. Estimación por Pérdida o Deterioro de Activos no Circulantes",0,0,"IIB. Total de Pasivos No Circulantes (IIB = a + b + c + d + e + f)",{"$f":"SUM(E50:E55)","v":8035714.3600000003},{"$f":"SUM(F50:F55)","v":9642857.1999999993}]
["i. Otros Activos no Circulantes",0,0]
[null,null,null,"II. Total del Pasivo (II = IIA + IIB)",{"$f":"E47+E57","v":21802961.329999998},{"$f":"F47+F57","v":53785972.75}]
["IB. Total de Activos No Circulantes (IB = a + b + c + d + e + f + g + h + i)",{"$f":"SUM(B50:B58)","v":404609943.14999998},{"$f":"SUM(C50:C58)","v":379994838.86000001}]
[null,null,null,"HACIENDA PÚBLICA/PATRIMONIO"]
["I. Total del Activo (I = IA + IB)",{"$f":"SUM(B47+B60)","v":529826049.77999997},{"$f":"SUM(C47+C60)","v":483708792.58000004}]
[null,null,null,"IIIA. Hacienda Pública/Patrimonio Contribuido (IIIA = a + b + c)",{"$f":"SUM(E64:E66)","v":23319492.919999998},{"$f":"SUM(F64:F66)","v":23319492.919999998}]
[null,null,null,"a. Aportaciones",22266596.239999998,22266596.239999998]
[null,null,null,"b. Donaciones de Capital",1052896.68,1052896.68]
[null,null,null,"c. Actualización de la Hacienda Pública/Patrimonio",0,0]
[]
[null,null,null,"IIIB. Hacienda Pública/Patrimonio Generado (IIIB = a + b + c + d + e)",{"$f":"SUM(E69:E73)","v":484703595.52999997},{"$f":"SUM(F69:F73)","v":406603326.90999997}]
[null,null,null,"a. Resultados del Ejercicio (Ahorro/ Desahorro)",68042716.769999996,132649066.83]
[null,null,null,"b. Resultados de Ejercicios Anteriores",416593767.45999998,273887148.77999997]
[null,null,null,"c. Revalúos",0,0]
[null,null,null,"d. Reservas",0,0]
[null,null,null,"e. Rectificaciones de Resultados de Ejercicios Anteriores",67111.3,67111.3]
[]
[null,null,null,"IIIC. Exceso o Insuficiencia en la Actualización de la Hacienda Pública/Patrimonio (IIIC=a+b)",{"$f":"E76+E77","v":0},{"$f":"F76+F77","v":0}]
[null,null,null,"a. Resultado por Posición Monetaria",0,0]
[null,null,null,"b. Resultado por Tenencia de Activos no Monetarios",0,0]
[]
[null,null,null,"III. Total Hacienda Pública/Patrimonio (III = IIIA + IIIB + IIIC)",{"$f":"E63+E68+E75","v":508023088.44999999},{"$f":"F63+F68+F75","v":429922819.82999998}]
[]
[null,null,null,"IV. Total del Pasivo y Hacienda Pública/Patrimonio (IV = II + III)",{"$f":"E59+E79","v":529826049.77999997},{"$f":"F59+F79","v":483708792.57999998}]

{"sheet":"F01","index":4,"n_rows":120,"n_cols":17,"rows_kept":120,"cut":false,"hidden":true,"merged":[]}
["CLAVE","N1","N2","N3","N4","N5","N6","N7","C  O  N  C  E  P  T  O  S",null,null,null,null,null,null,"EDO_ACT","EDO_ANT"]
[{"$f":"IF(LEN(CLEAN(B2))=0,\"0\",B2)&\",\"&IF(LEN(CLEAN(C2))=0,\"0\",C2)&\",\"&IF(LEN(CLEAN(D2))=0,\"0\",D2)&\",\"&IF(LEN(CLEAN(E2))=0,\"0\",E2)&\",\"&IF(LEN(CLEAN(F2))=0,\"0\",F2)&\",\"&IF(LEN(CLEAN(G2))=0,\"0\",G2)&\",\"&IF(LEN(CLEAN(H2))=0,\"0\",H2)","v":"1,1,0,0,0,0,0"},1,1,null,null,null,null,null,"ACTIVO",null,null,null,null,null,null," "," "]
[{"$f":"IF(LEN(CLEAN(B3))=0,\"0\",B3)&\",\"&IF(LEN(CLEAN(C3))=0,\"0\",C3)&\",\"&IF(LEN(CLEAN(D3))=0,\"0\",D3)&\",\"&IF(LEN(CLEAN(E3))=0,\"0\",E3)&\",\"&IF(LEN(CLEAN(F3))=0,\"0\",F3)&\",\"&IF(LEN(CLEAN(G3))=0,\"0\",G3)&\",\"&IF(LEN(CLEAN(H3))=0,\"0\",H3)","v":"1,1,1,0,0,0,0"},1,1,1,null,null,null,null,null,"Activo Circulante",null,null,null,null,null," "," "]
["1,1,1,1,0,0,0",1,1,1,1,null,null,null,null,null,"Efectivo y Equivalentes",null,null,null,null,{"$f":"'Formato 1'!B9","v":112751093.86999999},{"$f":"'Formato 1'!C9","v":80504979.969999999}]
["1,1,1,1,1,0,0",1,1,1,1,1,null,null,null,null,null,"Efectivo",null,null,null,{"$f":"'Formato 1'!B10","v":0},{"$f":"'Formato 1'!C10","v":0}]
["1,1,1,1,2,0,0",1,1,1,1,2,null,null,null,null,null,"Bancos/Tesorería",null,null,null,{"$f":"'Formato 1'!B11","v":11260729.630000001},{"$f":"'Formato 1'!C11","v":16556224.970000001}]
["1,1,1,1,3,0,0",1,1,1,1,3,null,null,null,null,null,"Bancos/Dependencias y Otros",null,null,null,{"$f":"'Formato 1'!B12","v":0},{"$f":"'Formato 1'!C12","v":0}]
["1,1,1,1,4,0,0",1,1,1,1,4,null,null,null,null,null,"Inversiones Temporales (Hasta 3 meses)",null,null,null,{"$f":"'Formato 1'!B13","v":98097401.670000002},{"$f":"'Formato 1'!C13","v":60258345.280000001}]
["1,1,1,1,5,0,0",1,1,1,1,5,null,null,null,null,null,"Fondos con Afectación Específica",null,null,null,{"$f":"'Formato 1'!B14","v":3362005.44},{"$f":"'Formato 1'!C14","v":3659452.59}]
["1,1,1,1,6,0,0",1,1,1,1,6,null,null,null,null,null,"Depósitos de Fondos de Terceros en Garantía y/o Administración",null,null,null,{"$f":"'Formato 1'!B15","v":30957.13},{"$f":"'Formato 1'!C15","v":30957.13}]
["1,1,1,1,7,0,0",1,1,1,1,7,null,null,null,null,null,"Otros Efectivos y Equivalentes",null,null,null,{"$f":"'Formato 1'!B16","v":0},{"$f":"'Formato 1'!C16","v":0}]
["1,1,1,2,0,0,0",1,1,1,2,null,null,null,null,null,"Derechos a Recibir Efectivo o Equivalentes",null,null,null,null,{"$f":"'Formato 1'!B17","v":7848948.5700000003},{"$f":"'Formato 1'!C17","v":7180258.1600000001}]
["1,1,1,2,1,0,0",1,1,1,2,1,null,null,null,null,null,"Inversiones Financieras de Corto Plazo",null,null,null,{"$f":"'Formato 1'!B18","v":0},{"$f":"'Formato 1'!C18","v":0}]
["1,1,1,2,2,0,0",1,1,1,2,2,null,null,null,null,null,"Cuentas por Cobrar a Corto Plazo",null,null,null,{"$f":"'Formato 1'!B19","v":926032.5},{"$f":"'Formato 1'!C19","v":928678.43}]
["1,1,1,2,3,0,0",1,1,1,2,3,null,null,null,null,null,"Deudores Diversos por Cobrar a Corto Plazo",null,null,null,{"$f":"'Formato 1'!B20","v":1704719.61},{"$f":"'Formato 1'!C20","v":146725.21}]
["1,1,1,2,4,0,0",1,1,1,2,4,null,null,null,null,null,"Ingresos por Recuperar a Corto Plazo",null,null,null,{"$f":"'Formato 1'!B21","v":0},{"$f":"'Formato 1'!C21","v":0}]
["1,1,1,2,5,0,0",1,1,1,2,5,null,null,null,null,null,"Deudores por Anticipos de la Tesorería a Corto Plazo",null,null,null,{"$f":"'Formato 1'!B22","v":175000},{"$f":"'Formato 1'!C22","v":20235.84}]
["1,1,1,2,6,0,0",1,1,1,2,6,null,null,null,null,null,"Préstamos Otorgados a Corto Plazo",null,null,null,{"$f":"'Formato 1'!B23","v":0},{"$f":"'Formato 1'!C23","v":0}]
["1,1,1,2,7,0,0",1,1,1,2,7,null,null,null,null,null,"Otros Derechos a Recibir Efectivo o Equivalentes a Corto Plazo",null,null,null,{"$f":"'Formato 1'!B24","v":5043196.46},{"$f":"'Formato 1'!C24","v":6084618.6799999997}]
["1,1,1,3,0,0,0",1,1,1,3,null,null,null,null,null,"Derechos a Recibir Bienes o Servicios",null,null,null,null,{"$f":"'Formato 1'!B25","v":4616064.1900000004},{"$f":"'Formato 1'!C25","v":16028715.59}]
["1,1,1,3,1,0,0",1,1,1,3,1,null,null,null,null,null,"Anticipo a Proveedores por Adquisición de Bienes y Prestación de Servicios a Corto Plazo",null,null,null,{"$f":"'Formato 1'!B26","v":600},{"$f":"'Formato 1'!C26","v":600}]
["1,1,1,3,2,0,0",1,1,1,3,2,null,null,null,null,null,"Anticipo a Proveedores por Adquisición de Bienes Inmuebles y Muebles a Corto Plazo",null,null,null,{"$f":"'Formato 1'!B27","v":0},{"$f":"'Formato 1'!C27","v":0}]
["1,1,1,3,3,0,0",1,1,1,3,3,null,null,null,null,null,"Anticipo a Proveedores por Adquisición de Bienes Intangibles a Corto Plazo",null,null,null,{"$f":"'Formato 1'!B28","v":0},{"$f":"'Formato 1'!C28","v":0}]
["1,1,1,3,4,0,0",1,1,1,3,4,null,null,null,null,null,"Anticipo a Contratistas por Obras Públicas a Corto Plazo",null,null,null,{"$f":"'Formato 1'!B29","v":4615464.1900000004},{"$f":"'Formato 1'!C29","v":16028115.59}]
["1,1,1,3,5,0,0",1,1,1,3,5,null,null,null,null,null,"Otros Derechos a Recibir Bienes o Servicios a Corto Plazo",null,null,null,{"$f":"'Formato 1'!B30","v":0},{"$f":"'Formato 1'!C30","v":0}]
["1,1,1,4,0,0,0",1,1,1,4,null,null,null,null,null,"Inventarios",null,null,null,null,{"$f":"'Formato 1'!B31","v":0},{"$f":"'Formato 1'!C31","v":0}]
["1,1,1,4,1,0,0",1,1,1,4,1,null,null,null,null,null,"Inventario de Mercancías para Venta",null,null,null,{"$f":"'Formato 1'!B32","v":0},{"$f":"'Formato 1'!C32","v":0}]
["1,1,1,4,2,0,0",1,1,1,4,2,null,null,null,null,null,"Inventario de Mercancías Terminadas",null,null,null,{"$f":"'Formato 1'!B33","v":0},{"$f":"'Formato 1'!C33","v":0}]
["1,1,1,4,3,0,0",1,1,1,4,3,null,null,null,null,null,"Inventario de Mercancías en Proceso de Elaboración",null,null,null,{"$f":"'Formato 1'!B34","v":0},{"$f":"'Formato 1'!C34","v":0}]
["1,1,1,4,4,0,0",1,1,1,4,4,null,null,null,null,null,"Inventario de Materias Primas, Materiales y Suministros para Producción",null,null,null,{"$f":"'Formato 1'!B35","v":0},{"$f":"'Formato 1'!C35","v":0}]
["1,1,1,4,5,0,0",1,1,1,4,5,null,null,null,null,null,"Bienes en Tránsito",null,null,null,{"$f":"'Formato 1'!B36","v":0},{"$f":"'Formato 1'!C36","v":0}]
["1,1,1,5,0,0,0",1,1,1,5,null,null,null,null,null,"Almacenes",null,null,null,null,{"$f":"'Formato 1'!B37","v":0},{"$f":"'Formato 1'!C37","v":0}]
["1,1,1,5,1,0,0",1,1,1,5,1,null,null,null,null,null,"Almacenes",null,null,null,{"$f":"'Formato 1'!B37","v":0},{"$f":"'Formato 1'!C37","v":0}]
["1,1,1,6,0,0,0",1,1,1,6,null,null,null,null,null,"Estimación por Pérdida o Deterioro de Activos Circulantes",null,null,null,null,{"$f":"'Formato 1'!B38","v":0},{"$f":"'Formato 1'!C38","v":0}]
["1,1,1,6,1,0,0",1,1,1,6,1,null,null,null,null,null,"Estimaciones para Cuentas Incobrables por Derechos a Recibir Efectivo o Equivalentes",null,null,null,{"$f":"'Formato 1'!B39","v":0},{"$f":"'Formato 1'!C39","v":0}]
["1,1,1,6,2,0,0",1,1,1,6,2,null,null,null,null,null,"Estimación por Deterioro de Inventarios",null,null,null,{"$f":"'Formato 1'!B40","v":0},{"$f":"'Formato 1'!C40","v":0}]
["1,1,1,7,0,0,0",1,1,1,7,null,null,null,null,null,"Otros Activos Circulantes",null,null,null,null,{"$f":"'Formato 1'!B41","v":0},{"$f":"'Formato 1'!C41","v":0}]
["1,1,1,7,1,0,0",1,1,1,7,1,null,null,null,null,null,"Valores en Garantía",null,null,null,{"$f":"'Formato 1'!B42","v":0},{"$f":"'Formato 1'!C42","v":0}]
["1,1,1,7,2,0,0",1,1,1,7,2,null,null,null,null,null,"Bienes en Garantía (excluye depósitos de fondos)",null,null,null,{"$f":"'Formato 1'!B43","v":0},{"$f":"'Formato 1'!C43","v":0}]
["1,1,1,7,3,0,0",1,1,1,7,3,null,null,null,null,null,"Bienes Derivados de Embargos, Decomisos, Aseguramientos y Dación en Pago",null,null,null,{"$f":"'Formato 1'!B44","v":0},{"$f":"'Formato 1'!C44","v":0}]
["1,1,1,7,4,0,0",1,1,1,7,4,null,null,null,null,null,"Adquisición con Fondos de Terceros",null,null,null,{"$f":"'Formato 1'!B45","v":0},{"$f":"'Formato 1'!C45","v":0}]
["1,1,1,8,0,0,0",1,1,1,8,null,null,null,null,null,"Total de Activos Circulantes",null,null,null,null,{"$f":"'Formato 1'!B47","v":125216106.63},{"$f":"'Formato 1'!C47","v":103713953.72}]
["1,1,2,0,0,0,0",1,1,2,null,null,null,null,null,"Activo No Circulante"]
["1,1,2,1,0,0,0",1,1,2,1,null,null,null,null,null,"Inversiones Financieras a Largo Plazo",null,null,null,null,{"$f":"'Formato 1'!B50","v":0},{"$f":"'Formato 1'!C50","v":0}]
["1,1,2,2,0,0,0",1,1,2,2,null,null,null,null,null,"Derechos a Recibir Efectivo o Equivalentes a Largo Plazo ",null,null,null,null,{"$f":"'Formato 1'!B51","v":0},{"$f":"'Formato 1'!C51","v":0}]
["1,1,2,3,0,0,0",1,1,2,3,null,null,null,null,null,"Bienes Inmuebles, Infraestructura y Construcciones en Proceso ",null,null,null,null,{"$f":"'Formato 1'!B52","v":364824636.07999998},{"$f":"'Formato 1'!C52","v":340245485.75}]
["1,1,2,4,0,0,0",1,1,2,4,null,null,null,null,null,"Bienes Muebles ",null,null,null,null,{"$f":"'Formato 1'!B53","v":83420898.769999996},{"$f":"'Formato 1'!C53","v":83384944.810000002}]
["1,1,2,5,0,0,0",1,1,2,5,null,null,null,null,null,"Activos Intangibles ",null,null,null,null,{"$f":"'Formato 1'!B54","v":135966.14000000001},{"$f":"'Formato 1'!C54","v":135966.14000000001}]
["1,1,2,6,0,0,0",1,1,2,6,null,null,null,null,null,"Depreciación, Deterioro y Amortización Acumulada de Bienes ",null,null,null,null,{"$f":"'Formato 1'!B55","v":-44948317.509999998},{"$f":"'Formato 1'!C55","v":-44948317.509999998}]
["1,1,2,7,0,0,0",1,1,2,7,null,null,null,null,null,"Activos Diferidos",null,null,null,null,{"$f":"'Formato 1'!B56","v":1176759.67},{"$f":"'Formato 1'!C56","v":1176759.67}]
["1,1,2,8,0,0,0",1,1,2,8,null,null,null,null,null,"Estimación por Pérdida o Deterioro de Activos no Circulantes",null,null,null,null,{"$f":"'Formato 1'!B57","v":0},{"$f":"'Formato 1'!C57","v":0}]
["1,1,2,9,0,0,0",1,1,2,9,null,null,null,null,null,"Otros Activos no Circulantes",null,null,null,null,{"$f":"'Formato 1'!B58","v":0},{"$f":"'Formato 1'!C58","v":0}]
["1,1,2,10,0,0,0",1,1,2,10,null,null,null,null,"Total de Activos No Circulantes",null,null,null,null,null,{"$f":"'Formato 1'!B60","v":404609943.14999998},{"$f":"'Formato 1'!C60","v":379994838.86000001}]
["1,1,3,0,0,0,0",1,1,3,null,null,null,null,null,"Total del Activo",null,null,null,null,null,{"$f":"'Formato 1'!B62","v":529826049.77999997},{"$f":"'Formato 1'!C62","v":483708792.58000004}]
["1,2,0,0,0,0,0",1,2,null,null,null,null,null,"PASIVO"]
["1,2,1,0,0,0,0",1,2,1,null,null,null,null,null,"Pasivo Circulante"]
["1,2,1,1,0,0,0",1,2,1,1,null,null,null,null,null,"Cuentas por Pagar a Corto Plazo",null,null,null,null,{"$f":"'Formato 1'!E9","v":12561889.84},{"$f":"'Formato 1'!F9","v":44143115.549999997}]
["1,2,1,1,1,0,0",1,2,1,1,1,null,null,null,null,null,"Servicios Personales por Pagar a Corto Plazo",null,null,null,{"$f":"'Formato 1'!E10","v":226028.76},{"$f":"'Formato 1'!F10","v":1280404.99}]
["1,2,1,1,2,0,0",1,2,1,1,2,null,null,null,null,null,"Proveedores por Pagar a Corto Plazo",null,null,null,{"$f":"'Formato 1'!E11","v":776847.54},{"$f":"'Formato 1'!F11","v":5140978.21}]
["1,2,1,1,3,0,0",1,2,1,1,3,null,null,null,null,null,"Contratistas por Obras Públicas por Pagar a Corto Plazo",null,null,null,{"$f":"'Formato 1'!E12","v":6424847.1200000001},{"$f":"'Formato 1'!F12","v":23137837.370000001}]
["1,2,1,1,4,0,0",1,2,1,1,4,null,null,null,null,null,"Participaciones y Aportaciones por Pagar a Corto Plazo",null,null,null,{"$f":"'Formato 1'!E13","v":0},{"$f":"'Formato 1'!F13","v":0}]
["1,2,1,1,5,0,0",1,2,1,1,5,null,null,null,null,null,"Transferencias Otorgadas por Pagar a Corto Plazo",null,null,null,{"$f":"'Formato 1'!E14","v":8395.15},{"$f":"'Formato 1'!F14","v":8609938.3900000006}]
["1,2,1,1,6,0,0",1,2,1,1,6,null,null,null,null,null,"Intereses, Comisiones y Otros Gastos de la Deuda Pública por Pagar a Corto Plazo",null,null,null,{"$f":"'Formato 1'!E15","v":0},{"$f":"'Formato 1'!F15","v":0}]
["1,2,1,1,7,0,0",1,2,1,1,7,null,null,null,null,null,"Retenciones y Contribuciones por Pagar a Corto Plazo",null,null,null,{"$f":"'Formato 1'!E16","v":2271716.31},{"$f":"'Formato 1'!F16","v":4179110.72}]
["1,2,1,1,8,0,0",1,2,1,1,8,null,null,null,null,null,"Devoluciones de la Ley de Ingresos por Pagar a Corto Plazo",null,null,null,{"$f":"'Formato 1'!E17","v":0},{"$f":"'Formato 1'!F17","v":0}]
["1,2,1,1,9,0,0",1,2,1,1,9,null,null,null,null,null,"Otras Cuentas por Pagar a Corto Plazo",null,null,null,{"$f":"'Formato 1'!E18","v":2854054.96},{"$f":"'Formato 1'!F18","v":1794845.87}]
[{"$f":"IF(LEN(CLEAN(B67))=0,\"0\",B67)&\",\"&IF(LEN(CLEAN(C67))=0,\"0\",C67)&\",\"&IF(LEN(CLEAN(D67))=0,\"0\",D67)&\",\"&IF(LEN(CLEAN(E67))=0,\"0\",E67)&\",\"&IF(LEN(CLEAN(F67))=0,\"0\",F67)&\",\"&IF(LEN(CLEAN(G67))=0,\"0\",G67)&\",\"&IF(LEN(CLEAN(H67))=0,\"0\",H67)","v":"1,2,1,2,0,0,0"},1,2,1,2,null,null,null,null,null,"Documentos por Pagar a Corto Plazo",null,null,null,null,{"$f":"'Formato 1'!E19","v":0},{"$f":"'Formato 1'!F19","v":0}]
["1,2,1,2,1,0,0",1,2,1,2,1,null,null,null,null,null,"Documentos Comerciales por Pagar a Corto Plazo",null,null,null,{"$f":"'Formato 1'!E20","v":0},{"$f":"'Formato 1'!F20","v":0}]
["1,2,1,2,2,0,0",1,2,1,2,2,null,null,null,null,null,"Documentos con Contratistas por Obras Públicas por Pagar a Corto Plazo",null,null,null,{"$f":"'Formato 1'!E21","v":0},{"$f":"'Formato 1'!F21","v":0}]
["1,2,1,2,3,0,0",1,2,1,2,3,null,null,null,null,null,"Otros Documentos por Pagar a Corto Plazo",null,null,null,{"$f":"'Formato 1'!E22","v":0},{"$f":"'Formato 1'!F22","v":0}]
["1,2,1,3,0,0,0",1,2,1,3,null,null,null,null,null,"Porción a Corto Plazo de la Deuda Pública a Largo Plazo",null,null,null,null,{"$f":"'Formato 1'!E23","v":1205357.1299999999},{"$f":"'Formato 1'!F23","v":0}]
["1,2,1,3,1,0,0",1,2,1,3,1,null,null,null,null,null,"Porción a Corto Plazo de la Deuda Pública",null,null,null,{"$f":"'Formato 1'!E24","v":1205357.1299999999},{"$f":"'Formato 1'!F24","v":0}]
["1,2,1,3,2,0,0",1,2,1,3,2,null,null,null,null,null,"Porción a Corto Plazo de Arrendamiento Financiero",null,null,null,{"$f":"'Formato 1'!E25","v":0},{"$f":"'Formato 1'!F25","v":0}]
["1,2,1,4,0,0,0",1,2,1,4,null,null,null,null,null,"Títulos y Valores a Corto Plazo",null,null,null,null,{"$f":"'Formato 1'!E26","v":0},{"$f":"'Formato 1'!F26","v":0}]
["1,2,1,4,1,0,0",1,2,1,4,1,null,null,null,null,null,"Títulos y Valores a Corto Plazo",null,null,null,{"$f":"'Formato 1'!E26","v":0},{"$f":"'Formato 1'!F26","v":0}]
["1,2,1,5,0,0,0",1,2,1,5,null,null,null,null,null,"Pasivos Diferidos a Corto Plazo",null,null,null,null,{"$f":"'Formato 1'!E27","v":0},{"$f":"'Formato 1'!F27","v":0}]
["1,2,1,5,1,0,0",1,2,1,5,1,null,null,null,null,null,"Ingresos Cobrados por Adelantado a Corto Plazo",null,null,null,{"$f":"'Formato 1'!E28","v":0},{"$f":"'Formato 1'!F28","v":0}]
["1,2,1,5,2,0,0",1,2,1,5,2,null,null,null,null,null,"Intereses Cobrados por Adelantado a Corto Plazo",null,null,null,{"$f":"'Formato 1'!E29","v":0},{"$f":"'Formato 1'!F29","v":0}]
["1,2,1,5,3,0,0",1,2,1,5,3,null,null,null,null,null,"Otros Pasivos Diferidos a Corto Plazo",null,null,null,{"$f":"'Formato 1'!E30","v":0},{"$f":"'Formato 1'!F30","v":0}]
["1,2,1,6,0,0,0",1,2,1,6,null,null,null,null,null,"Fondos y Bienes de Terceros en Garantía y/o Administración a Corto Plazo",null,null,null,null,{"$f":"'Formato 1'!E31","v":0},{"$f":"'Formato 1'!F31","v":0}]
["1,2,1,6,1,0,0",1,2,1,6,1,null,null,null,null,null,"Fondos en Garantía a Corto Plazo",null,null,null,{"$f":"'Formato 1'!E32","v":0},{"$f":"'Formato 1'!F32","v":0}]
["1,2,1,6,2,0,0",1,2,1,6,2,null,null,null,null,null,"Fondos en Administración a Corto Plazo",null,null,null,{"$f":"'Formato 1'!E33","v":0},{"$f":"'Formato 1'!F33","v":0}]
["1,2,1,6,3,0,0",1,2,1,6,3,null,null,null,null,null,"Fondos Contingentes a Corto Plazo",null,null,null,{"$f":"'Formato 1'!E34","v":0},{"$f":"'Formato 1'!F34","v":0}]
["1,2,1,6,4,0,0",1,2,1,6,4,null,null,null,null,null,"Fondos de Fideicomisos, Mandatos y Contratos Análogos a Corto Plazo",null,null,null,{"$f":"'Formato 1'!E35","v":0},{"$f":"'Formato 1'!F35","v":0}]
["1,2,1,6,5,0,0",1,2,1,6,5,null,null,null,null,null,"Otros Fondos de Terceros en Garantía y/o Administración a Corto Plazo",null,null,null,{"$f":"'Formato 1'!E36","v":0},{"$f":"'Formato 1'!F36","v":0}]
["1,2,1,6,6,0,0",1,2,1,6,6,null,null,null,null,null,"Valores y Bienes en Garantía a Corto Plazo",null,null,null,{"$f":"'Formato 1'!E37","v":0},{"$f":"'Formato 1'!F37","v":0}]
["1,2,1,7,0,0,0",1,2,1,7,null,null,null,null,null,"Provisiones a Corto Plazo",null,null,null,null,{"$f":"'Formato 1'!E38","v":0},{"$f":"'Formato 1'!F38","v":0}]
["1,2,1,7,1,0,0",1,2,1,7,1,null,null,null,null,null,"Provisión para Demandas y Juicios a Corto Plazo",null,null,null,{"$f":"'Formato 1'!E39","v":0},{"$f":"'Formato 1'!F39","v":0}]
["1,2,1,7,2,0,0",1,2,1,7,2,null,null,null,null,null,"Provisión para Contingencias a Corto Plazo",null,null,null,{"$f":"'Formato 1'!E40","v":0},{"$f":"'Formato 1'!F40","v":0}]
["1,2,1,7,3,0,0",1,2,1,7,3,null,null,null,null,null,"Otras Provisiones a Corto Plazo",null,null,null,{"$f":"'Formato 1'!E41","v":0},{"$f":"'Formato 1'!F41","v":0}]
["1,2,1,8,0,0,0",1,2,1,8,null,null,null,null,null,"Otros Pasivos a Corto Plazo",null,null,null,null,{"$f":"'Formato 1'!E42","v":0},{"$f":"'Formato 1'!F42","v":0}]
["1,2,1,8,1,0,0",1,2,1,8,1,null,null,null,null,null,"Ingresos por Clasificar",null,null,null,{"$f":"'Formato 1'!E43","v":0},{"$f":"'Formato 1'!F43","v":0}]
["1,2,1,8,2,0,0",1,2,1,8,2,null,null,null,null,null,"Recaudación por Participar",null,null,null,{"$f":"'Formato 1'!E44","v":0},{"$f":"'Formato 1'!F44","v":0}]
["1,2,1,8,3,0,0",1,2,1,8,3,null,null,null,null,null,"Otros Pasivos Circulantes",null,null,null,{"$f":"'Formato 1'!E45","v":0},{"$f":"'Formato 1'!F45","v":0}]
["1,2,1,9,0,0,0",1,2,1,9,null,null,null,null,null,"Total de Pasivos Circulantes",null,null,null,null,{"$f":"'Formato 1'!E47","v":13767246.969999999},{"$f":"'Formato 1'!F47","v":44143115.549999997}]
["1,2,2,0,0,0,0",1,2,2,null,null,null,null,null,"Pasivo No Circulante"]
["1,2,2,1,1,0,0",1,2,2,1,1,null,null,null,null,"Cuentas por Pagar a Largo Plazo",null,null,null,null,{"$f":"'Formato 1'!E50","v":0},{"$f":"'Formato 1'!F50","v":0}]
["1,2,2,1,2,0,0",1,2,2,1,2,null,null,null,null,"Documentos por Pagar a Largo Plazo",null,null,null,null,{"$f":"'Formato 1'!E51","v":0},{"$f":"'Formato 1'!F51","v":0}]
["1,2,2,1,3,0,0",1,2,2,1,3,null,null,null,null,"Deuda Pública a Largo Plazo",null,null,null,null,{"$f":"'Formato 1'!E52","v":8035714.3600000003},{"$f":"'Formato 1'!F52","v":9642857.1999999993}]
["1,2,2,1,4,0,0",1,2,2,1,4,null,null,null,null,"Pasivos Diferidos a Largo Plazo",null,null,null,null,{"$f":"'Formato 1'!E53","v":0},{"$f":"'Formato 1'!F53","v":0}]
["1,2,2,1,5,0,0",1,2,2,1,5,null,null,null,null,"Fondos y Bienes de Terceros en Garantía y/o en Administración a Largo Plazo",null,null,null,null,{"$f":"'Formato 1'!E54","v":0},{"$f":"'Formato 1'!F54","v":0}]
["1,2,2,1,6,0,0",1,2,2,1,6,null,null,null,null,"Provisiones a Largo Plazo",null,null,null,null,{"$f":"'Formato 1'!E55","v":0},{"$f":"'Formato 1'!F55","v":0}]
["1,2,2,1,7,0,0",1,2,2,1,7,null,null,null,null,"Total de Pasivos No Circulantes",null,null,null,null,{"$f":"'Formato 1'!E57","v":8035714.3600000003},{"$f":"'Formato 1'!F57","v":9642857.1999999993}]
["1,2,3,0,0,0,0",1,2,3,null,null,null,null,null,"Total del Pasivo",null,null,null,null,null,{"$f":"'Formato 1'!E59","v":21802961.329999998},{"$f":"'Formato 1'!F59","v":53785972.75}]
["1,2,4,0,0,0,0",1,2,4,null,null,null,null,null,"HACIENDA PÚBLICA/PATRIMONIO"]
["1,2,4,1,0,0,0",1,2,4,1,null,null,null,null,null,"Hacienda Pública/Patrimonio Contribuido",null,null,null,null,{"$f":"'Formato 1'!E63","v":23319492.919999998},{"$f":"'Formato 1'!F63","v":23319492.919999998}]
["1,2,4,1,1,0,0",1,2,4,1,1,null,null,null,null,null,"Aportaciones",null,null,null,{"$f":"'Formato 1'!E64","v":22266596.239999998},{"$f":"'Formato 1'!F64","v":22266596.239999998}]
["1,2,4,1,2,0,0",1,2,4,1,2,null,null,null,null,null,"Donaciones de Capital",null,null,null,{"$f":"'Formato 1'!E65","v":1052896.68},{"$f":"'Formato 1'!F65","v":1052896.68}]
["1,2,4,1,4,0,0",1,2,4,1,4,null,null,null,null,null,"Actualización de la Hacienda Pública/Patrimonio",null,null,null,{"$f":"'Formato 1'!E66","v":0},{"$f":"'Formato 1'!F66","v":0}]
["1,2,4,2,0,0,0",1,2,4,2,null,null,null,null,null,"Hacienda Pública/Patrimonio Generado",null,null,null,null,{"$f":"'Formato 1'!E68","v":484703595.52999997},{"$f":"'Formato 1'!F68","v":406603326.90999997}]
["1,2,4,2,1,0,0",1,2,4,2,1,null,null,null,null,null,"Resultados del Ejercicio (Ahorro/ Desahorro)",null,null,null,{"$f":"'Formato 1'!E69","v":68042716.769999996},{"$f":"'Formato 1'!F69","v":132649066.83}]
["1,2,4,2,2,0,0",1,2,4,2,2,null,null,null,null,null,"Resultados de Ejercicios Anteriores",null,null,null,{"$f":"'Formato 1'!E70","v":416593767.45999998},{"$f":"'Formato 1'!F70","v":273887148.77999997}]
["1,2,4,2,3,0,0",1,2,4,2,3,null,null,null,null,null,"Revalúos",null,null,null,{"$f":"'Formato 1'!E71","v":0},{"$f":"'Formato 1'!F71","v":0}]
["1,2,4,2,4,0,0",1,2,4,2,4,null,null,null,null,null,"Reservas",null,null,null,{"$f":"'Formato 1'!E72","v":0},{"$f":"'Formato 1'!F72","v":0}]
["1,2,4,2,5,0,0",1,2,4,2,5,null,null,null,null,null,"Rectificaciones de Resultados de Ejercicios Anteriores",null,null,null,{"$f":"'Formato 1'!E73","v":67111.3},{"$f":"'Formato 1'!F73","v":67111.3}]
["1,2,4,3,0,0,0",1,2,4,3,null,null,null,null,null,"Exceso o Insuficiencia en la Actualización de la Hacienda Pública/Patrimonio",null,null,null,null,{"$f":"'Formato 1'!E75","v":0},{"$f":"'Formato 1'!F75","v":0}]
["1,2,4,3,1,0,0",1,2,4,3,1,null,null,null,null,null,"Resultado por Posición Monetaria",null,null,null,{"$f":"'Formato 1'!E76","v":0},{"$f":"'Formato 1'!F76","v":0}]
["1,2,4,3,2,0,0",1,2,4,3,2,null,null,null,null,null,"Resultado por Tenencia de Activos no Monetarios",null,null,null,{"$f":"'Formato 1'!E77","v":0},{"$f":"'Formato 1'!F77","v":0}]
["1,2,4,4,0,0,0",1,2,4,4,null,null,null,null,null,"Total Hacienda Pública/Patrimonio",null,null,null,null,{"$f":"'Formato 1'!E79","v":508023088.44999999},{"$f":"'Formato 1'!F79","v":429922819.82999998}]
["1,2,4,5,0,0,0",1,2,4,5,null,null,null,null,null,"Total del Pasivo y Hacienda Pública/Patrimonio",null,null,null,null,{"$f":"'Formato 1'!E81","v":529826049.77999997},{"$f":"'Formato 1'!F81","v":483708792.57999998}]

{"sheet":"Formato 2","index":5,"n_rows":45,"n_cols":8,"rows_kept":45,"cut":false,"hidden":false,"merged":[[32,0,36,7],[0,0,0,5],[0,6,0,7],[1,0,1,7],[2,0,2,7],[3,0,3,7],[4,0,4,7]]}
["Formato 2 Informe Analítico de la Deuda Pública y Otros Pasivos - LDF"]
[{"$f":"ENTE_PUBLICO_A","v":"Municipio de Valle de Santiago, Gto., Gobierno del Estado de Guanajuato (a)"}]
["Informe Analítico de la Deuda Pública y Otros Pasivos - LDF"]
[{"$f":"PERIODO_INFORME","v":"Al 31 de diciembre de 2021 y al 30 de marzo de 2022 (b)"}]
["(PESOS)"]
["Denominación de la Deuda Pública y Otros Pasivos (c)",{"$f":"ULTIMO_SALDO","v":"Saldo al 31 de diciembre de 2021 (d)"},"Disposiciones del Periodo (e)","Amortizaciones del Periodo (f)","Revaluaciones, Reclasificaciones y Otros Ajustes (g)","Saldo Final del Periodo (h)\nh=d+e-f+g","Pago de Intereses del Periodo (i)","Pago de Comisiones y demás costos asociados durante el Periodo (j)"]
[]
["1. Deuda Pública (1=A+B)",{"$f":"B9+B13","v":9642857.1999999993},{"$f":"C9+C13","v":1607142.8399999989},{"$f":"D9+D13","v":2008928.5499999989},0,{"$f":"F9+F13","v":9241071.4899999984},-169821.26,0]
["A. Corto Plazo (A=a1+a2+a3)",0,{"$f":"C10","v":1607142.8399999989},{"$f":"SUM(D10:D12)","v":401785.71},0,{"$f":"C9-D9","v":1205357.129999999},{"$f":"SUM(G10:G12)","v":-169821.26},0]
["a1) Instituciones de Crédito",0,1607142.8399999989,401785.71,0,-169821.26,-169821.26,0]
["a2) Títulos y Valores",0,0,0,0,0,0,0]
["a3) Arrendamientos Financieros",0,0,0,0,0,0,0]
["B. Largo Plazo (B=b1+b2+b3)",{"$f":"SUM(B14:B15)","v":9642857.1999999993},{"$f":"SUM(C14:C15)","v":0},{"$f":"D14","v":1607142.8399999989},0,{"$f":"B13-D13","v":8035714.3600000003},0,0]
["b1) Instituciones de Crédito",9642857.1999999993,0,1607142.8399999989,0,{"$f":"B14-D14","v":8035714.3600000003},0,0]
["b2) Títulos y Valores",0,0,0,0,0,0,0]
["b3) Arrendamientos Financieros",0,0,0,0,0,0,0]
[]
["2. Otros Pasivos ",44143115.549999997,null,null,null,12561889.84]
[]
["3. Total de la Deuda Pública y Otros Pasivos (3=1+2)",{"$f":"B8+B18","v":53785972.75},{"$f":"C8+C18","v":1607142.8399999989},{"$f":"D8+D18","v":2008928.5499999989},{"$f":"E21+E25","v":0},{"$f":"F8+F18","v":21802961.329999998},{"$f":"G8+G18","v":-169821.26},{"$f":"H8+H18","v":0}]
[]
["4. Deuda Contingente 1 (Informativo)",{"$f":"B23+B27","v":0},{"$f":"C23+C27","v":0},{"$f":"D23+D27","v":0},0,{"$f":"F23+F27","v":0},{"$f":"G23+G27","v":0},{"$f":"H23+H27","v":0}]
["A. Deuda Contingente 1",0,0,0,0,0,0,0]
["B. Deuda Contingente 2",0,0,0,0,0,0,0]
["C. Deuda Contingente XX",0,0,0,0,0,0,0]
["*"]
["5. Valor de Instrumentos Bono Cupón Cero 2 (Informativo)",{"$f":"B28+B32","v":0},{"$f":"C28+C32","v":0},{"$f":"D28+D32","v":0},{"$f":"E28+E32","v":0},{"$f":"F28+F32","v":0},{"$f":"G28+G32","v":0},{"$f":"H28+H32","v":0}]
["A. Instrumento Bono Cupón Cero 1",0,0,0,0,0,0,0]
["B. Instrumento Bono Cupón Cero 2",0,0,0,0,0,0,0]
["C. Instrumento Bono Cupón Cero XX",0,0,0,0,0,0,0]
["*"]
[]
["1  Se refiere a cualquier Financiamiento sin fuente o garantía de pago definida, que sea asumida de manera solidaria o subsidiaria por las Entidades Federativas con sus Municipios, organismos descentralizados y empresas de participación estatal mayoritaria y fideicomisos, locales o municipales, y por los Municipios con sus respectivos organismos descentralizados y empresas de participación municipal mayoritaria.\n2  Se refiere al valor del Bono Cupón Cero que respalda el pago de los créditos asociados al mismo (Activo)."]
[]
[]
[]
[]
[]
["Obligaciones a Corto Plazo (k)","Monto Contratado (l)","Plazo Pactado (m)","Tasa de Interés (n)","Comisiones y Costos Relacionados (o)","Tasa Efectiva (p)"]
[]
["6. Obligaciones a Corto Plazo (Informativo)",{"$f":"B42+B46","v":0},{"$f":"C42+C46","v":0},{"$f":"D42+D46","v":0},{"$f":"E42+E46","v":0},{"$f":"F42+F46","v":0}]
["A. Crédito 1",0,0,0,0,0]
["B. Crédito 2",0,0,0,0,0]
["C. Crédito XX",0,0,0,0,0]
["*"]

{"sheet":"F02","index":6,"n_rows":17,"n_cols":22,"rows_kept":17,"cut":false,"hidden":true,"merged":[]}
["CLAVE","N1","N2","N3","N4","N5","N6","N7","C  O  N  C  E  P  T  O  S",null,null,null,null,null,null,"SALDO_ANT","DISP","AMORT","REVAL","SALDO_FIN","PAGO_INT","PAGO_COM"]
[{"$f":"IF(LEN(CLEAN(B2))=0,\"0\",B2)&\",\"&IF(LEN(CLEAN(C2))=0,\"0\",C2)&\",\"&IF(LEN(CLEAN(D2))=0,\"0\",D2)&\",\"&IF(LEN(CLEAN(E2))=0,\"0\",E2)&\",\"&IF(LEN(CLEAN(F2))=0,\"0\",F2)&\",\"&IF(LEN(CLEAN(G2))=0,\"0\",G2)&\",\"&IF(LEN(CLEAN(H2))=0,\"0\",H2)","v":"2,1,0,0,0,0,0"},2,1,null,null,null,null,null,"Denominación de la Deuda Pública y Otros Pasivos",null,null,null,null,null,null," "," "]
[{"$f":"IF(LEN(CLEAN(B3))=0,\"0\",B3)&\",\"&IF(LEN(CLEAN(C3))=0,\"0\",C3)&\",\"&IF(LEN(CLEAN(D3))=0,\"0\",D3)&\",\"&IF(LEN(CLEAN(E3))=0,\"0\",E3)&\",\"&IF(LEN(CLEAN(F3))=0,\"0\",F3)&\",\"&IF(LEN(CLEAN(G3))=0,\"0\",G3)&\",\"&IF(LEN(CLEAN(H3))=0,\"0\",H3)","v":"2,1,1,0,0,0,0"},2,1,1,null,null,null,null,null,"Deuda Pública",null,null,null,null,null,{"$f":"'Formato 2'!B8","v":9642857.1999999993},{"$f":"'Formato 2'!C8","v":1607142.8399999989},{"$f":"'Formato 2'!D8","v":2008928.5499999989},{"$f":"'Formato 2'!E8","v":0},{"$f":"'Formato 2'!F8","v":9241071.4899999984},{"$f":"'Formato 2'!G8","v":-169821.26},{"$f":"'Formato 2'!H8","v":0}]
["2,1,1,1,0,0,0",2,1,1,1,null,null,null,null,null,"Corto Plazo",null,null,null,null,{"$f":"'Formato 2'!B9","v":0},{"$f":"'Formato 2'!C9","v":1607142.8399999989},{"$f":"'Formato 2'!D9","v":401785.71},{"$f":"'Formato 2'!E9","v":0},{"$f":"'Formato 2'!F9","v":1205357.129999999},{"$f":"'Formato 2'!G9","v":-169821.26},{"$f":"'Formato 2'!H9","v":0}]
["2,1,1,1,1,0,0",2,1,1,1,1,null,null,null,null,null,"Instituciones de Crédito",null,null,null,{"$f":"'Formato 2'!B10","v":0},{"$f":"'Formato 2'!C10","v":1607142.8399999989},{"$f":"'Formato 2'!D10","v":401785.71},{"$f":"'Formato 2'!E10","v":0},{"$f":"'Formato 2'!F10","v":-169821.26},{"$f":"'Formato 2'!G10","v":-169821.26},{"$f":"'Formato 2'!H10","v":0}]
["2,1,1,1,2,0,0",2,1,1,1,2,null,null,null,null,null,"Títulos y Valores",null,null,null,{"$f":"'Formato 2'!B11","v":0},{"$f":"'Formato 2'!C11","v":0},{"$f":"'Formato 2'!D11","v":0},{"$f":"'Formato 2'!E11","v":0},{"$f":"'Formato 2'!F11","v":0},{"$f":"'Formato 2'!G11","v":0},{"$f":"'Formato 2'!H11","v":0}]
[{"$f":"IF(LEN(CLEAN(B7))=0,\"0\",B7)&\",\"&IF(LEN(CLEAN(C7))=0,\"0\",C7)&\",\"&IF(LEN(CLEAN(D7))=0,\"0\",D7)&\",\"&IF(LEN(CLEAN(E7))=0,\"0\",E7)&\",\"&IF(LEN(CLEAN(F7))=0,\"0\",F7)&\",\"&IF(LEN(CLEAN(G7))=0,\"0\",G7)&\",\"&IF(LEN(CLEAN(H7))=0,\"0\",H7)","v":"2,1,1,1,3,0,0"},2,1,1,1,3,null,null,null,null,null,"Arrendamientos Financieros",null,null,null,{"$f":"'Formato 2'!B12","v":0},{"$f":"'Formato 2'!C12","v":0},{"$f":"'Formato 2'!D12","v":0},{"$f":"'Formato 2'!E12","v":0},{"$f":"'Formato 2'!F12","v":0},{"$f":"'Formato 2'!G12","v":0},{"$f":"'Formato 2'!H12","v":0}]
[{"$f":"IF(LEN(CLEAN(B8))=0,\"0\",B8)&\",\"&IF(LEN(CLEAN(C8))=0,\"0\",C8)&\",\"&IF(LEN(CLEAN(D8))=0,\"0\",D8)&\",\"&IF(LEN(CLEAN(E8))=0,\"0\",E8)&\",\"&IF(LEN(CLEAN(F8))=0,\"0\",F8)&\",\"&IF(LEN(CLEAN(G8))=0,\"0\",G8)&\",\"&IF(LEN(CLEAN(H8))=0,\"0\",H8)","v":"2,1,1,2,0,0,0"},2,1,1,2,null,null,null,null,null,"Largo Plazo",null,null,null,null,{"$f":"'Formato 2'!B13","v":9642857.1999999993},{"$f":"'Formato 2'!C13","v":0},{"$f":"'Formato 2'!D13","v":1607142.8399999989},{"$f":"'Formato 2'!E13","v":0},{"$f":"'Formato 2'!F13","v":8035714.3600000003},{"$f":"'Formato 2'!G13","v":0},{"$f":"'Formato 2'!H13","v":0}]
["2,1,1,2,1,0,0",2,1,1,2,1,null,null,null,null,null,"Instituciones de Crédito",null,null,null,{"$f":"'Formato 2'!B14","v":9642857.1999999993},{"$f":"'Formato 2'!C14","v":0},{"$f":"'Formato 2'!D14","v":1607142.8399999989},{"$f":"'Formato 2'!E14","v":0},{"$f":"'Formato 2'!F14","v":8035714.3600000003},{"$f":"'Formato 2'!G14","v":0},{"$f":"'Formato 2'!H14","v":0}]
["2,1,1,2,2,0,0",2,1,1,2,2,null,null,null,null,null,"Títulos y Valores",null,null,null,{"$f":"'Formato 2'!B15","v":0},{"$f":"'Formato 2'!C15","v":0},{"$f":"'Formato 2'!D15","v":0},{"$f":"'Formato 2'!E15","v":0},{"$f":"'Formato 2'!F15","v":0},{"$f":"'Formato 2'!G15","v":0},{"$f":"'Formato 2'!H15","v":0}]
["2,1,1,2,3,0,0",2,1,1,2,3,null,null,null,null,null,"Arrendamientos Financieros",null,null,null,{"$f":"'Formato 2'!B16","v":0},{"$f":"'Formato 2'!C16","v":0},{"$f":"'Formato 2'!D16","v":0},{"$f":"'Formato 2'!E16","v":0},{"$f":"'Formato 2'!F16","v":0},{"$f":"'Formato 2'!G16","v":0},{"$f":"'Formato 2'!H16","v":0}]
[{"$f":"IF(LEN(CLEAN(B12))=0,\"0\",B12)&\",\"&IF(LEN(CLEAN(C12))=0,\"0\",C12)&\",\"&IF(LEN(CLEAN(D12))=0,\"0\",D12)&\",\"&IF(LEN(CLEAN(E12))=0,\"0\",E12)&\",\"&IF(LEN(CLEAN(F12))=0,\"0\",F12)&\",\"&IF(LEN(CLEAN(G12))=0,\"0\",G12)&\",\"&IF(LEN(CLEAN(H12))=0,\"0\",H12)","v":"2,1,2,0,0,0,0"},2,1,2,null,null,null,null,null,"Otros Pasivos",null,null,null,null,null,{"$f":"'Formato 2'!B18","v":44143115.549999997},null,null,null,{"$f":"'Formato 2'!F18","v":12561889.84}]
["2,1,3,0,0,0,0",2,1,3,null,null,null,null,null,"Total de la Deuda Pública y Otros Pasivos",null,null,null,null,null,{"$f":"'Formato 2'!B20","v":53785972.75},{"$f":"'Formato 2'!C20","v":1607142.8399999989},{"$f":"'Formato 2'!D20","v":2008928.5499999989},{"$f":"'Formato 2'!E20","v":0},{"$f":"'Formato 2'!F20","v":21802961.329999998},{"$f":"'Formato 2'!G20","v":-169821.26},{"$f":"'Formato 2'!H20","v":0}]
["2,1,4,0,0,0,0",2,1,4,null,null,null,null,null,"Deuda Contingente",null,null,null,null,null,{"$f":"DEUDA_CONT_T1","v":0},{"$f":"DEUDA_CONT_T2","v":0},{"$f":"DEUDA_CONT_T3","v":0},{"$f":"DEUDA_CONT_T4","v":0},{"$f":"DEUDA_CONT_T4","v":0},{"$f":"DEUDA_CONT_T6","v":0},{"$f":"DEUDA_CONT_T7","v":0}]
[{"$f":"IF(LEN(CLEAN(B15))=0,\"0\",B15)&\",\"&IF(LEN(CLEAN(C15))=0,\"0\",C15)&\",\"&IF(LEN(CLEAN(D15))=0,\"0\",D15)&\",\"&IF(LEN(CLEAN(E15))=0,\"0\",E15)&\",\"&IF(LEN(CLEAN(F15))=0,\"0\",F15)&\",\"&IF(LEN(CLEAN(G15))=0,\"0\",G15)&\",\"&IF(LEN(CLEAN(H15))=0,\"0\",H15)","v":"2,1,5,0,0,0,0"},2,1,5,null,null,null,null,null,"Valor de Instrumentos Bono Cupón Cero",null,null,null,null,null,{"$f":"VALOR_INS_BCC_T1","v":0},{"$f":"VALOR_INS_BCC_T2","v":0},{"$f":"VALOR_INS_BCC_T3","v":0},{"$f":"VALOR_INS_BCC_T4","v":0},{"$f":"VALOR_INS_BCC_T5","v":0},{"$f":"VALOR_INS_BCC_T6","v":0},{"$f":"VALOR_INS_BCC_T7","v":0}]
[{"$f":"IF(LEN(CLEAN(B16))=0,\"0\",B16)&\",\"&IF(LEN(CLEAN(C16))=0,\"0\",C16)&\",\"&IF(LEN(CLEAN(D16))=0,\"0\",D16)&\",\"&IF(LEN(CLEAN(E16))=0,\"0\",E16)&\",\"&IF(LEN(CLEAN(F16))=0,\"0\",F16)&\",\"&IF(LEN(CLEAN(G16))=0,\"0\",G16)&\",\"&IF(LEN(CLEAN(H16))=0,\"0\",H16)","v":"2,2,0,0,0,0,0"},2,2,null,null,null,null,null,"Obligaciones a Corto Plazo",null,null,null,null,null,null,"MONTO","PLAZO","TASA_INTERES","COMISIONES","TASA_EFECTIVA"]
["2,2,1,0,0,0,0",2,2,1,null,null,null,null,null,"Obligaciones a Corto Plazo",null,null,null,null,null,{"$f":"OB_CORTO_PLAZO_T1","v":0},{"$f":"OB_CORTO_PLAZO_T2","v":0},{"$f":"OB_CORTO_PLAZO_T3","v":0},{"$f":"OB_CORTO_PLAZO_T4","v":0},{"$f":"OB_CORTO_PLAZO_T5","v":0}]

{"sheet":"Formato 3","index":7,"n_rows":20,"n_cols":11,"rows_kept":20,"cut":false,"hidden":false,"merged":[[1,0,1,10],[2,0,2,10],[3,0,3,10],[4,0,4,10],[0,0,0,10]]}
["Formato 3 Informe Analítico de Obligaciones Diferentes de Financiamientos - LDF"]
[{"$f":"ENTE_PUBLICO_A","v":"Municipio de Valle de Santiago, Gto., Gobierno del Estado de Guanajuato (a)"}]
["Informe Analítico de Obligaciones Diferentes de Financiamientos – LDF"]
[{"$f":"TRIMESTRE","v":"Del 1 de enero al 30 de marzo de 2022 (b)"}]
["(PESOS)"]
["Denominación de las Obligaciones Diferentes de Financiamiento (c)","Fecha del Contrato (d)","Fecha de inicio de operación del proyecto (e)","Fecha de vencimiento (f)","Monto de la inversión pactado (g)","Plazo pactado (h)","Monto promedio mensual del pago de la contraprestación (i)","Monto promedio mensual del pago de la contraprestación correspondiente al pago de inversión (j)",{"$f":"MONTO1","v":"Monto pagado de la inversión al 30 de marzo de 2022 (k)"},{"$f":"MONTO2","v":"Monto pagado de la inversión actualizado al 30 de marzo de 2022 (l)"},{"$f":"SALDO_PENDIENTE","v":"Saldo pendiente por pagar de la inversión al 30 de marzo de 2022 (m = g – l)"}]
[]
["A. Asociaciones Público Privadas (APP’s) (A=a+b+c+d)",null,null,null,0,null,0,0,0,0,0]
["a) APP 1",null,null,null,0,0,0,0,0,0,0]
["b) APP 2",null,null,null,0,0,0,0,0,0,0]
["c) APP 3",null,null,null,0,0,0,0,0,0,0]
["d) APP XX",null,null,null,0,0,0,0,0,0,0]
["*"]
["B. Otros Instrumentos (B=a+b+c+d)",null,null,null,0,null,0,0,0,0,0]
["a) Otro Instrumento 1",null,null,null,0,0,0,0,0,0,0]
["b) Otro Instrumento 2",null,null,null,0,0,0,0,0,0,0]
["c) Otro Instrumento 3",null,null,null,0,0,0,0,0,0,0]
["d) Otro Instrumento XX",null,null,null,0,0,0,0,0,0,0]
["*"]
["C. Total de Obligaciones Diferentes de Financiamiento (C=A+B)",null,null,null,0,null,0,0,0,0,0]

{"sheet":"F03","index":8,"n_rows":5,"n_cols":25,"rows_kept":5,"cut":false,"hidden":true,"merged":[]}
["CLAVE","N1","N2","N3","N4","N5","N6","N7","C  O  N  C  E  P  T  O  S",null,null,null,null,null,null,"FECHA_CONTRATO","FECHA_INICIO","FECHA_VENCIMIENTO","MONTO_INVERSION","PLAZO","MONTO_PROMEDIO","MONTO_PROMEDIO_INV","MONTO_PAGADO","MONTO_PAGADO_ACTUALIZADO","SALDO_PENDIENTE"]
[{"$f":"IF(LEN(CLEAN(B2))=0,\"0\",B2)&\",\"&IF(LEN(CLEAN(C2))=0,\"0\",C2)&\",\"&IF(LEN(CLEAN(D2))=0,\"0\",D2)&\",\"&IF(LEN(CLEAN(E2))=0,\"0\",E2)&\",\"&IF(LEN(CLEAN(F2))=0,\"0\",F2)&\",\"&IF(LEN(CLEAN(G2))=0,\"0\",G2)&\",\"&IF(LEN(CLEAN(H2))=0,\"0\",H2)","v":"3,1,0,0,0,0,0"},3,1,null,null,null,null,null,"Denominación de las Obligaciones Diferentes de Financiamiento",null,null,null,null,null,null," "," "]
[{"$f":"IF(LEN(CLEAN(B3))=0,\"0\",B3)&\",\"&IF(LEN(CLEAN(C3))=0,\"0\",C3)&\",\"&IF(LEN(CLEAN(D3))=0,\"0\",D3)&\",\"&IF(LEN(CLEAN(E3))=0,\"0\",E3)&\",\"&IF(LEN(CLEAN(F3))=0,\"0\",F3)&\",\"&IF(LEN(CLEAN(G3))=0,\"0\",G3)&\",\"&IF(LEN(CLEAN(H3))=0,\"0\",H3)","v":"3,1,1,0,0,0,0"},3,1,1,null,null,null,null,null,"Asociaciones Público Privadas",null,null,null,null,null,null,null,null,{"$f":"APP_T4","v":0},null,{"$f":"APP_T6","v":0},{"$f":"APP_T7","v":0},{"$f":"APP_T8","v":0},{"$f":"APP_T9","v":0},{"$f":"APP_T10","v":0}]
["3,1,2,1,1,0,0",3,1,2,1,1,null,null,null,"Otros Instrumentos",null,null,null,null,null,null,null,null,{"$f":"OTROS_T4","v":0},null,{"$f":"OTROS_T6","v":0},{"$f":"OTROS_T7","v":0},{"$f":"OTROS_T8","v":0},{"$f":"OTROS_T9","v":0},{"$f":"OTROS_T10","v":0}]
["3,1,3,0,0,0,0",3,1,3,null,null,null,null,null,"Total de Obligaciones Diferentes de Financiamiento",null,null,null,null,null,null,null,null,{"$f":"TOTAL_ODF_T4","v":0},null,{"$f":"TOTAL_ODF_T6","v":0},{"$f":"TOTAL_ODF_T7","v":0},{"$f":"TOTAL_ODF_T8","v":0},{"$f":"TOTAL_ODF_T9","v":0},{"$f":"TOTAL_ODF_T10","v":0}]

{"sheet":"Formato 4","index":9,"n_rows":74,"n_cols":4,"rows_kept":74,"cut":false,"hidden":false,"merged":[[1,0,1,3],[2,0,2,3],[3,0,3,3],[4,0,4,3],[0,0,0,3]]}
["Formato 4 Balance Presupuestario - LDF"]
[{"$f":"ENTE_PUBLICO_A","v":"Municipio de Valle de Santiago, Gto., Gobierno del Estado de Guanajuato (a)"}]
["Balance Presupuestario - LDF"]
[{"$f":"TRIMESTRE","v":"Del 1 de enero al 30 de marzo de 2022 (b)"}]
["(PESOS)"]
[]
["Concepto (c)","Estimado/\nAprobado (d)","Devengado","Recaudado/\nPagado"]
["A. Ingresos Totales (A = A1+A2+A3)",{"$f":"SUM(B9:B11)","v":500000000},{"$f":"SUM(C9:C11)","v":131821700.02000001},{"$f":"SUM(D9:D11)","v":131821700.02000001}]
["A1. Ingresos de Libre Disposición",317000000,79967207.180000007,79967207.180000007]
["A2. Transferencias Federales Etiquetadas",183000000,51854492.840000004,51854492.840000004]
["A3. Financiamiento Neto",0,0,0]
[]
["B. Egresos Presupuestarios1 (B = B1+B2)",{"$f":"SUM(B14:B15)","v":498392857.15999997},{"$f":"SUM(C14:C16)","v":88394087.539999992},{"$f":"SUM(D14:D16)","v":81548068.019999996}]
["B1. Gasto No Etiquetado (sin incluir Amortización de la Deuda Pública)",232000000,44527266.350000001,43778673.939999998]
["B2. Gasto Etiquetado (sin incluir Amortización de la Deuda Pública) ",266392857.16,43866821.189999998,37769394.079999998]
[]
["C. Remanentes del Ejercicio Anterior ( C = C1 + C2 )",0,{"$f":"SUM(C18:C20)","v":24266994.18},{"$f":"SUM(D18:D19)","v":24266994.18}]
["C1. Remanentes de Ingresos de Libre Disposición aplicados en el periodo",0,24266994.18,24266994.18]
["C2. Remanentes de Transferencias Federales Etiquetadas aplicados en el periodo",0,0,0]
[]
["I. Balance Presupuestario (I = A – B + C)  ",{"$f":"B8-B13+B17","v":1607142.8400000334},{"$f":"C8-C13+C17","v":67694606.660000026},{"$f":"D8-D13+D17","v":74540626.180000007}]
[]
["II. Balance Presupuestario sin Financiamiento Neto (II = I - A3)",{"$f":"B21-B11","v":1607142.8400000334},{"$f":"C21-C11","v":67694606.660000026},{"$f":"D21-D11","v":74540626.180000007}]
[]
["III. Balance Presupuestario sin Financiamiento Neto y sin Remanentes del Ejercicio Anterior (III= II - C)",{"$f":"B23-B17","v":1607142.8400000334},{"$f":"C23-C17","v":43427612.480000027},{"$f":"D23-D17","v":50273632.000000007}]
[]
[]
["Concepto","Aprobado","Devengado","Pagado"]
["E. Intereses, Comisiones y Gastos de la Deuda (E = E1+E2)",{"$f":"SUM(B30:B31)","v":600000},{"$f":"SUM(C30:C31)","v":169821.26},{"$f":"SUM(D30:D31)","v":169821.26}]
["E1. Intereses, Comisiones y Gastos de la Deuda con Gasto No Etiquetado",0,0,0]
["E2. Intereses, Comisiones y Gastos de la Deuda con Gasto Etiquetado",600000,169821.26,169821.26]
[]
["IV. Balance Primario (IV = III + E)",{"$f":"B25+B29","v":2207142.8400000334},{"$f":"C25+C29","v":43597433.740000024},{"$f":"D25+D29","v":50443453.260000005}]
[]
[]
["Concepto","Estimado/\nAprobado","Devengado","Recaudado/\nPagado"]
["F. Financiamiento (F = F1 + F2)",{"$f":"SUM(B38:B39)","v":0},{"$f":"SUM(C38:C39)","v":0},{"$f":"SUM(D38:D39)","v":0}]
["F1. Financiamiento con Fuente de Pago de Ingresos de Libre Disposición",0,0,0]
["F2. Financiamiento con Fuente de Pago de Transferencias Federales Etiquetadas",0,0,0]
["G. Amortización de la Deuda (G = G1 + G2)",{"$f":"SUM(B41:B42)","v":1607142.84},{"$f":"SUM(C41:C42)","v":401785.71},{"$f":"SUM(D41:D42)","v":401785.71}]
["G1. Amortización de la Deuda Pública con Gasto No Etiquetado",0,0,0]
["G2. Amortización de la Deuda Pública con Gasto Etiquetado",1607142.84,401785.71,401785.71]
[]
["A3. Financiamiento Neto (A3 = F – G )",{"$f":"B37-B40","v":-1607142.84},{"$f":"C37-C40","v":-401785.71},{"$f":"D37-D40","v":-401785.71}]
[]
[]
["Concepto","Estimado/\nAprobado","Devengado","Recaudado/\nPagado"]
["A1. Ingresos de Libre Disposición ",232000000,79967207.180000007,79967207.180000007]
["A3.1 Financiamiento Neto con Fuente de Pago de Ingresos de Libre Disposición (A3.1 = F1 – G1)",{"$f":"SUM(B50:B51)","v":0},{"$f":"SUM(C50:C51)","v":0},{"$f":"SUM(D50:D51)","v":0}]
["F1. Financiamiento con Fuente de Pago de Ingresos de Libre Disposición",0,0,0]
["G1. Amortización de la Deuda Pública con Gasto No Etiquetado",0,0,0]
[]
["B1. Gasto No Etiquetado (sin incluir Amortización de la Deuda Pública)",232000000,44527266.350000001,43778673.939999998]
[]
["C1. Remanentes de Ingresos de Libre Disposición aplicados en el periodo",0,24266994.18,24266994.18]
[]
["V. Balance Presupuestario de Recursos Disponibles \n(V = A1 + A3.1 – B 1 + C1)",{"$f":"B48+B49-B53+B55","v":0},{"$f":"C48+C49-C53+C55","v":59706935.010000005},{"$f":"D48+D49-D53+D55","v":60455527.420000009}]
[]
["VI. Balance Presupuestario de Recursos Disponibles sin Financiamiento Neto (VI = V – A3.1)",{"$f":"B57-B49","v":0},{"$f":"C57-C49","v":59706935.010000005},{"$f":"D57+D49","v":60455527.420000009}]
[]
[]
["Concepto","Estimado/\nAprobado","Devengado","Recaudado/\nPagado"]
["A2. Transferencias Federales Etiquetadas",183000000,51854492.840000004,51854492.840000004]
["A3.2 Financiamiento Neto con Fuente de Pago de Transferencias Federales Etiquetadas (A3.2 = F2 – G2)",{"$f":"B65-B66","v":-1607142.84},{"$f":"C65-C66","v":-401785.71},{"$f":"D65-D66","v":-401785.71}]
["F2. Financiamiento con Fuente de Pago de Transferencias Federales Etiquetadas",0,0,0]
["G2. Amortización de la Deuda Pública con Gasto Etiquetado",1607142.84,401785.71,401785.71]
[]
["B2. Gasto Etiquetado (sin incluir Amortización de la Deuda Pública)",266392857.16,43866821.189999998,37769394.079999998]
[]
["C2. Remanentes de Transferencias Federales Etiquetadas aplicados en el periodo",0,0,0]
[]
["VII. Balance Presupuestario de Recursos Etiquetados \n(VII = A2 + A3.2 – B2 + C2)",{"$f":"B63+B64-B68+B70","v":-85000000},{"$f":"C63+C64-C68+C70","v":7585885.9400000051},{"$f":"D63+D64-D68+D70","v":13683313.050000004}]
[]
["VIII. Balance Presupuestario de Recursos Etiquetados sin Financiamiento Neto (VIII = VII – A3.2)",{"$f":"B72-B64","v":-83392857.159999996},{"$f":"C72-C64","v":7987671.650000005},{"$f":"D72-D64","v":14085098.760000005}]

{"sheet":"F04","index":10,"n_rows":39,"n_cols":18,"rows_kept":39,"cut":false,"hidden":true,"merged":[]}
["CLAVE","N1","N2","N3","N4","N5","N6","N7","C  O  N  C  E  P  T  O  S",null,null,null,null,null,null,"EST_APROB","DEVENGADO","RECAUDADO_PAGADO"]
[{"$f":"IF(LEN(CLEAN(B2))=0,\"0\",B2)&\",\"&IF(LEN(CLEAN(C2))=0,\"0\",C2)&\",\"&IF(LEN(CLEAN(D2))=0,\"0\",D2)&\",\"&IF(LEN(CLEAN(E2))=0,\"0\",E2)&\",\"&IF(LEN(CLEAN(F2))=0,\"0\",F2)&\",\"&IF(LEN(CLEAN(G2))=0,\"0\",G2)&\",\"&IF(LEN(CLEAN(H2))=0,\"0\",H2)","v":"4,1,0,0,0,0,0"},4,1,null,null,null,null,null,"Ingresos Totales",null,null,null,null,null,null,{"$f":"'Formato 4'!B8","v":500000000},{"$f":"'Formato 4'!C8","v":131821700.02000001},{"$f":"'Formato 4'!D8","v":131821700.02000001}]
["4,1,1,0,0,0,0",4,1,1,null,null,null,null,null,"Ingresos de Libre Disposición",null,null,null,null,null,{"$f":"'Formato 4'!B9","v":317000000},{"$f":"'Formato 4'!C9","v":79967207.180000007},{"$f":"'Formato 4'!D9","v":79967207.180000007}]
["4,1,2,0,0,0,0",4,1,2,null,null,null,null,null,"Transferencias Federales Etiquetadas",null,null,null,null,null,{"$f":"'Formato 4'!B10","v":183000000},{"$f":"'Formato 4'!C10","v":51854492.840000004},{"$f":"'Formato 4'!D10","v":51854492.840000004}]
["4,1,3,0,0,0,0",4,1,3,null,null,null,null,null,"Financiamiento Neto",null,null,null,null,null,{"$f":"'Formato 4'!B11","v":0},{"$f":"'Formato 4'!C11","v":0},{"$f":"'Formato 4'!D11","v":0}]
["4,2,0,0,0,0,0",4,2,null,null,null,null,null,"Egresos Presupuestarios",null,null,null,null,null,null,{"$f":"'Formato 4'!B13","v":498392857.15999997},{"$f":"'Formato 4'!C13","v":88394087.539999992},{"$f":"'Formato 4'!D13","v":81548068.019999996}]
["4,2,1,0,0,0,0",4,2,1,null,null,null,null,null,"Gasto No Etiquetado",null,null,null,null,null,{"$f":"'Formato 4'!B14","v":232000000},{"$f":"'Formato 4'!C14","v":44527266.350000001},{"$f":"'Formato 4'!D14","v":43778673.939999998}]
["4,2,2,0,0,0,0",4,2,2,null,null,null,null,null,"Gasto Etiquetado",null,null,null,null,null,{"$f":"'Formato 4'!B15","v":266392857.16},{"$f":"'Formato 4'!C15","v":43866821.189999998},{"$f":"'Formato 4'!D15","v":37769394.079999998}]
["4,3,0,0,0,0,0",4,3,null,null,null,null,null,"Remanentes del Ejercicio Anterior",null,null,null,null,null,null,null,{"$f":"'Formato 4'!C17","v":24266994.18},{"$f":"'Formato 4'!D17","v":24266994.18}]
["4,3,1,0,0,0,0",4,3,1,null,null,null,null,null,"Remanentes de Ingresos de Libre Disposición aplicados en el periodo",null,null,null,null,null,null,{"$f":"'Formato 4'!C18","v":24266994.18},{"$f":"'Formato 4'!D18","v":24266994.18}]
["4,3,2,0,0,0,0",4,3,2,null,null,null,null,null,"Remanentes de Transferencias Federales Etiquetadas aplicados en el periodo",null,null,null,null,null,null,{"$f":"'Formato 4'!C19","v":0},{"$f":"'Formato 4'!D19","v":0}]
["4,4,0,0,0,0,0",4,4,null,null,null,null,null,"Balance Presupuestario",null,null,null,null,null,null,{"$f":"'Formato 4'!B21","v":1607142.8400000334},{"$f":"'Formato 4'!C21","v":67694606.660000026},{"$f":"'Formato 4'!D21","v":74540626.180000007}]
["4,5,0,0,0,0,0",4,5,null,null,null,null,null,"Balance Presupuestario sin Financiamiento Neto",null,null,null,null,null,null,{"$f":"'Formato 4'!B23","v":1607142.8400000334},{"$f":"'Formato 4'!C23","v":67694606.660000026},{"$f":"'Formato 4'!D23","v":74540626.180000007}]
["4,6,0,0,0,0,0",4,6,null,null,null,null,null,"Balance Presupuestario sin Financiamiento Neto y sin Remanentes del Ejercicio Anterior",null,null,null,null,null,null,{"$f":"'Formato 4'!B25","v":1607142.8400000334},{"$f":"'Formato 4'!C25","v":43427612.480000027},{"$f":"'Formato 4'!D25","v":50273632.000000007}]
["4,7,0,0,0,0,0",4,7,null,null,null,null,null,"Intereses, Comisiones y Gastos de la Deuda",null,null,null,null,null,null,{"$f":"'Formato 4'!B29","v":600000},{"$f":"'Formato 4'!C29","v":169821.26},{"$f":"'Formato 4'!D29","v":169821.26}]
["4,7,1,0,0,0,0",4,7,1,null,null,null,null,null,"Intereses, Comisiones y Gastos de la Deuda con Gasto No Etiquetado",null,null,null,null,null,{"$f":"'Formato 4'!B30","v":0},{"$f":"'Formato 4'!C30","v":0},{"$f":"'Formato 4'!D30","v":0}]
["4,7,2,0,0,0,0",4,7,2,null,null,null,null,null,"Intereses, Comisiones y Gastos de la Deuda con Gasto Etiquetado",null,null,null,null,null,{"$f":"'Formato 4'!B31","v":600000},{"$f":"'Formato 4'!C31","v":169821.26},{"$f":"'Formato 4'!D31","v":169821.26}]
["4,8,0,0,0,0,0",4,8,null,null,null,null,null,"Balance Primario",null,null,null,null,null,null,{"$f":"'Formato 4'!B33","v":2207142.8400000334},{"$f":"'Formato 4'!C33","v":43597433.740000024},{"$f":"'Formato 4'!D33","v":50443453.260000005}]
["4,8,0,0,0,0,0",4,8,null,null,null,null,null,"Financiamiento",null,null,null,null,null,null,{"$f":"'Formato 4'!B37","v":0},{"$f":"'Formato 4'!C37","v":0},{"$f":"'Formato 4'!D37","v":0}]
["4,8,1,0,0,0,0",4,8,1,null,null,null,null,null,"Financiamiento con Fuente de Pago de Ingresos de Libre Disposición",null,null,null,null,null,{"$f":"'Formato 4'!B38","v":0},{"$f":"'Formato 4'!C38","v":0},{"$f":"'Formato 4'!D38","v":0}]
["4,8,2,0,0,0,0",4,8,2,null,null,null,null,null,"Financiamiento con Fuente de Pago de Transferencias Federales Etiquetadas",null,null,null,null,null,{"$f":"'Formato 4'!B39","v":0},{"$f":"'Formato 4'!C39","v":0},{"$f":"'Formato 4'!D39","v":0}]
["4,9,0,0,0,0,0",4,9,null,null,null,null,null,"Amortización de la Deuda",null,null,null,null,null,null,{"$f":"'Formato 4'!B40","v":1607142.84},{"$f":"'Formato 4'!C40","v":401785.71},{"$f":"'Formato 4'!D40","v":401785.71}]
["4,9,1,0,0,0,0",4,9,1,null,null,null,null,null,"G1. Amortización de la Deuda Pública con Gasto No Etiquetado",null,null,null,null,null,{"$f":"'Formato 4'!B41","v":0},{"$f":"'Formato 4'!C41","v":0},{"$f":"'Formato 4'!D41","v":0}]
["4,9,2,0,0,0,0",4,9,2,null,null,null,null,null,"G2. Amortización de la Deuda Pública con Gasto Etiquetado",null,null,null,null,null,{"$f":"'Formato 4'!B42","v":1607142.84},{"$f":"'Formato 4'!C42","v":401785.71},{"$f":"'Formato 4'!D42","v":401785.71}]
["4,10,0,0,0,0,0",4,10,null,null,null,null,null,"Financiamiento Neto",null,null,null,null,null,null,{"$f":"'Formato 4'!B44","v":-1607142.84},{"$f":"'Formato 4'!C44","v":-401785.71},{"$f":"'Formato 4'!D44","v":-401785.71}]
["4,11,0,0,0,0,0",4,11,null,null,null,null,null,"Ingresos de Libre Disposición",null,null,null,null,null,null,{"$f":"'Formato 4'!B48","v":232000000},{"$f":"'Formato 4'!C48","v":79967207.180000007},{"$f":"'Formato 4'!D48","v":79967207.180000007}]
["4,11,1,0,0,0,0",4,11,1,null,null,null,null,null,"Financiamiento Neto con Fuente de Pago de Ingresos de Libre",null,null,null,null,null,{"$f":"'Formato 4'!B49","v":0},{"$f":"'Formato 4'!C49","v":0},{"$f":"'Formato 4'!D49","v":0}]
["4,11,1,1,0,0,0",4,11,1,1,null,null,null,null,null,"Financiamiento con Fuente de Pago de Ingresos de Libre Disposición",null,null,null,null,{"$f":"'Formato 4'!B50","v":0},{"$f":"'Formato 4'!C50","v":0},{"$f":"'Formato 4'!D50","v":0}]
["4,11,1,2,0,0,0",4,11,1,2,null,null,null,null,null,"Amortización de la Deuda Pública con Gasto No Etiquetado",null,null,null,null,{"$f":"'Formato 4'!B51","v":0},{"$f":"'Formato 4'!C51","v":0},{"$f":"'Formato 4'!D51","v":0}]
["4,12,0,0,0,0,0",4,12,null,null,null,null,null,"Gasto No Etiquetado",null,null,null,null,null,null,{"$f":"'Formato 4'!B53","v":232000000},{"$f":"'Formato 4'!C53","v":44527266.350000001},{"$f":"'Formato 4'!D53","v":43778673.939999998}]
["4,13,0,0,0,0,0",4,13,null,null,null,null,null,"Remanentes de Ingresos de Libre Disposición aplicados en el periodo",null,null,null,null,null,null,null,{"$f":"'Formato 4'!C55","v":24266994.18},{"$f":"'Formato 4'!D55","v":24266994.18}]
["4,14,0,0,0,0,0",4,14,null,null,null,null,null,"Transferencias Federales Etiquetadas",null,null,null,null,null,null,{"$f":"'Formato 4'!B63","v":183000000},{"$f":"'Formato 4'!C63","v":51854492.840000004},{"$f":"'Formato 4'!D63","v":51854492.840000004}]
["4,14,1,0,0,0,0",4,14,1,null,null,null,null,null,"Financiamiento Neto con Fuente de Pago de Transferencias Federales Etiquetadas",null,null,null,null,null,{"$f":"'Formato 4'!B64","v":-1607142.84},{"$f":"'Formato 4'!C64","v":-401785.71},{"$f":"'Formato 4'!D64","v":-401785.71}]
["4,14,1,1,0,0,0",4,14,1,1,null,null,null,null,null,"Financiamiento con Fuente de Pago de Transferencias Federales",null,null,null,null,{"$f":"'Formato 4'!B65","v":0},{"$f":"'Formato 4'!C65","v":0},{"$f":"'Formato 4'!D65","v":0}]
["4,14,1,2,0,0,0",4,14,1,2,null,null,null,null,null,"Amortización de la Deuda Pública con Gasto Etiquetado",null,null,null,null,{"$f":"'Formato 4'!B66","v":1607142.84},{"$f":"'Formato 4'!C66","v":401785.71},{"$f":"'Formato 4'!D66","v":401785.71}]
["4,15,0,0,0,0,0",4,15,null,null,null,null,null,"Gasto Etiquetado",null,null,null,null,null,null,{"$f":"'Formato 4'!B68","v":266392857.16},{"$f":"'Formato 4'!C68","v":43866821.189999998},{"$f":"'Formato 4'!D68","v":37769394.079999998}]
["4,16,0,0,0,0,0",4,16,null,null,null,null,null,"Remanentes de Transferencias Federales Etiquetadas aplicados en el periodo",null,null,null,null,null,null,null,{"$f":"'Formato 4'!C70","v":0},{"$f":"'Formato 4'!D70","v":0}]
["4,17,0,0,0,0,0",4,17,null,null,null,null,null,"Balance Presupuestario de Recursos Etiquetados",null,null,null,null,null,null,{"$f":"'Formato 4'!B72","v":-85000000},{"$f":"'Formato 4'!C72","v":7585885.9400000051},{"$f":"'Formato 4'!D72","v":13683313.050000004}]
["4,18,0,0,0,0,0",4,18,null,null,null,null,null,"Balance Presupuestario de Recursos Etiquetados sin Financiamiento",null,null,null,null,null,null,{"$f":"'Formato 4'!B74","v":-83392857.159999996},{"$f":"'Formato 4'!C74","v":7987671.650000005},{"$f":"'Formato 4'!D74","v":14085098.760000005}]

{"sheet":"Formato 5","index":11,"n_rows":75,"n_cols":7,"rows_kept":75,"cut":false,"hidden":false,"merged":[[5,0,6,0],[5,6,6,6],[5,1,5,5],[0,0,0,6],[1,0,1,6],[2,0,2,6],[3,0,3,6],[4,0,4,6]]}
["Formato 5 Estado Analítico de Ingresos Detallado - LDF"]
[{"$f":"ENTE_PUBLICO_A","v":"Municipio de Valle de Santiago, Gto., Gobierno del Estado de Guanajuato (a)"}]
["Estado Analítico de Ingresos Detallado - LDF"]
[{"$f":"TRIMESTRE","v":"Del 1 de enero al 30 de marzo de 2022 (b)"}]
["(PESOS)"]
["Concepto (c) ","Ingreso",null,null,null,null,"Diferencia (e)"]
[null,"Estimado (d)","Ampliaciones/ (Reducciones)","Modificado","Devengado","Recaudado"]
["Ingresos de Libre Disposición"]
["A. Impuestos",24000000,0,{"$f":"B9+C9","v":24000000},19164231.41,19164231.41,{"$f":"F9-B9","v":-4835768.59}]
["B. Cuotas y Aportaciones de Seguridad Social",0,0,{"$f":"B10+C10","v":0},0,0,{"$f":"F10-B10","v":0}]
["C. Contribuciones de Mejoras",8000000,0,{"$f":"B11+C11","v":8000000},335770,335770,-7664230]
["D. Derechos",29600000,0,29600000,6046176.9699999997,6046176.9699999997,-23553823.030000001]
["E. Productos",2450000,0,2450000,858943.53,858943.53,-1591056.47]
["F. Aprovechamientos",1950000,0,1950000,353446.48,353446.48,-1596553.52]
["G. Ingresos por Ventas de Bienes y Servicios",0,0,0,0,0,0]
["H. Participaciones (H=h1+h2+h3+h4+h5+h6+h7+h8+h9+h10+h11)",{"$f":"SUM(B17:B27)","v":162400000},{"$f":"SUM(C17:C27)","v":8728482},{"$f":"SUM(D17:D27)","v":171128482},{"$f":"SUM(E17:E27)","v":52241751.919999994},{"$f":"SUM(F17:F27)","v":52241751.919999994},-110158248.08000001]
["h1) Fondo General de Participaciones ",108400000,6679876,115079876,35802942.799999997,35802942.799999997,-72597057.200000003]
["h2) Fondo de Fomento Municipal",29300000,2377654,31677654,9611232.8800000008,9611232.8800000008,-19688767.119999997]
["h3) Fondo de Fiscalización y Recaudación",8100000,341433,8441433,1953608.51,1953608.51,-6146391.4900000002]
["h4) Fondo de Compensación",0,0,0,0,0,0]
["h5) Fondo de Extracción de Hidrocarburos",0,0,0,0,0,0]
["h6) Impuesto Especial Sobre Producción y Servicios",2800000,-9335,2790665,954042.58,954042.58,-1845957.42]
["h7) 0.136% de la Recaudación Federal Participable",0,0,0,0,0,0]
["h8) 3.17% Sobre Extracción de Petróleo",0,0,0,0,0,0]
["h9) Gasolinas y Diésel",3200000,-221196,2978804,778039.15,778039.15,-2421960.85]
["h10) Fondo del Impuesto Sobre la Renta",10600000,-439950,10160050,3141886,3141886,-7458114]
["h11) Fondo de Estabilización de los Ingresos de las Entidades Federativas",0,0,0,0,0,0]
["I. Incentivos Derivados de la Colaboración Fiscal (I=i1+i2+i3+i4+i5)",{"$f":"SUM(B29:B33)","v":3600000},{"$f":"SUM(C29:C33)","v":-450762},{"$f":"SUM(D29:D34)","v":3149238},{"$f":"SUM(E29:E33)","v":966886.87},{"$f":"SUM(F29:F33)","v":966886.87},-2633113.13]
["i1) Tenencia o Uso de Vehículos",40000,0,40000,1968.9,1968.9,-38031.1]
["i2) Fondo de Compensación ISAN",300000,30182,330182,82545.45,82545.45,-217454.55]
["i3) Impuesto Sobre Automóviles Nuevos",1900000,-220145,1679855,492465.26,492465.26,-1407534.74]
["i4) Fondo de Compensación de Repecos-Intermedios",0,0,0,0,0,0]
["i5) Otros Incentivos Económicos",1360000,-260799,{"$f":"B33+C33","v":1099201},389907.26,389907.26,-970092.74]
["J. Transferencias",0,0,0,0,0,0]
["K. Convenios",{"$f":"B36","v":0},0,{"$f":"SUM(D36)","v":0},{"$f":"SUM(E36)","v":0},{"$f":"SUM(F36)","v":0},0]
["k1) Otros Convenios y Subsidios",0,0,{"$f":"B36+C36","v":0},0,0,0]
["L. Otros Ingresos de Libre Disposición (L=l1+l2)",0,0,0,{"$f":"SUM(E38:E39)","v":0},{"$f":"SUM(F38:F39)","v":0},0]
["l1) Participaciones en Ingresos Locales ",0,0,0,0,0,0]
["l2) Otros Ingresos de Libre Disposición",0,0,0,0,0,0]
[null,null,null,null,null,null,{"$f":"F40-B40","v":0}]
["I. Total de Ingresos de Libre Disposición (I=A+B+C+D+E+F+G+H+I+J+K+L)",{"$f":"SUM(B9,B10,B11,B12,B13,B14,B15,B16,B28,B34,B35,B37)","v":232000000},{"$f":"SUM(C9,C10,C11,C12,C13,C14,C15,C16,C28,C34,C35,C37)","v":8277720},{"$f":"SUM(D9,D10,D11,D12,D13,D14,D15,D16,D28,D34,D35,D37)","v":240277720},{"$f":"SUM(E9,E10,E11,E12,E13,E14,E15,E16,E28,E34,E35,E37)","v":79967207.180000007},79967207.180000007,{"$f":"SUM(G9+G10+G11+G12+G13+G14+G15+G28+G16+G35+G37)","v":-152032792.82000002}]
["Ingresos Excedentes de Ingresos de Libre Disposición",null,null,null,null,null,0]
[]
["Transferencias Federales Etiquetadas "]
["A. Aportaciones (A=a1+a2+a3+a4+a5+a6+a7+a8)",{"$f":"SUM(B46:B53)","v":182000000},8500000,{"$f":"SUM(D46:D53)","v":190500000},{"$f":"SUM(E46:E53)","v":51854492.840000004},{"$f":"SUM(F46:F53)","v":51854492.840000004},{"$f":"F45-B45","v":-130145507.16}]
["a1) Fondo de Aportaciones para la Nómina Educativa y Gasto Operativo",0,0,{"$f":"B46+C46","v":0},0,0,{"$f":"F46-B46","v":0}]
["a2) Fondo de Aportaciones para los Servicios de Salud",0,0,0,0,0,0]
["a3) Fondo de Aportaciones para la Infraestructura Social",84000000,-4500000,{"$f":"B48+C48","v":79500000},23801230.379999999,23801230.379999999,-60198769.620000005]
["a4) Fondo de Aportaciones para el Fortalecimiento de los Municipios y de las Demarcaciones Territoriales del Distrito Federal",98000000,13000000,{"$f":"B49+C49","v":111000000},28053262.460000001,28053262.460000001,-69946737.539999992]
["a5) Fondo de Aportaciones Múltiples",0,0,0,0,0,0]
["a6) Fondo de Aportaciones para la Educación Tecnológica y de Adultos",0,0,0,0,0,0]
["a7) Fondo de Aportaciones para la Seguridad Pública de los Estados y del Distrito Federal",0,0,0,0,0,0]
["a8) Fondo de Aportaciones para el Fortalecimiento de las Entidades Federativas",0,0,0,0,0,0]
["B. Convenios (B=b1+b2+b3+b4)",{"$f":"SUM(B55:B58)","v":86000000},{"$f":"SUM(C55:C58)","v":0},{"$f":"SUM(D55:D58)","v":86000000},{"$f":"SUM(E55:E58)","v":0},{"$f":"SUM(F55:F58)","v":0},-86000000]
["b1) Convenios de Protección Social en Salud",0,0,0,0,0,0]
["b2) Convenios de Descentralización",0,0,0,0,0,0]
["b3) Convenios de Reasignación",0,0,0,0,0,0]
["b4) Otros Convenios y Subsidios",86000000,0,86000000,0,0,-86000000]
["C. Fondos Distintos de Aportaciones (C=c1+c2)",{"$f":"SUM(B60:B61)","v":0},{"$f":"SUM(C60:C63)","v":0},0,{"$f":"SUM(E60:E62)","v":0},{"$f":"SUM(F60:F62)","v":0},0]
["c1) Fondo para Entidades Federativas y Municipios Productores de Hidrocarburos",0,0,0,0,0,0]
["c2) Fondo Minero",0,0,0,0,0,0]
["D. Transferencias, Subsidios y Subvenciones, y Pensiones y Jubilaciones",0,0,0,0,0,0]
["E. Otras Transferencias Federales Etiquetadas",0,0,0,0,0,0]
[null,null,null,null,null,null,0]
["II. Total de Transferencias Federales Etiquetadas (II = A + B + C + D + E)",{"$f":"B45+B54+B59+B62+B63","v":268000000},{"$f":"C45+C54+C59+C62+C63","v":8500000},{"$f":"D45+D54+D59+D62+D63","v":276500000},51854492.840000004,{"$f":"F45+F54+F59+F62+F63","v":51854492.840000004},{"$f":"F65-B65","v":-216145507.16}]
[]
["III. Ingresos Derivados de Financiamientos (III = A)",{"$f":"B68","v":0},{"$f":"C68","v":39142995.869999997},{"$f":"D68","v":39142995.869999997},{"$f":"E68","v":24266994.18},24266994.18,{"$f":"G68","v":24266994.18}]
["A. Ingresos Derivados de Financiamientos",{"$f":"B75","v":0},39142995.869999997,39142995.869999997,24266994.18,24266994.18,{"$f":"F68-B68","v":24266994.18}]
[]
["IV. Total de Ingresos (IV = I + II + III)",{"$f":"B41+B65+B67","v":500000000},{"$f":"C41+C65+C67","v":55920715.869999997},{"$f":"D41+D65+D67","v":555920715.87},{"$f":"E41+E65+E67","v":156088694.20000002},{"$f":"F41+F65+F67","v":156088694.20000002},{"$f":"G41+G65+G67","v":-343911305.80000001}]
[]
["Datos Informativos"]
["1. Ingresos Derivados de Financiamientos con Fuente de Pago de Ingresos de Libre Disposición",0,0,0,0,0,{"$f":"F73-B73","v":0}]
["2. Ingresos Derivados de Financiamientos con Fuente de Pago de Transferencias Federales Etiquetadas",0,0,0,0,0,{"$f":"F74-B74","v":0}]
["3. Ingresos Derivados de Financiamientos (3 = 1 + 2)",{"$f":"B73+B74","v":0},{"$f":"C73+C74","v":0},{"$f":"D73+D74","v":0},0,{"$f":"F73+F74","v":0},{"$f":"G73+G74","v":0}]

{"sheet":"F05","index":12,"n_rows":62,"n_cols":21,"rows_kept":62,"cut":false,"hidden":true,"merged":[]}
["CLAVE","N1","N2","N3","N4","N5","N6","N7","C  O  N  C  E  P  T  O  S",null,null,null,null,null,null,"ESTIMADO","AMPLIACIONES","MODIFICADO","DEVENGADO","RECAUDADO","DIFERENCIA"]
[{"$f":"IF(LEN(CLEAN(B2))=0,\"0\",B2)&\",\"&IF(LEN(CLEAN(C2))=0,\"0\",C2)&\",\"&IF(LEN(CLEAN(D2))=0,\"0\",D2)&\",\"&IF(LEN(CLEAN(E2))=0,\"0\",E2)&\",\"&IF(LEN(CLEAN(F2))=0,\"0\",F2)&\",\"&IF(LEN(CLEAN(G2))=0,\"0\",G2)&\",\"&IF(LEN(CLEAN(H2))=0,\"0\",H2)","v":"5,1,0,0,0,0,0"},5,1,null,null,null,null,null,"Ingresos de Libre Disposición"]
["5,1,1,0,0,0,0",5,1,1,null,null,null,null,null,"Impuestos",null,null,null,null,null,{"$f":"'Formato 5'!B9","v":24000000},{"$f":"'Formato 5'!C9","v":0},{"$f":"'Formato 5'!D9","v":24000000},{"$f":"'Formato 5'!E9","v":19164231.41},{"$f":"'Formato 5'!F9","v":19164231.41},{"$f":"'Formato 5'!G9","v":-4835768.59}]
["5,1,2,0,0,0,0",5,1,2,null,null,null,null,null,"Cuotas y Aportaciones de Seguridad Social",null,null,null,null,null,{"$f":"'Formato 5'!B10","v":0},{"$f":"'Formato 5'!C10","v":0},{"$f":"'Formato 5'!D10","v":0},{"$f":"'Formato 5'!E10","v":0},{"$f":"'Formato 5'!F10","v":0},{"$f":"'Formato 5'!G10","v":0}]
["5,1,3,0,0,0,0",5,1,3,null,null,null,null,null,"Contribuciones de Mejoras",null,null,null,null,null,{"$f":"'Formato 5'!B11","v":8000000},{"$f":"'Formato 5'!C11","v":0},{"$f":"'Formato 5'!D11","v":8000000},{"$f":"'Formato 5'!E11","v":335770},{"$f":"'Formato 5'!F11","v":335770},{"$f":"'Formato 5'!G11","v":-7664230}]
["5,1,4,0,0,0,0",5,1,4,null,null,null,null,null,"Derechos",null,null,null,null,null,{"$f":"'Formato 5'!B12","v":29600000},{"$f":"'Formato 5'!C12","v":0},{"$f":"'Formato 5'!D12","v":29600000},{"$f":"'Formato 5'!E12","v":6046176.9699999997},{"$f":"'Formato 5'!F12","v":6046176.9699999997},{"$f":"'Formato 5'!G12","v":-23553823.030000001}]
["5,1,5,0,0,0,0",5,1,5,null,null,null,null,null,"Productos",null,null,null,null,null,{"$f":"'Formato 5'!B13","v":2450000},{"$f":"'Formato 5'!C13","v":0},{"$f":"'Formato 5'!D13","v":2450000},{"$f":"'Formato 5'!E13","v":858943.53},{"$f":"'Formato 5'!F13","v":858943.53},{"$f":"'Formato 5'!G13","v":-1591056.47}]
["5,1,6,0,0,0,0",5,1,6,null,null,null,null,null,"Aprovechamientos",null,null,null,null,null,{"$f":"'Formato 5'!B14","v":1950000},{"$f":"'Formato 5'!C14","v":0},{"$f":"'Formato 5'!D14","v":1950000},{"$f":"'Formato 5'!E14","v":353446.48},{"$f":"'Formato 5'!F14","v":353446.48},{"$f":"'Formato 5'!G14","v":-1596553.52}]
["5,1,7,0,0,0,0",5,1,7,null,null,null,null,null,"Ingresos por Ventas de Bienes y Servicios",null,null,null,null,null,{"$f":"'Formato 5'!B15","v":0},{"$f":"'Formato 5'!C15","v":0},{"$f":"'Formato 5'!D15","v":0},{"$f":"'Formato 5'!E15","v":0},{"$f":"'Formato 5'!F15","v":0},{"$f":"'Formato 5'!G15","v":0}]
["5,1,8,0,0,0,0",5,1,8,null,null,null,null,null,"Participaciones",null,null,null,null,null,{"$f":"'Formato 5'!B16","v":162400000},{"$f":"'Formato 5'!C16","v":8728482},{"$f":"'Formato 5'!D16","v":171128482},{"$f":"'Formato 5'!E16","v":52241751.919999994},{"$f":"'Formato 5'!F16","v":52241751.919999994},{"$f":"'Formato 5'!G16","v":-110158248.08000001}]
["5,1,8,1,0,0,0",5,1,8,1,null,null,null,null,null,"Fondo General de Participaciones ",null,null,null,null,{"$f":"'Formato 5'!B17","v":108400000},{"$f":"'Formato 5'!C17","v":6679876},{"$f":"'Formato 5'!D17","v":115079876},{"$f":"'Formato 5'!E17","v":35802942.799999997},{"$f":"'Formato 5'!F17","v":35802942.799999997},{"$f":"'Formato 5'!G17","v":-72597057.200000003}]
["5,1,8,2,0,0,0",5,1,8,2,null,null,null,null,null,"Fondo de Fomento Municipal",null,null,null,null,{"$f":"'Formato 5'!B18","v":29300000},{"$f":"'Formato 5'!C18","v":2377654},{"$f":"'Formato 5'!D18","v":31677654},{"$f":"'Formato 5'!E18","v":9611232.8800000008},{"$f":"'Formato 5'!F18","v":9611232.8800000008},{"$f":"'Formato 5'!G18","v":-19688767.119999997}]
["5,1,8,3,0,0,0",5,1,8,3,null,null,null,null,null,"Fondo de Fiscalización y Recaudación",null,null,null,null,{"$f":"'Formato 5'!B19","v":8100000},{"$f":"'Formato 5'!C19","v":341433},{"$f":"'Formato 5'!D19","v":8441433},{"$f":"'Formato 5'!E19","v":1953608.51},{"$f":"'Formato 5'!F19","v":1953608.51},{"$f":"'Formato 5'!G19","v":-6146391.4900000002}]
["5,1,8,4,0,0,0",5,1,8,4,null,null,null,null,null,"Fondo de Compensación",null,null,null,null,{"$f":"'Formato 5'!B20","v":0},{"$f":"'Formato 5'!C20","v":0},{"$f":"'Formato 5'!D20","v":0},{"$f":"'Formato 5'!E20","v":0},{"$f":"'Formato 5'!F20","v":0},{"$f":"'Formato 5'!G20","v":0}]
["5,1,8,5,0,0,0",5,1,8,5,null,null,null,null,null,"Fondo de Extracción de Hidrocarburos",null,null,null,null,{"$f":"'Formato 5'!B21","v":0},{"$f":"'Formato 5'!C21","v":0},{"$f":"'Formato 5'!D21","v":0},{"$f":"'Formato 5'!E21","v":0},{"$f":"'Formato 5'!F21","v":0},{"$f":"'Formato 5'!G21","v":0}]
["5,1,8,6,0,0,0",5,1,8,6,null,null,null,null,null,"Impuesto Especial Sobre Producción y Servicios",null,null,null,null,{"$f":"'Formato 5'!B22","v":2800000},{"$f":"'Formato 5'!C22","v":-9335},{"$f":"'Formato 5'!D22","v":2790665},{"$f":"'Formato 5'!E22","v":954042.58},{"$f":"'Formato 5'!F22","v":954042.58},{"$f":"'Formato 5'!G22","v":-1845957.42}]
["5,1,8,7,0,0,0",5,1,8,7,null,null,null,null,null,"0.136% de la Recaudación Federal Participable",null,null,null,null,{"$f":"'Formato 5'!B23","v":0},{"$f":"'Formato 5'!C23","v":0},{"$f":"'Formato 5'!D23","v":0},{"$f":"'Formato 5'!E23","v":0},{"$f":"'Formato 5'!F23","v":0},{"$f":"'Formato 5'!G23","v":0}]
["5,1,8,8,0,0,0",5,1,8,8,null,null,null,null,null,"3.17% Sobre Extracción de Petróleo",null,null,null,null,{"$f":"'Formato 5'!B24","v":0},{"$f":"'Formato 5'!C24","v":0},{"$f":"'Formato 5'!D24","v":0},{"$f":"'Formato 5'!E24","v":0},{"$f":"'Formato 5'!F24","v":0},{"$f":"'Formato 5'!G24","v":0}]
["5,1,8,9,0,0,0",5,1,8,9,null,null,null,null,null,"Gasolinas y Diésel",null,null,null,null,{"$f":"'Formato 5'!B25","v":3200000},{"$f":"'Formato 5'!C25","v":-221196},{"$f":"'Formato 5'!D25","v":2978804},{"$f":"'Formato 5'!E25","v":778039.15},{"$f":"'Formato 5'!F25","v":778039.15},{"$f":"'Formato 5'!G25","v":-2421960.85}]
["5,1,8,10,0,0,0",5,1,8,10,null,null,null,null,null,"Fondo del Impuesto Sobre la Renta",null,null,null,null,{"$f":"'Formato 5'!B26","v":10600000},{"$f":"'Formato 5'!C26","v":-439950},{"$f":"'Formato 5'!D26","v":10160050},{"$f":"'Formato 5'!E26","v":3141886},{"$f":"'Formato 5'!F26","v":3141886},{"$f":"'Formato 5'!G26","v":-7458114}]
["5,1,8,11,0,0,0",5,1,8,11,null,null,null,null,null,"Fondo de Estabilización de los Ingresos de las Entidades Federativas",null,null,null,null,{"$f":"'Formato 5'!B27","v":0},{"$f":"'Formato 5'!C27","v":0},{"$f":"'Formato 5'!D27","v":0},{"$f":"'Formato 5'!E27","v":0},{"$f":"'Formato 5'!F27","v":0},{"$f":"'Formato 5'!G27","v":0}]
["5,1,9,0,0,0,0",5,1,9,null,null,null,null,null,"Incentivos Derivados de la Colaboración Fiscal",null,null,null,null,null,{"$f":"'Formato 5'!B28","v":3600000},{"$f":"'Formato 5'!C28","v":-450762},{"$f":"'Formato 5'!D28","v":3149238},{"$f":"'Formato 5'!E28","v":966886.87},{"$f":"'Formato 5'!F28","v":966886.87},{"$f":"'Formato 5'!G28","v":-2633113.13}]
["5,1,9,1,0,0,0",5,1,9,1,null,null,null,null,null,"Tenencia o Uso de Vehículos",null,null,null,null,{"$f":"'Formato 5'!B29","v":40000},{"$f":"'Formato 5'!C29","v":0},{"$f":"'Formato 5'!D29","v":40000},{"$f":"'Formato 5'!E29","v":1968.9},{"$f":"'Formato 5'!F29","v":1968.9},{"$f":"'Formato 5'!G29","v":-38031.1}]
["5,1,9,2,0,0,0",5,1,9,2,null,null,null,null,null,"Fondo de Compensación ISAN",null,null,null,null,{"$f":"'Formato 5'!B30","v":300000},{"$f":"'Formato 5'!C30","v":30182},{"$f":"'Formato 5'!D30","v":330182},{"$f":"'Formato 5'!E30","v":82545.45},{"$f":"'Formato 5'!F30","v":82545.45},{"$f":"'Formato 5'!G30","v":-217454.55}]
["5,1,9,3,0,0,0",5,1,9,3,null,null,null,null,null,"Impuesto Sobre Automóviles Nuevos",null,null,null,null,{"$f":"'Formato 5'!B31","v":1900000},{"$f":"'Formato 5'!C31","v":-220145},{"$f":"'Formato 5'!D31","v":1679855},{"$f":"'Formato 5'!E31","v":492465.26},{"$f":"'Formato 5'!F31","v":492465.26},{"$f":"'Formato 5'!G31","v":-1407534.74}]
["5,1,9,4,0,0,0",5,1,9,4,null,null,null,null,null,"Fondo de Compensación de Repecos-Intermedios",null,null,null,null,{"$f":"'Formato 5'!B32","v":0},{"$f":"'Formato 5'!C32","v":0},{"$f":"'Formato 5'!D32","v":0},{"$f":"'Formato 5'!E32","v":0},{"$f":"'Formato 5'!F32","v":0},{"$f":"'Formato 5'!G32","v":0}]
["5,1,9,5,0,0,0",5,1,9,5,null,null,null,null,null,"Otros Incentivos Económicos",null,null,null,null,{"$f":"'Formato 5'!B33","v":1360000},{"$f":"'Formato 5'!C33","v":-260799},{"$f":"'Formato 5'!D33","v":1099201},{"$f":"'Formato 5'!E33","v":389907.26},{"$f":"'Formato 5'!F33","v":389907.26},{"$f":"'Formato 5'!G33","v":-970092.74}]
["5,1,10,0,0,0,0",5,1,10,null,null,null,null,null,"Transferencias",null,null,null,null,null,{"$f":"'Formato 5'!B34","v":0},{"$f":"'Formato 5'!C34","v":0},{"$f":"'Formato 5'!D34","v":0},{"$f":"'Formato 5'!E34","v":0},{"$f":"'Formato 5'!F34","v":0},{"$f":"'Formato 5'!G34","v":0}]
["5,1,11,0,0,0,0",5,1,11,null,null,null,null,null,"Convenios",null,null,null,null,null,{"$f":"'Formato 5'!B35","v":0},{"$f":"'Formato 5'!C35","v":0},{"$f":"'Formato 5'!D35","v":0},{"$f":"'Formato 5'!E35","v":0},{"$f":"'Formato 5'!F35","v":0},{"$f":"'Formato 5'!G35","v":0}]
["5,1,11,1,0,0,0",5,1,11,1,null,null,null,null,null,"Otros Convenios y Subsidios",null,null,null,null,{"$f":"'Formato 5'!B36","v":0},{"$f":"'Formato 5'!C36","v":0},{"$f":"'Formato 5'!D36","v":0},{"$f":"'Formato 5'!E36","v":0},{"$f":"'Formato 5'!F36","v":0},{"$f":"'Formato 5'!G36","v":0}]
["5,1,12,0,0,0,0",5,1,12,null,null,null,null,null,"Otros Ingresos de Libre Disposición (L=l1+l2)",null,null,null,null,null,{"$f":"'Formato 5'!B37","v":0},{"$f":"'Formato 5'!C37","v":0},{"$f":"'Formato 5'!D37","v":0},{"$f":"'Formato 5'!E37","v":0},{"$f":"'Formato 5'!F37","v":0},{"$f":"'Formato 5'!G37","v":0}]
["5,1,12,1,0,0,0",5,1,12,1,null,null,null,null,null,"Participaciones en Ingresos Locales ",null,null,null,null,{"$f":"'Formato 5'!B38","v":0},{"$f":"'Formato 5'!C38","v":0},{"$f":"'Formato 5'!D38","v":0},{"$f":"'Formato 5'!E38","v":0},{"$f":"'Formato 5'!F38","v":0},{"$f":"'Formato 5'!G38","v":0}]
["5,1,12,2,0,0,0",5,1,12,2,null,null,null,null,null,"Otros Ingresos de Libre Disposición",null,null,null,null,{"$f":"'Formato 5'!B39","v":0},{"$f":"'Formato 5'!C39","v":0},{"$f":"'Formato 5'!D39","v":0},{"$f":"'Formato 5'!E39","v":0},{"$f":"'Formato 5'!F39","v":0},{"$f":"'Formato 5'!G39","v":0}]
["5,2,0,0,0,0,0",5,2,null,null,null,null,null,"Total de Ingresos de Libre Disposición",null,null,null,null,null,null,{"$f":"'Formato 5'!B41","v":232000000},{"$f":"'Formato 5'!C41","v":8277720},{"$f":"'Formato 5'!D41","v":240277720},{"$f":"'Formato 5'!E41","v":79967207.180000007},{"$f":"'Formato 5'!F41","v":79967207.180000007},{"$f":"'Formato 5'!G41","v":-152032792.82000002}]
["5,3,0,0,0,0,0",5,3,null,null,null,null,null,"Ingresos Excedentes de Ingresos de Libre Disposición",null,null,null,null,null,null,null,null,null,null,null,{"$f":"'Formato 5'!G42","v":0}]
["5,4,0,0,0,0,0",5,4,null,null,null,null,null,"Transferencias Federales Etiquetadas "]
["5,4,1,0,0,0,0",5,4,1,null,null,null,null,null,"Aportaciones",null,null,null,null,null,{"$f":"'Formato 5'!B45","v":182000000},{"$f":"'Formato 5'!C45","v":8500000},{"$f":"'Formato 5'!D45","v":190500000},{"$f":"'Formato 5'!E45","v":51854492.840000004},{"$f":"'Formato 5'!F45","v":51854492.840000004},{"$f":"'Formato 5'!G45","v":-130145507.16}]
["5,4,1,1,0,0,0",5,4,1,1,null,null,null,null,null,"Fondo de Aportaciones para la Nómina Educativa y Gasto Operativo",null,null,null,null,{"$f":"'Formato 5'!B46","v":0},{"$f":"'Formato 5'!C46","v":0},{"$f":"'Formato 5'!D46","v":0},{"$f":"'Formato 5'!E46","v":0},{"$f":"'Formato 5'!F46","v":0},{"$f":"'Formato 5'!G46","v":0}]
["5,4,1,2,0,0,0",5,4,1,2,null,null,null,null,null,"Fondo de Aportaciones para los Servicios de Salud",null,null,null,null,{"$f":"'Formato 5'!B47","v":0},{"$f":"'Formato 5'!C47","v":0},{"$f":"'Formato 5'!D47","v":0},{"$f":"'Formato 5'!E47","v":0},{"$f":"'Formato 5'!F47","v":0},{"$f":"'Formato 5'!G47","v":0}]
["5,4,1,3,0,0,0",5,4,1,3,null,null,null,null,null,"Fondo de Aportaciones para la Infraestructura Social",null,null,null,null,{"$f":"'Formato 5'!B48","v":84000000},{"$f":"'Formato 5'!C48","v":-4500000},{"$f":"'Formato 5'!D48","v":79500000},{"$f":"'Formato 5'!E48","v":23801230.379999999},{"$f":"'Formato 5'!F48","v":23801230.379999999},{"$f":"'Formato 5'!G48","v":-60198769.620000005}]
["5,4,1,4,0,0,0",5,4,1,4,null,null,null,null,null,"Fondo de Aportaciones para el Fortalecimiento de los Municipios y de las Demarcaciones Territoriales del Distrito Federal",null,null,null,null,{"$f":"'Formato 5'!B49","v":98000000},{"$f":"'Formato 5'!C49","v":13000000},{"$f":"'Formato 5'!D49","v":111000000},{"$f":"'Formato 5'!E49","v":28053262.460000001},{"$f":"'Formato 5'!F49","v":28053262.460000001},{"$f":"'Formato 5'!G49","v":-69946737.539999992}]
["5,4,1,5,0,0,0",5,4,1,5,null,null,null,null,null,"Fondo de Aportaciones Múltiples",null,null,null,null,{"$f":"'Formato 5'!B50","v":0},{"$f":"'Formato 5'!C50","v":0},{"$f":"'Formato 5'!D50","v":0},{"$f":"'Formato 5'!E50","v":0},{"$f":"'Formato 5'!F50","v":0},{"$f":"'Formato 5'!G50","v":0}]
["5,4,1,6,0,0,0",5,4,1,6,null,null,null,null,null,"Fondo de Aportaciones para la Educación Tecnológica y de Adultos",null,null,null,null,{"$f":"'Formato 5'!B51","v":0},{"$f":"'Formato 5'!C51","v":0},{"$f":"'Formato 5'!D51","v":0},{"$f":"'Formato 5'!E51","v":0},{"$f":"'Formato 5'!F51","v":0},{"$f":"'Formato 5'!G51","v":0}]
["5,4,1,7,0,0,0",5,4,1,7,null,null,null,null,null,"Fondo de Aportaciones para la Seguridad Pública de los Estados y del Distrito Federal",null,null,null,null,{"$f":"'Formato 5'!B52","v":0},{"$f":"'Formato 5'!C52","v":0},{"$f":"'Formato 5'!D52","v":0},{"$f":"'Formato 5'!E52","v":0},{"$f":"'Formato 5'!F52","v":0},{"$f":"'Formato 5'!G52","v":0}]
["5,4,1,8,0,0,0",5,4,1,8,null,null,null,null,null,"Fondo de Aportaciones para el Fortalecimiento de las Entidades Federativas",null,null,null,null,{"$f":"'Formato 5'!B53","v":0},{"$f":"'Formato 5'!C53","v":0},{"$f":"'Formato 5'!D53","v":0},{"$f":"'Formato 5'!E53","v":0},{"$f":"'Formato 5'!F53","v":0},{"$f":"'Formato 5'!G53","v":0}]
["5,4,2,0,0,0,0",5,4,2,null,null,null,null,null,"Convenios",null,null,null,null,null,{"$f":"'Formato 5'!B54","v":86000000},{"$f":"'Formato 5'!C54","v":0},{"$f":"'Formato 5'!D54","v":86000000},{"$f":"'Formato 5'!E54","v":0},{"$f":"'Formato 5'!F54","v":0},{"$f":"'Formato 5'!G54","v":-86000000}]
["5,4,2,1,0,0,0",5,4,2,1,null,null,null,null,null,"Convenios de Protección Social en Salud",null,null,null,null,{"$f":"'Formato 5'!B55","v":0},{"$f":"'Formato 5'!C55","v":0},{"$f":"'Formato 5'!D55","v":0},{"$f":"'Formato 5'!E55","v":0},{"$f":"'Formato 5'!F55","v":0},{"$f":"'Formato 5'!G55","v":0}]
["5,4,2,2,0,0,0",5,4,2,2,null,null,null,null,null,"Convenios de Descentralización",null,null,null,null,{"$f":"'Formato 5'!B56","v":0},{"$f":"'Formato 5'!C56","v":0},{"$f":"'Formato 5'!D56","v":0},{"$f":"'Formato 5'!E56","v":0},{"$f":"'Formato 5'!F56","v":0},{"$f":"'Formato 5'!G56","v":0}]
["5,4,2,3,0,0,0",5,4,2,3,null,null,null,null,null,"Convenios de Reasignación",null,null,null,null,{"$f":"'Formato 5'!B57","v":0},{"$f":"'Formato 5'!C57","v":0},{"$f":"'Formato 5'!D57","v":0},{"$f":"'Formato 5'!E57","v":0},{"$f":"'Formato 5'!F57","v":0},{"$f":"'Formato 5'!G57","v":0}]
["5,4,2,4,0,0,0",5,4,2,4,null,null,null,null,null,"Otros Convenios y Subsidios",null,null,null,null,{"$f":"'Formato 5'!B58","v":86000000},{"$f":"'Formato 5'!C58","v":0},{"$f":"'Formato 5'!D58","v":86000000},{"$f":"'Formato 5'!E58","v":0},{"$f":"'Formato 5'!F58","v":0},{"$f":"'Formato 5'!G58","v":-86000000}]
["5,4,3,0,0,0,0",5,4,3,null,null,null,null,null,"Fondos Distintos de Aportaciones",null,null,null,null,null,{"$f":"'Formato 5'!B59","v":0},{"$f":"'Formato 5'!C59","v":0},{"$f":"'Formato 5'!D59","v":0},{"$f":"'Formato 5'!E59","v":0},{"$f":"'Formato 5'!F59","v":0},{"$f":"'Formato 5'!G59","v":0}]
["5,4,3,1,0,0,0",5,4,3,1,null,null,null,null,null,"Fondo para Entidades Federativas y Municipios Productores de Hidrocarburos",null,null,null,null,{"$f":"'Formato 5'!B60","v":0},{"$f":"'Formato 5'!C60","v":0},{"$f":"'Formato 5'!D60","v":0},{"$f":"'Formato 5'!E60","v":0},{"$f":"'Formato 5'!F60","v":0},{"$f":"'Formato 5'!G60","v":0}]
["5,4,3,2,0,0,0",5,4,3,2,null,null,null,null,null,"Fondo Minero",null,null,null,null,{"$f":"'Formato 5'!B61","v":0},{"$f":"'Formato 5'!C61","v":0},{"$f":"'Formato 5'!D61","v":0},{"$f":"'Formato 5'!E61","v":0},{"$f":"'Formato 5'!F61","v":0},{"$f":"'Formato 5'!G61","v":0}]
["5,4,4,0,0,0,0",5,4,4,null,null,null,null,null,"Transferencias, Subsidios y Subvenciones, y Pensiones y Jubilaciones",null,null,null,null,null,{"$f":"'Formato 5'!B62","v":0},{"$f":"'Formato 5'!C62","v":0},{"$f":"'Formato 5'!D62","v":0},{"$f":"'Formato 5'!E62","v":0},{"$f":"'Formato 5'!F62","v":0},{"$f":"'Formato 5'!G62","v":0}]
["5,4,5,0,0,0,0",5,4,5,null,null,null,null,null,"Otras Transferencias Federales Etiquetadas",null,null,null,null,null,{"$f":"'Formato 5'!B63","v":0},{"$f":"'Formato 5'!C63","v":0},{"$f":"'Formato 5'!D63","v":0},{"$f":"'Formato 5'!E63","v":0},{"$f":"'Formato 5'!F63","v":0},{"$f":"'Formato 5'!G63","v":0}]
["5,5,0,0,0,0,0",5,5,null,null,null,null,null,"Total de Transferencias Federales Etiquetadas",null,null,null,null,null,null,{"$f":"'Formato 5'!B65","v":268000000},{"$f":"'Formato 5'!C65","v":8500000},{"$f":"'Formato 5'!D65","v":276500000},{"$f":"'Formato 5'!E65","v":51854492.840000004},{"$f":"'Formato 5'!F65","v":51854492.840000004},{"$f":"'Formato 5'!G65","v":-216145507.16}]
["5,6,0,0,0,0,0",5,6,null,null,null,null,null,"Ingresos Derivados de Financiamientos",null,null,null,null,null,null,{"$f":"'Formato 5'!B67","v":0},{"$f":"'Formato 5'!C67","v":39142995.869999997},{"$f":"'Formato 5'!D67","v":39142995.869999997},{"$f":"'Formato 5'!E67","v":24266994.18},{"$f":"'Formato 5'!F67","v":24266994.18},{"$f":"'Formato 5'!G67","v":24266994.18}]
["5,6,1,0,0,0,0",5,6,1,null,null,null,null,null,"Ingresos Derivados de Financiamientos",null,null,null,null,null,{"$f":"'Formato 5'!B68","v":0},{"$f":"'Formato 5'!C68","v":39142995.869999997},{"$f":"'Formato 5'!D68","v":39142995.869999997},{"$f":"'Formato 5'!E68","v":24266994.18},{"$f":"'Formato 5'!F68","v":24266994.18},{"$f":"'Formato 5'!G68","v":24266994.18}]
["5,7,0,0,0,0,0",5,7,null,null,null,null,null,"Datos Informativos"]
["5,7,1,0,0,0,0",5,7,1,null,null,null,null,null,"Ingresos Derivados de Financiamientos con Fuente de Pago de Ingresos de Libre Disposición",null,null,null,null,null,{"$f":"'Formato 5'!B73","v":0},{"$f":"'Formato 5'!C73","v":0},{"$f":"'Formato 5'!D73","v":0},{"$f":"'Formato 5'!E73","v":0},{"$f":"'Formato 5'!F73","v":0},{"$f":"'Formato 5'!G73","v":0}]
["5,7,2,0,0,0,0",5,7,2,null,null,null,null,null,"Ingresos Derivados de Financiamientos con Fuente de Pago de Transferencias Federales Etiquetadas",null,null,null,null,null,{"$f":"'Formato 5'!B74","v":0},{"$f":"'Formato 5'!C74","v":0},{"$f":"'Formato 5'!D74","v":0},{"$f":"'Formato 5'!E74","v":0},{"$f":"'Formato 5'!F74","v":0},{"$f":"'Formato 5'!G74","v":0}]
["5,7,3,0,0,0,0",5,7,3,null,null,null,null,null,"Ingresos Derivados de Financiamientos",null,null,null,null,null,{"$f":"'Formato 5'!B75","v":0},{"$f":"'Formato 5'!C75","v":0},{"$f":"'Formato 5'!D75","v":0},{"$f":"'Formato 5'!E75","v":0},{"$f":"'Formato 5'!F75","v":0},{"$f":"'Formato 5'!G75","v":0}]

{"sheet":"Formato 6 a)","index":13,"n_rows":159,"n_cols":16384,"rows_kept":159,"cut":false,"hidden":false,"merged":[[0,0,0,6],[6,0,7,0],[6,1,6,5],[6,6,7,6],[1,0,1,6],[2,0,2,6],[3,0,3,6],[4,0,4,6],[5,0,5,6]]}
["Formato 6 a) Estado Analítico del Ejercicio del Presupuesto de Egresos Detallado - LDF \n                       (Clasificación por Objeto del Gasto)"]
[{"$f":"ENTE_PUBLICO_A","v":"Municipio de Valle de Santiago, Gto., Gobierno del Estado de Guanajuato (a)"}]
["Estado Analítico del Ejercicio del Presupuesto de Egresos Detallado - LDF"]
["Clasificación por Objeto del Gasto (Capítulo y Concepto) "]
[{"$f":"TRIMESTRE","v":"Del 1 de enero al 30 de marzo de 2022 (b)"}]
["(PESOS)"]
["Concepto (c)","Egresos",null,null,null,null,"Subejercicio (e)"]
[null,"Aprobado (d)","Ampliaciones/ (Reducciones) ","Modificado ","Devengado","Pagado "]
["I. Gasto No Etiquetado (I=A+B+C+D+E+F+G+H+I)",{"$f":"SUM(B10,B18,B28,B38,B48,B58,B62,B71,B75)","v":232000000},19384465.899999999,251384465.89999998,44527266.350000009,43778673.939999998,{"$f":"SUM(G10,G18,G28,G38,G48,G58,G62,G71,G75)","v":206857199.55000001}]
["A. Servicios Personales (A=a1+a2+a3+a4+a5+a6+a7)",{"$f":"SUM(B11:B17)","v":109782618},{"$f":"SUM(C11:C17)","v":0},{"$f":"SUM(D11:D17)","v":109782618},22574450.210000005,22138386.399999999,87208167.790000007]
["a1) Remuneraciones al Personal de Carácter Permanente",71472536,0,{"$f":"B11+C11","v":71472536},16447055.220000001,16441881.74,{"$f":"D11-E11","v":55025480.780000001}]
["a2) Remuneraciones al Personal de Carácter Transitorio",1746000,0,{"$f":"B12+C12","v":1746000},606597.82999999996,606597.82999999996,1139402.17]
["a3) Remuneraciones Adicionales y Especiales",14442950,0,14442950,526838.68999999994,469672.4,13916111.310000001]
["a4) Seguridad Social",5650000,0,5650000,1172211.17,825798.8,4477788.83]
["a5) Otras Prestaciones Sociales y Económicas",16471132,0,16471132,3821747.3,3794435.63,12649384.699999999]
["a6) Previsiones",0,0,0,0,0,0]
["a7) Pago de Estímulos a Servidores Públicos",0,0,0,0,0,0]
["B. Materiales y Suministros (B=b1+b2+b3+b4+b5+b6+b7+b8+b9)",{"$f":"SUM(B19:B27)","v":13292243.810000001},{"$f":"SUM(C19:C27)","v":472800},13765043.810000001,2321997.29,2321997.29,{"$f":"SUM(G19:G27)","v":11443046.520000001}]
["b1) Materiales de Administración, Emisión de Documentos y Artículos Oficiales",3618500,39500,{"$f":"B19+C19","v":3658000},754012.5,754012.5,{"$f":"D19-E19","v":2903987.5}]
["b2) Alimentos y Utensilios",792243.81,33000,825243.81,85590.04,85590.04,739653.77]
["b3) Materias Primas y Materiales de Producción y Comercialización",9000,0,9000,0,0,9000]
["b4) Materiales y Artículos de Construcción y de Reparación",2448000,38800,2486800,601492.02,601492.02,1885307.98]
["b5) Productos Químicos, Farmacéuticos y de Laboratorio",895000,90500,985500,100986.71,100986.71,884513.29]
["b6) Combustibles, Lubricantes y Aditivos",2642000,-76000,2566000,467397.05,467397.05,2098602.9500000002]
["b7) Vestuario, Blancos, Prendas de Protección y Artículos Deportivos",1725000,140000,1865000,50083.28,50083.28,1814916.72]
["b8) Materiales y Suministros Para Seguridad",0,0,0,0,0,0]
["b9) Herramientas, Refacciones y Accesorios Menores",1162500,207000,1369500,262435.69,262435.69,1107064.31]
["C. Servicios Generales (C=c1+c2+c3+c4+c5+c6+c7+c8+c9)",{"$f":"SUM(B29:B37)","v":46494309},{"$f":"SUM(C29:C37)","v":3579826},50074135,7560839.6600000001,7501996.1699999999,42513295.340000004]
["c1) Servicios Básicos",16181500,6200,{"$f":"B29+C29","v":16187700},2630450.09,2630450.09,13557249.91]
["c2) Servicios de Arrendamiento",1046115,57500,{"$f":"B30+C30","v":1103615},116001.18,116001.18,987613.82000000007]
["c3) Servicios Profesionales, Científicos, Técnicos y Otros Servicios",6186400,2081926,8268326,528103.57999999996,528103.57999999996,7740222.4199999999]
["c4) Servicios Financieros, Bancarios y Comerciales",1500000,0,1500000,318147.56,318146.07,1181852.44]
["c5) Servicios de Instalación, Reparación, Mantenimiento y Conservación",917594,64200,981794,317909.5,317909.5,663884.5]
["c6) Servicios de Comunicación Social y Publicidad",2626000,0,2626000,163960.94,163960.94,2462039.06]
["c7) Servicios de Traslado y Viáticos",362700,9000,371700,12246.08,12246.08,359453.92]
["c8) Servicios Oficiales",2266000,168000,2434000,243923.63,243923.63,2190076.37]
["c9) Otros Servicios Generales",15408000,1193000,16601000,3230097.1,3171255.1,13370902.9]
["D. Transferencias, Asignaciones, Subsidios y Otras Ayudas (D=d1+d2+d3+d4+d5+d6+d7+d8+d9)",{"$f":"SUM(B39:B47)","v":38102829.189999998},{"$f":"SUM(C39:C47)","v":1860627.6400000001},39963456.829999998,{"$f":"SUM(E39:E47)","v":7498705.21},7498705.21,32464751.620000001]
["d1) Transferencias Internas y Asignaciones al Sector Público",0,0,{"$f":"B39+C39","v":0},0,0,0]
["d2) Transferencias al Resto del Sector Público",16020656.189999999,0,{"$f":"B40+C40","v":16020656.189999999},4005164.04,4005164.04,12015492.149999999]
["d3) Subsidios y Subvenciones",0,539093.64,539093.64,0,0,539093.64]
["d4) Ayudas Sociales",13820000,1321534,15141534,1919486.47,1919486.47,13222047.529999999]
["d5) Pensiones y Jubilaciones",8262173,0,8262173,1574054.7,1574054.7,6688118.2999999998]
["d6) Transferencias a Fideicomisos, Mandatos y Otros Análogos",0,0,0,0,0,0]
["d7) Transferencias a la Seguridad Social",0,0,0,0,0,0]
["d8) Donativos",0,0,0,0,0,0]
["d9) Transferencias al Exterior",0,0,0,0,0,0]
["E. Bienes Muebles, Inmuebles e Intangibles (E=e1+e2+e3+e4+e5+e6+e7+e8+e9)",{"$f":"SUM(B49:B57)","v":2328000},{"$f":"SUM(C49:C57)","v":50000},2378000,35953.96,5329.96,2342046.04]
["e1) Mobiliario y Equipo de Administración",294000,0,{"$f":"B49+C49","v":294000},5329.96,5329.96,288670.03999999998]
["e2) Mobiliario y Equipo Educacional y Recreativo",80000,50000,{"$f":"B50+C50","v":130000},30624,0,99376]
["e3) Equipo e Instrumental Médico y de Laboratorio",100000,0,100000,0,0,100000]
["e4) Vehículos y Equipo de Transporte",0,0,0,0,0,0]
["e5) Equipo de Defensa y Seguridad",0,0,0,0,0,0]
["e6) Maquinaria, Otros Equipos y Herramientas",254000,0,254000,0,0,254000]
["e7) Activos Biológicos",0,0,0,0,0,0]
["e8) Bienes Inmuebles",1600000,0,1600000,0,0,1600000]
["e9) Activos Intangibles",0,0,0,0,0,0]
["F. Inversión Pública (F=f1+f2+f3)",{"$f":"SUM(B59:B61)","v":22000000},{"$f":"SUM(C59:C61)","v":11781749.51},33781749.509999998,3595857.27,3372796.16,30185892.239999998]
["f1) Obra Pública en Bienes de Dominio Público",22000000,11652934.470000001,{"$f":"B59+C59","v":33652934.469999999},3467902.67,3244841.56,30185031.799999997]
["f2) Obra Pública en Bienes Propios",0,128815.03999999999,{"$f":"B60+C60","v":128815.03999999999},127954.6,127954.6,860.43999999998778]
["f3) Proyectos Productivos y Acciones de Fomento",0,0,0,0,0,0]
["G. Inversiones Financieras y Otras Provisiones (G=g1+g2+g3+g4+g5+g6+g7)",{"$f":"SUM(B63:B67,B69:B70)","v":0},0,{"$f":"SUM(D63:D67)","v":0},{"$f":"SUM(E63:E67,E69:E70)","v":0},0,0]
["g1) Inversiones Para el Fomento de Actividades Productivas",0,0,{"$f":"B63+C63","v":0},0,0,0]
["g2) Acciones y Participaciones de Capital",0,0,{"$f":"B64+C64","v":0},0,0,0]
["g3) Compra de Títulos y Valores",0,0,0,0,0,0]
["g4) Concesión de Préstamos",0,0,0,0,0,0]
["g5) Inversiones en Fideicomisos, Mandatos y Otros Análogos",0,0,0,0,0,0]
["          Fideicomiso de Desastres Naturales (Informativo)",0,0,0,0,0,0]
["g6) Otras Inversiones Financieras",0,0,0,0,0,0]
["g7) Provisiones para Contingencias y Otras Erogaciones Especiales",0,0,0,0,0,0]
[null,{"$f":"SUM(B72:B74)","v":0},{"$f":"SUM(C72:C74)","v":1639462.75},{"$f":"SUM(D72:D74)","v":1639462.75},939462.75,939462.75,700000]
["h1) Participaciones",0,0,{"$f":"B72+C72","v":0},0,0,0]
["h2) Aportaciones",0,0,{"$f":"B73+C73","v":0},0,0,0]
["h3) Convenios",0,1639462.75,1639462.75,939462.75,939462.75,700000]
["I. Deuda Pública (I=i1+i2+i3+i4+i5+i6+i7)",{"$f":"SUM(B76:B82)","v":0},{"$f":"SUM(C76:C82)","v":0},{"$f":"SUM(D76:D82)","v":0},0,0,0]
["i1) Amortización de la Deuda Pública",0,0,{"$f":"B76+C76","v":0},0,0,{"$f":"D76-E76","v":0}]
["i2) Intereses de la Deuda Pública",0,0,{"$f":"B77+C77","v":0},0,0,0]
["i3) Comisiones de la Deuda Pública",0,0,0,0,0,0]
["i4) Gastos de la Deuda Pública",0,0,0,0,0,0]
["i5) Costo por Coberturas",0,0,0,0,0,0]
["i6) Apoyos Financieros",0,0,0,0,0,0]
["i7) Adeudos de Ejercicios Fiscales Anteriores (ADEFAS)",0,0,0,0,0,0]
[]
["II. Gasto Etiquetado (II=A+B+C+D+E+F+G+H+I)",{"$f":"SUM(B85,B93,B103,B113,B123,B133,B137,B146,B150)","v":268000000},36536249.969999999,304536249.96999997,44268606.899999999,38171179.789999999,260267643.06999996,0,0,0,0,0,0,0,0,0,0,0,0,0,0,0,0,0,0,0,0,0,0,0,0,0,0,0,0,0,0,0,0,0,0,0,0,0,0,0,0,0,0,0,0,0,0,0,0,0,0,0,0,0,0,0,0,0,0,{"$f":"SUM(BN85,BN93,BN103,BN113,BN123,BN133,BN137,BN146,BN150)","v":0},0,0,0,0,0,0,0,0,0,0,0,0,0,0,0,0,0,0,0,0,0,0,0,0,0,0,0,0,0,0,0,0,0,0,0,0,0,0,0,0,0,0,0,0,0,0,0,0,0,0,0,0,0,0,0,0,0,0,0,0,0,0,0,{"$f":"SUM(DZ85,DZ93,DZ103,DZ113,DZ123,DZ133,DZ137,DZ146,DZ150)","v":0},0,0,0,0,0,0,0,0,0,0,0,0,0,0,0,0,0,0,0,0,0,0,0,0,0,0,0,0,0,0,0,0,0,0,0,0,0,0,0,0,0,0,0,0,0,0,0,0,0,0,0,0,0,0,0,0,0,0,0,0,0,0,0,{"$f":"SUM(GL85,GL93,GL103,GL113,GL123,GL133,GL137,GL146,GL150)","v":0},0,0,0,0,0,0,0,0,0,0,0,0,0,0,0,0,0,0,0,0,0,0,0,0,0,0,0,0,0,0,0,0,0,0,0,0,0,0,0,0,0,0,0,0,0,0,0,0,0,0,0,0,0,0,0,0,0,0,0,0,0,0,0,{"$f":"SUM(IX85,IX93,IX103,IX113,IX123,IX133,IX137,IX146,IX150)","v":0},0,0,0,0,0,0,0,0,0,0,0,0,0,0,0,0,0,0,0,0,0,0,0,0,0,0,0,0,0,0,0,0,0,0,0,0,0,0,0,0,0,0,0,0,0,0,0,0,0,0,0,0,0,0,0,0,0,0,0,0,0,0,0,{"$f":"SUM(LJ85,LJ93,LJ103,LJ113,LJ123,LJ133,LJ137,LJ146,LJ150)","v":0},0,0,0,0,0,0,0,0,0,0,0,0,0,0,0,0,0,0,0,0,0,0,0,0,0,0,0,0,0,0,0,0,0,0,0,0,0,0,0,0,0,0,0,0,0,0,0,0,0,0,0,0,0,0,0,0,0,0,0,0,0,0,0,{"$f":"SUM(NV85,NV93,NV103,NV113,NV123,NV133,NV137,NV146,NV150)","v":0},0,0,0,0,0,0,0,0,0,0,0,0,0,0,0,0,0,0,0,0,0,0,0,0,0,0,0,0,0,0,0,0,0,0,0,0,0,0,0,0,0,0,0,0,0,0,0,0,0,0,0,0,0,0,0,0,0,0,0,0,0,0,0,{"$f":"SUM(QH85,QH93,QH103,QH113,QH123,QH133,QH137,QH146,QH150)","v":0},0,0,0,0,0,0,0,0,0,0,0,0,0,0,0,0,0,0,0,0,0,0,0,0,0,0,0,0,0,0,0,0,0,0,0,0,0,0,0,0,0,0,0,0,0,0,0,0,0,0,0,0,0,0,0,0,0,0,0,0,0,0,0,{"$f":"SUM(ST85,ST93,ST103,ST113,ST123,ST133,ST137,ST146,ST150)","v":0},0,0,0,0,0,0,0,0,0,0,0,0,0,0,0,0,0,0,0,0,0,0,0,0,0,0,0,0,0,0,0,0,0,0,0,0,0,0,0,0,0,0,0,0,0,0,0,0,0,0,0,0,0,0,0,0,0,0,0,0,0,0,0,{"$f":"SUM(VF85,VF93,VF103,VF113,VF123,VF133,VF137,VF146,VF150)","v":0},0,0,0,0,0,0,0,0,0,0,0,0,0,0,0,0,0,0,0,0,0,0,0,0,0,0,0,0,0,0,0,0,0,0,0,0,0,0,0,0,0,0,0,0,0,0,0,0,0,0,0,0,0,0,0,0,0,0,0,0,0,0,0,{"$f":"SUM(XR85,XR93,XR103,XR113,XR123,XR133,XR137,XR146,XR150)","v":0},0,0,0,0,0,0,0,0,0,0,0,0,0,0,0,0,0,0,0,0,0,0,0,0,0,0,0,0,0,0,0,0,0,0,0,0,0,0,0,0,0,0,0,0,0,0,0,0,0,0,0,0,0,0,0,0,0,0,0,0,0,0,0,{"$f":"SUM(AAD85,AAD93,AAD103,AAD113,AAD123,AAD133,AAD137,AAD146,AAD150)","v":0},0,0,0,0,0,0,0,0,0,0,0,0,0,0,0,0,0,0,0,0,0,0,0,0,0,0,0,0,0,0,0,0,0,0,0,0,0,0,0,0,0,0,0,0,0,0,0,0,0,0,0,0,0,0,0,0,0,0,0,0,0,0,0,{"$f":"SUM(ACP85,ACP93,ACP103,ACP113,ACP123,ACP133,ACP137,ACP146,ACP150)","v":0},0,0,0,0,0,0,0,0,0,0,0,0,0,0,0,0,0,0,0,0,0,0,0,0,0,0,0,0,0,0,0,0,0,0,0,0,0,0,0,0,0,0,0,0,0,0,0,0,0,0,0,0,0,0,0,0,0,0,0,0,0,0,0,{"$f":"SUM(AFB85,AFB93,AFB103,AFB113,AFB123,AFB133,AFB137,AFB146,AFB150)","v":0},0,0,0,0,0,0,0,0,0,0,0,0,0,0,0,0,0,0,0,0,0,0,0,0,0,0,0,0,0,0,0,0,0,0,0,0,0,0,0,0,0,0,0,0,0,0,0,0,0,0,0,0,0,0,0,0,0,0,0,0,0,0,0,{"$f":"SUM(AHN85,AHN93,AHN103,AHN113,AHN123,AHN133,AHN137,AHN146,AHN150)","v":0},0,0,0,0,0,0,0,0,0,0,0,0,0,0,0,0,0,0,0,0,0,0,0,0,0,0,0,0,0,0,0,0,0,0,0,0,0,0,0,0,0,0,0,0,0,0,0,0,0,0,0,0,0,0,0,0,0,0,0,0,0,0,0,{"$f":"SUM(AJZ85,AJZ93,AJZ103,AJZ113,AJZ123,AJZ133,AJZ137,AJZ146,AJZ150)","v":0},0,0,0,0,0,0,0,0,0,0,0,0,0,0,0,0,0,0,0,0,0,0,0,0,0,0,0,0,0,0,0,0,0,0,0,0,0,0,0,0,0,0,0,0,0,0,0,0,0,0,0,0,0,0,0,0,0,0,0,0,0,0,0,{"$f":"SUM(AML85,AML93,AML103,AML113,AML123,AML133,AML137,AML146,AML150)","v":0},0,0,0,0,0,0,0,0,0,0,0,0,0,0,0,0,0,0,0,0,0,0,0,0,0,0,0,0,0,0,0,0,0,0,0,0,0,0,0,0,0,0,0,0,0,0,0,0,0,0,0,0,0,0,0,0,0,0,0,0,0,0,0,{"$f":"SUM(AOX85,AOX93,AOX103,AOX113,AOX123,AOX133,AOX137,AOX146,AOX150)","v":0},0,0,0,0,0,0,0,0,0,0,0,0,0,0,0,0,0,0,0,0,0,0,0,0,0,0,0,0,0,0,0,0,0,0,0,0,0,0,0,0,0,0,0,0,0,0,0,0,0,0,0,0,0,0,0,0,0,0,0,0,0,0,0,{"$f":"SUM(ARJ85,ARJ93,ARJ103,ARJ113,ARJ123,ARJ133,ARJ137,ARJ146,ARJ150)","v":0},0,0,0,0,0,0,0,0,0,0,0,0,0,0,0,0,0,0,0,0,0,0,0,0,0,0,0,0,0,0,0,0,0,0,0,0,0,0,0,0,0,0,0,0,0,0,0,0,0,0,0,0,0,0,0,0,0,0,0,0,0,0,0,{"$f":"SUM(ATV85,ATV93,ATV103,ATV113,ATV123,ATV133,ATV137,ATV146,ATV150)","v":0},0,0,0,0,0,0,0,0,0,0,0,0,0,0,0,0,0,0,0,0,0,0,0,0,0,0,0,0,0,0,0,0,0,0,0,0,0,0,0,0,0,0,0,0,0,0,0,0,0,0,0,0,0,0,0,0,0,0,0,0,0,0,0,{"$f":"SUM(AWH85,AWH93,AWH103,AWH113,AWH123,AWH133,AWH137,AWH146,AWH150)","v":0},0,0,0,0,0,0,0,0,0,0,0,0,0,0,0,0,0,0,0,0,0,0,0,0,0,0,0,0,0,0,0,0,0,0,0,0,0,0,0,0,0,0,0,0,0,0,0,0,0,0,0,0,0,0,0,0,0,0,0,0,0,0,0,{"$f":"SUM(AYT85,AYT93,AYT103,AYT113,AYT123,AYT133,AYT137,AYT146,AYT150)","v":0},0,0,0,0,0,0,0,0,0,0,0,0,0,0,0,0,0,0,0,0,0,0,0,0,0,0,0,0,0,0,0,0,0,0,0,0,0,0,0,0,0,0,0,0,0,0,0,0,0,0,0,0,0,0,0,0,0,0,0,0,0,0,0,{"$f":"SUM(BBF85,BBF93,BBF103,BBF113,BBF123,BBF133,BBF137,BBF146,BBF150)","v":0},0,0,0,0,0,0,0,0,0,0,0,0,0,0,0,0,0,0,0,0,0,0,0,0,0,0,0,0,0,0,0,0,0,0,0,0,0,0,0,0,0,0,0,0,0,0,0,0,0,0,0,0,0,0,0,0,0,0,0,0,0,0,0,{"$f":"SUM(BDR85,BDR93,BDR103,BDR113,BDR123,BDR133,BDR137,BDR146,BDR150)","v":0},0,0,0,0,0,0,0,0,0,0,0,0,0,0,0,0,0,0,0,0,0,0,0,0,0,0,0,0,0,0,0,0,0,0,0,0,0,0,0,0,0,0,0,0,0,0,0,0,0,0,0,0,0,0,0,0,0,0,0,0,0,0,0,{"$f":"SUM(BGD85,BGD93,BGD103,BGD113,BGD123,BGD133,BGD137,BGD146,BGD150)","v":0},0,0,0,0,0,0,0,0,0,0,0,0,0,0,0,0,0,0,0,0,0,0,0,0,0,0,0,0,0,0,0,0,0,0,0,0,0,0,0,0,0,0,0,0,0,0,0,0,0,0,0,0,0,0,0,0,0,0,0,0,0,0,0,{"$f":"SUM(BIP85,BIP93,BIP103,BIP113,BIP123,BIP133,BIP137,BIP146,BIP150)","v":0},0,0,0,0,0,0,0,0,0,0,0,0,0,0,0,0,0,0,0,0,0,0,0,0,0,0,0,0,0,0,0,0,0,0,0,0,0,0,0,0,0,0,0,0,0,0,0,0,0,0,0,0,0,0,0,0,0,0,0,0,0,0,0,{"$f":"SUM(BLB85,BLB93,BLB103,BLB113,BLB123,BLB133,BLB137,BLB146,BLB150)","v":0},0,0,0,0,0,0,0,0,0,0,0,0,0,0,0,0,0,0,0,0,0,0,0,0,0,0,0,0,0,0,0,0,0,0,0,0,0,0,0,0,0,0,0,0,0,0,0,0,0,0,0,0,0,0,0,0,0,0,0,0,0,0,0,{"$f":"SUM(BNN85,BNN93,BNN103,BNN113,BNN123,BNN133,BNN137,BNN146,BNN150)","v":0},0,0,0,0,0,0,0,0,0,0,0,0,0,0,0,0,0,0,0,0,0,0,0,0,0,0,0,0,0,0,0,0,0,0,0,0,0,0,0,0,0,0,0,0,0,0,0,0,0,0,0,0,0,0,0,0,0,0,0,0,0,0,0,{"$f":"SUM(BPZ85,BPZ93,BPZ103,BPZ113,BPZ123,BPZ133,BPZ137,BPZ146,BPZ150)","v":0},0,0,0,0,0,0,0,0,0,0,0,0,0,0,0,0,0,0,0,0,0,0,0,0,0,0,0,0,0,0,0,0,0,0,0,0,0,0,0,0,0,0,0,0,0,0,0,0,0,0,0,0,0,0,0,0,0,0,0,0,0,0,0,{"$f":"SUM(BSL85,BSL93,BSL103,BSL113,BSL123,BSL133,BSL137,BSL146,BSL150)","v":0},0,0,0,0,0,0,0,0,0,0,0,0,0,0,0,0,0,0,0,0,0,0,0,0,0,0,0,0,0,0,0,0,0,0,0,0,0,0,0,0,0,0,0,0,0,0,0,0,0,0,0,0,0,0,0,0,0,0,0,0,0,0,0,{"$f":"SUM(BUX85,BUX93,BUX103,BUX113,BUX123,BUX133,BUX137,BUX146,BUX150)","v":0},0,0,0,0,0,0,0,0,0,0,0,0,0,0,0,0,0,0,0,0,0,0,0,0,0,0,0,0,0,0,0,0,0,0,0,0,0,0,0,0,0,0,0,0,0,0,0,0,0,0,0,0,0,0,0,0,0,0,0,0,0,0,0,{"$f":"SUM(BXJ85,BXJ93,BXJ103,BXJ113,BXJ123,BXJ133,BXJ137,BXJ146,BXJ150)","v":0},0,0,0,0,0,0,0,0,0,0,0,0,0,0,0,0,0,0,0,0,0,0,0,0,0,0,0,0,0,0,0,0,0,0,0,0,0,0,0,0,0,0,0,0,0,0,0,0,0,0,0,0,0,0,0,0,0,0,0,0,0,0,0,{"$f":"SUM(BZV85,BZV93,BZV103,BZV113,BZV123,BZV133,BZV137,BZV146,BZV150)","v":0},0,0,0,0,0,0,0,0,0,0,0,0,0,0,0,0,0,0,0,0,0,0,0,0,0,0,0,0,0,0,0,0,0,0,0,0,0,0,0,0,0,0,0,0,0,0,0,0,0,0,0,0,0,0,0,0,0,0,0,0,0,0,0,{"$f":"SUM(CCH85,CCH93,CCH103,CCH113,CCH123,CCH133,CCH137,CCH146,CCH150)","v":0},0,0,0,0,0,0,0,0,0,0,0,0,0,0,0,0,0,0,0,0,0,0,0,0,0,0,0,0,0,0,0,0,0,0,0,0,0,0,0,0,0,0,0,0,0,0,0,0,0,0,0,0,0,0,0,0,0,0,0,0,0,0,0,{"$f":"SUM(CET85,CET93,CET103,CET113,CET123,CET133,CET137,CET146,CET150)","v":0},0,0,0,0,0,0,0,0,0,0,0,0,0,0,0,0,0,0,0,0,0,0,0,0,0,0,0,0,0,0,0,0,0,0,0,0,0,0,0,0,0,0,0,0,0,0,0,0,0,0,0,0,0,0,0,0,0,0,0,0,0,0,0,{"$f":"SUM(CHF85,CHF93,CHF103,CHF113,CHF123,CHF133,CHF137,CHF146,CHF150)","v":0},0,0,0,0,0,0,0,0,0,0,0,0,0,0,0,0,0,0,0,0,0,0,0,0,0,0,0,0,0,0,0,0,0,0,0,0,0,0,0,0,0,0,0,0,0,0,0,0,0,0,0,0,0,0,0,0,0,0,0,0,0,0,0,{"$f":"SUM(CJR85,CJR93,CJR103,CJR113,CJR123,CJR133,CJR137,CJR146,CJR150)","v":0},0,0,0,0,0,0,0,0,0,0,0,0,0,0,0,0,0,0,0,0,0,0,0,0,0,0,0,0,0,0,0,0,0,0,0,0,0,0,0,0,0,0,0,0,0,0,0,0,0,0,0,0,0,0,0,0,0,0,0,0,0,0,0,{"$f":"SUM(CMD85,CMD93,CMD103,CMD113,CMD123,CMD133,CMD137,CMD146,CMD150)","v":0},0,0,0,0,0,0,0,0,0,0,0,0,0,0,0,0,0,0,0,0,0,0,0,0,0,0,0,0,0,0,0,0,0,0,0,0,0,0,0,0,0,0,0,0,0,0,0,0,0,0,0,0,0,0,0,0,0,0,0,0,0,0,0,{"$f":"SUM(COP85,COP93,COP103,COP113,COP123,COP133,COP137,COP146,COP150)","v":0},0,0,0,0,0,0,0,0,0,0,0,0,0,0,0,0,0,0,0,0,0,0,0,0,0,0,0,0,0,0,0,0,0,0,0,0,0,0,0,0,0,0,0,0,0,0,0,0,0,0,0,0,0,0,0,0,0,0,0,0,0,0,0,{"$f":"SUM(CRB85,CRB93,CRB103,CRB113,CRB123,CRB133,CRB137,CRB146,CRB150)","v":0},0,0,0,0,0,0,0,0,0,0,0,0,0,0,0,0,0,0,0,0,0,0,0,0,0,0,0,0,0,0,0,0,0,0,0,0,0,0,0,0,0,0,0,0,0,0,0,0,0,0,0,0,0,0,0,0,0,0,0,0,0,0,0,{"$f":"SUM(CTN85,CTN93,CTN103,CTN113,CTN123,CTN133,CTN137,CTN146,CTN150)","v":0},0,0,0,0,0,0,0,0,0,0,0,0,0,0,0,0,0,0,0,0,0,0,0,0,0,0,0,0,0,0,0,0,0,0,0,0,0,0,0,0,0,0,0,0,0,0,0,0,0,0,0,0,0,0,0,0,0,0,0,0,0,0,0,{"$f":"SUM(CVZ85,CVZ93,CVZ103,CVZ113,CVZ123,CVZ133,CVZ137,CVZ146,CVZ150)","v":0},0,0,0,0,0,0,0,0,0,0,0,0,0,0,0,0,0,0,0,0,0,0,0,0,0,0,0,0,0,0,0,0,0,0,0,0,0,0,0,0,0,0,0,0,0,0,0,0,0,0,0,0,0,0,0,0,0,0,0,0,0,0,0,{"$f":"SUM(CYL85,CYL93,CYL103,CYL113,CYL123,CYL133,CYL137,CYL146,CYL150)","v":0},0,0,0,0,0,0,0,0,0,0,0,0,0,0,0,0,0,0,0,0,0,0,0,0,0,0,0,0,0,0,0,0,0,0,0,0,0,0,0,0,0,0,0,0,0,0,0,0,0,0,0,0,0,0,0,0,0,0,0,0,0,0,0,{"$f":"SUM(DAX85,DAX93,DAX103,DAX113,DAX123,DAX133,DAX137,DAX146,DAX150)","v":0},0,0,0,0,0,0,0,0,0,0,0,0,0,0,0,0,0,0,0,0,0,0,0,0,0,0,0,0,0,0,0,0,0,0,0,0,0,0,0,0,0,0,0,0,0,0,0,0,0,0,0,0,0,0,0,0,0,0,0,0,0,0,0,{"$f":"SUM(DDJ85,DDJ93,DDJ103,DDJ113,DDJ123,DDJ133,DDJ137,DDJ146,DDJ150)","v":0},0,0,0,0,0,0,0,0,0,0,0,0,0,0,0,0,0,0,0,0,0,0,0,0,0,0,0,0,0,0,0,0,0,0,0,0,0,0,0,0,0,0,0,0,0,0,0,0,0,0,0,0,0,0,0,0,0,0,0,0,0,0,0,{"$f":"SUM(DFV85,DFV93,DFV103,DFV113,DFV123,DFV133,DFV137,DFV146,DFV150)","v":0},0,0,0,0,0,0,0,0,0,0,0,0,0,0,0,0,0,0,0,0,0,0,0,0,0,0,0,0,0,0,0,0,0,0,0,0,0,0,0,0,0,0,0,0,0,0,0,0,0,0,0,0,0,0,0,0,0,0,0,0,0,0,0,{"$f":"SUM(DIH85,DIH93,DIH103,DIH113,DIH123,DIH133,DIH137,DIH146,DIH150)","v":0},0,0,0,0,0,0,0,0,0,0,0,0,0,0,0,0,0,0,0,0,0,0,0,0,0,0,0,0,0,0,0,0,0,0,0,0,0,0,0,0,0,0,0,0,0,0,0,0,0,0,0,0,0,0,0,0,0,0,0,0,0,0,0,{"$f":"SUM(DKT85,DKT93,DKT103,DKT113,DKT123,DKT133,DKT137,DKT146,DKT150)","v":0},0,0,0,0,0,0,0,0,0,0,0,0,0,0,0,0,0,0,0,0,0,0,0,0,0,0,0,0,0,0,0,0,0,0,0,0,0,0,0,0,0,0,0,0,0,0,0,0,0,0,0,0,0,0,0,0,0,0,0,0,0,0,0,{"$f":"SUM(DNF85,DNF93,DNF103,DNF113,DNF123,DNF133,DNF137,DNF146,DNF150)","v":0},0,0,0,0,0,0,0,0,0,0,0,0,0,0,0,0,0,0,0,0,0,0,0,0,0,0,0,0,0,0,0,0,0,0,0,0,0,0,0,0,0,0,0,0,0,0,0,0,0,0,0,0,0,0,0,0,0,0,0,0,0,0,0,{"$f":"SUM(DPR85,DPR93,DPR103,DPR113,DPR123,DPR133,DPR137,DPR146,DPR150)","v":0},0,0,0,0,0,0,0,0,0,0,0,0,0,0,0,0,0,0,0,0,0,0,0,0,0,0,0,0,0,0,0,0,0,0,0,0,0,0,0,0,0,0,0,0,0,0,0,0,0,0,0,0,0,0,0,0,0,0,0,0,0,0,0,{"$f":"SUM(DSD85,DSD93,DSD103,DSD113,DSD123,DSD133,DSD137,DSD146,DSD150)","v":0},0,0,0,0,0,0,0,0,0,0,0,0,0,0,0,0,0,0,0,0,0,0,0,0,0,0,0,0,0,0,0,0,0,0,0,0,0,0,0,0,0,0,0,0,0,0,0,0,0,0,0,0,0,0,0,0,0,0,0,0,0,0,0,{"$f":"SUM(DUP85,DUP93,DUP103,DUP113,DUP123,DUP133,DUP137,DUP146,DUP150)","v":0},0,0,0,0,0,0,0,0,0,0,0,0,0,0,0,0,0,0,0,0,0,0,0,0,0,0,0,0,0,0,0,0,0,0,0,0,0,0,0,0,0,0,0,0,0,0,0,0,0,0,0,0,0,0,0,0,0,0,0,0,0,0,0,{"$f":"SUM(DXB85,DXB93,DXB103,DXB113,DXB123,DXB133,DXB137,DXB146,DXB150)","v":0},0,0,0,0,0,0,0,0,0,0,0,0,0,0,0,0,0,0,0,0,0,0,0,0,0,0,0,0,0,0,0,0,0,0,0,0,0,0,0,0,0,0,0,0,0,0,0,0,0,0,0,0,0,0,0,0,0,0,0,0,0,0,0,{"$f":"SUM(DZN85,DZN93,DZN103,DZN113,DZN123,DZN133,DZN137,DZN146,DZN150)","v":0},0,0,0,0,0,0,0,0,0,0,0,0,0,0,0,0,0,0,0,0,0,0,0,0,0,0,0,0,0,0,0,0,0,0,0,0,0,0,0,0,0,0,0,0,0,0,0,0,0,0,0,0,0,0,0,0,0,0,0,0,0,0,0,{"$f":"SUM(EBZ85,EBZ93,EBZ103,EBZ113,EBZ123,EBZ133,EBZ137,EBZ146,EBZ150)","v":0},0,0,0,0,0,0,0,0,0,0,0,0,0,0,0,0,0,0,0,0,0,0,0,0,0,0,0,0,0,0,0,0,0,0,0,0,0,0,0,0,0,0,0,0,0,0,0,0,0,0,0,0,0,0,0,0,0,0,0,0,0,0,0,{"$f":"SUM(EEL85,EEL93,EEL103,EEL113,EEL123,EEL133,EEL137,EEL146,EEL150)","v":0},0,0,0,0,0,0,0,0,0,0,0,0,0,0,0,0,0,0,0,0,0,0,0,0,0,0,0,0,0,0,0,0,0,0,0,0,0,0,0,0,0,0,0,0,0,0,0,0,0,0,0,0,0,0,0,0,0,0,0,0,0,0,0,{"$f":"SUM(EGX85,EGX93,EGX103,EGX113,EGX123,EGX133,EGX137,EGX146,EGX150)","v":0},0,0,0,0,0,0,0,0,0,0,0,0,0,0,0,0,0,0,0,0,0,0,0,0,0,0,0,0,0,0,0,0,0,0,0,0,0,0,0,0,0,0,0,0,0,0,0,0,0,0,0,0,0,0,0,0,0,0,0,0,0,0,0,{"$f":"SUM(EJJ85,EJJ93,EJJ103,EJJ113,EJJ123,EJJ133,EJJ137,EJJ146,EJJ150)","v":0},0,0,0,0,0,0,0,0,0,0,0,0,0,0,0,0,0,0,0,0,0,0,0,0,0,0,0,0,0,0,0,0,0,0,0,0,0,0,0,0,0,0,0,0,0,0,0,0,0,0,0,0,0,0,0,0,0,0,0,0,0,0,0,{"$f":"SUM(ELV85,ELV93,ELV103,ELV113,ELV123,ELV133,ELV137,ELV146,ELV150)","v":0},0,0,0,0,0,0,0,0,0,0,0,0,0,0,0,0,0,0,0,0,0,0,0,0,0,0,0,0,0,0,0,0,0,0,0,0,0,0,0,0,0,0,0,0,0,0,0,0,0,0,0,0,0,0,0,0,0,0,0,0,0,0,0,{"$f":"SUM(EOH85,EOH93,EOH103,EOH113,EOH123,EOH133,EOH137,EOH146,EOH150)","v":0},0,0,0,0,0,0,0,0,0,0,0,0,0,0,0,0,0,0,0,0,0,0,0,0,0,0,0,0,0,0,0,0,0,0,0,0,0,0,0,0,0,0,0,0,0,0,0,0,0,0,0,0,0,0,0,0,0,0,0,0,0,0,0,{"$f":"SUM(EQT85,EQT93,EQT103,EQT113,EQT123,EQT133,EQT137,EQT146,EQT150)","v":0},0,0,0,0,0,0,0,0,0,0,0,0,0,0,0,0,0,0,0,0,0,0,0,0,0,0,0,0,0,0,0,0,0,0,0,0,0,0,0,0,0,0,0,0,0,0,0,0,0,0,0,0,0,0,0,0,0,0,0,0,0,0,0,{"$f":"SUM(ETF85,ETF93,ETF103,ETF113,ETF123,ETF133,ETF137,ETF146,ETF150)","v":0},0,0,0,0,0,0,0,0,0,0,0,0,0,0,0,0,0,0,0,0,0,0,0,0,0,0,0,0,0,0,0,0,0,0,0,0,0,0,0,0,0,0,0,0,0,0,0,0,0,0,0,0,0,0,0,0,0,0,0,0,0,0,0,{"$f":"SUM(EVR85,EVR93,EVR103,EVR113,EVR123,EVR133,EVR137,EVR146,EVR150)","v":0},0,0,0,0,0,0,0,0,0,0,0,0,0,0,0,0,0,0,0,0,0,0,0,0,0,0,0,0,0,0,0,0,0,0,0,0,0,0,0,0,0,0,0,0,0,0,0,0,0,0,0,0,0,0,0,0,0,0,0,0,0,0,0,{"$f":"SUM(EYD85,EYD93,EYD103,EYD113,EYD123,EYD133,EYD137,EYD146,EYD150)","v":0},0,0,0,0,0,0,0,0,0,0,0,0,0,0,0,0,0,0,0,0,0,0,0,0,0,0,0,0,0,0,0,0,0,0,0,0,0,0,0,0,0,0,0,0,0,0,0,0,0,0,0,0,0,0,0,0,0,0,0,0,0,0,0,{"$f":"SUM(FAP85,FAP93,FAP103,FAP113,FAP123,FAP133,FAP137,FAP146,FAP150)","v":0},0,0,0,0,0,0,0,0,0,0,0,0,0,0,0,0,0,0,0,0,0,0,0,0,0,0,0,0,0,0,0,0,0,0,0,0,0,0,0,0,0,0,0,0,0,0,0,0,0,0,0,0,0,0,0,0,0,0,0,0,0,0,0,{"$f":"SUM(FDB85,FDB93,FDB103,FDB113,FDB123,FDB133,FDB137,FDB146,FDB150)","v":0},0,0,0,0,0,0,0,0,0,0,0,0,0,0,0,0,0,0,0,0,0,0,0,0,0,0,0,0,0,0,0,0,0,0,0,0,0,0,0,0,0,0,0,0,0,0,0,0,0,0,0,0,0,0,0,0,0,0,0,0,0,0,0,{"$f":"SUM(FFN85,FFN93,FFN103,FFN113,FFN123,FFN133,FFN137,FFN146,FFN150)","v":0},0,0,0,0,0,0,0,0,0,0,0,0,0,0,0,0,0,0,0,0,0,0,0,0,0,0,0,0,0,0,0,0,0,0,0,0,0,0,0,0,0,0,0,0,0,0,0,0,0,0,0,0,0,0,0,0,0,0,0,0,0,0,0,{"$f":"SUM(FHZ85,FHZ93,FHZ103,FHZ113,FHZ123,FHZ133,FHZ137,FHZ146,FHZ150)","v":0},0,0,0,0,0,0,0,0,0,0,0,0,0,0,0,0,0,0,0,0,0,0,0,0,0,0,0,0,0,0,0,0,0,0,0,0,0,0,0,0,0,0,0,0,0,0,0,0,0,0,0,0,0,0,0,0,0,0,0,0,0,0,0,{"$f":"SUM(FKL85,FKL93,FKL103,FKL113,FKL123,FKL133,FKL137,FKL146,FKL150)","v":0},0,0,0,0,0,0,0,0,0,0,0,0,0,0,0,0,0,0,0,0,0,0,0,0,0,0,0,0,0,0,0,0,0,0,0,0,0,0,0,0,0,0,0,0,0,0,0,0,0,0,0,0,0,0,0,0,0,0,0,0,0,0,0,{"$f":"SUM(FMX85,FMX93,FMX103,FMX113,FMX123,FMX133,FMX137,FMX146,FMX150)","v":0},0,0,0,0,0,0,0,0,0,0,0,0,0,0,0,0,0,0,0,0,0,0,0,0,0,0,0,0,0,0,0,0,0,0,0,0,0,0,0,0,0,0,0,0,0,0,0,0,0,0,0,0,0,0,0,0,0,0,0,0,0,0,0,{"$f":"SUM(FPJ85,FPJ93,FPJ103,FPJ113,FPJ123,FPJ133,FPJ137,FPJ146,FPJ150)","v":0},0,0,0,0,0,0,0,0,0,0,0,0,0,0,0,0,0,0,0,0,0,0,0,0,0,0,0,0,0,0,0,0,0,0,0,0,0,0,0,0,0,0,0,0,0,0,0,0,0,0,0,0,0,0,0,0,0,0,0,0,0,0,0,{"$f":"SUM(FRV85,FRV93,FRV103,FRV113,FRV123,FRV133,FRV137,FRV146,FRV150)","v":0},0,0,0,0,0,0,0,0,0,0,0,0,0,0,0,0,0,0,0,0,0,0,0,0,0,0,0,0,0,0,0,0,0,0,0,0,0,0,0,0,0,0,0,0,0,0,0,0,0,0,0,0,0,0,0,0,0,0,0,0,0,0,0,{"$f":"SUM(FUH85,FUH93,FUH103,FUH113,FUH123,FUH133,FUH137,FUH146,FUH150)","v":0},0,0,0,0,0,0,0,0,0,0,0,0,0,0,0,0,0,0,0,0,0,0,0,0,0,0,0,0,0,0,0,0,0,0,0,0,0,0,0,0,0,0,0,0,0,0,0,0,0,0,0,0,0,0,0,0,0,0,0,0,0,0,0,{"$f":"SUM(FWT85,FWT93,FWT103,FWT113,FWT123,FWT133,FWT137,FWT146,FWT150)","v":0},0,0,0,0,0,0,0,0,0,0,0,0,0,0,0,0,0,0,0,0,0,0,0,0,0,0,0,0,0,0,0,0,0,0,0,0,0,0,0,0,0,0,0,0,0,0,0,0,0,0,0,0,0,0,0,0,0,0,0,0,0,0,0,{"$f":"SUM(FZF85,FZF93,FZF103,FZF113,FZF123,FZF133,FZF137,FZF146,FZF150)","v":0},0,0,0,0,0,0,0,0,0,0,0,0,0,0,0,0,0,0,0,0,0,0,0,0,0,0,0,0,0,0,0,0,0,0,0,0,0,0,0,0,0,0,0,0,0,0,0,0,0,0,0,0,0,0,0,0,0,0,0,0,0,0,0,{"$f":"SUM(GBR85,GBR93,GBR103,GBR113,GBR123,GBR133,GBR137,GBR146,GBR150)","v":0},0,0,0,0,0,0,0,0,0,0,0,0,0,0,0,0,0,0,0,0,0,0,0,0,0,0,0,0,0,0,0,0,0,0,0,0,0,0,0,0,0,0,0,0,0,0,0,0,0,0,0,0,0,0,0,0,0,0,0,0,0,0,0,{"$f":"SUM(GED85,GED93,GED103,GED113,GED123,GED133,GED137,GED146,GED150)","v":0},0,0,0,0,0,0,0,0,0,0,0,0,0,0,0,0,0,0,0,0,0,0,0,0,0,0,0,0,0,0,0,0,0,0,0,0,0,0,0,0,0,0,0,0,0,0,0,0,0,0,0,0,0,0,0,0,0,0,0,0,0,0,0,{"$f":"SUM(GGP85,GGP93,GGP103,GGP113,GGP123,GGP133,GGP137,GGP146,GGP150)","v":0},0,0,0,0,0,0,0,0,0,0,0,0,0,0,0,0,0,0,0,0,0,0,0,0,0,0,0,0,0,0,0,0,0,0,0,0,0,0,0,0,0,0,0,0,0,0,0,0,0,0,0,0,0,0,0,0,0,0,0,0,0,0,0,{"$f":"SUM(GJB85,GJB93,GJB103,GJB113,GJB123,GJB133,GJB137,GJB146,GJB150)","v":0},0,0,0,0,0,0,0,0,0,0,0,0,0,0,0,0,0,0,0,0,0,0,0,0,0,0,0,0,0,0,0,0,0,0,0,0,0,0,0,0,0,0,0,0,0,0,0,0,0,0,0,0,0,0,0,0,0,0,0,0,0,0,0,{"$f":"SUM(GLN85,GLN93,GLN103,GLN113,GLN123,GLN133,GLN137,GLN146,GLN150)","v":0},0,0,0,0,0,0,0,0,0,0,0,0,0,0,0,0,0,0,0,0,0,0,0,0,0,0,0,0,0,0,0,0,0,0,0,0,0,0,0,0,0,0,0,0,0,0,0,0,0,0,0,0,0,0,0,0,0,0,0,0,0,0,0,{"$f":"SUM(GNZ85,GNZ93,GNZ103,GNZ113,GNZ123,GNZ133,GNZ137,GNZ146,GNZ150)","v":0},0,0,0,0,0,0,0,0,0,0,0,0,0,0,0,0,0,0,0,0,0,0,0,0,0,0,0,0,0,0,0,0,0,0,0,0,0,0,0,0,0,0,0,0,0,0,0,0,0,0,0,0,0,0,0,0,0,0,0,0,0,0,0,{"$f":"SUM(GQL85,GQL93,GQL103,GQL113,GQL123,GQL133,GQL137,GQL146,GQL150)","v":0},0,0,0,0,0,0,0,0,0,0,0,0,0,0,0,0,0,0,0,0,0,0,0,0,0,0,0,0,0,0,0,0,0,0,0,0,0,0,0,0,0,0,0,0,0,0,0,0,0,0,0,0,0,0,0,0,0,0,0,0,0,0,0,{"$f":"SUM(GSX85,GSX93,GSX103,GSX113,GSX123,GSX133,GSX137,GSX146,GSX150)","v":0},0,0,0,0,0,0,0,0,0,0,0,0,0,0,0,0,0,0,0,0,0,0,0,0,0,0,0,0,0,0,0,0,0,0,0,0,0,0,0,0,0,0,0,0,0,0,0,0,0,0,0,0,0,0,0,0,0,0,0,0,0,0,0,{"$f":"SUM(GVJ85,GVJ93,GVJ103,GVJ113,GVJ123,GVJ133,GVJ137,GVJ146,GVJ150)","v":0},0,0,0,0,0,0,0,0,0,0,0,0,0,0,0,0,0,0,0,0,0,0,0,0,0,0,0,0,0,0,0,0,0,0,0,0,0,0,0,0,0,0,0,0,0,0,0,0,0,0,0,0,0,0,0,0,0,0,0,0,0,0,0,{"$f":"SUM(GXV85,GXV93,GXV103,GXV113,GXV123,GXV133,GXV137,GXV146,GXV150)","v":0},0,0,0,0,0,0,0,0,0,0,0,0,0,0,0,0,0,0,0,0,0,0,0,0,0,0,0,0,0,0,0,0,0,0,0,0,0,0,0,0,0,0,0,0,0,0,0,0,0,0,0,0,0,0,0,0,0,0,0,0,0,0,0,{"$f":"SUM(HAH85,HAH93,HAH103,HAH113,HAH123,HAH133,HAH137,HAH146,HAH150)","v":0},0,0,0,0,0,0,0,0,0,0,0,0,0,0,0,0,0,0,0,0,0,0,0,0,0,0,0,0,0,0,0,0,0,0,0,0,0,0,0,0,0,0,0,0,0,0,0,0,0,0,0,0,0,0,0,0,0,0,0,0,0,0,0,{"$f":"SUM(HCT85,HCT93,HCT103,HCT113,HCT123,HCT133,HCT137,HCT146,HCT150)","v":0},0,0,0,0,0,0,0,0,0,0,0,0,0,0,0,0,0,0,0,0,0,0,0,0,0,0,0,0,0,0,0,0,0,0,0,0,0,0,0,0,0,0,0,0,0,0,0,0,0,0,0,0,0,0,0,0,0,0,0,0,0,0,0,{"$f":"SUM(HFF85,HFF93,HFF103,HFF113,HFF123,HFF133,HFF137,HFF146,HFF150)","v":0},0,0,0,0,0,0,0,0,0,0,0,0,0,0,0,0,0,0,0,0,0,0,0,0,0,0,0,0,0,0,0,0,0,0,0,0,0,0,0,0,0,0,0,0,0,0,0,0,0,0,0,0,0,0,0,0,0,0,0,0,0,0,0,{"$f":"SUM(HHR85,HHR93,HHR103,HHR113,HHR123,HHR133,HHR137,HHR146,HHR150)","v":0},0,0,0,0,0,0,0,0,0,0,0,0,0,0,0,0,0,0,0,0,0,0,0,0,0,0,0,0,0,0,0,0,0,0,0,0,0,0,0,0,0,0,0,0,0,0,0,0,0,0,0,0,0,0,0,0,0,0,0,0,0,0,0,{"$f":"SUM(HKD85,HKD93,HKD103,HKD113,HKD123,HKD133,HKD137,HKD146,HKD150)","v":0},0,0,0,0,0,0,0,0,0,0,0,0,0,0,0,0,0,0,0,0,0,0,0,0,0,0,0,0,0,0,0,0,0,0,0,0,0,0,0,0,0,0,0,0,0,0,0,0,0,0,0,0,0,0,0,0,0,0,0,0,0,0,0,{"$f":"SUM(HMP85,HMP93,HMP103,HMP113,HMP123,HMP133,HMP137,HMP146,HMP150)","v":0},0,0,0,0,0,0,0,0,0,0,0,0,0,0,0,0,0,0,0,0,0,0,0,0,0,0,0,0,0,0,0,0,0,0,0,0,0,0,0,0,0,0,0,0,0,0,0,0,0,0,0,0,0,0,0,0,0,0,0,0,0,0,0,{"$f":"SUM(HPB85,HPB93,HPB103,HPB113,HPB123,HPB133,HPB137,HPB146,HPB150)","v":0},0,0,0,0,0,0,0,0,0,0,0,0,0,0,0,0,0,0,0,0,0,0,0,0,0,0,0,0,0,0,0,0,0,0,0,0,0,0,0,0,0,0,0,0,0,0,0,0,0,0,0,0,0,0,0,0,0,0,0,0,0,0,0,{"$f":"SUM(HRN85,HRN93,HRN103,HRN113,HRN123,HRN133,HRN137,HRN146,HRN150)","v":0},0,0,0,0,0,0,0,0,0,0,0,0,0,0,0,0,0,0,0,0,0,0,0,0,0,0,0,0,0,0,0,0,0,0,0,0,0,0,0,0,0,0,0,0,0,0,0,0,0,0,0,0,0,0,0,0,0,0,0,0,0,0,0,{"$f":"SUM(HTZ85,HTZ93,HTZ103,HTZ113,HTZ123,HTZ133,HTZ137,HTZ146,HTZ150)","v":0},0,0,0,0,0,0,0,0,0,0,0,0,0,0,0,0,0,0,0,0,0,0,0,0,0,0,0,0,0,0,0,0,0,0,0,0,0,0,0,0,0,0,0,0,0,0,0,0,0,0,0,0,0,0,0,0,0,0,0,0,0,0,0,{"$f":"SUM(HWL85,HWL93,HWL103,HWL113,HWL123,HWL133,HWL137,HWL146,HWL150)","v":0},0,0,0,0,0,0,0,0,0,0,0,0,0,0,0,0,0,0,0,0,0,0,0,0,0,0,0,0,0,0,0,0,0,0,0,0,0,0,0,0,0,0,0,0,0,0,0,0,0,0,0,0,0,0,0,0,0,0,0,0,0,0,0,{"$f":"SUM(HYX85,HYX93,HYX103,HYX113,HYX123,HYX133,HYX137,HYX146,HYX150)","v":0},0,0,0,0,0,0,0,0,0,0,0,0,0,0,0,0,0,0,0,0,0,0,0,0,0,0,0,0,0,0,0,0,0,0,0,0,0,0,0,0,0,0,0,0,0,0,0,0,0,0,0,0,0,0,0,0,0,0,0,0,0,0,0,{"$f":"SUM(IBJ85,IBJ93,IBJ103,IBJ113,IBJ123,IBJ133,IBJ137,IBJ146,IBJ150)","v":0},0,0,0,0,0,0,0,0,0,0,0,0,0,0,0,0,0,0,0,0,0,0,0,0,0,0,0,0,0,0,0,0,0,0,0,0,0,0,0,0,0,0,0,0,0,0,0,0,0,0,0,0,0,0,0,0,0,0,0,0,0,0,0,{"$f":"SUM(IDV85,IDV93,IDV103,IDV113,IDV123,IDV133,IDV137,IDV146,IDV150)","v":0},0,0,0,0,0,0,0,0,0,0,0,0,0,0,0,0,0,0,0,0,0,0,0,0,0,0,0,0,0,0,0,0,0,0,0,0,0,0,0,0,0,0,0,0,0,0,0,0,0,0,0,0,0,0,0,0,0,0,0,0,0,0,0,{"$f":"SUM(IGH85,IGH93,IGH103,IGH113,IGH123,IGH133,IGH137,IGH146,IGH150)","v":0},0,0,0,0,0,0,0,0,0,0,0,0,0,0,0,0,0,0,0,0,0,0,0,0,0,0,0,0,0,0,0,0,0,0,0,0,0,0,0,0,0,0,0,0,0,0,0,0,0,0,0,0,0,0,0,0,0,0,0,0,0,0,0,{"$f":"SUM(IIT85,IIT93,IIT103,IIT113,IIT123,IIT133,IIT137,IIT146,IIT150)","v":0},0,0,0,0,0,0,0,0,0,0,0,0,0,0,0,0,0,0,0,0,0,0,0,0,0,0,0,0,0,0,0,0,0,0,0,0,0,0,0,0,0,0,0,0,0,0,0,0,0,0,0,0,0,0,0,0,0,0,0,0,0,0,0,{"$f":"SUM(ILF85,ILF93,ILF103,ILF113,ILF123,ILF133,ILF137,ILF146,ILF150)","v":0},0,0,0,0,0,0,0,0,0,0,0,0,0,0,0,0,0,0,0,0,0,0,0,0,0,0,0,0,0,0,0,0,0,0,0,0,0,0,0,0,0,0,0,0,0,0,0,0,0,0,0,0,0,0,0,0,0,0,0,0,0,0,0,{"$f":"SUM(INR85,INR93,INR103,INR113,INR123,INR133,INR137,INR146,INR150)","v":0},0,0,0,0,0,0,0,0,0,0,0,0,0,0,0,0,0,0,0,0,0,0,0,0,0,0,0,0,0,0,0,0,0,0,0,0,0,0,0,0,0,0,0,0,0,0,0,0,0,0,0,0,0,0,0,0,0,0,0,0,0,0,0,{"$f":"SUM(IQD85,IQD93,IQD103,IQD113,IQD123,IQD133,IQD137,IQD146,IQD150)","v":0},0,0,0,0,0,0,0,0,0,0,0,0,0,0,0,0,0,0,0,0,0,0,0,0,0,0,0,0,0,0,0,0,0,0,0,0,0,0,0,0,0,0,0,0,0,0,0,0,0,0,0,0,0,0,0,0,0,0,0,0,0,0,0,{"$f":"SUM(ISP85,ISP93,ISP103,ISP113,ISP123,ISP133,ISP137,ISP146,ISP150)","v":0},0,0,0,0,0,0,0,0,0,0,0,0,0,0,0,0,0,0,0,0,0,0,0,0,0,0,0,0,0,0,0,0,0,0,0,0,0,0,0,0,0,0,0,0,0,0,0,0,0,0,0,0,0,0,0,0,0,0,0,0,0,0,0,{"$f":"SUM(IVB85,IVB93,IVB103,IVB113,IVB123,IVB133,IVB137,IVB146,IVB150)","v":0},0,0,0,0,0,0,0,0,0,0,0,0,0,0,0,0,0,0,0,0,0,0,0,0,0,0,0,0,0,0,0,0,0,0,0,0,0,0,0,0,0,0,0,0,0,0,0,0,0,0,0,0,0,0,0,0,0,0,0,0,0,0,0,{"$f":"SUM(IXN85,IXN93,IXN103,IXN113,IXN123,IXN133,IXN137,IXN146,IXN150)","v":0},0,0,0,0,0,0,0,0,0,0,0,0,0,0,0,0,0,0,0,0,0,0,0,0,0,0,0,0,0,0,0,0,0,0,0,0,0,0,0,0,0,0,0,0,0,0,0,0,0,0,0,0,0,0,0,0,0,0,0,0,0,0,0,{"$f":"SUM(IZZ85,IZZ93,IZZ103,IZZ113,IZZ123,IZZ133,IZZ137,IZZ146,IZZ150)","v":0},0,0,0,0,0,0,0,0,0,0,0,0,0,0,0,0,0,0,0,0,0,0,0,0,0,0,0,0,0,0,0,0,0,0,0,0,0,0,0,0,0,0,0,0,0,0,0,0,0,0,0,0,0,0,0,0,0,0,0,0,0,0,0,{"$f":"SUM(JCL85,JCL93,JCL103,JCL113,JCL123,JCL133,JCL137,JCL146,JCL150)","v":0},0,0,0,0,0,0,0,0,0,0,0,0,0,0,0,0,0,0,0,0,0,0,0,0,0,0,0,0,0,0,0,0,0,0,0,0,0,0,0,0,0,0,0,0,0,0,0,0,0,0,0,0,0,0,0,0,0,0,0,0,0,0,0,{"$f":"SUM(JEX85,JEX93,JEX103,JEX113,JEX123,JEX133,JEX137,JEX146,JEX150)","v":0},0,0,0,0,0,0,0,0,0,0,0,0,0,0,0,0,0,0,0,0,0,0,0,0,0,0,0,0,0,0,0,0,0,0,0,0,0,0,0,0,0,0,0,0,0,0,0,0,0,0,0,0,0,0,0,0,0,0,0,0,0,0,0,{"$f":"SUM(JHJ85,JHJ93,JHJ103,JHJ113,JHJ123,JHJ133,JHJ137,JHJ146,JHJ150)","v":0},0,0,0,0,0,0,0,0,0,0,0,0,0,0,0,0,0,0,0,0,0,0,0,0,0,0,0,0,0,0,0,0,0,0,0,0,0,0,0,0,0,0,0,0,0,0,0,0,0,0,0,0,0,0,0,0,0,0,0,0,0,0,0,{"$f":"SUM(JJV85,JJV93,JJV103,JJV113,JJV123,JJV133,JJV137,JJV146,JJV150)","v":0},0,0,0,0,0,0,0,0,0,0,0,0,0,0,0,0,0,0,0,0,0,0,0,0,0,0,0,0,0,0,0,0,0,0,0,0,0,0,0,0,0,0,0,0,0,0,0,0,0,0,0,0,0,0,0,0,0,0,0,0,0,0,0,{"$f":"SUM(JMH85,JMH93,JMH103,JMH113,JMH123,JMH133,JMH137,JMH146,JMH150)","v":0},0,0,0,0,0,0,0,0,0,0,0,0,0,0,0,0,0,0,0,0,0,0,0,0,0,0,0,0,0,0,0,0,0,0,0,0,0,0,0,0,0,0,0,0,0,0,0,0,0,0,0,0,0,0,0,0,0,0,0,0,0,0,0,{"$f":"SUM(JOT85,JOT93,JOT103,JOT113,JOT123,JOT133,JOT137,JOT146,JOT150)","v":0},0,0,0,0,0,0,0,0,0,0,0,0,0,0,0,0,0,0,0,0,0,0,0,0,0,0,0,0,0,0,0,0,0,0,0,0,0,0,0,0,0,0,0,0,0,0,0,0,0,0,0,0,0,0,0,0,0,0,0,0,0,0,0,{"$f":"SUM(JRF85,JRF93,JRF103,JRF113,JRF123,JRF133,JRF137,JRF146,JRF150)","v":0},0,0,0,0,0,0,0,0,0,0,0,0,0,0,0,0,0,0,0,0,0,0,0,0,0,0,0,0,0,0,0,0,0,0,0,0,0,0,0,0,0,0,0,0,0,0,0,0,0,0,0,0,0,0,0,0,0,0,0,0,0,0,0,{"$f":"SUM(JTR85,JTR93,JTR103,JTR113,JTR123,JTR133,JTR137,JTR146,JTR150)","v":0},0,0,0,0,0,0,0,0,0,0,0,0,0,0,0,0,0,0,0,0,0,0,0,0,0,0,0,0,0,0,0,0,0,0,0,0,0,0,0,0,0,0,0,0,0,0,0,0,0,0,0,0,0,0,0,0,0,0,0,0,0,0,0,{"$f":"SUM(JWD85,JWD93,JWD103,JWD113,JWD123,JWD133,JWD137,JWD146,JWD150)","v":0},0,0,0,0,0,0,0,0,0,0,0,0,0,0,0,0,0,0,0,0,0,0,0,0,0,0,0,0,0,0,0,0,0,0,0,0,0,0,0,0,0,0,0,0,0,0,0,0,0,0,0,0,0,0,0,0,0,0,0,0,0,0,0,{"$f":"SUM(JYP85,JYP93,JYP103,JYP113,JYP123,JYP133,JYP137,JYP146,JYP150)","v":0},0,0,0,0,0,0,0,0,0,0,0,0,0,0,0,0,0,0,0,0,0,0,0,0,0,0,0,0,0,0,0,0,0,0,0,0,0,0,0,0,0,0,0,0,0,0,0,0,0,0,0,0,0,0,0,0,0,0,0,0,0,0,0,{"$f":"SUM(KBB85,KBB93,KBB103,KBB113,KBB123,KBB133,KBB137,KBB146,KBB150)","v":0},0,0,0,0,0,0,0,0,0,0,0,0,0,0,0,0,0,0,0,0,0,0,0,0,0,0,0,0,0,0,0,0,0,0,0,0,0,0,0,0,0,0,0,0,0,0,0,0,0,0,0,0,0,0,0,0,0,0,0,0,0,0,0,{"$f":"SUM(KDN85,KDN93,KDN103,KDN113,KDN123,KDN133,KDN137,KDN146,KDN150)","v":0},0,0,0,0,0,0,0,0,0,0,0,0,0,0,0,0,0,0,0,0,0,0,0,0,0,0,0,0,0,0,0,0,0,0,0,0,0,0,0,0,0,0,0,0,0,0,0,0,0,0,0,0,0,0,0,0,0,0,0,0,0,0,0,{"$f":"SUM(KFZ85,KFZ93,KFZ103,KFZ113,KFZ123,KFZ133,KFZ137,KFZ146,KFZ150)","v":0},0,0,0,0,0,0,0,0,0,0,0,0,0,0,0,0,0,0,0,0,0,0,0,0,0,0,0,0,0,0,0,0,0,0,0,0,0,0,0,0,0,0,0,0,0,0,0,0,0,0,0,0,0,0,0,0,0,0,0,0,0,0,0,{"$f":"SUM(KIL85,KIL93,KIL103,KIL113,KIL123,KIL133,KIL137,KIL146,KIL150)","v":0},0,0,0,0,0,0,0,0,0,0,0,0,0,0,0,0,0,0,0,0,0,0,0,0,0,0,0,0,0,0,0,0,0,0,0,0,0,0,0,0,0,0,0,0,0,0,0,0,0,0,0,0,0,0,0,0,0,0,0,0,0,0,0,{"$f":"SUM(KKX85,KKX93,KKX103,KKX113,KKX123,KKX133,KKX137,KKX146,KKX150)","v":0},0,0,0,0,0,0,0,0,0,0,0,0,0,0,0,0,0,0,0,0,0,0,0,0,0,0,0,0,0,0,0,0,0,0,0,0,0,0,0,0,0,0,0,0,0,0,0,0,0,0,0,0,0,0,0,0,0,0,0,0,0,0,0,{"$f":"SUM(KNJ85,KNJ93,KNJ103,KNJ113,KNJ123,KNJ133,KNJ137,KNJ146,KNJ150)","v":0},0,0,0,0,0,0,0,0,0,0,0,0,0,0,0,0,0,0,0,0,0,0,0,0,0,0,0,0,0,0,0,0,0,0,0,0,0,0,0,0,0,0,0,0,0,0,0,0,0,0,0,0,0,0,0,0,0,0,0,0,0,0,0,{"$f":"SUM(KPV85,KPV93,KPV103,KPV113,KPV123,KPV133,KPV137,KPV146,KPV150)","v":0},0,0,0,0,0,0,0,0,0,0,0,0,0,0,0,0,0,0,0,0,0,0,0,0,0,0,0,0,0,0,0,0,0,0,0,0,0,0,0,0,0,0,0,0,0,0,0,0,0,0,0,0,0,0,0,0,0,0,0,0,0,0,0,{"$f":"SUM(KSH85,KSH93,KSH103,KSH113,KSH123,KSH133,KSH137,KSH146,KSH150)","v":0},0,0,0,0,0,0,0,0,0,0,0,0,0,0,0,0,0,0,0,0,0,0,0,0,0,0,0,0,0,0,0,0,0,0,0,0,0,0,0,0,0,0,0,0,0,0,0,0,0,0,0,0,0,0,0,0,0,0,0,0,0,0,0,{"$f":"SUM(KUT85,KUT93,KUT103,KUT113,KUT123,KUT133,KUT137,KUT146,KUT150)","v":0},0,0,0,0,0,0,0,0,0,0,0,0,0,0,0,0,0,0,0,0,0,0,0,0,0,0,0,0,0,0,0,0,0,0,0,0,0,0,0,0,0,0,0,0,0,0,0,0,0,0,0,0,0,0,0,0,0,0,0,0,0,0,0,{"$f":"SUM(KXF85,KXF93,KXF103,KXF113,KXF123,KXF133,KXF137,KXF146,KXF150)","v":0},0,0,0,0,0,0,0,0,0,0,0,0,0,0,0,0,0,0,0,0,0,0,0,0,0,0,0,0,0,0,0,0,0,0,0,0,0,0,0,0,0,0,0,0,0,0,0,0,0,0,0,0,0,0,0,0,0,0,0,0,0,0,0,{"$f":"SUM(KZR85,KZR93,KZR103,KZR113,KZR123,KZR133,KZR137,KZR146,KZR150)","v":0},0,0,0,0,0,0,0,0,0,0,0,0,0,0,0,0,0,0,0,0,0,0,0,0,0,0,0,0,0,0,0,0,0,0,0,0,0,0,0,0,0,0,0,0,0,0,0,0,0,0,0,0,0,0,0,0,0,0,0,0,0,0,0,{"$f":"SUM(LCD85,LCD93,LCD103,LCD113,LCD123,LCD133,LCD137,LCD146,LCD150)","v":0},0,0,0,0,0,0,0,0,0,0,0,0,0,0,0,0,0,0,0,0,0,0,0,0,0,0,0,0,0,0,0,0,0,0,0,0,0,0,0,0,0,0,0,0,0,0,0,0,0,0,0,0,0,0,0,0,0,0,0,0,0,0,0,{"$f":"SUM(LEP85,LEP93,LEP103,LEP113,LEP123,LEP133,LEP137,LEP146,LEP150)","v":0},0,0,0,0,0,0,0,0,0,0,0,0,0,0,0,0,0,0,0,0,0,0,0,0,0,0,0,0,0,0,0,0,0,0,0,0,0,0,0,0,0,0,0,0,0,0,0,0,0,0,0,0,0,0,0,0,0,0,0,0,0,0,0,{"$f":"SUM(LHB85,LHB93,LHB103,LHB113,LHB123,LHB133,LHB137,LHB146,LHB150)","v":0},0,0,0,0,0,0,0,0,0,0,0,0,0,0,0,0,0,0,0,0,0,0,0,0,0,0,0,0,0,0,0,0,0,0,0,0,0,0,0,0,0,0,0,0,0,0,0,0,0,0,0,0,0,0,0,0,0,0,0,0,0,0,0,{"$f":"SUM(LJN85,LJN93,LJN103,LJN113,LJN123,LJN133,LJN137,LJN146,LJN150)","v":0},0,0,0,0,0,0,0,0,0,0,0,0,0,0,0,0,0,0,0,0,0,0,0,0,0,0,0,0,0,0,0,0,0,0,0,0,0,0,0,0,0,0,0,0,0,0,0,0,0,0,0,0,0,0,0,0,0,0,0,0,0,0,0,{"$f":"SUM(LLZ85,LLZ93,LLZ103,LLZ113,LLZ123,LLZ133,LLZ137,LLZ146,LLZ150)","v":0},0,0,0,0,0,0,0,0,0,0,0,0,0,0,0,0,0,0,0,0,0,0,0,0,0,0,0,0,0,0,0,0,0,0,0,0,0,0,0,0,0,0,0,0,0,0,0,0,0,0,0,0,0,0,0,0,0,0,0,0,0,0,0,{"$f":"SUM(LOL85,LOL93,LOL103,LOL113,LOL123,LOL133,LOL137,LOL146,LOL150)","v":0},0,0,0,0,0,0,0,0,0,0,0,0,0,0,0,0,0,0,0,0,0,0,0,0,0,0,0,0,0,0,0,0,0,0,0,0,0,0,0,0,0,0,0,0,0,0,0,0,0,0,0,0,0,0,0,0,0,0,0,0,0,0,0,{"$f":"SUM(LQX85,LQX93,LQX103,LQX113,LQX123,LQX133,LQX137,LQX146,LQX150)","v":0},0,0,0,0,0,0,0,0,0,0,0,0,0,0,0,0,0,0,0,0,0,0,0,0,0,0,0,0,0,0,0,0,0,0,0,0,0,0,0,0,0,0,0,0,0,0,0,0,0,0,0,0,0,0,0,0,0,0,0,0,0,0,0,{"$f":"SUM(LTJ85,LTJ93,LTJ103,LTJ113,LTJ123,LTJ133,LTJ137,LTJ146,LTJ150)","v":0},0,0,0,0,0,0,0,0,0,0,0,0,0,0,0,0,0,0,0,0,0,0,0,0,0,0,0,0,0,0,0,0,0,0,0,0,0,0,0,0,0,0,0,0,0,0,0,0,0,0,0,0,0,0,0,0,0,0,0,0,0,0,0,{"$f":"SUM(LVV85,LVV93,LVV103,LVV113,LVV123,LVV133,LVV137,LVV146,LVV150)","v":0},0,0,0,0,0,0,0,0,0,0,0,0,0,0,0,0,0,0,0,0,0,0,0,0,0,0,0,0,0,0,0,0,0,0,0,0,0,0,0,0,0,0,0,0,0,0,0,0,0,0,0,0,0,0,0,0,0,0,0,0,0,0,0,{"$f":"SUM(LYH85,LYH93,LYH103,LYH113,LYH123,LYH133,LYH137,LYH146,LYH150)","v":0},0,0,0,0,0,0,0,0,0,0,0,0,0,0,0,0,0,0,0,0,0,0,0,0,0,0,0,0,0,0,0,0,0,0,0,0,0,0,0,0,0,0,0,0,0,0,0,0,0,0,0,0,0,0,0,0,0,0,0,0,0,0,0,{"$f":"SUM(MAT85,MAT93,MAT103,MAT113,MAT123,MAT133,MAT137,MAT146,MAT150)","v":0},0,0,0,0,0,0,0,0,0,0,0,0,0,0,0,0,0,0,0,0,0,0,0,0,0,0,0,0,0,0,0,0,0,0,0,0,0,0,0,0,0,0,0,0,0,0,0,0,0,0,0,0,0,0,0,0,0,0,0,0,0,0,0,{"$f":"SUM(MDF85,MDF93,MDF103,MDF113,MDF123,MDF133,MDF137,MDF146,MDF150)","v":0},0,0,0,0,0,0,0,0,0,0,0,0,0,0,0,0,0,0,0,0,0,0,0,0,0,0,0,0,0,0,0,0,0,0,0,0,0,0,0,0,0,0,0,0,0,0,0,0,0,0,0,0,0,0,0,0,0,0,0,0,0,0,0,{"$f":"SUM(MFR85,MFR93,MFR103,MFR113,MFR123,MFR133,MFR137,MFR146,MFR150)","v":0},0,0,0,0,0,0,0,0,0,0,0,0,0,0,0,0,0,0,0,0,0,0,0,0,0,0,0,0,0,0,0,0,0,0,0,0,0,0,0,0,0,0,0,0,0,0,0,0,0,0,0,0,0,0,0,0,0,0,0,0,0,0,0,{"$f":"SUM(MID85,MID93,MID103,MID113,MID123,MID133,MID137,MID146,MID150)","v":0},0,0,0,0,0,0,0,0,0,0,0,0,0,0,0,0,0,0,0,0,0,0,0,0,0,0,0,0,0,0,0,0,0,0,0,0,0,0,0,0,0,0,0,0,0,0,0,0,0,0,0,0,0,0,0,0,0,0,0,0,0,0,0,{"$f":"SUM(MKP85,MKP93,MKP103,MKP113,MKP123,MKP133,MKP137,MKP146,MKP150)","v":0},0,0,0,0,0,0,0,0,0,0,0,0,0,0,0,0,0,0,0,0,0,0,0,0,0,0,0,0,0,0,0,0,0,0,0,0,0,0,0,0,0,0,0,0,0,0,0,0,0,0,0,0,0,0,0,0,0,0,0,0,0,0,0,{"$f":"SUM(MNB85,MNB93,MNB103,MNB113,MNB123,MNB133,MNB137,MNB146,MNB150)","v":0},0,0,0,0,0,0,0,0,0,0,0,0,0,0,0,0,0,0,0,0,0,0,0,0,0,0,0,0,0,0,0,0,0,0,0,0,0,0,0,0,0,0,0,0,0,0,0,0,0,0,0,0,0,0,0,0,0,0,0,0,0,0,0,{"$f":"SUM(MPN85,MPN93,MPN103,MPN113,MPN123,MPN133,MPN137,MPN146,MPN150)","v":0},0,0,0,0,0,0,0,0,0,0,0,0,0,0,0,0,0,0,0,0,0,0,0,0,0,0,0,0,0,0,0,0,0,0,0,0,0,0,0,0,0,0,0,0,0,0,0,0,0,0,0,0,0,0,0,0,0,0,0,0,0,0,0,{"$f":"SUM(MRZ85,MRZ93,MRZ103,MRZ113,MRZ123,MRZ133,MRZ137,MRZ146,MRZ150)","v":0},0,0,0,0,0,0,0,0,0,0,0,0,0,0,0,0,0,0,0,0,0,0,0,0,0,0,0,0,0,0,0,0,0,0,0,0,0,0,0,0,0,0,0,0,0,0,0,0,0,0,0,0,0,0,0,0,0,0,0,0,0,0,0,{"$f":"SUM(MUL85,MUL93,MUL103,MUL113,MUL123,MUL133,MUL137,MUL146,MUL150)","v":0},0,0,0,0,0,0,0,0,0,0,0,0,0,0,0,0,0,0,0,0,0,0,0,0,0,0,0,0,0,0,0,0,0,0,0,0,0,0,0,0,0,0,0,0,0,0,0,0,0,0,0,0,0,0,0,0,0,0,0,0,0,0,0,{"$f":"SUM(MWX85,MWX93,MWX103,MWX113,MWX123,MWX133,MWX137,MWX146,MWX150)","v":0},0,0,0,0,0,0,0,0,0,0,0,0,0,0,0,0,0,0,0,0,0,0,0,0,0,0,0,0,0,0,0,0,0,0,0,0,0,0,0,0,0,0,0,0,0,0,0,0,0,0,0,0,0,0,0,0,0,0,0,0,0,0,0,{"$f":"SUM(MZJ85,MZJ93,MZJ103,MZJ113,MZJ123,MZJ133,MZJ137,MZJ146,MZJ150)","v":0},0,0,0,0,0,0,0,0,0,0,0,0,0,0,0,0,0,0,0,0,0,0,0,0,0,0,0,0,0,0,0,0,0,0,0,0,0,0,0,0,0,0,0,0,0,0,0,0,0,0,0,0,0,0,0,0,0,0,0,0,0,0,0,{"$f":"SUM(NBV85,NBV93,NBV103,NBV113,NBV123,NBV133,NBV137,NBV146,NBV150)","v":0},0,0,0,0,0,0,0,0,0,0,0,0,0,0,0,0,0,0,0,0,0,0,0,0,0,0,0,0,0,0,0,0,0,0,0,0,0,0,0,0,0,0,0,0,0,0,0,0,0,0,0,0,0,0,0,0,0,0,0,0,0,0,0,{"$f":"SUM(NEH85,NEH93,NEH103,NEH113,NEH123,NEH133,NEH137,NEH146,NEH150)","v":0},0,0,0,0,0,0,0,0,0,0,0,0,0,0,0,0,0,0,0,0,0,0,0,0,0,0,0,0,0,0,0,0,0,0,0,0,0,0,0,0,0,0,0,0,0,0,0,0,0,0,0,0,0,0,0,0,0,0,0,0,0,0,0,{"$f":"SUM(NGT85,NGT93,NGT103,NGT113,NGT123,NGT133,NGT137,NGT146,NGT150)","v":0},0,0,0,0,0,0,0,0,0,0,0,0,0,0,0,0,0,0,0,0,0,0,0,0,0,0,0,0,0,0,0,0,0,0,0,0,0,0,0,0,0,0,0,0,0,0,0,0,0,0,0,0,0,0,0,0,0,0,0,0,0,0,0,{"$f":"SUM(NJF85,NJF93,NJF103,NJF113,NJF123,NJF133,NJF137,NJF146,NJF150)","v":0},0,0,0,0,0,0,0,0,0,0,0,0,0,0,0,0,0,0,0,0,0,0,0,0,0,0,0,0,0,0,0,0,0,0,0,0,0,0,0,0,0,0,0,0,0,0,0,0,0,0,0,0,0,0,0,0,0,0,0,0,0,0,0,{"$f":"SUM(NLR85,NLR93,NLR103,NLR113,NLR123,NLR133,NLR137,NLR146,NLR150)","v":0},0,0,0,0,0,0,0,0,0,0,0,0,0,0,0,0,0,0,0,0,0,0,0,0,0,0,0,0,0,0,0,0,0,0,0,0,0,0,0,0,0,0,0,0,0,0,0,0,0,0,0,0,0,0,0,0,0,0,0,0,0,0,0,{"$f":"SUM(NOD85,NOD93,NOD103,NOD113,NOD123,NOD133,NOD137,NOD146,NOD150)","v":0},0,0,0,0,0,0,0,0,0,0,0,0,0,0,0,0,0,0,0,0,0,0,0,0,0,0,0,0,0,0,0,0,0,0,0,0,0,0,0,0,0,0,0,0,0,0,0,0,0,0,0,0,0,0,0,0,0,0,0,0,0,0,0,{"$f":"SUM(NQP85,NQP93,NQP103,NQP113,NQP123,NQP133,NQP137,NQP146,NQP150)","v":0},0,0,0,0,0,0,0,0,0,0,0,0,0,0,0,0,0,0,0,0,0,0,0,0,0,0,0,0,0,0,0,0,0,0,0,0,0,0,0,0,0,0,0,0,0,0,0,0,0,0,0,0,0,0,0,0,0,0,0,0,0,0,0,{"$f":"SUM(NTB85,NTB93,NTB103,NTB113,NTB123,NTB133,NTB137,NTB146,NTB150)","v":0},0,0,0,0,0,0,0,0,0,0,0,0,0,0,0,0,0,0,0,0,0,0,0,0,0,0,0,0,0,0,0,0,0,0,0,0,0,0,0,0,0,0,0,0,0,0,0,0,0,0,0,0,0,0,0,0,0,0,0,0,0,0,0,{"$f":"SUM(NVN85,NVN93,NVN103,NVN113,NVN123,NVN133,NVN137,NVN146,NVN150)","v":0},0,0,0,0,0,0,0,0,0,0,0,0,0,0,0,0,0,0,0,0,0,0,0,0,0,0,0,0,0,0,0,0,0,0,0,0,0,0,0,0,0,0,0,0,0,0,0,0,0,0,0,0,0,0,0,0,0,0,0,0,0,0,0,{"$f":"SUM(NXZ85,NXZ93,NXZ103,NXZ113,NXZ123,NXZ133,NXZ137,NXZ146,NXZ150)","v":0},0,0,0,0,0,0,0,0,0,0,0,0,0,0,0,0,0,0,0,0,0,0,0,0,0,0,0,0,0,0,0,0,0,0,0,0,0,0,0,0,0,0,0,0,0,0,0,0,0,0,0,0,0,0,0,0,0,0,0,0,0,0,0,{"$f":"SUM(OAL85,OAL93,OAL103,OAL113,OAL123,OAL133,OAL137,OAL146,OAL150)","v":0},0,0,0,0,0,0,0,0,0,0,0,0,0,0,0,0,0,0,0,0,0,0,0,0,0,0,0,0,0,0,0,0,0,0,0,0,0,0,0,0,0,0,0,0,0,0,0,0,0,0,0,0,0,0,0,0,0,0,0,0,0,0,0,{"$f":"SUM(OCX85,OCX93,OCX103,OCX113,OCX123,OCX133,OCX137,OCX146,OCX150)","v":0},0,0,0,0,0,0,0,0,0,0,0,0,0,0,0,0,0,0,0,0,0,0,0,0,0,0,0,0,0,0,0,0,0,0,0,0,0,0,0,0,0,0,0,0,0,0,0,0,0,0,0,0,0,0,0,0,0,0,0,0,0,0,0,{"$f":"SUM(OFJ85,OFJ93,OFJ103,OFJ113,OFJ123,OFJ133,OFJ137,OFJ146,OFJ150)","v":0},0,0,0,0,0,0,0,0,0,0,0,0,0,0,0,0,0,0,0,0,0,0,0,0,0,0,0,0,0,0,0,0,0,0,0,0,0,0,0,0,0,0,0,0,0,0,0,0,0,0,0,0,0,0,0,0,0,0,0,0,0,0,0,{"$f":"SUM(OHV85,OHV93,OHV103,OHV113,OHV123,OHV133,OHV137,OHV146,OHV150)","v":0},0,0,0,0,0,0,0,0,0,0,0,0,0,0,0,0,0,0,0,0,0,0,0,0,0,0,0,0,0,0,0,0,0,0,0,0,0,0,0,0,0,0,0,0,0,0,0,0,0,0,0,0,0,0,0,0,0,0,0,0,0,0,0,{"$f":"SUM(OKH85,OKH93,OKH103,OKH113,OKH123,OKH133,OKH137,OKH146,OKH150)","v":0},0,0,0,0,0,0,0,0,0,0,0,0,0,0,0,0,0,0,0,0,0,0,0,0,0,0,0,0,0,0,0,0,0,0,0,0,0,0,0,0,0,0,0,0,0,0,0,0,0,0,0,0,0,0,0,0,0,0,0,0,0,0,0,{"$f":"SUM(OMT85,OMT93,OMT103,OMT113,OMT123,OMT133,OMT137,OMT146,OMT150)","v":0},0,0,0,0,0,0,0,0,0,0,0,0,0,0,0,0,0,0,0,0,0,0,0,0,0,0,0,0,0,0,0,0,0,0,0,0,0,0,0,0,0,0,0,0,0,0,0,0,0,0,0,0,0,0,0,0,0,0,0,0,0,0,0,{"$f":"SUM(OPF85,OPF93,OPF103,OPF113,OPF123,OPF133,OPF137,OPF146,OPF150)","v":0},0,0,0,0,0,0,0,0,0,0,0,0,0,0,0,0,0,0,0,0,0,0,0,0,0,0,0,0,0,0,0,0,0,0,0,0,0,0,0,0,0,0,0,0,0,0,0,0,0,0,0,0,0,0,0,0,0,0,0,0,0,0,0,{"$f":"SUM(ORR85,ORR93,ORR103,ORR113,ORR123,ORR133,ORR137,ORR146,ORR150)","v":0},0,0,0,0,0,0,0,0,0,0,0,0,0,0,0,0,0,0,0,0,0,0,0,0,0,0,0,0,0,0,0,0,0,0,0,0,0,0,0,0,0,0,0,0,0,0,0,0,0,0,0,0,0,0,0,0,0,0,0,0,0,0,0,{"$f":"SUM(OUD85,OUD93,OUD103,OUD113,OUD123,OUD133,OUD137,OUD146,OUD150)","v":0},0,0,0,0,0,0,0,0,0,0,0,0,0,0,0,0,0,0,0,0,0,0,0,0,0,0,0,0,0,0,0,0,0,0,0,0,0,0,0,0,0,0,0,0,0,0,0,0,0,0,0,0,0,0,0,0,0,0,0,0,0,0,0,{"$f":"SUM(OWP85,OWP93,OWP103,OWP113,OWP123,OWP133,OWP137,OWP146,OWP150)","v":0},0,0,0,0,0,0,0,0,0,0,0,0,0,0,0,0,0,0,0,0,0,0,0,0,0,0,0,0,0,0,0,0,0,0,0,0,0,0,0,0,0,0,0,0,0,0,0,0,0,0,0,0,0,0,0,0,0,0,0,0,0,0,0,{"$f":"SUM(OZB85,OZB93,OZB103,OZB113,OZB123,OZB133,OZB137,OZB146,OZB150)","v":0},0,0,0,0,0,0,0,0,0,0,0,0,0,0,0,0,0,0,0,0,0,0,0,0,0,0,0,0,0,0,0,0,0,0,0,0,0,0,0,0,0,0,0,0,0,0,0,0,0,0,0,0,0,0,0,0,0,0,0,0,0,0,0,{"$f":"SUM(PBN85,PBN93,PBN103,PBN113,PBN123,PBN133,PBN137,PBN146,PBN150)","v":0},0,0,0,0,0,0,0,0,0,0,0,0,0,0,0,0,0,0,0,0,0,0,0,0,0,0,0,0,0,0,0,0,0,0,0,0,0,0,0,0,0,0,0,0,0,0,0,0,0,0,0,0,0,0,0,0,0,0,0,0,0,0,0,{"$f":"SUM(PDZ85,PDZ93,PDZ103,PDZ113,PDZ123,PDZ133,PDZ137,PDZ146,PDZ150)","v":0},0,0,0,0,0,0,0,0,0,0,0,0,0,0,0,0,0,0,0,0,0,0,0,0,0,0,0,0,0,0,0,0,0,0,0,0,0,0,0,0,0,0,0,0,0,0,0,0,0,0,0,0,0,0,0,0,0,0,0,0,0,0,0,{"$f":"SUM(PGL85,PGL93,PGL103,PGL113,PGL123,PGL133,PGL137,PGL146,PGL150)","v":0},0,0,0,0,0,0,0,0,0,0,0,0,0,0,0,0,0,0,0,0,0,0,0,0,0,0,0,0,0,0,0,0,0,0,0,0,0,0,0,0,0,0,0,0,0,0,0,0,0,0,0,0,0,0,0,0,0,0,0,0,0,0,0,{"$f":"SUM(PIX85,PIX93,PIX103,PIX113,PIX123,PIX133,PIX137,PIX146,PIX150)","v":0},0,0,0,0,0,0,0,0,0,0,0,0,0,0,0,0,0,0,0,0,0,0,0,0,0,0,0,0,0,0,0,0,0,0,0,0,0,0,0,0,0,0,0,0,0,0,0,0,0,0,0,0,0,0,0,0,0,0,0,0,0,0,0,{"$f":"SUM(PLJ85,PLJ93,PLJ103,PLJ113,PLJ123,PLJ133,PLJ137,PLJ146,PLJ150)","v":0},0,0,0,0,0,0,0,0,0,0,0,0,0,0,0,0,0,0,0,0,0,0,0,0,0,0,0,0,0,0,0,0,0,0,0,0,0,0,0,0,0,0,0,0,0,0,0,0,0,0,0,0,0,0,0,0,0,0,0,0,0,0,0,{"$f":"SUM(PNV85,PNV93,PNV103,PNV113,PNV123,PNV133,PNV137,PNV146,PNV150)","v":0},0,0,0,0,0,0,0,0,0,0,0,0,0,0,0,0,0,0,0,0,0,0,0,0,0,0,0,0,0,0,0,0,0,0,0,0,0,0,0,0,0,0,0,0,0,0,0,0,0,0,0,0,0,0,0,0,0,0,0,0,0,0,0,{"$f":"SUM(PQH85,PQH93,PQH103,PQH113,PQH123,PQH133,PQH137,PQH146,PQH150)","v":0},0,0,0,0,0,0,0,0,0,0,0,0,0,0,0,0,0,0,0,0,0,0,0,0,0,0,0,0,0,0,0,0,0,0,0,0,0,0,0,0,0,0,0,0,0,0,0,0,0,0,0,0,0,0,0,0,0,0,0,0,0,0,0,{"$f":"SUM(PST85,PST93,PST103,PST113,PST123,PST133,PST137,PST146,PST150)","v":0},0,0,0,0,0,0,0,0,0,0,0,0,0,0,0,0,0,0,0,0,0,0,0,0,0,0,0,0,0,0,0,0,0,0,0,0,0,0,0,0,0,0,0,0,0,0,0,0,0,0,0,0,0,0,0,0,0,0,0,0,0,0,0,{"$f":"SUM(PVF85,PVF93,PVF103,PVF113,PVF123,PVF133,PVF137,PVF146,PVF150)","v":0},0,0,0,0,0,0,0,0,0,0,0,0,0,0,0,0,0,0,0,0,0,0,0,0,0,0,0,0,0,0,0,0,0,0,0,0,0,0,0,0,0,0,0,0,0,0,0,0,0,0,0,0,0,0,0,0,0,0,0,0,0,0,0,{"$f":"SUM(PXR85,PXR93,PXR103,PXR113,PXR123,PXR133,PXR137,PXR146,PXR150)","v":0},0,0,0,0,0,0,0,0,0,0,0,0,0,0,0,0,0,0,0,0,0,0,0,0,0,0,0,0,0,0,0,0,0,0,0,0,0,0,0,0,0,0,0,0,0,0,0,0,0,0,0,0,0,0,0,0,0,0,0,0,0,0,0,{"$f":"SUM(QAD85,QAD93,QAD103,QAD113,QAD123,QAD133,QAD137,QAD146,QAD150)","v":0},0,0,0,0,0,0,0,0,0,0,0,0,0,0,0,0,0,0,0,0,0,0,0,0,0,0,0,0,0,0,0,0,0,0,0,0,0,0,0,0,0,0,0,0,0,0,0,0,0,0,0,0,0,0,0,0,0,0,0,0,0,0,0,{"$f":"SUM(QCP85,QCP93,QCP103,QCP113,QCP123,QCP133,QCP137,QCP146,QCP150)","v":0},0,0,0,0,0,0,0,0,0,0,0,0,0,0,0,0,0,0,0,0,0,0,0,0,0,0,0,0,0,0,0,0,0,0,0,0,0,0,0,0,0,0,0,0,0,0,0,0,0,0,0,0,0,0,0,0,0,0,0,0,0,0,0,{"$f":"SUM(QFB85,QFB93,QFB103,QFB113,QFB123,QFB133,QFB137,QFB146,QFB150)","v":0},0,0,0,0,0,0,0,0,0,0,0,0,0,0,0,0,0,0,0,0,0,0,0,0,0,0,0,0,0,0,0,0,0,0,0,0,0,0,0,0,0,0,0,0,0,0,0,0,0,0,0,0,0,0,0,0,0,0,0,0,0,0,0,{"$f":"SUM(QHN85,QHN93,QHN103,QHN113,QHN123,QHN133,QHN137,QHN146,QHN150)","v":0},0,0,0,0,0,0,0,0,0,0,0,0,0,0,0,0,0,0,0,0,0,0,0,0,0,0,0,0,0,0,0,0,0,0,0,0,0,0,0,0,0,0,0,0,0,0,0,0,0,0,0,0,0,0,0,0,0,0,0,0,0,0,0,{"$f":"SUM(QJZ85,QJZ93,QJZ103,QJZ113,QJZ123,QJZ133,QJZ137,QJZ146,QJZ150)","v":0},0,0,0,0,0,0,0,0,0,0,0,0,0,0,0,0,0,0,0,0,0,0,0,0,0,0,0,0,0,0,0,0,0,0,0,0,0,0,0,0,0,0,0,0,0,0,0,0,0,0,0,0,0,0,0,0,0,0,0,0,0,0,0,{"$f":"SUM(QML85,QML93,QML103,QML113,QML123,QML133,QML137,QML146,QML150)","v":0},0,0,0,0,0,0,0,0,0,0,0,0,0,0,0,0,0,0,0,0,0,0,0,0,0,0,0,0,0,0,0,0,0,0,0,0,0,0,0,0,0,0,0,0,0,0,0,0,0,0,0,0,0,0,0,0,0,0,0,0,0,0,0,{"$f":"SUM(QOX85,QOX93,QOX103,QOX113,QOX123,QOX133,QOX137,QOX146,QOX150)","v":0},0,0,0,0,0,0,0,0,0,0,0,0,0,0,0,0,0,0,0,0,0,0,0,0,0,0,0,0,0,0,0,0,0,0,0,0,0,0,0,0,0,0,0,0,0,0,0,0,0,0,0,0,0,0,0,0,0,0,0,0,0,0,0,{"$f":"SUM(QRJ85,QRJ93,QRJ103,QRJ113,QRJ123,QRJ133,QRJ137,QRJ146,QRJ150)","v":0},0,0,0,0,0,0,0,0,0,0,0,0,0,0,0,0,0,0,0,0,0,0,0,0,0,0,0,0,0,0,0,0,0,0,0,0,0,0,0,0,0,0,0,0,0,0,0,0,0,0,0,0,0,0,0,0,0,0,0,0,0,0,0,{"$f":"SUM(QTV85,QTV93,QTV103,QTV113,QTV123,QTV133,QTV137,QTV146,QTV150)","v":0},0,0,0,0,0,0,0,0,0,0,0,0,0,0,0,0,0,0,0,0,0,0,0,0,0,0,0,0,0,0,0,0,0,0,0,0,0,0,0,0,0,0,0,0,0,0,0,0,0,0,0,0,0,0,0,0,0,0,0,0,0,0,0,{"$f":"SUM(QWH85,QWH93,QWH103,QWH113,QWH123,QWH133,QWH137,QWH146,QWH150)","v":0},0,0,0,0,0,0,0,0,0,0,0,0,0,0,0,0,0,0,0,0,0,0,0,0,0,0,0,0,0,0,0,0,0,0,0,0,0,0,0,0,0,0,0,0,0,0,0,0,0,0,0,0,0,0,0,0,0,0,0,0,0,0,0,{"$f":"SUM(QYT85,QYT93,QYT103,QYT113,QYT123,QYT133,QYT137,QYT146,QYT150)","v":0},0,0,0,0,0,0,0,0,0,0,0,0,0,0,0,0,0,0,0,0,0,0,0,0,0,0,0,0,0,0,0,0,0,0,0,0,0,0,0,0,0,0,0,0,0,0,0,0,0,0,0,0,0,0,0,0,0,0,0,0,0,0,0,{"$f":"SUM(RBF85,RBF93,RBF103,RBF113,RBF123,RBF133,RBF137,RBF146,RBF150)","v":0},0,0,0,0,0,0,0,0,0,0,0,0,0,0,0,0,0,0,0,0,0,0,0,0,0,0,0,0,0,0,0,0,0,0,0,0,0,0,0,0,0,0,0,0,0,0,0,0,0,0,0,0,0,0,0,0,0,0,0,0,0,0,0,{"$f":"SUM(RDR85,RDR93,RDR103,RDR113,RDR123,RDR133,RDR137,RDR146,RDR150)","v":0},0,0,0,0,0,0,0,0,0,0,0,0,0,0,0,0,0,0,0,0,0,0,0,0,0,0,0,0,0,0,0,0,0,0,0,0,0,0,0,0,0,0,0,0,0,0,0,0,0,0,0,0,0,0,0,0,0,0,0,0,0,0,0,{"$f":"SUM(RGD85,RGD93,RGD103,RGD113,RGD123,RGD133,RGD137,RGD146,RGD150)","v":0},0,0,0,0,0,0,0,0,0,0,0,0,0,0,0,0,0,0,0,0,0,0,0,0,0,0,0,0,0,0,0,0,0,0,0,0,0,0,0,0,0,0,0,0,0,0,0,0,0,0,0,0,0,0,0,0,0,0,0,0,0,0,0,{"$f":"SUM(RIP85,RIP93,RIP103,RIP113,RIP123,RIP133,RIP137,RIP146,RIP150)","v":0},0,0,0,0,0,0,0,0,0,0,0,0,0,0,0,0,0,0,0,0,0,0,0,0,0,0,0,0,0,0,0,0,0,0,0,0,0,0,0,0,0,0,0,0,0,0,0,0,0,0,0,0,0,0,0,0,0,0,0,0,0,0,0,{"$f":"SUM(RLB85,RLB93,RLB103,RLB113,RLB123,RLB133,RLB137,RLB146,RLB150)","v":0},0,0,0,0,0,0,0,0,0,0,0,0,0,0,0,0,0,0,0,0,0,0,0,0,0,0,0,0,0,0,0,0,0,0,0,0,0,0,0,0,0,0,0,0,0,0,0,0,0,0,0,0,0,0,0,0,0,0,0,0,0,0,0,{"$f":"SUM(RNN85,RNN93,RNN103,RNN113,RNN123,RNN133,RNN137,RNN146,RNN150)","v":0},0,0,0,0,0,0,0,0,0,0,0,0,0,0,0,0,0,0,0,0,0,0,0,0,0,0,0,0,0,0,0,0,0,0,0,0,0,0,0,0,0,0,0,0,0,0,0,0,0,0,0,0,0,0,0,0,0,0,0,0,0,0,0,{"$f":"SUM(RPZ85,RPZ93,RPZ103,RPZ113,RPZ123,RPZ133,RPZ137,RPZ146,RPZ150)","v":0},0,0,0,0,0,0,0,0,0,0,0,0,0,0,0,0,0,0,0,0,0,0,0,0,0,0,0,0,0,0,0,0,0,0,0,0,0,0,0,0,0,0,0,0,0,0,0,0,0,0,0,0,0,0,0,0,0,0,0,0,0,0,0,{"$f":"SUM(RSL85,RSL93,RSL103,RSL113,RSL123,RSL133,RSL137,RSL146,RSL150)","v":0},0,0,0,0,0,0,0,0,0,0,0,0,0,0,0,0,0,0,0,0,0,0,0,0,0,0,0,0,0,0,0,0,0,0,0,0,0,0,0,0,0,0,0,0,0,0,0,0,0,0,0,0,0,0,0,0,0,0,0,0,0,0,0,{"$f":"SUM(RUX85,RUX93,RUX103,RUX113,RUX123,RUX133,RUX137,RUX146,RUX150)","v":0},0,0,0,0,0,0,0,0,0,0,0,0,0,0,0,0,0,0,0,0,0,0,0,0,0,0,0,0,0,0,0,0,0,0,0,0,0,0,0,0,0,0,0,0,0,0,0,0,0,0,0,0,0,0,0,0,0,0,0,0,0,0,0,{"$f":"SUM(RXJ85,RXJ93,RXJ103,RXJ113,RXJ123,RXJ133,RXJ137,RXJ146,RXJ150)","v":0},0,0,0,0,0,0,0,0,0,0,0,0,0,0,0,0,0,0,0,0,0,0,0,0,0,0,0,0,0,0,0,0,0,0,0,0,0,0,0,0,0,0,0,0,0,0,0,0,0,0,0,0,0,0,0,0,0,0,0,0,0,0,0,{"$f":"SUM(RZV85,RZV93,RZV103,RZV113,RZV123,RZV133,RZV137,RZV146,RZV150)","v":0},0,0,0,0,0,0,0,0,0,0,0,0,0,0,0,0,0,0,0,0,0,0,0,0,0,0,0,0,0,0,0,0,0,0,0,0,0,0,0,0,0,0,0,0,0,0,0,0,0,0,0,0,0,0,0,0,0,0,0,0,0,0,0,{"$f":"SUM(SCH85,SCH93,SCH103,SCH113,SCH123,SCH133,SCH137,SCH146,SCH150)","v":0},0,0,0,0,0,0,0,0,0,0,0,0,0,0,0,0,0,0,0,0,0,0,0,0,0,0,0,0,0,0,0,0,0,0,0,0,0,0,0,0,0,0,0,0,0,0,0,0,0,0,0,0,0,0,0,0,0,0,0,0,0,0,0,{"$f":"SUM(SET85,SET93,SET103,SET113,SET123,SET133,SET137,SET146,SET150)","v":0},0,0,0,0,0,0,0,0,0,0,0,0,0,0,0,0,0,0,0,0,0,0,0,0,0,0,0,0,0,0,0,0,0,0,0,0,0,0,0,0,0,0,0,0,0,0,0,0,0,0,0,0,0,0,0,0,0,0,0,0,0,0,0,{"$f":"SUM(SHF85,SHF93,SHF103,SHF113,SHF123,SHF133,SHF137,SHF146,SHF150)","v":0},0,0,0,0,0,0,0,0,0,0,0,0,0,0,0,0,0,0,0,0,0,0,0,0,0,0,0,0,0,0,0,0,0,0,0,0,0,0,0,0,0,0,0,0,0,0,0,0,0,0,0,0,0,0,0,0,0,0,0,0,0,0,0,{"$f":"SUM(SJR85,SJR93,SJR103,SJR113,SJR123,SJR133,SJR137,SJR146,SJR150)","v":0},0,0,0,0,0,0,0,0,0,0,0,0,0,0,0,0,0,0,0,0,0,0,0,0,0,0,0,0,0,0,0,0,0,0,0,0,0,0,0,0,0,0,0,0,0,0,0,0,0,0,0,0,0,0,0,0,0,0,0,0,0,0,0,{"$f":"SUM(SMD85,SMD93,SMD103,SMD113,SMD123,SMD133,SMD137,SMD146,SMD150)","v":0},0,0,0,0,0,0,0,0,0,0,0,0,0,0,0,0,0,0,0,0,0,0,0,0,0,0,0,0,0,0,0,0,0,0,0,0,0,0,0,0,0,0,0,0,0,0,0,0,0,0,0,0,0,0,0,0,0,0,0,0,0,0,0,{"$f":"SUM(SOP85,SOP93,SOP103,SOP113,SOP123,SOP133,SOP137,SOP146,SOP150)","v":0},0,0,0,0,0,0,0,0,0,0,0,0,0,0,0,0,0,0,0,0,0,0,0,0,0,0,0,0,0,0,0,0,0,0,0,0,0,0,0,0,0,0,0,0,0,0,0,0,0,0,0,0,0,0,0,0,0,0,0,0,0,0,0,{"$f":"SUM(SRB85,SRB93,SRB103,SRB113,SRB123,SRB133,SRB137,SRB146,SRB150)","v":0},0,0,0,0,0,0,0,0,0,0,0,0,0,0,0,0,0,0,0,0,0,0,0,0,0,0,0,0,0,0,0,0,0,0,0,0,0,0,0,0,0,0,0,0,0,0,0,0,0,0,0,0,0,0,0,0,0,0,0,0,0,0,0,{"$f":"SUM(STN85,STN93,STN103,STN113,STN123,STN133,STN137,STN146,STN150)","v":0},0,0,0,0,0,0,0,0,0,0,0,0,0,0,0,0,0,0,0,0,0,0,0,0,0,0,0,0,0,0,0,0,0,0,0,0,0,0,0,0,0,0,0,0,0,0,0,0,0,0,0,0,0,0,0,0,0,0,0,0,0,0,0,{"$f":"SUM(SVZ85,SVZ93,SVZ103,SVZ113,SVZ123,SVZ133,SVZ137,SVZ146,SVZ150)","v":0},0,0,0,0,0,0,0,0,0,0,0,0,0,0,0,0,0,0,0,0,0,0,0,0,0,0,0,0,0,0,0,0,0,0,0,0,0,0,0,0,0,0,0,0,0,0,0,0,0,0,0,0,0,0,0,0,0,0,0,0,0,0,0,{"$f":"SUM(SYL85,SYL93,SYL103,SYL113,SYL123,SYL133,SYL137,SYL146,SYL150)","v":0},0,0,0,0,0,0,0,0,0,0,0,0,0,0,0,0,0,0,0,0,0,0,0,0,0,0,0,0,0,0,0,0,0,0,0,0,0,0,0,0,0,0,0,0,0,0,0,0,0,0,0,0,0,0,0,0,0,0,0,0,0,0,0,{"$f":"SUM(TAX85,TAX93,TAX103,TAX113,TAX123,TAX133,TAX137,TAX146,TAX150)","v":0},0,0,0,0,0,0,0,0,0,0,0,0,0,0,0,0,0,0,0,0,0,0,0,0,0,0,0,0,0,0,0,0,0,0,0,0,0,0,0,0,0,0,0,0,0,0,0,0,0,0,0,0,0,0,0,0,0,0,0,0,0,0,0,{"$f":"SUM(TDJ85,TDJ93,TDJ103,TDJ113,TDJ123,TDJ133,TDJ137,TDJ146,TDJ150)","v":0},0,0,0,0,0,0,0,0,0,0,0,0,0,0,0,0,0,0,0,0,0,0,0,0,0,0,0,0,0,0,0,0,0,0,0,0,0,0,0,0,0,0,0,0,0,0,0,0,0,0,0,0,0,0,0,0,0,0,0,0,0,0,0,{"$f":"SUM(TFV85,TFV93,TFV103,TFV113,TFV123,TFV133,TFV137,TFV146,TFV150)","v":0},0,0,0,0,0,0,0,0,0,0,0,0,0,0,0,0,0,0,0,0,0,0,0,0,0,0,0,0,0,0,0,0,0,0,0,0,0,0,0,0,0,0,0,0,0,0,0,0,0,0,0,0,0,0,0,0,0,0,0,0,0,0,0,{"$f":"SUM(TIH85,TIH93,TIH103,TIH113,TIH123,TIH133,TIH137,TIH146,TIH150)","v":0},0,0,0,0,0,0,0,0,0,0,0,0,0,0,0,0,0,0,0,0,0,0,0,0,0,0,0,0,0,0,0,0,0,0,0,0,0,0,0,0,0,0,0,0,0,0,0,0,0,0,0,0,0,0,0,0,0,0,0,0,0,0,0,{"$f":"SUM(TKT85,TKT93,TKT103,TKT113,TKT123,TKT133,TKT137,TKT146,TKT150)","v":0},0,0,0,0,0,0,0,0,0,0,0,0,0,0,0,0,0,0,0,0,0,0,0,0,0,0,0,0,0,0,0,0,0,0,0,0,0,0,0,0,0,0,0,0,0,0,0,0,0,0,0,0,0,0,0,0,0,0,0,0,0,0,0,{"$f":"SUM(TNF85,TNF93,TNF103,TNF113,TNF123,TNF133,TNF137,TNF146,TNF150)","v":0},0,0,0,0,0,0,0,0,0,0,0,0,0,0,0,0,0,0,0,0,0,0,0,0,0,0,0,0,0,0,0,0,0,0,0,0,0,0,0,0,0,0,0,0,0,0,0,0,0,0,0,0,0,0,0,0,0,0,0,0,0,0,0,{"$f":"SUM(TPR85,TPR93,TPR103,TPR113,TPR123,TPR133,TPR137,TPR146,TPR150)","v":0},0,0,0,0,0,0,0,0,0,0,0,0,0,0,0,0,0,0,0,0,0,0,0,0,0,0,0,0,0,0,0,0,0,0,0,0,0,0,0,0,0,0,0,0,0,0,0,0,0,0,0,0,0,0,0,0,0,0,0,0,0,0,0,{"$f":"SUM(TSD85,TSD93,TSD103,TSD113,TSD123,TSD133,TSD137,TSD146,TSD150)","v":0},0,0,0,0,0,0,0,0,0,0,0,0,0,0,0,0,0,0,0,0,0,0,0,0,0,0,0,0,0,0,0,0,0,0,0,0,0,0,0,0,0,0,0,0,0,0,0,0,0,0,0,0,0,0,0,0,0,0,0,0,0,0,0,{"$f":"SUM(TUP85,TUP93,TUP103,TUP113,TUP123,TUP133,TUP137,TUP146,TUP150)","v":0},0,0,0,0,0,0,0,0,0,0,0,0,0,0,0,0,0,0,0,0,0,0,0,0,0,0,0,0,0,0,0,0,0,0,0,0,0,0,0,0,0,0,0,0,0,0,0,0,0,0,0,0,0,0,0,0,0,0,0,0,0,0,0,{"$f":"SUM(TXB85,TXB93,TXB103,TXB113,TXB123,TXB133,TXB137,TXB146,TXB150)","v":0},0,0,0,0,0,0,0,0,0,0,0,0,0,0,0,0,0,0,0,0,0,0,0,0,0,0,0,0,0,0,0,0,0,0,0,0,0,0,0,0,0,0,0,0,0,0,0,0,0,0,0,0,0,0,0,0,0,0,0,0,0,0,0,{"$f":"SUM(TZN85,TZN93,TZN103,TZN113,TZN123,TZN133,TZN137,TZN146,TZN150)","v":0},0,0,0,0,0,0,0,0,0,0,0,0,0,0,0,0,0,0,0,0,0,0,0,0,0,0,0,0,0,0,0,0,0,0,0,0,0,0,0,0,0,0,0,0,0,0,0,0,0,0,0,0,0,0,0,0,0,0,0,0,0,0,0,{"$f":"SUM(UBZ85,UBZ93,UBZ103,UBZ113,UBZ123,UBZ133,UBZ137,UBZ146,UBZ150)","v":0},0,0,0,0,0,0,0,0,0,0,0,0,0,0,0,0,0,0,0,0,0,0,0,0,0,0,0,0,0,0,0,0,0,0,0,0,0,0,0,0,0,0,0,0,0,0,0,0,0,0,0,0,0,0,0,0,0,0,0,0,0,0,0,{"$f":"SUM(UEL85,UEL93,UEL103,UEL113,UEL123,UEL133,UEL137,UEL146,UEL150)","v":0},0,0,0,0,0,0,0,0,0,0,0,0,0,0,0,0,0,0,0,0,0,0,0,0,0,0,0,0,0,0,0,0,0,0,0,0,0,0,0,0,0,0,0,0,0,0,0,0,0,0,0,0,0,0,0,0,0,0,0,0,0,0,0,{"$f":"SUM(UGX85,UGX93,UGX103,UGX113,UGX123,UGX133,UGX137,UGX146,UGX150)","v":0},0,0,0,0,0,0,0,0,0,0,0,0,0,0,0,0,0,0,0,0,0,0,0,0,0,0,0,0,0,0,0,0,0,0,0,0,0,0,0,0,0,0,0,0,0,0,0,0,0,0,0,0,0,0,0,0,0,0,0,0,0,0,0,{"$f":"SUM(UJJ85,UJJ93,UJJ103,UJJ113,UJJ123,UJJ133,UJJ137,UJJ146,UJJ150)","v":0},0,0,0,0,0,0,0,0,0,0,0,0,0,0,0,0,0,0,0,0,0,0,0,0,0,0,0,0,0,0,0,0,0,0,0,0,0,0,0,0,0,0,0,0,0,0,0,0,0,0,0,0,0,0,0,0,0,0,0,0,0,0,0,{"$f":"SUM(ULV85,ULV93,ULV103,ULV113,ULV123,ULV133,ULV137,ULV146,ULV150)","v":0},0,0,0,0,0,0,0,0,0,0,0,0,0,0,0,0,0,0,0,0,0,0,0,0,0,0,0,0,0,0,0,0,0,0,0,0,0,0,0,0,0,0,0,0,0,0,0,0,0,0,0,0,0,0,0,0,0,0,0,0,0,0,0,{"$f":"SUM(UOH85,UOH93,UOH103,UOH113,UOH123,UOH133,UOH137,UOH146,UOH150)","v":0},0,0,0,0,0,0,0,0,0,0,0,0,0,0,0,0,0,0,0,0,0,0,0,0,0,0,0,0,0,0,0,0,0,0,0,0,0,0,0,0,0,0,0,0,0,0,0,0,0,0,0,0,0,0,0,0,0,0,0,0,0,0,0,{"$f":"SUM(UQT85,UQT93,UQT103,UQT113,UQT123,UQT133,UQT137,UQT146,UQT150)","v":0},0,0,0,0,0,0,0,0,0,0,0,0,0,0,0,0,0,0,0,0,0,0,0,0,0,0,0,0,0,0,0,0,0,0,0,0,0,0,0,0,0,0,0,0,0,0,0,0,0,0,0,0,0,0,0,0,0,0,0,0,0,0,0,{"$f":"SUM(UTF85,UTF93,UTF103,UTF113,UTF123,UTF133,UTF137,UTF146,UTF150)","v":0},0,0,0,0,0,0,0,0,0,0,0,0,0,0,0,0,0,0,0,0,0,0,0,0,0,0,0,0,0,0,0,0,0,0,0,0,0,0,0,0,0,0,0,0,0,0,0,0,0,0,0,0,0,0,0,0,0,0,0,0,0,0,0,{"$f":"SUM(UVR85,UVR93,UVR103,UVR113,UVR123,UVR133,UVR137,UVR146,UVR150)","v":0},0,0,0,0,0,0,0,0,0,0,0,0,0,0,0,0,0,0,0,0,0,0,0,0,0,0,0,0,0,0,0,0,0,0,0,0,0,0,0,0,0,0,0,0,0,0,0,0,0,0,0,0,0,0,0,0,0,0,0,0,0,0,0,{"$f":"SUM(UYD85,UYD93,UYD103,UYD113,UYD123,UYD133,UYD137,UYD146,UYD150)","v":0},0,0,0,0,0,0,0,0,0,0,0,0,0,0,0,0,0,0,0,0,0,0,0,0,0,0,0,0,0,0,0,0,0,0,0,0,0,0,0,0,0,0,0,0,0,0,0,0,0,0,0,0,0,0,0,0,0,0,0,0,0,0,0,{"$f":"SUM(VAP85,VAP93,VAP103,VAP113,VAP123,VAP133,VAP137,VAP146,VAP150)","v":0},0,0,0,0,0,0,0,0,0,0,0,0,0,0,0,0,0,0,0,0,0,0,0,0,0,0,0,0,0,0,0,0,0,0,0,0,0,0,0,0,0,0,0,0,0,0,0,0,0,0,0,0,0,0,0,0,0,0,0,0,0,0,0,{"$f":"SUM(VDB85,VDB93,VDB103,VDB113,VDB123,VDB133,VDB137,VDB146,VDB150)","v":0},0,0,0,0,0,0,0,0,0,0,0,0,0,0,0,0,0,0,0,0,0,0,0,0,0,0,0,0,0,0,0,0,0,0,0,0,0,0,0,0,0,0,0,0,0,0,0,0,0,0,0,0,0,0,0,0,0,0,0,0,0,0,0,{"$f":"SUM(VFN85,VFN93,VFN103,VFN113,VFN123,VFN133,VFN137,VFN146,VFN150)","v":0},0,0,0,0,0,0,0,0,0,0,0,0,0,0,0,0,0,0,0,0,0,0,0,0,0,0,0,0,0,0,0,0,0,0,0,0,0,0,0,0,0,0,0,0,0,0,0,0,0,0,0,0,0,0,0,0,0,0,0,0,0,0,0,{"$f":"SUM(VHZ85,VHZ93,VHZ103,VHZ113,VHZ123,VHZ133,VHZ137,VHZ146,VHZ150)","v":0},0,0,0,0,0,0,0,0,0,0,0,0,0,0,0,0,0,0,0,0,0,0,0,0,0,0,0,0,0,0,0,0,0,0,0,0,0,0,0,0,0,0,0,0,0,0,0,0,0,0,0,0,0,0,0,0,0,0,0,0,0,0,0,{"$f":"SUM(VKL85,VKL93,VKL103,VKL113,VKL123,VKL133,VKL137,VKL146,VKL150)","v":0},0,0,0,0,0,0,0,0,0,0,0,0,0,0,0,0,0,0,0,0,0,0,0,0,0,0,0,0,0,0,0,0,0,0,0,0,0,0,0,0,0,0,0,0,0,0,0,0,0,0,0,0,0,0,0,0,0,0,0,0,0,0,0,{"$f":"SUM(VMX85,VMX93,VMX103,VMX113,VMX123,VMX133,VMX137,VMX146,VMX150)","v":0},0,0,0,0,0,0,0,0,0,0,0,0,0,0,0,0,0,0,0,0,0,0,0,0,0,0,0,0,0,0,0,0,0,0,0,0,0,0,0,0,0,0,0,0,0,0,0,0,0,0,0,0,0,0,0,0,0,0,0,0,0,0,0,{"$f":"SUM(VPJ85,VPJ93,VPJ103,VPJ113,VPJ123,VPJ133,VPJ137,VPJ146,VPJ150)","v":0},0,0,0,0,0,0,0,0,0,0,0,0,0,0,0,0,0,0,0,0,0,0,0,0,0,0,0,0,0,0,0,0,0,0,0,0,0,0,0,0,0,0,0,0,0,0,0,0,0,0,0,0,0,0,0,0,0,0,0,0,0,0,0,{"$f":"SUM(VRV85,VRV93,VRV103,VRV113,VRV123,VRV133,VRV137,VRV146,VRV150)","v":0},0,0,0,0,0,0,0,0,0,0,0,0,0,0,0,0,0,0,0,0,0,0,0,0,0,0,0,0,0,0,0,0,0,0,0,0,0,0,0,0,0,0,0,0,0,0,0,0,0,0,0,0,0,0,0,0,0,0,0,0,0,0,0,{"$f":"SUM(VUH85,VUH93,VUH103,VUH113,VUH123,VUH133,VUH137,VUH146,VUH150)","v":0},0,0,0,0,0,0,0,0,0,0,0,0,0,0,0,0,0,0,0,0,0,0,0,0,0,0,0,0,0,0,0,0,0,0,0,0,0,0,0,0,0,0,0,0,0,0,0,0,0,0,0,0,0,0,0,0,0,0,0,0,0,0,0,{"$f":"SUM(VWT85,VWT93,VWT103,VWT113,VWT123,VWT133,VWT137,VWT146,VWT150)","v":0},0,0,0,0,0,0,0,0,0,0,0,0,0,0,0,0,0,0,0,0,0,0,0,0,0,0,0,0,0,0,0,0,0,0,0,0,0,0,0,0,0,0,0,0,0,0,0,0,0,0,0,0,0,0,0,0,0,0,0,0,0,0,0,{"$f":"SUM(VZF85,VZF93,VZF103,VZF113,VZF123,VZF133,VZF137,VZF146,VZF150)","v":0},0,0,0,0,0,0,0,0,0,0,0,0,0,0,0,0,0,0,0,0,0,0,0,0,0,0,0,0,0,0,0,0,0,0,0,0,0,0,0,0,0,0,0,0,0,0,0,0,0,0,0,0,0,0,0,0,0,0,0,0,0,0,0,{"$f":"SUM(WBR85,WBR93,WBR103,WBR113,WBR123,WBR133,WBR137,WBR146,WBR150)","v":0},0,0,0,0,0,0,0,0,0,0,0,0,0,0,0,0,0,0,0,0,0,0,0,0,0,0,0,0,0,0,0,0,0,0,0,0,0,0,0,0,0,0,0,0,0,0,0,0,0,0,0,0,0,0,0,0,0,0,0,0,0,0,0,{"$f":"SUM(WED85,WED93,WED103,WED113,WED123,WED133,WED137,WED146,WED150)","v":0},0,0,0,0,0,0,0,0,0,0,0,0,0,0,0,0,0,0,0,0,0,0,0,0,0,0,0,0,0,0,0,0,0,0,0,0,0,0,0,0,0,0,0,0,0,0,0,0,0,0,0,0,0,0,0,0,0,0,0,0,0,0,0,{"$f":"SUM(WGP85,WGP93,WGP103,WGP113,WGP123,WGP133,WGP137,WGP146,WGP150)","v":0},0,0,0,0,0,0,0,0,0,0,0,0,0,0,0,0,0,0,0,0,0,0,0,0,0,0,0,0,0,0,0,0,0,0,0,0,0,0,0,0,0,0,0,0,0,0,0,0,0,0,0,0,0,0,0,0,0,0,0,0,0,0,0,{"$f":"SUM(WJB85,WJB93,WJB103,WJB113,WJB123,WJB133,WJB137,WJB146,WJB150)","v":0},0,0,0,0,0,0,0,0,0,0,0,0,0,0,0,0,0,0,0,0,0,0,0,0,0,0,0,0,0,0,0,0,0,0,0,0,0,0,0,0,0,0,0,0,0,0,0,0,0,0,0,0,0,0,0,0,0,0,0,0,0,0,0,{"$f":"SUM(WLN85,WLN93,WLN103,WLN113,WLN123,WLN133,WLN137,WLN146,WLN150)","v":0},0,0,0,0,0,0,0,0,0,0,0,0,0,0,0,0,0,0,0,0,0,0,0,0,0,0,0,0,0,0,0,0,0,0,0,0,0,0,0,0,0,0,0,0,0,0,0,0,0,0,0,0,0,0,0,0,0,0,0,0,0,0,0,{"$f":"SUM(WNZ85,WNZ93,WNZ103,WNZ113,WNZ123,WNZ133,WNZ137,WNZ146,WNZ150)","v":0},0,0,0,0,0,0,0,0,0,0,0,0,0,0,0,0,0,0,0,0,0,0,0,0,0,0,0,0,0,0,0,0,0,0,0,0,0,0,0,0,0,0,0,0,0,0,0,0,0,0,0,0,0,0,0,0,0,0,0,0,0,0,0,{"$f":"SUM(WQL85,WQL93,WQL103,WQL113,WQL123,WQL133,WQL137,WQL146,WQL150)","v":0},0,0,0,0,0,0,0,0,0,0,0,0,0,0,0,0,0,0,0,0,0,0,0,0,0,0,0,0,0,0,0,0,0,0,0,0,0,0,0,0,0,0,0,0,0,0,0,0,0,0,0,0,0,0,0,0,0,0,0,0,0,0,0,{"$f":"SUM(WSX85,WSX93,WSX103,WSX113,WSX123,WSX133,WSX137,WSX146,WSX150)","v":0},0,0,0,0,0,0,0,0,0,0,0,0,0,0,0,0,0,0,0,0,0,0,0,0,0,0,0,0,0,0,0,0,0,0,0,0,0,0,0,0,0,0,0,0,0,0,0,0,0,0,0,0,0,0,0,0,0,0,0,0,0,0,0,{"$f":"SUM(WVJ85,WVJ93,WVJ103,WVJ113,WVJ123,WVJ133,WVJ137,WVJ146,WVJ150)","v":0},0,0,0,0,0,0,0,0,0,0,0,0,0,0,0,0,0,0,0,0,0,0,0,0,0,0,0,0,0,0,0,0,0,0,0,0,0,0,0,0,0,0,0,0,0,0,0,0,0,0,0,0,0,0,0,0,0,0,0,0,0,0,0,{"$f":"SUM(WXV85,WXV93,WXV103,WXV113,WXV123,WXV133,WXV137,WXV146,WXV150)","v":0},0,0,0,0,0,0,0,0,0,0,0,0,0,0,0,0,0,0,0,0,0,0,0,0,0,0,0,0,0,0,0,0,0,0,0,0,0,0,0,0,0,0,0,0,0,0,0,0,0,0,0,0,0,0,0,0,0,0,0,0,0,0,0,{"$f":"SUM(XAH85,XAH93,XAH103,XAH113,XAH123,XAH133,XAH137,XAH146,XAH150)","v":0},0,0,0,0,0,0,0,0,0,0,0,0,0,0,0,0,0,0,0,0,0,0,0,0,0,0,0,0,0,0,0,0,0,0,0,0,0,0,0,0,0,0,0,0,0,0,0,0,0,0,0,0,0,0,0,0,0,0,0,0,0,0,0,{"$f":"SUM(XCT85,XCT93,XCT103,XCT113,XCT123,XCT133,XCT137,XCT146,XCT150)","v":0},0,0,0,0,0,0,0,0,0,0,0,0,0,0,0,0,0,0,0,0,0,0,0,0,0,0,0,0,0,0,0,0,0,0,0,0,0,0,0,0,0,0,0,0,0,0,0,0,0,0,0,0,0,0,0,0,0,0,0,0,0,0]
["A. Servicios Personales (A=a1+a2+a3+a4+a5+a6+a7)",{"$f":"SUM(B86:B92)","v":61312868.880000003},{"$f":"SUM(C86:C92)","v":0},{"$f":"SUM(D86:D92)","v":61312868.880000003},12986188.120000001,12614915.280000001,48326680.75999999]
["a1) Remuneraciones al Personal de Carácter Permanente",41835856,0,{"$f":"B86+C86","v":41835856},9253926.6300000008,9252549.3800000008,{"$f":"D86-E86","v":32581929.369999997}]
["a2) Remuneraciones al Personal de Carácter Transitorio",50000,0,{"$f":"B87+C87","v":50000},0,0,50000]
["a3) Remuneraciones Adicionales y Especiales",7928173,0,7928173,13721.56,11896.07,7914451.4400000004]
["a4) Seguridad Social",6238839.8799999999,0,6238839.8799999999,2268696.33,1959618.16,3970143.55]
["a5) Otras Prestaciones Sociales y Económicas",5260000,0,5260000,1449843.6,1390851.67,3810156.4]
["a6) Previsiones",0,0,0,0,0,0]
["a7) Pago de Estímulos a Servidores Públicos",0,0,0,0,0,0]
["B. Materiales y Suministros (B=b1+b2+b3+b4+b5+b6+b7+b8+b9)",{"$f":"SUM(B94:B102)","v":38680000},930000,39610000,8120795.2700000005,8120795.2700000005,31489204.729999997]
["b1) Materiales de Administración, Emisión de Documentos y Artículos Oficiales",0,0,{"$f":"B94+C94","v":0},0,0,0]
["b2) Alimentos y Utensilios",15000,0,{"$f":"B95+C95","v":15000},0,0,15000]
["b3) Materias Primas y Materiales de Producción y Comercialización",0,0,0,0,0,0]
["b4) Materiales y Artículos de Construcción y de Reparación",24220000,0,24220000,4093599.98,4093599.98,20126400.02]
["b5) Productos Químicos, Farmacéuticos y de Laboratorio",45000,0,45000,0,0,45000]
["b6) Combustibles, Lubricantes y Aditivos",11050000,0,11050000,3056293.26,3056293.26,7993706.7400000002]
["b7) Vestuario, Blancos, Prendas de Protección y Artículos Deportivos",1175000,930000,2105000,9976,9976,2095024]
["b8) Materiales y Suministros Para Seguridad",0,0,0,0,0,0]
["b9) Herramientas, Refacciones y Accesorios Menores",2175000,0,2175000,960926.03,960926.03,1214073.97]
["C. Servicios Generales (C=c1+c2+c3+c4+c5+c6+c7+c8+c9)",{"$f":"SUM(B104:B112)","v":6618988.2800000003},{"$f":"SUM(C104:C112)","v":240500},6859488.2800000003,1606723.48,1493042.48,5252764.8]
["c1) Servicios Básicos",0,0,{"$f":"B104+C104","v":0},0,0,0]
["c2) Servicios de Arrendamiento",50000,0,{"$f":"B105+C105","v":50000},0,0,50000]
["c3) Servicios Profesionales, Científicos, Técnicos y Otros Servicios",2540000,175500,2715500,39987.31,39987.31,2675512.69]
["c4) Servicios Financieros, Bancarios y Comerciales",1850000,0,1850000,1094904.5,1094904.5,755095.5]
["c5) Servicios de Instalación, Reparación, Mantenimiento y Conservación",959000,85000,1044000,190133.67,190133.67,853866.33]
["c6) Servicios de Comunicación Social y Publicidad",0,0,0,0,0,0]
["c7) Servicios de Traslado y Viáticos",0,0,0,0,0,0]
["c8) Servicios Oficiales",0,0,0,0,0,0]
["c9) Otros Servicios Generales",1219988.28,-20000,1199988.28,281698,168017,918290.28]
["D. Transferencias, Asignaciones, Subsidios y Otras Ayudas (D=d1+d2+d3+d4+d5+d6+d7+d8+d9)",{"$f":"SUM(B114:B122)","v":50000},{"$f":"SUM(C114:C122)","v":1024464.46},1074464.46,{"$f":"SUM(E114:E122)","v":0},0,{"$f":"SUM(G114:G122)","v":1074464.46}]
["d1) Transferencias Internas y Asignaciones al Sector Público",0,0,{"$f":"B114+C114","v":0},0,0,0]
["d2) Transferencias al Resto del Sector Público",0,0,{"$f":"B115+C115","v":0},0,0,0]
["d3) Subsidios y Subvenciones",0,1024464.46,1024464.46,0,0,1024464.46]
["d4) Ayudas Sociales",50000,0,50000,0,0,50000]
["d5) Pensiones y Jubilaciones",0,0,0,0,0,0]
["d6) Transferencias a Fideicomisos, Mandatos y Otros Análogos",0,0,0,0,0,0]
["d7) Transferencias a la Seguridad Social",0,0,0,0,0,0]
["d8) Donativos",0,0,0,0,0,0]
["d9) Transferencias al Exterior",0,0,0,0,0,0]
["E. Bienes Muebles, Inmuebles e Intangibles (E=e1+e2+e3+e4+e5+e6+e7+e8+e9)",{"$f":"SUM(B124:B132)","v":621000},{"$f":"SUM(C124:C132)","v":3697000},4318000,{"$f":"SUM(E124:E132)","v":0},0,4318000,{"$f":"SUM(H124:H132)","v":0},0,0,0,0,0,0,0,0,0,0,0,0,0,0,0,0,0,0,0,0,0,0,0,0,0,0,0,0,0,0,0,0,0,0,0,0,0,0,0,0,0,0,0,0,0,0,0,0,0,0,0,0,0,0,0,0,0,0,{"$f":"SUM(BO124:BO132)","v":0},0,0,0,0,0,0,0,0,0,0,0,0,0,0,0,0,0,0,0,0,0,0,0,0,0,0,0,0,0,0,0,0,0,0,0,0,0,0,0,0,0,0,0,0,0,0,0,0,0,0,0,0,0,0,0,0,0,0,0,0,0,0,0,{"$f":"SUM(EA124:EA132)","v":0},0,0,0,0,0,0,0,0,0,0,0,0,0,0,0,0,0,0,0,0,0,0,0,0,0,0,0,0,0,0,0,0,0,0,0,0,0,0,0,0,0,0,0,0,0,0,0,0,0,0,0,0,0,0,0,0,0,0,0,0,0,0,0,{"$f":"SUM(GM124:GM132)","v":0},0,0,0,0,0,0,0,0,0,0,0,0,0,0,0,0,0,0,0,0,0,0,0,0,0,0,0,0,0,0,0,0,0,0,0,0,0,0,0,0,0,0,0,0,0,0,0,0,0,0,0,0,0,0,0,0,0,0,0,0,0,0,0,{"$f":"SUM(IY124:IY132)","v":0},0,0,0,0,0,0,0,0,0,0,0,0,0,0,0,0,0,0,0,0,0,0,0,0,0,0,0,0,0,0,0,0,0,0,0,0,0,0,0,0,0,0,0,0,0,0,0,0,0,0,0,0,0,0,0,0,0,0,0,0,0,0,0,{"$f":"SUM(LK124:LK132)","v":0},0,0,0,0,0,0,0,0,0,0,0,0,0,0,0,0,0,0,0,0,0,0,0,0,0,0,0,0,0,0,0,0,0,0,0,0,0,0,0,0,0,0,0,0,0,0,0,0,0,0,0,0,0,0,0,0,0,0,0,0,0,0,0,{"$f":"SUM(NW124:NW132)","v":0},0,0,0,0,0,0,0,0,0,0,0,0,0,0,0,0,0,0,0,0,0,0,0,0,0,0,0,0,0,0,0,0,0,0,0,0,0,0,0,0,0,0,0,0,0,0,0,0,0,0,0,0,0,0,0,0,0,0,0,0,0,0,0,{"$f":"SUM(QI124:QI132)","v":0},0,0,0,0,0,0,0,0,0,0,0,0,0,0,0,0,0,0,0,0,0,0,0,0,0,0,0,0,0,0,0,0,0,0,0,0,0,0,0,0,0,0,0,0,0,0,0,0,0,0,0,0,0,0,0,0,0,0,0,0,0,0,0,{"$f":"SUM(SU124:SU132)","v":0},0,0,0,0,0,0,0,0,0,0,0,0,0,0,0,0,0,0,0,0,0,0,0,0,0,0,0,0,0,0,0,0,0,0,0,0,0,0,0,0,0,0,0,0,0,0,0,0,0,0,0,0,0,0,0,0,0,0,0,0,0,0,0,{"$f":"SUM(VG124:VG132)","v":0},0,0,0,0,0,0,0,0,0,0,0,0,0,0,0,0,0,0,0,0,0,0,0,0,0,0,0,0,0,0,0,0,0,0,0,0,0,0,0,0,0,0,0,0,0,0,0,0,0,0,0,0,0,0,0,0,0,0,0,0,0,0,0,{"$f":"SUM(XS124:XS132)","v":0},0,0,0,0,0,0,0,0,0,0,0,0,0,0,0,0,0,0,0,0,0,0,0,0,0,0,0,0,0,0,0,0,0,0,0,0,0,0,0,0,0,0,0,0,0,0,0,0,0,0,0,0,0,0,0,0,0,0,0,0,0,0,0,{"$f":"SUM(AAE124:AAE132)","v":0},0,0,0,0,0,0,0,0,0,0,0,0,0,0,0,0,0,0,0,0,0,0,0,0,0,0,0,0,0,0,0,0,0,0,0,0,0,0,0,0,0,0,0,0,0,0,0,0,0,0,0,0,0,0,0,0,0,0,0,0,0,0,0,{"$f":"SUM(ACQ124:ACQ132)","v":0},0,0,0,0,0,0,0,0,0,0,0,0,0,0,0,0,0,0,0,0,0,0,0,0,0,0,0,0,0,0,0,0,0,0,0,0,0,0,0,0,0,0,0,0,0,0,0,0,0,0,0,0,0,0,0,0,0,0,0,0,0,0,0,{"$f":"SUM(AFC124:AFC132)","v":0},0,0,0,0,0,0,0,0,0,0,0,0,0,0,0,0,0,0,0,0,0,0,0,0,0,0,0,0,0,0,0,0,0,0,0,0,0,0,0,0,0,0,0,0,0,0,0,0,0,0,0,0,0,0,0,0,0,0,0,0,0,0,0,{"$f":"SUM(AHO124:AHO132)","v":0},0,0,0,0,0,0,0,0,0,0,0,0,0,0,0,0,0,0,0,0,0,0,0,0,0,0,0,0,0,0,0,0,0,0,0,0,0,0,0,0,0,0,0,0,0,0,0,0,0,0,0,0,0,0,0,0,0,0,0,0,0,0,0,{"$f":"SUM(AKA124:AKA132)","v":0},0,0,0,0,0,0,0,0,0,0,0,0,0,0,0,0,0,0,0,0,0,0,0,0,0,0,0,0,0,0,0,0,0,0,0,0,0,0,0,0,0,0,0,0,0,0,0,0,0,0,0,0,0,0,0,0,0,0,0,0,0,0,0,{"$f":"SUM(AMM124:AMM132)","v":0},0,0,0,0,0,0,0,0,0,0,0,0,0,0,0,0,0,0,0,0,0,0,0,0,0,0,0,0,0,0,0,0,0,0,0,0,0,0,0,0,0,0,0,0,0,0,0,0,0,0,0,0,0,0,0,0,0,0,0,0,0,0,0,{"$f":"SUM(AOY124:AOY132)","v":0},0,0,0,0,0,0,0,0,0,0,0,0,0,0,0,0,0,0,0,0,0,0,0,0,0,0,0,0,0,0,0,0,0,0,0,0,0,0,0,0,0,0,0,0,0,0,0,0,0,0,0,0,0,0,0,0,0,0,0,0,0,0,0,{"$f":"SUM(ARK124:ARK132)","v":0},0,0,0,0,0,0,0,0,0,0,0,0,0,0,0,0,0,0,0,0,0,0,0,0,0,0,0,0,0,0,0,0,0,0,0,0,0,0,0,0,0,0,0,0,0,0,0,0,0,0,0,0,0,0,0,0,0,0,0,0,0,0,0,{"$f":"SUM(ATW124:ATW132)","v":0},0,0,0,0,0,0,0,0,0,0,0,0,0,0,0,0,0,0,0,0,0,0,0,0,0,0,0,0,0,0,0,0,0,0,0,0,0,0,0,0,0,0,0,0,0,0,0,0,0,0,0,0,0,0,0,0,0,0,0,0,0,0,0,{"$f":"SUM(AWI124:AWI132)","v":0},0,0,0,0,0,0,0,0,0,0,0,0,0,0,0,0,0,0,0,0,0,0,0,0,0,0,0,0,0,0,0,0,0,0,0,0,0,0,0,0,0,0,0,0,0,0,0,0,0,0,0,0,0,0,0,0,0,0,0,0,0,0,0,{"$f":"SUM(AYU124:AYU132)","v":0},0,0,0,0,0,0,0,0,0,0,0,0,0,0,0,0,0,0,0,0,0,0,0,0,0,0,0,0,0,0,0,0,0,0,0,0,0,0,0,0,0,0,0,0,0,0,0,0,0,0,0,0,0,0,0,0,0,0,0,0,0,0,0,{"$f":"SUM(BBG124:BBG132)","v":0},0,0,0,0,0,0,0,0,0,0,0,0,0,0,0,0,0,0,0,0,0,0,0,0,0,0,0,0,0,0,0,0,0,0,0,0,0,0,0,0,0,0,0,0,0,0,0,0,0,0,0,0,0,0,0,0,0,0,0,0,0,0,0,{"$f":"SUM(BDS124:BDS132)","v":0},0,0,0,0,0,0,0,0,0,0,0,0,0,0,0,0,0,0,0,0,0,0,0,0,0,0,0,0,0,0,0,0,0,0,0,0,0,0,0,0,0,0,0,0,0,0,0,0,0,0,0,0,0,0,0,0,0,0,0,0,0,0,0,{"$f":"SUM(BGE124:BGE132)","v":0},0,0,0,0,0,0,0,0,0,0,0,0,0,0,0,0,0,0,0,0,0,0,0,0,0,0,0,0,0,0,0,0,0,0,0,0,0,0,0,0,0,0,0,0,0,0,0,0,0,0,0,0,0,0,0,0,0,0,0,0,0,0,0,{"$f":"SUM(BIQ124:BIQ132)","v":0},0,0,0,0,0,0,0,0,0,0,0,0,0,0,0,0,0,0,0,0,0,0,0,0,0,0,0,0,0,0,0,0,0,0,0,0,0,0,0,0,0,0,0,0,0,0,0,0,0,0,0,0,0,0,0,0,0,0,0,0,0,0,0,{"$f":"SUM(BLC124:BLC132)","v":0},0,0,0,0,0,0,0,0,0,0,0,0,0,0,0,0,0,0,0,0,0,0,0,0,0,0,0,0,0,0,0,0,0,0,0,0,0,0,0,0,0,0,0,0,0,0,0,0,0,0,0,0,0,0,0,0,0,0,0,0,0,0,0,{"$f":"SUM(BNO124:BNO132)","v":0},0,0,0,0,0,0,0,0,0,0,0,0,0,0,0,0,0,0,0,0,0,0,0,0,0,0,0,0,0,0,0,0,0,0,0,0,0,0,0,0,0,0,0,0,0,0,0,0,0,0,0,0,0,0,0,0,0,0,0,0,0,0,0,{"$f":"SUM(BQA124:BQA132)","v":0},0,0,0,0,0,0,0,0,0,0,0,0,0,0,0,0,0,0,0,0,0,0,0,0,0,0,0,0,0,0,0,0,0,0,0,0,0,0,0,0,0,0,0,0,0,0,0,0,0,0,0,0,0,0,0,0,0,0,0,0,0,0,0,{"$f":"SUM(BSM124:BSM132)","v":0},0,0,0,0,0,0,0,0,0,0,0,0,0,0,0,0,0,0,0,0,0,0,0,0,0,0,0,0,0,0,0,0,0,0,0,0,0,0,0,0,0,0,0,0,0,0,0,0,0,0,0,0,0,0,0,0,0,0,0,0,0,0,0,{"$f":"SUM(BUY124:BUY132)","v":0},0,0,0,0,0,0,0,0,0,0,0,0,0,0,0,0,0,0,0,0,0,0,0,0,0,0,0,0,0,0,0,0,0,0,0,0,0,0,0,0,0,0,0,0,0,0,0,0,0,0,0,0,0,0,0,0,0,0,0,0,0,0,0,{"$f":"SUM(BXK124:BXK132)","v":0},0,0,0,0,0,0,0,0,0,0,0,0,0,0,0,0,0,0,0,0,0,0,0,0,0,0,0,0,0,0,0,0,0,0,0,0,0,0,0,0,0,0,0,0,0,0,0,0,0,0,0,0,0,0,0,0,0,0,0,0,0,0,0,{"$f":"SUM(BZW124:BZW132)","v":0},0,0,0,0,0,0,0,0,0,0,0,0,0,0,0,0,0,0,0,0,0,0,0,0,0,0,0,0,0,0,0,0,0,0,0,0,0,0,0,0,0,0,0,0,0,0,0,0,0,0,0,0,0,0,0,0,0,0,0,0,0,0,0,{"$f":"SUM(CCI124:CCI132)","v":0},0,0,0,0,0,0,0,0,0,0,0,0,0,0,0,0,0,0,0,0,0,0,0,0,0,0,0,0,0,0,0,0,0,0,0,0,0,0,0,0,0,0,0,0,0,0,0,0,0,0,0,0,0,0,0,0,0,0,0,0,0,0,0,{"$f":"SUM(CEU124:CEU132)","v":0},0,0,0,0,0,0,0,0,0,0,0,0,0,0,0,0,0,0,0,0,0,0,0,0,0,0,0,0,0,0,0,0,0,0,0,0,0,0,0,0,0,0,0,0,0,0,0,0,0,0,0,0,0,0,0,0,0,0,0,0,0,0,0,{"$f":"SUM(CHG124:CHG132)","v":0},0,0,0,0,0,0,0,0,0,0,0,0,0,0,0,0,0,0,0,0,0,0,0,0,0,0,0,0,0,0,0,0,0,0,0,0,0,0,0,0,0,0,0,0,0,0,0,0,0,0,0,0,0,0,0,0,0,0,0,0,0,0,0,{"$f":"SUM(CJS124:CJS132)","v":0},0,0,0,0,0,0,0,0,0,0,0,0,0,0,0,0,0,0,0,0,0,0,0,0,0,0,0,0,0,0,0,0,0,0,0,0,0,0,0,0,0,0,0,0,0,0,0,0,0,0,0,0,0,0,0,0,0,0,0,0,0,0,0,{"$f":"SUM(CME124:CME132)","v":0},0,0,0,0,0,0,0,0,0,0,0,0,0,0,0,0,0,0,0,0,0,0,0,0,0,0,0,0,0,0,0,0,0,0,0,0,0,0,0,0,0,0,0,0,0,0,0,0,0,0,0,0,0,0,0,0,0,0,0,0,0,0,0,{"$f":"SUM(COQ124:COQ132)","v":0},0,0,0,0,0,0,0,0,0,0,0,0,0,0,0,0,0,0,0,0,0,0,0,0,0,0,0,0,0,0,0,0,0,0,0,0,0,0,0,0,0,0,0,0,0,0,0,0,0,0,0,0,0,0,0,0,0,0,0,0,0,0,0,{"$f":"SUM(CRC124:CRC132)","v":0},0,0,0,0,0,0,0,0,0,0,0,0,0,0,0,0,0,0,0,0,0,0,0,0,0,0,0,0,0,0,0,0,0,0,0,0,0,0,0,0,0,0,0,0,0,0,0,0,0,0,0,0,0,0,0,0,0,0,0,0,0,0,0,{"$f":"SUM(CTO124:CTO132)","v":0},0,0,0,0,0,0,0,0,0,0,0,0,0,0,0,0,0,0,0,0,0,0,0,0,0,0,0,0,0,0,0,0,0,0,0,0,0,0,0,0,0,0,0,0,0,0,0,0,0,0,0,0,0,0,0,0,0,0,0,0,0,0,0,{"$f":"SUM(CWA124:CWA132)","v":0},0,0,0,0,0,0,0,0,0,0,0,0,0,0,0,0,0,0,0,0,0,0,0,0,0,0,0,0,0,0,0,0,0,0,0,0,0,0,0,0,0,0,0,0,0,0,0,0,0,0,0,0,0,0,0,0,0,0,0,0,0,0,0,{"$f":"SUM(CYM124:CYM132)","v":0},0,0,0,0,0,0,0,0,0,0,0,0,0,0,0,0,0,0,0,0,0,0,0,0,0,0,0,0,0,0,0,0,0,0,0,0,0,0,0,0,0,0,0,0,0,0,0,0,0,0,0,0,0,0,0,0,0,0,0,0,0,0,0,{"$f":"SUM(DAY124:DAY132)","v":0},0,0,0,0,0,0,0,0,0,0,0,0,0,0,0,0,0,0,0,0,0,0,0,0,0,0,0,0,0,0,0,0,0,0,0,0,0,0,0,0,0,0,0,0,0,0,0,0,0,0,0,0,0,0,0,0,0,0,0,0,0,0,0,{"$f":"SUM(DDK124:DDK132)","v":0},0,0,0,0,0,0,0,0,0,0,0,0,0,0,0,0,0,0,0,0,0,0,0,0,0,0,0,0,0,0,0,0,0,0,0,0,0,0,0,0,0,0,0,0,0,0,0,0,0,0,0,0,0,0,0,0,0,0,0,0,0,0,0,{"$f":"SUM(DFW124:DFW132)","v":0},0,0,0,0,0,0,0,0,0,0,0,0,0,0,0,0,0,0,0,0,0,0,0,0,0,0,0,0,0,0,0,0,0,0,0,0,0,0,0,0,0,0,0,0,0,0,0,0,0,0,0,0,0,0,0,0,0,0,0,0,0,0,0,{"$f":"SUM(DII124:DII132)","v":0},0,0,0,0,0,0,0,0,0,0,0,0,0,0,0,0,0,0,0,0,0,0,0,0,0,0,0,0,0,0,0,0,0,0,0,0,0,0,0,0,0,0,0,0,0,0,0,0,0,0,0,0,0,0,0,0,0,0,0,0,0,0,0,{"$f":"SUM(DKU124:DKU132)","v":0},0,0,0,0,0,0,0,0,0,0,0,0,0,0,0,0,0,0,0,0,0,0,0,0,0,0,0,0,0,0,0,0,0,0,0,0,0,0,0,0,0,0,0,0,0,0,0,0,0,0,0,0,0,0,0,0,0,0,0,0,0,0,0,{"$f":"SUM(DNG124:DNG132)","v":0},0,0,0,0,0,0,0,0,0,0,0,0,0,0,0,0,0,0,0,0,0,0,0,0,0,0,0,0,0,0,0,0,0,0,0,0,0,0,0,0,0,0,0,0,0,0,0,0,0,0,0,0,0,0,0,0,0,0,0,0,0,0,0,{"$f":"SUM(DPS124:DPS132)","v":0},0,0,0,0,0,0,0,0,0,0,0,0,0,0,0,0,0,0,0,0,0,0,0,0,0,0,0,0,0,0,0,0,0,0,0,0,0,0,0,0,0,0,0,0,0,0,0,0,0,0,0,0,0,0,0,0,0,0,0,0,0,0,0,{"$f":"SUM(DSE124:DSE132)","v":0},0,0,0,0,0,0,0,0,0,0,0,0,0,0,0,0,0,0,0,0,0,0,0,0,0,0,0,0,0,0,0,0,0,0,0,0,0,0,0,0,0,0,0,0,0,0,0,0,0,0,0,0,0,0,0,0,0,0,0,0,0,0,0,{"$f":"SUM(DUQ124:DUQ132)","v":0},0,0,0,0,0,0,0,0,0,0,0,0,0,0,0,0,0,0,0,0,0,0,0,0,0,0,0,0,0,0,0,0,0,0,0,0,0,0,0,0,0,0,0,0,0,0,0,0,0,0,0,0,0,0,0,0,0,0,0,0,0,0,0,{"$f":"SUM(DXC124:DXC132)","v":0},0,0,0,0,0,0,0,0,0,0,0,0,0,0,0,0,0,0,0,0,0,0,0,0,0,0,0,0,0,0,0,0,0,0,0,0,0,0,0,0,0,0,0,0,0,0,0,0,0,0,0,0,0,0,0,0,0,0,0,0,0,0,0,{"$f":"SUM(DZO124:DZO132)","v":0},0,0,0,0,0,0,0,0,0,0,0,0,0,0,0,0,0,0,0,0,0,0,0,0,0,0,0,0,0,0,0,0,0,0,0,0,0,0,0,0,0,0,0,0,0,0,0,0,0,0,0,0,0,0,0,0,0,0,0,0,0,0,0,{"$f":"SUM(ECA124:ECA132)","v":0},0,0,0,0,0,0,0,0,0,0,0,0,0,0,0,0,0,0,0,0,0,0,0,0,0,0,0,0,0,0,0,0,0,0,0,0,0,0,0,0,0,0,0,0,0,0,0,0,0,0,0,0,0,0,0,0,0,0,0,0,0,0,0,{"$f":"SUM(EEM124:EEM132)","v":0},0,0,0,0,0,0,0,0,0,0,0,0,0,0,0,0,0,0,0,0,0,0,0,0,0,0,0,0,0,0,0,0,0,0,0,0,0,0,0,0,0,0,0,0,0,0,0,0,0,0,0,0,0,0,0,0,0,0,0,0,0,0,0,{"$f":"SUM(EGY124:EGY132)","v":0},0,0,0,0,0,0,0,0,0,0,0,0,0,0,0,0,0,0,0,0,0,0,0,0,0,0,0,0,0,0,0,0,0,0,0,0,0,0,0,0,0,0,0,0,0,0,0,0,0,0,0,0,0,0,0,0,0,0,0,0,0,0,0,{"$f":"SUM(EJK124:EJK132)","v":0},0,0,0,0,0,0,0,0,0,0,0,0,0,0,0,0,0,0,0,0,0,0,0,0,0,0,0,0,0,0,0,0,0,0,0,0,0,0,0,0,0,0,0,0,0,0,0,0,0,0,0,0,0,0,0,0,0,0,0,0,0,0,0,{"$f":"SUM(ELW124:ELW132)","v":0},0,0,0,0,0,0,0,0,0,0,0,0,0,0,0,0,0,0,0,0,0,0,0,0,0,0,0,0,0,0,0,0,0,0,0,0,0,0,0,0,0,0,0,0,0,0,0,0,0,0,0,0,0,0,0,0,0,0,0,0,0,0,0,{"$f":"SUM(EOI124:EOI132)","v":0},0,0,0,0,0,0,0,0,0,0,0,0,0,0,0,0,0,0,0,0,0,0,0,0,0,0,0,0,0,0,0,0,0,0,0,0,0,0,0,0,0,0,0,0,0,0,0,0,0,0,0,0,0,0,0,0,0,0,0,0,0,0,0,{"$f":"SUM(EQU124:EQU132)","v":0},0,0,0,0,0,0,0,0,0,0,0,0,0,0,0,0,0,0,0,0,0,0,0,0,0,0,0,0,0,0,0,0,0,0,0,0,0,0,0,0,0,0,0,0,0,0,0,0,0,0,0,0,0,0,0,0,0,0,0,0,0,0,0,{"$f":"SUM(ETG124:ETG132)","v":0},0,0,0,0,0,0,0,0,0,0,0,0,0,0,0,0,0,0,0,0,0,0,0,0,0,0,0,0,0,0,0,0,0,0,0,0,0,0,0,0,0,0,0,0,0,0,0,0,0,0,0,0,0,0,0,0,0,0,0,0,0,0,0,{"$f":"SUM(EVS124:EVS132)","v":0},0,0,0,0,0,0,0,0,0,0,0,0,0,0,0,0,0,0,0,0,0,0,0,0,0,0,0,0,0,0,0,0,0,0,0,0,0,0,0,0,0,0,0,0,0,0,0,0,0,0,0,0,0,0,0,0,0,0,0,0,0,0,0,{"$f":"SUM(EYE124:EYE132)","v":0},0,0,0,0,0,0,0,0,0,0,0,0,0,0,0,0,0,0,0,0,0,0,0,0,0,0,0,0,0,0,0,0,0,0,0,0,0,0,0,0,0,0,0,0,0,0,0,0,0,0,0,0,0,0,0,0,0,0,0,0,0,0,0,{"$f":"SUM(FAQ124:FAQ132)","v":0},0,0,0,0,0,0,0,0,0,0,0,0,0,0,0,0,0,0,0,0,0,0,0,0,0,0,0,0,0,0,0,0,0,0,0,0,0,0,0,0,0,0,0,0,0,0,0,0,0,0,0,0,0,0,0,0,0,0,0,0,0,0,0,{"$f":"SUM(FDC124:FDC132)","v":0},0,0,0,0,0,0,0,0,0,0,0,0,0,0,0,0,0,0,0,0,0,0,0,0,0,0,0,0,0,0,0,0,0,0,0,0,0,0,0,0,0,0,0,0,0,0,0,0,0,0,0,0,0,0,0,0,0,0,0,0,0,0,0,{"$f":"SUM(FFO124:FFO132)","v":0},0,0,0,0,0,0,0,0,0,0,0,0,0,0,0,0,0,0,0,0,0,0,0,0,0,0,0,0,0,0,0,0,0,0,0,0,0,0,0,0,0,0,0,0,0,0,0,0,0,0,0,0,0,0,0,0,0,0,0,0,0,0,0,{"$f":"SUM(FIA124:FIA132)","v":0},0,0,0,0,0,0,0,0,0,0,0,0,0,0,0,0,0,0,0,0,0,0,0,0,0,0,0,0,0,0,0,0,0,0,0,0,0,0,0,0,0,0,0,0,0,0,0,0,0,0,0,0,0,0,0,0,0,0,0,0,0,0,0,{"$f":"SUM(FKM124:FKM132)","v":0},0,0,0,0,0,0,0,0,0,0,0,0,0,0,0,0,0,0,0,0,0,0,0,0,0,0,0,0,0,0,0,0,0,0,0,0,0,0,0,0,0,0,0,0,0,0,0,0,0,0,0,0,0,0,0,0,0,0,0,0,0,0,0,{"$f":"SUM(FMY124:FMY132)","v":0},0,0,0,0,0,0,0,0,0,0,0,0,0,0,0,0,0,0,0,0,0,0,0,0,0,0,0,0,0,0,0,0,0,0,0,0,0,0,0,0,0,0,0,0,0,0,0,0,0,0,0,0,0,0,0,0,0,0,0,0,0,0,0,{"$f":"SUM(FPK124:FPK132)","v":0},0,0,0,0,0,0,0,0,0,0,0,0,0,0,0,0,0,0,0,0,0,0,0,0,0,0,0,0,0,0,0,0,0,0,0,0,0,0,0,0,0,0,0,0,0,0,0,0,0,0,0,0,0,0,0,0,0,0,0,0,0,0,0,{"$f":"SUM(FRW124:FRW132)","v":0},0,0,0,0,0,0,0,0,0,0,0,0,0,0,0,0,0,0,0,0,0,0,0,0,0,0,0,0,0,0,0,0,0,0,0,0,0,0,0,0,0,0,0,0,0,0,0,0,0,0,0,0,0,0,0,0,0,0,0,0,0,0,0,{"$f":"SUM(FUI124:FUI132)","v":0},0,0,0,0,0,0,0,0,0,0,0,0,0,0,0,0,0,0,0,0,0,0,0,0,0,0,0,0,0,0,0,0,0,0,0,0,0,0,0,0,0,0,0,0,0,0,0,0,0,0,0,0,0,0,0,0,0,0,0,0,0,0,0,{"$f":"SUM(FWU124:FWU132)","v":0},0,0,0,0,0,0,0,0,0,0,0,0,0,0,0,0,0,0,0,0,0,0,0,0,0,0,0,0,0,0,0,0,0,0,0,0,0,0,0,0,0,0,0,0,0,0,0,0,0,0,0,0,0,0,0,0,0,0,0,0,0,0,0,{"$f":"SUM(FZG124:FZG132)","v":0},0,0,0,0,0,0,0,0,0,0,0,0,0,0,0,0,0,0,0,0,0,0,0,0,0,0,0,0,0,0,0,0,0,0,0,0,0,0,0,0,0,0,0,0,0,0,0,0,0,0,0,0,0,0,0,0,0,0,0,0,0,0,0,{"$f":"SUM(GBS124:GBS132)","v":0},0,0,0,0,0,0,0,0,0,0,0,0,0,0,0,0,0,0,0,0,0,0,0,0,0,0,0,0,0,0,0,0,0,0,0,0,0,0,0,0,0,0,0,0,0,0,0,0,0,0,0,0,0,0,0,0,0,0,0,0,0,0,0,{"$f":"SUM(GEE124:GEE132)","v":0},0,0,0,0,0,0,0,0,0,0,0,0,0,0,0,0,0,0,0,0,0,0,0,0,0,0,0,0,0,0,0,0,0,0,0,0,0,0,0,0,0,0,0,0,0,0,0,0,0,0,0,0,0,0,0,0,0,0,0,0,0,0,0,{"$f":"SUM(GGQ124:GGQ132)","v":0},0,0,0,0,0,0,0,0,0,0,0,0,0,0,0,0,0,0,0,0,0,0,0,0,0,0,0,0,0,0,0,0,0,0,0,0,0,0,0,0,0,0,0,0,0,0,0,0,0,0,0,0,0,0,0,0,0,0,0,0,0,0,0,{"$f":"SUM(GJC124:GJC132)","v":0},0,0,0,0,0,0,0,0,0,0,0,0,0,0,0,0,0,0,0,0,0,0,0,0,0,0,0,0,0,0,0,0,0,0,0,0,0,0,0,0,0,0,0,0,0,0,0,0,0,0,0,0,0,0,0,0,0,0,0,0,0,0,0,{"$f":"SUM(GLO124:GLO132)","v":0},0,0,0,0,0,0,0,0,0,0,0,0,0,0,0,0,0,0,0,0,0,0,0,0,0,0,0,0,0,0,0,0,0,0,0,0,0,0,0,0,0,0,0,0,0,0,0,0,0,0,0,0,0,0,0,0,0,0,0,0,0,0,0,{"$f":"SUM(GOA124:GOA132)","v":0},0,0,0,0,0,0,0,0,0,0,0,0,0,0,0,0,0,0,0,0,0,0,0,0,0,0,0,0,0,0,0,0,0,0,0,0,0,0,0,0,0,0,0,0,0,0,0,0,0,0,0,0,0,0,0,0,0,0,0,0,0,0,0,{"$f":"SUM(GQM124:GQM132)","v":0},0,0,0,0,0,0,0,0,0,0,0,0,0,0,0,0,0,0,0,0,0,0,0,0,0,0,0,0,0,0,0,0,0,0,0,0,0,0,0,0,0,0,0,0,0,0,0,0,0,0,0,0,0,0,0,0,0,0,0,0,0,0,0,{"$f":"SUM(GSY124:GSY132)","v":0},0,0,0,0,0,0,0,0,0,0,0,0,0,0,0,0,0,0,0,0,0,0,0,0,0,0,0,0,0,0,0,0,0,0,0,0,0,0,0,0,0,0,0,0,0,0,0,0,0,0,0,0,0,0,0,0,0,0,0,0,0,0,0,{"$f":"SUM(GVK124:GVK132)","v":0},0,0,0,0,0,0,0,0,0,0,0,0,0,0,0,0,0,0,0,0,0,0,0,0,0,0,0,0,0,0,0,0,0,0,0,0,0,0,0,0,0,0,0,0,0,0,0,0,0,0,0,0,0,0,0,0,0,0,0,0,0,0,0,{"$f":"SUM(GXW124:GXW132)","v":0},0,0,0,0,0,0,0,0,0,0,0,0,0,0,0,0,0,0,0,0,0,0,0,0,0,0,0,0,0,0,0,0,0,0,0,0,0,0,0,0,0,0,0,0,0,0,0,0,0,0,0,0,0,0,0,0,0,0,0,0,0,0,0,{"$f":"SUM(HAI124:HAI132)","v":0},0,0,0,0,0,0,0,0,0,0,0,0,0,0,0,0,0,0,0,0,0,0,0,0,0,0,0,0,0,0,0,0,0,0,0,0,0,0,0,0,0,0,0,0,0,0,0,0,0,0,0,0,0,0,0,0,0,0,0,0,0,0,0,{"$f":"SUM(HCU124:HCU132)","v":0},0,0,0,0,0,0,0,0,0,0,0,0,0,0,0,0,0,0,0,0,0,0,0,0,0,0,0,0,0,0,0,0,0,0,0,0,0,0,0,0,0,0,0,0,0,0,0,0,0,0,0,0,0,0,0,0,0,0,0,0,0,0,0,{"$f":"SUM(HFG124:HFG132)","v":0},0,0,0,0,0,0,0,0,0,0,0,0,0,0,0,0,0,0,0,0,0,0,0,0,0,0,0,0,0,0,0,0,0,0,0,0,0,0,0,0,0,0,0,0,0,0,0,0,0,0,0,0,0,0,0,0,0,0,0,0,0,0,0,{"$f":"SUM(HHS124:HHS132)","v":0},0,0,0,0,0,0,0,0,0,0,0,0,0,0,0,0,0,0,0,0,0,0,0,0,0,0,0,0,0,0,0,0,0,0,0,0,0,0,0,0,0,0,0,0,0,0,0,0,0,0,0,0,0,0,0,0,0,0,0,0,0,0,0,{"$f":"SUM(HKE124:HKE132)","v":0},0,0,0,0,0,0,0,0,0,0,0,0,0,0,0,0,0,0,0,0,0,0,0,0,0,0,0,0,0,0,0,0,0,0,0,0,0,0,0,0,0,0,0,0,0,0,0,0,0,0,0,0,0,0,0,0,0,0,0,0,0,0,0,{"$f":"SUM(HMQ124:HMQ132)","v":0},0,0,0,0,0,0,0,0,0,0,0,0,0,0,0,0,0,0,0,0,0,0,0,0,0,0,0,0,0,0,0,0,0,0,0,0,0,0,0,0,0,0,0,0,0,0,0,0,0,0,0,0,0,0,0,0,0,0,0,0,0,0,0,{"$f":"SUM(HPC124:HPC132)","v":0},0,0,0,0,0,0,0,0,0,0,0,0,0,0,0,0,0,0,0,0,0,0,0,0,0,0,0,0,0,0,0,0,0,0,0,0,0,0,0,0,0,0,0,0,0,0,0,0,0,0,0,0,0,0,0,0,0,0,0,0,0,0,0,{"$f":"SUM(HRO124:HRO132)","v":0},0,0,0,0,0,0,0,0,0,0,0,0,0,0,0,0,0,0,0,0,0,0,0,0,0,0,0,0,0,0,0,0,0,0,0,0,0,0,0,0,0,0,0,0,0,0,0,0,0,0,0,0,0,0,0,0,0,0,0,0,0,0,0,{"$f":"SUM(HUA124:HUA132)","v":0},0,0,0,0,0,0,0,0,0,0,0,0,0,0,0,0,0,0,0,0,0,0,0,0,0,0,0,0,0,0,0,0,0,0,0,0,0,0,0,0,0,0,0,0,0,0,0,0,0,0,0,0,0,0,0,0,0,0,0,0,0,0,0,{"$f":"SUM(HWM124:HWM132)","v":0},0,0,0,0,0,0,0,0,0,0,0,0,0,0,0,0,0,0,0,0,0,0,0,0,0,0,0,0,0,0,0,0,0,0,0,0,0,0,0,0,0,0,0,0,0,0,0,0,0,0,0,0,0,0,0,0,0,0,0,0,0,0,0,{"$f":"SUM(HYY124:HYY132)","v":0},0,0,0,0,0,0,0,0,0,0,0,0,0,0,0,0,0,0,0,0,0,0,0,0,0,0,0,0,0,0,0,0,0,0,0,0,0,0,0,0,0,0,0,0,0,0,0,0,0,0,0,0,0,0,0,0,0,0,0,0,0,0,0,{"$f":"SUM(IBK124:IBK132)","v":0},0,0,0,0,0,0,0,0,0,0,0,0,0,0,0,0,0,0,0,0,0,0,0,0,0,0,0,0,0,0,0,0,0,0,0,0,0,0,0,0,0,0,0,0,0,0,0,0,0,0,0,0,0,0,0,0,0,0,0,0,0,0,0,{"$f":"SUM(IDW124:IDW132)","v":0},0,0,0,0,0,0,0,0,0,0,0,0,0,0,0,0,0,0,0,0,0,0,0,0,0,0,0,0,0,0,0,0,0,0,0,0,0,0,0,0,0,0,0,0,0,0,0,0,0,0,0,0,0,0,0,0,0,0,0,0,0,0,0,{"$f":"SUM(IGI124:IGI132)","v":0},0,0,0,0,0,0,0,0,0,0,0,0,0,0,0,0,0,0,0,0,0,0,0,0,0,0,0,0,0,0,0,0,0,0,0,0,0,0,0,0,0,0,0,0,0,0,0,0,0,0,0,0,0,0,0,0,0,0,0,0,0,0,0,{"$f":"SUM(IIU124:IIU132)","v":0},0,0,0,0,0,0,0,0,0,0,0,0,0,0,0,0,0,0,0,0,0,0,0,0,0,0,0,0,0,0,0,0,0,0,0,0,0,0,0,0,0,0,0,0,0,0,0,0,0,0,0,0,0,0,0,0,0,0,0,0,0,0,0,{"$f":"SUM(ILG124:ILG132)","v":0},0,0,0,0,0,0,0,0,0,0,0,0,0,0,0,0,0,0,0,0,0,0,0,0,0,0,0,0,0,0,0,0,0,0,0,0,0,0,0,0,0,0,0,0,0,0,0,0,0,0,0,0,0,0,0,0,0,0,0,0,0,0,0,{"$f":"SUM(INS124:INS132)","v":0},0,0,0,0,0,0,0,0,0,0,0,0,0,0,0,0,0,0,0,0,0,0,0,0,0,0,0,0,0,0,0,0,0,0,0,0,0,0,0,0,0,0,0,0,0,0,0,0,0,0,0,0,0,0,0,0,0,0,0,0,0,0,0,{"$f":"SUM(IQE124:IQE132)","v":0},0,0,0,0,0,0,0,0,0,0,0,0,0,0,0,0,0,0,0,0,0,0,0,0,0,0,0,0,0,0,0,0,0,0,0,0,0,0,0,0,0,0,0,0,0,0,0,0,0,0,0,0,0,0,0,0,0,0,0,0,0,0,0,{"$f":"SUM(ISQ124:ISQ132)","v":0},0,0,0,0,0,0,0,0,0,0,0,0,0,0,0,0,0,0,0,0,0,0,0,0,0,0,0,0,0,0,0,0,0,0,0,0,0,0,0,0,0,0,0,0,0,0,0,0,0,0,0,0,0,0,0,0,0,0,0,0,0,0,0,{"$f":"SUM(IVC124:IVC132)","v":0},0,0,0,0,0,0,0,0,0,0,0,0,0,0,0,0,0,0,0,0,0,0,0,0,0,0,0,0,0,0,0,0,0,0,0,0,0,0,0,0,0,0,0,0,0,0,0,0,0,0,0,0,0,0,0,0,0,0,0,0,0,0,0,{"$f":"SUM(IXO124:IXO132)","v":0},0,0,0,0,0,0,0,0,0,0,0,0,0,0,0,0,0,0,0,0,0,0,0,0,0,0,0,0,0,0,0,0,0,0,0,0,0,0,0,0,0,0,0,0,0,0,0,0,0,0,0,0,0,0,0,0,0,0,0,0,0,0,0,{"$f":"SUM(JAA124:JAA132)","v":0},0,0,0,0,0,0,0,0,0,0,0,0,0,0,0,0,0,0,0,0,0,0,0,0,0,0,0,0,0,0,0,0,0,0,0,0,0,0,0,0,0,0,0,0,0,0,0,0,0,0,0,0,0,0,0,0,0,0,0,0,0,0,0,{"$f":"SUM(JCM124:JCM132)","v":0},0,0,0,0,0,0,0,0,0,0,0,0,0,0,0,0,0,0,0,0,0,0,0,0,0,0,0,0,0,0,0,0,0,0,0,0,0,0,0,0,0,0,0,0,0,0,0,0,0,0,0,0,0,0,0,0,0,0,0,0,0,0,0,{"$f":"SUM(JEY124:JEY132)","v":0},0,0,0,0,0,0,0,0,0,0,0,0,0,0,0,0,0,0,0,0,0,0,0,0,0,0,0,0,0,0,0,0,0,0,0,0,0,0,0,0,0,0,0,0,0,0,0,0,0,0,0,0,0,0,0,0,0,0,0,0,0,0,0,{"$f":"SUM(JHK124:JHK132)","v":0},0,0,0,0,0,0,0,0,0,0,0,0,0,0,0,0,0,0,0,0,0,0,0,0,0,0,0,0,0,0,0,0,0,0,0,0,0,0,0,0,0,0,0,0,0,0,0,0,0,0,0,0,0,0,0,0,0,0,0,0,0,0,0,{"$f":"SUM(JJW124:JJW132)","v":0},0,0,0,0,0,0,0,0,0,0,0,0,0,0,0,0,0,0,0,0,0,0,0,0,0,0,0,0,0,0,0,0,0,0,0,0,0,0,0,0,0,0,0,0,0,0,0,0,0,0,0,0,0,0,0,0,0,0,0,0,0,0,0,{"$f":"SUM(JMI124:JMI132)","v":0},0,0,0,0,0,0,0,0,0,0,0,0,0,0,0,0,0,0,0,0,0,0,0,0,0,0,0,0,0,0,0,0,0,0,0,0,0,0,0,0,0,0,0,0,0,0,0,0,0,0,0,0,0,0,0,0,0,0,0,0,0,0,0,{"$f":"SUM(JOU124:JOU132)","v":0},0,0,0,0,0,0,0,0,0,0,0,0,0,0,0,0,0,0,0,0,0,0,0,0,0,0,0,0,0,0,0,0,0,0,0,0,0,0,0,0,0,0,0,0,0,0,0,0,0,0,0,0,0,0,0,0,0,0,0,0,0,0,0,{"$f":"SUM(JRG124:JRG132)","v":0},0,0,0,0,0,0,0,0,0,0,0,0,0,0,0,0,0,0,0,0,0,0,0,0,0,0,0,0,0,0,0,0,0,0,0,0,0,0,0,0,0,0,0,0,0,0,0,0,0,0,0,0,0,0,0,0,0,0,0,0,0,0,0,{"$f":"SUM(JTS124:JTS132)","v":0},0,0,0,0,0,0,0,0,0,0,0,0,0,0,0,0,0,0,0,0,0,0,0,0,0,0,0,0,0,0,0,0,0,0,0,0,0,0,0,0,0,0,0,0,0,0,0,0,0,0,0,0,0,0,0,0,0,0,0,0,0,0,0,{"$f":"SUM(JWE124:JWE132)","v":0},0,0,0,0,0,0,0,0,0,0,0,0,0,0,0,0,0,0,0,0,0,0,0,0,0,0,0,0,0,0,0,0,0,0,0,0,0,0,0,0,0,0,0,0,0,0,0,0,0,0,0,0,0,0,0,0,0,0,0,0,0,0,0,{"$f":"SUM(JYQ124:JYQ132)","v":0},0,0,0,0,0,0,0,0,0,0,0,0,0,0,0,0,0,0,0,0,0,0,0,0,0,0,0,0,0,0,0,0,0,0,0,0,0,0,0,0,0,0,0,0,0,0,0,0,0,0,0,0,0,0,0,0,0,0,0,0,0,0,0,{"$f":"SUM(KBC124:KBC132)","v":0},0,0,0,0,0,0,0,0,0,0,0,0,0,0,0,0,0,0,0,0,0,0,0,0,0,0,0,0,0,0,0,0,0,0,0,0,0,0,0,0,0,0,0,0,0,0,0,0,0,0,0,0,0,0,0,0,0,0,0,0,0,0,0,{"$f":"SUM(KDO124:KDO132)","v":0},0,0,0,0,0,0,0,0,0,0,0,0,0,0,0,0,0,0,0,0,0,0,0,0,0,0,0,0,0,0,0,0,0,0,0,0,0,0,0,0,0,0,0,0,0,0,0,0,0,0,0,0,0,0,0,0,0,0,0,0,0,0,0,{"$f":"SUM(KGA124:KGA132)","v":0},0,0,0,0,0,0,0,0,0,0,0,0,0,0,0,0,0,0,0,0,0,0,0,0,0,0,0,0,0,0,0,0,0,0,0,0,0,0,0,0,0,0,0,0,0,0,0,0,0,0,0,0,0,0,0,0,0,0,0,0,0,0,0,{"$f":"SUM(KIM124:KIM132)","v":0},0,0,0,0,0,0,0,0,0,0,0,0,0,0,0,0,0,0,0,0,0,0,0,0,0,0,0,0,0,0,0,0,0,0,0,0,0,0,0,0,0,0,0,0,0,0,0,0,0,0,0,0,0,0,0,0,0,0,0,0,0,0,0,{"$f":"SUM(KKY124:KKY132)","v":0},0,0,0,0,0,0,0,0,0,0,0,0,0,0,0,0,0,0,0,0,0,0,0,0,0,0,0,0,0,0,0,0,0,0,0,0,0,0,0,0,0,0,0,0,0,0,0,0,0,0,0,0,0,0,0,0,0,0,0,0,0,0,0,{"$f":"SUM(KNK124:KNK132)","v":0},0,0,0,0,0,0,0,0,0,0,0,0,0,0,0,0,0,0,0,0,0,0,0,0,0,0,0,0,0,0,0,0,0,0,0,0,0,0,0,0,0,0,0,0,0,0,0,0,0,0,0,0,0,0,0,0,0,0,0,0,0,0,0,{"$f":"SUM(KPW124:KPW132)","v":0},0,0,0,0,0,0,0,0,0,0,0,0,0,0,0,0,0,0,0,0,0,0,0,0,0,0,0,0,0,0,0,0,0,0,0,0,0,0,0,0,0,0,0,0,0,0,0,0,0,0,0,0,0,0,0,0,0,0,0,0,0,0,0,{"$f":"SUM(KSI124:KSI132)","v":0},0,0,0,0,0,0,0,0,0,0,0,0,0,0,0,0,0,0,0,0,0,0,0,0,0,0,0,0,0,0,0,0,0,0,0,0,0,0,0,0,0,0,0,0,0,0,0,0,0,0,0,0,0,0,0,0,0,0,0,0,0,0,0,{"$f":"SUM(KUU124:KUU132)","v":0},0,0,0,0,0,0,0,0,0,0,0,0,0,0,0,0,0,0,0,0,0,0,0,0,0,0,0,0,0,0,0,0,0,0,0,0,0,0,0,0,0,0,0,0,0,0,0,0,0,0,0,0,0,0,0,0,0,0,0,0,0,0,0,{"$f":"SUM(KXG124:KXG132)","v":0},0,0,0,0,0,0,0,0,0,0,0,0,0,0,0,0,0,0,0,0,0,0,0,0,0,0,0,0,0,0,0,0,0,0,0,0,0,0,0,0,0,0,0,0,0,0,0,0,0,0,0,0,0,0,0,0,0,0,0,0,0,0,0,{"$f":"SUM(KZS124:KZS132)","v":0},0,0,0,0,0,0,0,0,0,0,0,0,0,0,0,0,0,0,0,0,0,0,0,0,0,0,0,0,0,0,0,0,0,0,0,0,0,0,0,0,0,0,0,0,0,0,0,0,0,0,0,0,0,0,0,0,0,0,0,0,0,0,0,{"$f":"SUM(LCE124:LCE132)","v":0},0,0,0,0,0,0,0,0,0,0,0,0,0,0,0,0,0,0,0,0,0,0,0,0,0,0,0,0,0,0,0,0,0,0,0,0,0,0,0,0,0,0,0,0,0,0,0,0,0,0,0,0,0,0,0,0,0,0,0,0,0,0,0,{"$f":"SUM(LEQ124:LEQ132)","v":0},0,0,0,0,0,0,0,0,0,0,0,0,0,0,0,0,0,0,0,0,0,0,0,0,0,0,0,0,0,0,0,0,0,0,0,0,0,0,0,0,0,0,0,0,0,0,0,0,0,0,0,0,0,0,0,0,0,0,0,0,0,0,0,{"$f":"SUM(LHC124:LHC132)","v":0},0,0,0,0,0,0,0,0,0,0,0,0,0,0,0,0,0,0,0,0,0,0,0,0,0,0,0,0,0,0,0,0,0,0,0,0,0,0,0,0,0,0,0,0,0,0,0,0,0,0,0,0,0,0,0,0,0,0,0,0,0,0,0,{"$f":"SUM(LJO124:LJO132)","v":0},0,0,0,0,0,0,0,0,0,0,0,0,0,0,0,0,0,0,0,0,0,0,0,0,0,0,0,0,0,0,0,0,0,0,0,0,0,0,0,0,0,0,0,0,0,0,0,0,0,0,0,0,0,0,0,0,0,0,0,0,0,0,0,{"$f":"SUM(LMA124:LMA132)","v":0},0,0,0,0,0,0,0,0,0,0,0,0,0,0,0,0,0,0,0,0,0,0,0,0,0,0,0,0,0,0,0,0,0,0,0,0,0,0,0,0,0,0,0,0,0,0,0,0,0,0,0,0,0,0,0,0,0,0,0,0,0,0,0,{"$f":"SUM(LOM124:LOM132)","v":0},0,0,0,0,0,0,0,0,0,0,0,0,0,0,0,0,0,0,0,0,0,0,0,0,0,0,0,0,0,0,0,0,0,0,0,0,0,0,0,0,0,0,0,0,0,0,0,0,0,0,0,0,0,0,0,0,0,0,0,0,0,0,0,{"$f":"SUM(LQY124:LQY132)","v":0},0,0,0,0,0,0,0,0,0,0,0,0,0,0,0,0,0,0,0,0,0,0,0,0,0,0,0,0,0,0,0,0,0,0,0,0,0,0,0,0,0,0,0,0,0,0,0,0,0,0,0,0,0,0,0,0,0,0,0,0,0,0,0,{"$f":"SUM(LTK124:LTK132)","v":0},0,0,0,0,0,0,0,0,0,0,0,0,0,0,0,0,0,0,0,0,0,0,0,0,0,0,0,0,0,0,0,0,0,0,0,0,0,0,0,0,0,0,0,0,0,0,0,0,0,0,0,0,0,0,0,0,0,0,0,0,0,0,0,{"$f":"SUM(LVW124:LVW132)","v":0},0,0,0,0,0,0,0,0,0,0,0,0,0,0,0,0,0,0,0,0,0,0,0,0,0,0,0,0,0,0,0,0,0,0,0,0,0,0,0,0,0,0,0,0,0,0,0,0,0,0,0,0,0,0,0,0,0,0,0,0,0,0,0,{"$f":"SUM(LYI124:LYI132)","v":0},0,0,0,0,0,0,0,0,0,0,0,0,0,0,0,0,0,0,0,0,0,0,0,0,0,0,0,0,0,0,0,0,0,0,0,0,0,0,0,0,0,0,0,0,0,0,0,0,0,0,0,0,0,0,0,0,0,0,0,0,0,0,0,{"$f":"SUM(MAU124:MAU132)","v":0},0,0,0,0,0,0,0,0,0,0,0,0,0,0,0,0,0,0,0,0,0,0,0,0,0,0,0,0,0,0,0,0,0,0,0,0,0,0,0,0,0,0,0,0,0,0,0,0,0,0,0,0,0,0,0,0,0,0,0,0,0,0,0,{"$f":"SUM(MDG124:MDG132)","v":0},0,0,0,0,0,0,0,0,0,0,0,0,0,0,0,0,0,0,0,0,0,0,0,0,0,0,0,0,0,0,0,0,0,0,0,0,0,0,0,0,0,0,0,0,0,0,0,0,0,0,0,0,0,0,0,0,0,0,0,0,0,0,0,{"$f":"SUM(MFS124:MFS132)","v":0},0,0,0,0,0,0,0,0,0,0,0,0,0,0,0,0,0,0,0,0,0,0,0,0,0,0,0,0,0,0,0,0,0,0,0,0,0,0,0,0,0,0,0,0,0,0,0,0,0,0,0,0,0,0,0,0,0,0,0,0,0,0,0,{"$f":"SUM(MIE124:MIE132)","v":0},0,0,0,0,0,0,0,0,0,0,0,0,0,0,0,0,0,0,0,0,0,0,0,0,0,0,0,0,0,0,0,0,0,0,0,0,0,0,0,0,0,0,0,0,0,0,0,0,0,0,0,0,0,0,0,0,0,0,0,0,0,0,0,{"$f":"SUM(MKQ124:MKQ132)","v":0},0,0,0,0,0,0,0,0,0,0,0,0,0,0,0,0,0,0,0,0,0,0,0,0,0,0,0,0,0,0,0,0,0,0,0,0,0,0,0,0,0,0,0,0,0,0,0,0,0,0,0,0,0,0,0,0,0,0,0,0,0,0,0,{"$f":"SUM(MNC124:MNC132)","v":0},0,0,0,0,0,0,0,0,0,0,0,0,0,0,0,0,0,0,0,0,0,0,0,0,0,0,0,0,0,0,0,0,0,0,0,0,0,0,0,0,0,0,0,0,0,0,0,0,0,0,0,0,0,0,0,0,0,0,0,0,0,0,0,{"$f":"SUM(MPO124:MPO132)","v":0},0,0,0,0,0,0,0,0,0,0,0,0,0,0,0,0,0,0,0,0,0,0,0,0,0,0,0,0,0,0,0,0,0,0,0,0,0,0,0,0,0,0,0,0,0,0,0,0,0,0,0,0,0,0,0,0,0,0,0,0,0,0,0,{"$f":"SUM(MSA124:MSA132)","v":0},0,0,0,0,0,0,0,0,0,0,0,0,0,0,0,0,0,0,0,0,0,0,0,0,0,0,0,0,0,0,0,0,0,0,0,0,0,0,0,0,0,0,0,0,0,0,0,0,0,0,0,0,0,0,0,0,0,0,0,0,0,0,0,{"$f":"SUM(MUM124:MUM132)","v":0},0,0,0,0,0,0,0,0,0,0,0,0,0,0,0,0,0,0,0,0,0,0,0,0,0,0,0,0,0,0,0,0,0,0,0,0,0,0,0,0,0,0,0,0,0,0,0,0,0,0,0,0,0,0,0,0,0,0,0,0,0,0,0,{"$f":"SUM(MWY124:MWY132)","v":0},0,0,0,0,0,0,0,0,0,0,0,0,0,0,0,0,0,0,0,0,0,0,0,0,0,0,0,0,0,0,0,0,0,0,0,0,0,0,0,0,0,0,0,0,0,0,0,0,0,0,0,0,0,0,0,0,0,0,0,0,0,0,0,{"$f":"SUM(MZK124:MZK132)","v":0},0,0,0,0,0,0,0,0,0,0,0,0,0,0,0,0,0,0,0,0,0,0,0,0,0,0,0,0,0,0,0,0,0,0,0,0,0,0,0,0,0,0,0,0,0,0,0,0,0,0,0,0,0,0,0,0,0,0,0,0,0,0,0,{"$f":"SUM(NBW124:NBW132)","v":0},0,0,0,0,0,0,0,0,0,0,0,0,0,0,0,0,0,0,0,0,0,0,0,0,0,0,0,0,0,0,0,0,0,0,0,0,0,0,0,0,0,0,0,0,0,0,0,0,0,0,0,0,0,0,0,0,0,0,0,0,0,0,0,{"$f":"SUM(NEI124:NEI132)","v":0},0,0,0,0,0,0,0,0,0,0,0,0,0,0,0,0,0,0,0,0,0,0,0,0,0,0,0,0,0,0,0,0,0,0,0,0,0,0,0,0,0,0,0,0,0,0,0,0,0,0,0,0,0,0,0,0,0,0,0,0,0,0,0,{"$f":"SUM(NGU124:NGU132)","v":0},0,0,0,0,0,0,0,0,0,0,0,0,0,0,0,0,0,0,0,0,0,0,0,0,0,0,0,0,0,0,0,0,0,0,0,0,0,0,0,0,0,0,0,0,0,0,0,0,0,0,0,0,0,0,0,0,0,0,0,0,0,0,0,{"$f":"SUM(NJG124:NJG132)","v":0},0,0,0,0,0,0,0,0,0,0,0,0,0,0,0,0,0,0,0,0,0,0,0,0,0,0,0,0,0,0,0,0,0,0,0,0,0,0,0,0,0,0,0,0,0,0,0,0,0,0,0,0,0,0,0,0,0,0,0,0,0,0,0,{"$f":"SUM(NLS124:NLS132)","v":0},0,0,0,0,0,0,0,0,0,0,0,0,0,0,0,0,0,0,0,0,0,0,0,0,0,0,0,0,0,0,0,0,0,0,0,0,0,0,0,0,0,0,0,0,0,0,0,0,0,0,0,0,0,0,0,0,0,0,0,0,0,0,0,{"$f":"SUM(NOE124:NOE132)","v":0},0,0,0,0,0,0,0,0,0,0,0,0,0,0,0,0,0,0,0,0,0,0,0,0,0,0,0,0,0,0,0,0,0,0,0,0,0,0,0,0,0,0,0,0,0,0,0,0,0,0,0,0,0,0,0,0,0,0,0,0,0,0,0,{"$f":"SUM(NQQ124:NQQ132)","v":0},0,0,0,0,0,0,0,0,0,0,0,0,0,0,0,0,0,0,0,0,0,0,0,0,0,0,0,0,0,0,0,0,0,0,0,0,0,0,0,0,0,0,0,0,0,0,0,0,0,0,0,0,0,0,0,0,0,0,0,0,0,0,0,{"$f":"SUM(NTC124:NTC132)","v":0},0,0,0,0,0,0,0,0,0,0,0,0,0,0,0,0,0,0,0,0,0,0,0,0,0,0,0,0,0,0,0,0,0,0,0,0,0,0,0,0,0,0,0,0,0,0,0,0,0,0,0,0,0,0,0,0,0,0,0,0,0,0,0,{"$f":"SUM(NVO124:NVO132)","v":0},0,0,0,0,0,0,0,0,0,0,0,0,0,0,0,0,0,0,0,0,0,0,0,0,0,0,0,0,0,0,0,0,0,0,0,0,0,0,0,0,0,0,0,0,0,0,0,0,0,0,0,0,0,0,0,0,0,0,0,0,0,0,0,{"$f":"SUM(NYA124:NYA132)","v":0},0,0,0,0,0,0,0,0,0,0,0,0,0,0,0,0,0,0,0,0,0,0,0,0,0,0,0,0,0,0,0,0,0,0,0,0,0,0,0,0,0,0,0,0,0,0,0,0,0,0,0,0,0,0,0,0,0,0,0,0,0,0,0,{"$f":"SUM(OAM124:OAM132)","v":0},0,0,0,0,0,0,0,0,0,0,0,0,0,0,0,0,0,0,0,0,0,0,0,0,0,0,0,0,0,0,0,0,0,0,0,0,0,0,0,0,0,0,0,0,0,0,0,0,0,0,0,0,0,0,0,0,0,0,0,0,0,0,0,{"$f":"SUM(OCY124:OCY132)","v":0},0,0,0,0,0,0,0,0,0,0,0,0,0,0,0,0,0,0,0,0,0,0,0,0,0,0,0,0,0,0,0,0,0,0,0,0,0,0,0,0,0,0,0,0,0,0,0,0,0,0,0,0,0,0,0,0,0,0,0,0,0,0,0,{"$f":"SUM(OFK124:OFK132)","v":0},0,0,0,0,0,0,0,0,0,0,0,0,0,0,0,0,0,0,0,0,0,0,0,0,0,0,0,0,0,0,0,0,0,0,0,0,0,0,0,0,0,0,0,0,0,0,0,0,0,0,0,0,0,0,0,0,0,0,0,0,0,0,0,{"$f":"SUM(OHW124:OHW132)","v":0},0,0,0,0,0,0,0,0,0,0,0,0,0,0,0,0,0,0,0,0,0,0,0,0,0,0,0,0,0,0,0,0,0,0,0,0,0,0,0,0,0,0,0,0,0,0,0,0,0,0,0,0,0,0,0,0,0,0,0,0,0,0,0,{"$f":"SUM(OKI124:OKI132)","v":0},0,0,0,0,0,0,0,0,0,0,0,0,0,0,0,0,0,0,0,0,0,0,0,0,0,0,0,0,0,0,0,0,0,0,0,0,0,0,0,0,0,0,0,0,0,0,0,0,0,0,0,0,0,0,0,0,0,0,0,0,0,0,0,{"$f":"SUM(OMU124:OMU132)","v":0},0,0,0,0,0,0,0,0,0,0,0,0,0,0,0,0,0,0,0,0,0,0,0,0,0,0,0,0,0,0,0,0,0,0,0,0,0,0,0,0,0,0,0,0,0,0,0,0,0,0,0,0,0,0,0,0,0,0,0,0,0,0,0,{"$f":"SUM(OPG124:OPG132)","v":0},0,0,0,0,0,0,0,0,0,0,0,0,0,0,0,0,0,0,0,0,0,0,0,0,0,0,0,0,0,0,0,0,0,0,0,0,0,0,0,0,0,0,0,0,0,0,0,0,0,0,0,0,0,0,0,0,0,0,0,0,0,0,0,{"$f":"SUM(ORS124:ORS132)","v":0},0,0,0,0,0,0,0,0,0,0,0,0,0,0,0,0,0,0,0,0,0,0,0,0,0,0,0,0,0,0,0,0,0,0,0,0,0,0,0,0,0,0,0,0,0,0,0,0,0,0,0,0,0,0,0,0,0,0,0,0,0,0,0,{"$f":"SUM(OUE124:OUE132)","v":0},0,0,0,0,0,0,0,0,0,0,0,0,0,0,0,0,0,0,0,0,0,0,0,0,0,0,0,0,0,0,0,0,0,0,0,0,0,0,0,0,0,0,0,0,0,0,0,0,0,0,0,0,0,0,0,0,0,0,0,0,0,0,0,{"$f":"SUM(OWQ124:OWQ132)","v":0},0,0,0,0,0,0,0,0,0,0,0,0,0,0,0,0,0,0,0,0,0,0,0,0,0,0,0,0,0,0,0,0,0,0,0,0,0,0,0,0,0,0,0,0,0,0,0,0,0,0,0,0,0,0,0,0,0,0,0,0,0,0,0,{"$f":"SUM(OZC124:OZC132)","v":0},0,0,0,0,0,0,0,0,0,0,0,0,0,0,0,0,0,0,0,0,0,0,0,0,0,0,0,0,0,0,0,0,0,0,0,0,0,0,0,0,0,0,0,0,0,0,0,0,0,0,0,0,0,0,0,0,0,0,0,0,0,0,0,{"$f":"SUM(PBO124:PBO132)","v":0},0,0,0,0,0,0,0,0,0,0,0,0,0,0,0,0,0,0,0,0,0,0,0,0,0,0,0,0,0,0,0,0,0,0,0,0,0,0,0,0,0,0,0,0,0,0,0,0,0,0,0,0,0,0,0,0,0,0,0,0,0,0,0,{"$f":"SUM(PEA124:PEA132)","v":0},0,0,0,0,0,0,0,0,0,0,0,0,0,0,0,0,0,0,0,0,0,0,0,0,0,0,0,0,0,0,0,0,0,0,0,0,0,0,0,0,0,0,0,0,0,0,0,0,0,0,0,0,0,0,0,0,0,0,0,0,0,0,0,{"$f":"SUM(PGM124:PGM132)","v":0},0,0,0,0,0,0,0,0,0,0,0,0,0,0,0,0,0,0,0,0,0,0,0,0,0,0,0,0,0,0,0,0,0,0,0,0,0,0,0,0,0,0,0,0,0,0,0,0,0,0,0,0,0,0,0,0,0,0,0,0,0,0,0,{"$f":"SUM(PIY124:PIY132)","v":0},0,0,0,0,0,0,0,0,0,0,0,0,0,0,0,0,0,0,0,0,0,0,0,0,0,0,0,0,0,0,0,0,0,0,0,0,0,0,0,0,0,0,0,0,0,0,0,0,0,0,0,0,0,0,0,0,0,0,0,0,0,0,0,{"$f":"SUM(PLK124:PLK132)","v":0},0,0,0,0,0,0,0,0,0,0,0,0,0,0,0,0,0,0,0,0,0,0,0,0,0,0,0,0,0,0,0,0,0,0,0,0,0,0,0,0,0,0,0,0,0,0,0,0,0,0,0,0,0,0,0,0,0,0,0,0,0,0,0,{"$f":"SUM(PNW124:PNW132)","v":0},0,0,0,0,0,0,0,0,0,0,0,0,0,0,0,0,0,0,0,0,0,0,0,0,0,0,0,0,0,0,0,0,0,0,0,0,0,0,0,0,0,0,0,0,0,0,0,0,0,0,0,0,0,0,0,0,0,0,0,0,0,0,0,{"$f":"SUM(PQI124:PQI132)","v":0},0,0,0,0,0,0,0,0,0,0,0,0,0,0,0,0,0,0,0,0,0,0,0,0,0,0,0,0,0,0,0,0,0,0,0,0,0,0,0,0,0,0,0,0,0,0,0,0,0,0,0,0,0,0,0,0,0,0,0,0,0,0,0,{"$f":"SUM(PSU124:PSU132)","v":0},0,0,0,0,0,0,0,0,0,0,0,0,0,0,0,0,0,0,0,0,0,0,0,0,0,0,0,0,0,0,0,0,0,0,0,0,0,0,0,0,0,0,0,0,0,0,0,0,0,0,0,0,0,0,0,0,0,0,0,0,0,0,0,{"$f":"SUM(PVG124:PVG132)","v":0},0,0,0,0,0,0,0,0,0,0,0,0,0,0,0,0,0,0,0,0,0,0,0,0,0,0,0,0,0,0,0,0,0,0,0,0,0,0,0,0,0,0,0,0,0,0,0,0,0,0,0,0,0,0,0,0,0,0,0,0,0,0,0,{"$f":"SUM(PXS124:PXS132)","v":0},0,0,0,0,0,0,0,0,0,0,0,0,0,0,0,0,0,0,0,0,0,0,0,0,0,0,0,0,0,0,0,0,0,0,0,0,0,0,0,0,0,0,0,0,0,0,0,0,0,0,0,0,0,0,0,0,0,0,0,0,0,0,0,{"$f":"SUM(QAE124:QAE132)","v":0},0,0,0,0,0,0,0,0,0,0,0,0,0,0,0,0,0,0,0,0,0,0,0,0,0,0,0,0,0,0,0,0,0,0,0,0,0,0,0,0,0,0,0,0,0,0,0,0,0,0,0,0,0,0,0,0,0,0,0,0,0,0,0,{"$f":"SUM(QCQ124:QCQ132)","v":0},0,0,0,0,0,0,0,0,0,0,0,0,0,0,0,0,0,0,0,0,0,0,0,0,0,0,0,0,0,0,0,0,0,0,0,0,0,0,0,0,0,0,0,0,0,0,0,0,0,0,0,0,0,0,0,0,0,0,0,0,0,0,0,{"$f":"SUM(QFC124:QFC132)","v":0},0,0,0,0,0,0,0,0,0,0,0,0,0,0,0,0,0,0,0,0,0,0,0,0,0,0,0,0,0,0,0,0,0,0,0,0,0,0,0,0,0,0,0,0,0,0,0,0,0,0,0,0,0,0,0,0,0,0,0,0,0,0,0,{"$f":"SUM(QHO124:QHO132)","v":0},0,0,0,0,0,0,0,0,0,0,0,0,0,0,0,0,0,0,0,0,0,0,0,0,0,0,0,0,0,0,0,0,0,0,0,0,0,0,0,0,0,0,0,0,0,0,0,0,0,0,0,0,0,0,0,0,0,0,0,0,0,0,0,{"$f":"SUM(QKA124:QKA132)","v":0},0,0,0,0,0,0,0,0,0,0,0,0,0,0,0,0,0,0,0,0,0,0,0,0,0,0,0,0,0,0,0,0,0,0,0,0,0,0,0,0,0,0,0,0,0,0,0,0,0,0,0,0,0,0,0,0,0,0,0,0,0,0,0,{"$f":"SUM(QMM124:QMM132)","v":0},0,0,0,0,0,0,0,0,0,0,0,0,0,0,0,0,0,0,0,0,0,0,0,0,0,0,0,0,0,0,0,0,0,0,0,0,0,0,0,0,0,0,0,0,0,0,0,0,0,0,0,0,0,0,0,0,0,0,0,0,0,0,0,{"$f":"SUM(QOY124:QOY132)","v":0},0,0,0,0,0,0,0,0,0,0,0,0,0,0,0,0,0,0,0,0,0,0,0,0,0,0,0,0,0,0,0,0,0,0,0,0,0,0,0,0,0,0,0,0,0,0,0,0,0,0,0,0,0,0,0,0,0,0,0,0,0,0,0,{"$f":"SUM(QRK124:QRK132)","v":0},0,0,0,0,0,0,0,0,0,0,0,0,0,0,0,0,0,0,0,0,0,0,0,0,0,0,0,0,0,0,0,0,0,0,0,0,0,0,0,0,0,0,0,0,0,0,0,0,0,0,0,0,0,0,0,0,0,0,0,0,0,0,0,{"$f":"SUM(QTW124:QTW132)","v":0},0,0,0,0,0,0,0,0,0,0,0,0,0,0,0,0,0,0,0,0,0,0,0,0,0,0,0,0,0,0,0,0,0,0,0,0,0,0,0,0,0,0,0,0,0,0,0,0,0,0,0,0,0,0,0,0,0,0,0,0,0,0,0,{"$f":"SUM(QWI124:QWI132)","v":0},0,0,0,0,0,0,0,0,0,0,0,0,0,0,0,0,0,0,0,0,0,0,0,0,0,0,0,0,0,0,0,0,0,0,0,0,0,0,0,0,0,0,0,0,0,0,0,0,0,0,0,0,0,0,0,0,0,0,0,0,0,0,0,{"$f":"SUM(QYU124:QYU132)","v":0},0,0,0,0,0,0,0,0,0,0,0,0,0,0,0,0,0,0,0,0,0,0,0,0,0,0,0,0,0,0,0,0,0,0,0,0,0,0,0,0,0,0,0,0,0,0,0,0,0,0,0,0,0,0,0,0,0,0,0,0,0,0,0,{"$f":"SUM(RBG124:RBG132)","v":0},0,0,0,0,0,0,0,0,0,0,0,0,0,0,0,0,0,0,0,0,0,0,0,0,0,0,0,0,0,0,0,0,0,0,0,0,0,0,0,0,0,0,0,0,0,0,0,0,0,0,0,0,0,0,0,0,0,0,0,0,0,0,0,{"$f":"SUM(RDS124:RDS132)","v":0},0,0,0,0,0,0,0,0,0,0,0,0,0,0,0,0,0,0,0,0,0,0,0,0,0,0,0,0,0,0,0,0,0,0,0,0,0,0,0,0,0,0,0,0,0,0,0,0,0,0,0,0,0,0,0,0,0,0,0,0,0,0,0,{"$f":"SUM(RGE124:RGE132)","v":0},0,0,0,0,0,0,0,0,0,0,0,0,0,0,0,0,0,0,0,0,0,0,0,0,0,0,0,0,0,0,0,0,0,0,0,0,0,0,0,0,0,0,0,0,0,0,0,0,0,0,0,0,0,0,0,0,0,0,0,0,0,0,0,{"$f":"SUM(RIQ124:RIQ132)","v":0},0,0,0,0,0,0,0,0,0,0,0,0,0,0,0,0,0,0,0,0,0,0,0,0,0,0,0,0,0,0,0,0,0,0,0,0,0,0,0,0,0,0,0,0,0,0,0,0,0,0,0,0,0,0,0,0,0,0,0,0,0,0,0,{"$f":"SUM(RLC124:RLC132)","v":0},0,0,0,0,0,0,0,0,0,0,0,0,0,0,0,0,0,0,0,0,0,0,0,0,0,0,0,0,0,0,0,0,0,0,0,0,0,0,0,0,0,0,0,0,0,0,0,0,0,0,0,0,0,0,0,0,0,0,0,0,0,0,0,{"$f":"SUM(RNO124:RNO132)","v":0},0,0,0,0,0,0,0,0,0,0,0,0,0,0,0,0,0,0,0,0,0,0,0,0,0,0,0,0,0,0,0,0,0,0,0,0,0,0,0,0,0,0,0,0,0,0,0,0,0,0,0,0,0,0,0,0,0,0,0,0,0,0,0,{"$f":"SUM(RQA124:RQA132)","v":0},0,0,0,0,0,0,0,0,0,0,0,0,0,0,0,0,0,0,0,0,0,0,0,0,0,0,0,0,0,0,0,0,0,0,0,0,0,0,0,0,0,0,0,0,0,0,0,0,0,0,0,0,0,0,0,0,0,0,0,0,0,0,0,{"$f":"SUM(RSM124:RSM132)","v":0},0,0,0,0,0,0,0,0,0,0,0,0,0,0,0,0,0,0,0,0,0,0,0,0,0,0,0,0,0,0,0,0,0,0,0,0,0,0,0,0,0,0,0,0,0,0,0,0,0,0,0,0,0,0,0,0,0,0,0,0,0,0,0,{"$f":"SUM(RUY124:RUY132)","v":0},0,0,0,0,0,0,0,0,0,0,0,0,0,0,0,0,0,0,0,0,0,0,0,0,0,0,0,0,0,0,0,0,0,0,0,0,0,0,0,0,0,0,0,0,0,0,0,0,0,0,0,0,0,0,0,0,0,0,0,0,0,0,0,{"$f":"SUM(RXK124:RXK132)","v":0},0,0,0,0,0,0,0,0,0,0,0,0,0,0,0,0,0,0,0,0,0,0,0,0,0,0,0,0,0,0,0,0,0,0,0,0,0,0,0,0,0,0,0,0,0,0,0,0,0,0,0,0,0,0,0,0,0,0,0,0,0,0,0,{"$f":"SUM(RZW124:RZW132)","v":0},0,0,0,0,0,0,0,0,0,0,0,0,0,0,0,0,0,0,0,0,0,0,0,0,0,0,0,0,0,0,0,0,0,0,0,0,0,0,0,0,0,0,0,0,0,0,0,0,0,0,0,0,0,0,0,0,0,0,0,0,0,0,0,{"$f":"SUM(SCI124:SCI132)","v":0},0,0,0,0,0,0,0,0,0,0,0,0,0,0,0,0,0,0,0,0,0,0,0,0,0,0,0,0,0,0,0,0,0,0,0,0,0,0,0,0,0,0,0,0,0,0,0,0,0,0,0,0,0,0,0,0,0,0,0,0,0,0,0,{"$f":"SUM(SEU124:SEU132)","v":0},0,0,0,0,0,0,0,0,0,0,0,0,0,0,0,0,0,0,0,0,0,0,0,0,0,0,0,0,0,0,0,0,0,0,0,0,0,0,0,0,0,0,0,0,0,0,0,0,0,0,0,0,0,0,0,0,0,0,0,0,0,0,0,{"$f":"SUM(SHG124:SHG132)","v":0},0,0,0,0,0,0,0,0,0,0,0,0,0,0,0,0,0,0,0,0,0,0,0,0,0,0,0,0,0,0,0,0,0,0,0,0,0,0,0,0,0,0,0,0,0,0,0,0,0,0,0,0,0,0,0,0,0,0,0,0,0,0,0,{"$f":"SUM(SJS124:SJS132)","v":0},0,0,0,0,0,0,0,0,0,0,0,0,0,0,0,0,0,0,0,0,0,0,0,0,0,0,0,0,0,0,0,0,0,0,0,0,0,0,0,0,0,0,0,0,0,0,0,0,0,0,0,0,0,0,0,0,0,0,0,0,0,0,0,{"$f":"SUM(SME124:SME132)","v":0},0,0,0,0,0,0,0,0,0,0,0,0,0,0,0,0,0,0,0,0,0,0,0,0,0,0,0,0,0,0,0,0,0,0,0,0,0,0,0,0,0,0,0,0,0,0,0,0,0,0,0,0,0,0,0,0,0,0,0,0,0,0,0,{"$f":"SUM(SOQ124:SOQ132)","v":0},0,0,0,0,0,0,0,0,0,0,0,0,0,0,0,0,0,0,0,0,0,0,0,0,0,0,0,0,0,0,0,0,0,0,0,0,0,0,0,0,0,0,0,0,0,0,0,0,0,0,0,0,0,0,0,0,0,0,0,0,0,0,0,{"$f":"SUM(SRC124:SRC132)","v":0},0,0,0,0,0,0,0,0,0,0,0,0,0,0,0,0,0,0,0,0,0,0,0,0,0,0,0,0,0,0,0,0,0,0,0,0,0,0,0,0,0,0,0,0,0,0,0,0,0,0,0,0,0,0,0,0,0,0,0,0,0,0,0,{"$f":"SUM(STO124:STO132)","v":0},0,0,0,0,0,0,0,0,0,0,0,0,0,0,0,0,0,0,0,0,0,0,0,0,0,0,0,0,0,0,0,0,0,0,0,0,0,0,0,0,0,0,0,0,0,0,0,0,0,0,0,0,0,0,0,0,0,0,0,0,0,0,0,{"$f":"SUM(SWA124:SWA132)","v":0},0,0,0,0,0,0,0,0,0,0,0,0,0,0,0,0,0,0,0,0,0,0,0,0,0,0,0,0,0,0,0,0,0,0,0,0,0,0,0,0,0,0,0,0,0,0,0,0,0,0,0,0,0,0,0,0,0,0,0,0,0,0,0,{"$f":"SUM(SYM124:SYM132)","v":0},0,0,0,0,0,0,0,0,0,0,0,0,0,0,0,0,0,0,0,0,0,0,0,0,0,0,0,0,0,0,0,0,0,0,0,0,0,0,0,0,0,0,0,0,0,0,0,0,0,0,0,0,0,0,0,0,0,0,0,0,0,0,0,{"$f":"SUM(TAY124:TAY132)","v":0},0,0,0,0,0,0,0,0,0,0,0,0,0,0,0,0,0,0,0,0,0,0,0,0,0,0,0,0,0,0,0,0,0,0,0,0,0,0,0,0,0,0,0,0,0,0,0,0,0,0,0,0,0,0,0,0,0,0,0,0,0,0,0,{"$f":"SUM(TDK124:TDK132)","v":0},0,0,0,0,0,0,0,0,0,0,0,0,0,0,0,0,0,0,0,0,0,0,0,0,0,0,0,0,0,0,0,0,0,0,0,0,0,0,0,0,0,0,0,0,0,0,0,0,0,0,0,0,0,0,0,0,0,0,0,0,0,0,0,{"$f":"SUM(TFW124:TFW132)","v":0},0,0,0,0,0,0,0,0,0,0,0,0,0,0,0,0,0,0,0,0,0,0,0,0,0,0,0,0,0,0,0,0,0,0,0,0,0,0,0,0,0,0,0,0,0,0,0,0,0,0,0,0,0,0,0,0,0,0,0,0,0,0,0,{"$f":"SUM(TII124:TII132)","v":0},0,0,0,0,0,0,0,0,0,0,0,0,0,0,0,0,0,0,0,0,0,0,0,0,0,0,0,0,0,0,0,0,0,0,0,0,0,0,0,0,0,0,0,0,0,0,0,0,0,0,0,0,0,0,0,0,0,0,0,0,0,0,0,{"$f":"SUM(TKU124:TKU132)","v":0},0,0,0,0,0,0,0,0,0,0,0,0,0,0,0,0,0,0,0,0,0,0,0,0,0,0,0,0,0,0,0,0,0,0,0,0,0,0,0,0,0,0,0,0,0,0,0,0,0,0,0,0,0,0,0,0,0,0,0,0,0,0,0,{"$f":"SUM(TNG124:TNG132)","v":0},0,0,0,0,0,0,0,0,0,0,0,0,0,0,0,0,0,0,0,0,0,0,0,0,0,0,0,0,0,0,0,0,0,0,0,0,0,0,0,0,0,0,0,0,0,0,0,0,0,0,0,0,0,0,0,0,0,0,0,0,0,0,0,{"$f":"SUM(TPS124:TPS132)","v":0},0,0,0,0,0,0,0,0,0,0,0,0,0,0,0,0,0,0,0,0,0,0,0,0,0,0,0,0,0,0,0,0,0,0,0,0,0,0,0,0,0,0,0,0,0,0,0,0,0,0,0,0,0,0,0,0,0,0,0,0,0,0,0,{"$f":"SUM(TSE124:TSE132)","v":0},0,0,0,0,0,0,0,0,0,0,0,0,0,0,0,0,0,0,0,0,0,0,0,0,0,0,0,0,0,0,0,0,0,0,0,0,0,0,0,0,0,0,0,0,0,0,0,0,0,0,0,0,0,0,0,0,0,0,0,0,0,0,0,{"$f":"SUM(TUQ124:TUQ132)","v":0},0,0,0,0,0,0,0,0,0,0,0,0,0,0,0,0,0,0,0,0,0,0,0,0,0,0,0,0,0,0,0,0,0,0,0,0,0,0,0,0,0,0,0,0,0,0,0,0,0,0,0,0,0,0,0,0,0,0,0,0,0,0,0,{"$f":"SUM(TXC124:TXC132)","v":0},0,0,0,0,0,0,0,0,0,0,0,0,0,0,0,0,0,0,0,0,0,0,0,0,0,0,0,0,0,0,0,0,0,0,0,0,0,0,0,0,0,0,0,0,0,0,0,0,0,0,0,0,0,0,0,0,0,0,0,0,0,0,0,{"$f":"SUM(TZO124:TZO132)","v":0},0,0,0,0,0,0,0,0,0,0,0,0,0,0,0,0,0,0,0,0,0,0,0,0,0,0,0,0,0,0,0,0,0,0,0,0,0,0,0,0,0,0,0,0,0,0,0,0,0,0,0,0,0,0,0,0,0,0,0,0,0,0,0,{"$f":"SUM(UCA124:UCA132)","v":0},0,0,0,0,0,0,0,0,0,0,0,0,0,0,0,0,0,0,0,0,0,0,0,0,0,0,0,0,0,0,0,0,0,0,0,0,0,0,0,0,0,0,0,0,0,0,0,0,0,0,0,0,0,0,0,0,0,0,0,0,0,0,0,{"$f":"SUM(UEM124:UEM132)","v":0},0,0,0,0,0,0,0,0,0,0,0,0,0,0,0,0,0,0,0,0,0,0,0,0,0,0,0,0,0,0,0,0,0,0,0,0,0,0,0,0,0,0,0,0,0,0,0,0,0,0,0,0,0,0,0,0,0,0,0,0,0,0,0,{"$f":"SUM(UGY124:UGY132)","v":0},0,0,0,0,0,0,0,0,0,0,0,0,0,0,0,0,0,0,0,0,0,0,0,0,0,0,0,0,0,0,0,0,0,0,0,0,0,0,0,0,0,0,0,0,0,0,0,0,0,0,0,0,0,0,0,0,0,0,0,0,0,0,0,{"$f":"SUM(UJK124:UJK132)","v":0},0,0,0,0,0,0,0,0,0,0,0,0,0,0,0,0,0,0,0,0,0,0,0,0,0,0,0,0,0,0,0,0,0,0,0,0,0,0,0,0,0,0,0,0,0,0,0,0,0,0,0,0,0,0,0,0,0,0,0,0,0,0,0,{"$f":"SUM(ULW124:ULW132)","v":0},0,0,0,0,0,0,0,0,0,0,0,0,0,0,0,0,0,0,0,0,0,0,0,0,0,0,0,0,0,0,0,0,0,0,0,0,0,0,0,0,0,0,0,0,0,0,0,0,0,0,0,0,0,0,0,0,0,0,0,0,0,0,0,{"$f":"SUM(UOI124:UOI132)","v":0},0,0,0,0,0,0,0,0,0,0,0,0,0,0,0,0,0,0,0,0,0,0,0,0,0,0,0,0,0,0,0,0,0,0,0,0,0,0,0,0,0,0,0,0,0,0,0,0,0,0,0,0,0,0,0,0,0,0,0,0,0,0,0,{"$f":"SUM(UQU124:UQU132)","v":0},0,0,0,0,0,0,0,0,0,0,0,0,0,0,0,0,0,0,0,0,0,0,0,0,0,0,0,0,0,0,0,0,0,0,0,0,0,0,0,0,0,0,0,0,0,0,0,0,0,0,0,0,0,0,0,0,0,0,0,0,0,0,0,{"$f":"SUM(UTG124:UTG132)","v":0},0,0,0,0,0,0,0,0,0,0,0,0,0,0,0,0,0,0,0,0,0,0,0,0,0,0,0,0,0,0,0,0,0,0,0,0,0,0,0,0,0,0,0,0,0,0,0,0,0,0,0,0,0,0,0,0,0,0,0,0,0,0,0,{"$f":"SUM(UVS124:UVS132)","v":0},0,0,0,0,0,0,0,0,0,0,0,0,0,0,0,0,0,0,0,0,0,0,0,0,0,0,0,0,0,0,0,0,0,0,0,0,0,0,0,0,0,0,0,0,0,0,0,0,0,0,0,0,0,0,0,0,0,0,0,0,0,0,0,{"$f":"SUM(UYE124:UYE132)","v":0},0,0,0,0,0,0,0,0,0,0,0,0,0,0,0,0,0,0,0,0,0,0,0,0,0,0,0,0,0,0,0,0,0,0,0,0,0,0,0,0,0,0,0,0,0,0,0,0,0,0,0,0,0,0,0,0,0,0,0,0,0,0,0,{"$f":"SUM(VAQ124:VAQ132)","v":0},0,0,0,0,0,0,0,0,0,0,0,0,0,0,0,0,0,0,0,0,0,0,0,0,0,0,0,0,0,0,0,0,0,0,0,0,0,0,0,0,0,0,0,0,0,0,0,0,0,0,0,0,0,0,0,0,0,0,0,0,0,0,0,{"$f":"SUM(VDC124:VDC132)","v":0},0,0,0,0,0,0,0,0,0,0,0,0,0,0,0,0,0,0,0,0,0,0,0,0,0,0,0,0,0,0,0,0,0,0,0,0,0,0,0,0,0,0,0,0,0,0,0,0,0,0,0,0,0,0,0,0,0,0,0,0,0,0,0,{"$f":"SUM(VFO124:VFO132)","v":0},0,0,0,0,0,0,0,0,0,0,0,0,0,0,0,0,0,0,0,0,0,0,0,0,0,0,0,0,0,0,0,0,0,0,0,0,0,0,0,0,0,0,0,0,0,0,0,0,0,0,0,0,0,0,0,0,0,0,0,0,0,0,0,{"$f":"SUM(VIA124:VIA132)","v":0},0,0,0,0,0,0,0,0,0,0,0,0,0,0,0,0,0,0,0,0,0,0,0,0,0,0,0,0,0,0,0,0,0,0,0,0,0,0,0,0,0,0,0,0,0,0,0,0,0,0,0,0,0,0,0,0,0,0,0,0,0,0,0,{"$f":"SUM(VKM124:VKM132)","v":0},0,0,0,0,0,0,0,0,0,0,0,0,0,0,0,0,0,0,0,0,0,0,0,0,0,0,0,0,0,0,0,0,0,0,0,0,0,0,0,0,0,0,0,0,0,0,0,0,0,0,0,0,0,0,0,0,0,0,0,0,0,0,0,{"$f":"SUM(VMY124:VMY132)","v":0},0,0,0,0,0,0,0,0,0,0,0,0,0,0,0,0,0,0,0,0,0,0,0,0,0,0,0,0,0,0,0,0,0,0,0,0,0,0,0,0,0,0,0,0,0,0,0,0,0,0,0,0,0,0,0,0,0,0,0,0,0,0,0,{"$f":"SUM(VPK124:VPK132)","v":0},0,0,0,0,0,0,0,0,0,0,0,0,0,0,0,0,0,0,0,0,0,0,0,0,0,0,0,0,0,0,0,0,0,0,0,0,0,0,0,0,0,0,0,0,0,0,0,0,0,0,0,0,0,0,0,0,0,0,0,0,0,0,0,{"$f":"SUM(VRW124:VRW132)","v":0},0,0,0,0,0,0,0,0,0,0,0,0,0,0,0,0,0,0,0,0,0,0,0,0,0,0,0,0,0,0,0,0,0,0,0,0,0,0,0,0,0,0,0,0,0,0,0,0,0,0,0,0,0,0,0,0,0,0,0,0,0,0,0,{"$f":"SUM(VUI124:VUI132)","v":0},0,0,0,0,0,0,0,0,0,0,0,0,0,0,0,0,0,0,0,0,0,0,0,0,0,0,0,0,0,0,0,0,0,0,0,0,0,0,0,0,0,0,0,0,0,0,0,0,0,0,0,0,0,0,0,0,0,0,0,0,0,0,0,{"$f":"SUM(VWU124:VWU132)","v":0},0,0,0,0,0,0,0,0,0,0,0,0,0,0,0,0,0,0,0,0,0,0,0,0,0,0,0,0,0,0,0,0,0,0,0,0,0,0,0,0,0,0,0,0,0,0,0,0,0,0,0,0,0,0,0,0,0,0,0,0,0,0,0,{"$f":"SUM(VZG124:VZG132)","v":0},0,0,0,0,0,0,0,0,0,0,0,0,0,0,0,0,0,0,0,0,0,0,0,0,0,0,0,0,0,0,0,0,0,0,0,0,0,0,0,0,0,0,0,0,0,0,0,0,0,0,0,0,0,0,0,0,0,0,0,0,0,0,0,{"$f":"SUM(WBS124:WBS132)","v":0},0,0,0,0,0,0,0,0,0,0,0,0,0,0,0,0,0,0,0,0,0,0,0,0,0,0,0,0,0,0,0,0,0,0,0,0,0,0,0,0,0,0,0,0,0,0,0,0,0,0,0,0,0,0,0,0,0,0,0,0,0,0,0,{"$f":"SUM(WEE124:WEE132)","v":0},0,0,0,0,0,0,0,0,0,0,0,0,0,0,0,0,0,0,0,0,0,0,0,0,0,0,0,0,0,0,0,0,0,0,0,0,0,0,0,0,0,0,0,0,0,0,0,0,0,0,0,0,0,0,0,0,0,0,0,0,0,0,0,{"$f":"SUM(WGQ124:WGQ132)","v":0},0,0,0,0,0,0,0,0,0,0,0,0,0,0,0,0,0,0,0,0,0,0,0,0,0,0,0,0,0,0,0,0,0,0,0,0,0,0,0,0,0,0,0,0,0,0,0,0,0,0,0,0,0,0,0,0,0,0,0,0,0,0,0,{"$f":"SUM(WJC124:WJC132)","v":0},0,0,0,0,0,0,0,0,0,0,0,0,0,0,0,0,0,0,0,0,0,0,0,0,0,0,0,0,0,0,0,0,0,0,0,0,0,0,0,0,0,0,0,0,0,0,0,0,0,0,0,0,0,0,0,0,0,0,0,0,0,0,0,{"$f":"SUM(WLO124:WLO132)","v":0},0,0,0,0,0,0,0,0,0,0,0,0,0,0,0,0,0,0,0,0,0,0,0,0,0,0,0,0,0,0,0,0,0,0,0,0,0,0,0,0,0,0,0,0,0,0,0,0,0,0,0,0,0,0,0,0,0,0,0,0,0,0,0,{"$f":"SUM(WOA124:WOA132)","v":0},0,0,0,0,0,0,0,0,0,0,0,0,0,0,0,0,0,0,0,0,0,0,0,0,0,0,0,0,0,0,0,0,0,0,0,0,0,0,0,0,0,0,0,0,0,0,0,0,0,0,0,0,0,0,0,0,0,0,0,0,0,0,0,{"$f":"SUM(WQM124:WQM132)","v":0},0,0,0,0,0,0,0,0,0,0,0,0,0,0,0,0,0,0,0,0,0,0,0,0,0,0,0,0,0,0,0,0,0,0,0,0,0,0,0,0,0,0,0,0,0,0,0,0,0,0,0,0,0,0,0,0,0,0,0,0,0,0,0,{"$f":"SUM(WSY124:WSY132)","v":0},0,0,0,0,0,0,0,0,0,0,0,0,0,0,0,0,0,0,0,0,0,0,0,0,0,0,0,0,0,0,0,0,0,0,0,0,0,0,0,0,0,0,0,0,0,0,0,0,0,0,0,0,0,0,0,0,0,0,0,0,0,0,0,{"$f":"SUM(WVK124:WVK132)","v":0},0,0,0,0,0,0,0,0,0,0,0,0,0,0,0,0,0,0,0,0,0,0,0,0,0,0,0,0,0,0,0,0,0,0,0,0,0,0,0,0,0,0,0,0,0,0,0,0,0,0,0,0,0,0,0,0,0,0,0,0,0,0,0,{"$f":"SUM(WXW124:WXW132)","v":0},0,0,0,0,0,0,0,0,0,0,0,0,0,0,0,0,0,0,0,0,0,0,0,0,0,0,0,0,0,0,0,0,0,0,0,0,0,0,0,0,0,0,0,0,0,0,0,0,0,0,0,0,0,0,0,0,0,0,0,0,0,0,0,{"$f":"SUM(XAI124:XAI132)","v":0},0,0,0,0,0,0,0,0,0,0,0,0,0,0,0,0,0,0,0,0,0,0,0,0,0,0,0,0,0,0,0,0,0,0,0,0,0,0,0,0,0,0,0,0,0,0,0,0,0,0,0,0,0,0,0,0,0,0,0,0,0,0,0,{"$f":"SUM(XCU124:XCU132)","v":0},0,0,0,0,0,0,0,0,0,0,0,0,0,0,0,0,0,0,0,0,0,0,0,0,0,0,0,0,0,0,0,0,0,0,0,0,0,0,0,0,0,0,0,0,0,0,0,0,0,0,0,0,0,0,0,0,0,0,0,0,0]
["e1) Mobiliario y Equipo de Administración",9000,9000,{"$f":"B124+C124","v":18000},0,0,18000]
["e2) Mobiliario y Equipo Educacional y Recreativo",600000,0,{"$f":"B125+C125","v":600000},0,0,600000]
["e3) Equipo e Instrumental Médico y de Laboratorio",0,0,0,0,0,0]
["e4) Vehículos y Equipo de Transporte",0,3700000,3700000,0,0,3700000]
["e5) Equipo de Defensa y Seguridad",0,0,0,0,0,0]
["e6) Maquinaria, Otros Equipos y Herramientas",12000,-12000,0,0,0,0]
["e7) Activos Biológicos",0,0,0,0,0,0]
["e8) Bienes Inmuebles",0,0,0,0,0,0]
["e9) Activos Intangibles",0,0,0,0,0,0]
["F. Inversión Pública (F=f1+f2+f3)",{"$f":"SUM(B134:B136)","v":158510000},{"$f":"SUM(C134:C136)","v":30644285.510000002},189154285.50999999,20983293.059999999,15370819.789999999,168170992.44999999,0,0,0,0,0,0,0,0,0,0,0,0,0,0,0,0,0,0,0,0,0,0,0,0,0,0,0,0,0,0,0,0,0,0,0,0,0,0,0,0,0,0,0,0,0,0,0,0,0,0,0,0,0,0,0,0,0,0,0,{"$f":"SUM(BO134:BO136)","v":0},0,0,0,0,0,0,0,0,0,0,0,0,0,0,0,0,0,0,0,0,0,0,0,0,0,0,0,0,0,0,0,0,0,0,0,0,0,0,0,0,0,0,0,0,0,0,0,0,0,0,0,0,0,0,0,0,0,0,0,0,0,0,0,{"$f":"SUM(EA134:EA136)","v":0},0,0,0,0,0,0,0,0,0,0,0,0,0,0,0,0,0,0,0,0,0,0,0,0,0,0,0,0,0,0,0,0,0,0,0,0,0,0,0,0,0,0,0,0,0,0,0,0,0,0,0,0,0,0,0,0,0,0,0,0,0,0,0,{"$f":"SUM(GM134:GM136)","v":0},0,0,0,0,0,0,0,0,0,0,0,0,0,0,0,0,0,0,0,0,0,0,0,0,0,0,0,0,0,0,0,0,0,0,0,0,0,0,0,0,0,0,0,0,0,0,0,0,0,0,0,0,0,0,0,0,0,0,0,0,0,0,0,{"$f":"SUM(IY134:IY136)","v":0},0,0,0,0,0,0,0,0,0,0,0,0,0,0,0,0,0,0,0,0,0,0,0,0,0,0,0,0,0,0,0,0,0,0,0,0,0,0,0,0,0,0,0,0,0,0,0,0,0,0,0,0,0,0,0,0,0,0,0,0,0,0,0,{"$f":"SUM(LK134:LK136)","v":0},0,0,0,0,0,0,0,0,0,0,0,0,0,0,0,0,0,0,0,0,0,0,0,0,0,0,0,0,0,0,0,0,0,0,0,0,0,0,0,0,0,0,0,0,0,0,0,0,0,0,0,0,0,0,0,0,0,0,0,0,0,0,0,{"$f":"SUM(NW134:NW136)","v":0},0,0,0,0,0,0,0,0,0,0,0,0,0,0,0,0,0,0,0,0,0,0,0,0,0,0,0,0,0,0,0,0,0,0,0,0,0,0,0,0,0,0,0,0,0,0,0,0,0,0,0,0,0,0,0,0,0,0,0,0,0,0,0,{"$f":"SUM(QI134:QI136)","v":0},0,0,0,0,0,0,0,0,0,0,0,0,0,0,0,0,0,0,0,0,0,0,0,0,0,0,0,0,0,0,0,0,0,0,0,0,0,0,0,0,0,0,0,0,0,0,0,0,0,0,0,0,0,0,0,0,0,0,0,0,0,0,0,{"$f":"SUM(SU134:SU136)","v":0},0,0,0,0,0,0,0,0,0,0,0,0,0,0,0,0,0,0,0,0,0,0,0,0,0,0,0,0,0,0,0,0,0,0,0,0,0,0,0,0,0,0,0,0,0,0,0,0,0,0,0,0,0,0,0,0,0,0,0,0,0,0,0,{"$f":"SUM(VG134:VG136)","v":0},0,0,0,0,0,0,0,0,0,0,0,0,0,0,0,0,0,0,0,0,0,0,0,0,0,0,0,0,0,0,0,0,0,0,0,0,0,0,0,0,0,0,0,0,0,0,0,0,0,0,0,0,0,0,0,0,0,0,0,0,0,0,0,{"$f":"SUM(XS134:XS136)","v":0},0,0,0,0,0,0,0,0,0,0,0,0,0,0,0,0,0,0,0,0,0,0,0,0,0,0,0,0,0,0,0,0,0,0,0,0,0,0,0,0,0,0,0,0,0,0,0,0,0,0,0,0,0,0,0,0,0,0,0,0,0,0,0,{"$f":"SUM(AAE134:AAE136)","v":0},0,0,0,0,0,0,0,0,0,0,0,0,0,0,0,0,0,0,0,0,0,0,0,0,0,0,0,0,0,0,0,0,0,0,0,0,0,0,0,0,0,0,0,0,0,0,0,0,0,0,0,0,0,0,0,0,0,0,0,0,0,0,0,{"$f":"SUM(ACQ134:ACQ136)","v":0},0,0,0,0,0,0,0,0,0,0,0,0,0,0,0,0,0,0,0,0,0,0,0,0,0,0,0,0,0,0,0,0,0,0,0,0,0,0,0,0,0,0,0,0,0,0,0,0,0,0,0,0,0,0,0,0,0,0,0,0,0,0,0,{"$f":"SUM(AFC134:AFC136)","v":0},0,0,0,0,0,0,0,0,0,0,0,0,0,0,0,0,0,0,0,0,0,0,0,0,0,0,0,0,0,0,0,0,0,0,0,0,0,0,0,0,0,0,0,0,0,0,0,0,0,0,0,0,0,0,0,0,0,0,0,0,0,0,0,{"$f":"SUM(AHO134:AHO136)","v":0},0,0,0,0,0,0,0,0,0,0,0,0,0,0,0,0,0,0,0,0,0,0,0,0,0,0,0,0,0,0,0,0,0,0,0,0,0,0,0,0,0,0,0,0,0,0,0,0,0,0,0,0,0,0,0,0,0,0,0,0,0,0,0,{"$f":"SUM(AKA134:AKA136)","v":0},0,0,0,0,0,0,0,0,0,0,0,0,0,0,0,0,0,0,0,0,0,0,0,0,0,0,0,0,0,0,0,0,0,0,0,0,0,0,0,0,0,0,0,0,0,0,0,0,0,0,0,0,0,0,0,0,0,0,0,0,0,0,0,{"$f":"SUM(AMM134:AMM136)","v":0},0,0,0,0,0,0,0,0,0,0,0,0,0,0,0,0,0,0,0,0,0,0,0,0,0,0,0,0,0,0,0,0,0,0,0,0,0,0,0,0,0,0,0,0,0,0,0,0,0,0,0,0,0,0,0,0,0,0,0,0,0,0,0,{"$f":"SUM(AOY134:AOY136)","v":0},0,0,0,0,0,0,0,0,0,0,0,0,0,0,0,0,0,0,0,0,0,0,0,0,0,0,0,0,0,0,0,0,0,0,0,0,0,0,0,0,0,0,0,0,0,0,0,0,0,0,0,0,0,0,0,0,0,0,0,0,0,0,0,{"$f":"SUM(ARK134:ARK136)","v":0},0,0,0,0,0,0,0,0,0,0,0,0,0,0,0,0,0,0,0,0,0,0,0,0,0,0,0,0,0,0,0,0,0,0,0,0,0,0,0,0,0,0,0,0,0,0,0,0,0,0,0,0,0,0,0,0,0,0,0,0,0,0,0,{"$f":"SUM(ATW134:ATW136)","v":0},0,0,0,0,0,0,0,0,0,0,0,0,0,0,0,0,0,0,0,0,0,0,0,0,0,0,0,0,0,0,0,0,0,0,0,0,0,0,0,0,0,0,0,0,0,0,0,0,0,0,0,0,0,0,0,0,0,0,0,0,0,0,0,{"$f":"SUM(AWI134:AWI136)","v":0},0,0,0,0,0,0,0,0,0,0,0,0,0,0,0,0,0,0,0,0,0,0,0,0,0,0,0,0,0,0,0,0,0,0,0,0,0,0,0,0,0,0,0,0,0,0,0,0,0,0,0,0,0,0,0,0,0,0,0,0,0,0,0,{"$f":"SUM(AYU134:AYU136)","v":0},0,0,0,0,0,0,0,0,0,0,0,0,0,0,0,0,0,0,0,0,0,0,0,0,0,0,0,0,0,0,0,0,0,0,0,0,0,0,0,0,0,0,0,0,0,0,0,0,0,0,0,0,0,0,0,0,0,0,0,0,0,0,0,{"$f":"SUM(BBG134:BBG136)","v":0},0,0,0,0,0,0,0,0,0,0,0,0,0,0,0,0,0,0,0,0,0,0,0,0,0,0,0,0,0,0,0,0,0,0,0,0,0,0,0,0,0,0,0,0,0,0,0,0,0,0,0,0,0,0,0,0,0,0,0,0,0,0,0,{"$f":"SUM(BDS134:BDS136)","v":0},0,0,0,0,0,0,0,0,0,0,0,0,0,0,0,0,0,0,0,0,0,0,0,0,0,0,0,0,0,0,0,0,0,0,0,0,0,0,0,0,0,0,0,0,0,0,0,0,0,0,0,0,0,0,0,0,0,0,0,0,0,0,0,{"$f":"SUM(BGE134:BGE136)","v":0},0,0,0,0,0,0,0,0,0,0,0,0,0,0,0,0,0,0,0,0,0,0,0,0,0,0,0,0,0,0,0,0,0,0,0,0,0,0,0,0,0,0,0,0,0,0,0,0,0,0,0,0,0,0,0,0,0,0,0,0,0,0,0,{"$f":"SUM(BIQ134:BIQ136)","v":0},0,0,0,0,0,0,0,0,0,0,0,0,0,0,0,0,0,0,0,0,0,0,0,0,0,0,0,0,0,0,0,0,0,0,0,0,0,0,0,0,0,0,0,0,0,0,0,0,0,0,0,0,0,0,0,0,0,0,0,0,0,0,0,{"$f":"SUM(BLC134:BLC136)","v":0},0,0,0,0,0,0,0,0,0,0,0,0,0,0,0,0,0,0,0,0,0,0,0,0,0,0,0,0,0,0,0,0,0,0,0,0,0,0,0,0,0,0,0,0,0,0,0,0,0,0,0,0,0,0,0,0,0,0,0,0,0,0,0,{"$f":"SUM(BNO134:BNO136)","v":0},0,0,0,0,0,0,0,0,0,0,0,0,0,0,0,0,0,0,0,0,0,0,0,0,0,0,0,0,0,0,0,0,0,0,0,0,0,0,0,0,0,0,0,0,0,0,0,0,0,0,0,0,0,0,0,0,0,0,0,0,0,0,0,{"$f":"SUM(BQA134:BQA136)","v":0},0,0,0,0,0,0,0,0,0,0,0,0,0,0,0,0,0,0,0,0,0,0,0,0,0,0,0,0,0,0,0,0,0,0,0,0,0,0,0,0,0,0,0,0,0,0,0,0,0,0,0,0,0,0,0,0,0,0,0,0,0,0,0,{"$f":"SUM(BSM134:BSM136)","v":0},0,0,0,0,0,0,0,0,0,0,0,0,0,0,0,0,0,0,0,0,0,0,0,0,0,0,0,0,0,0,0,0,0,0,0,0,0,0,0,0,0,0,0,0,0,0,0,0,0,0,0,0,0,0,0,0,0,0,0,0,0,0,0,{"$f":"SUM(BUY134:BUY136)","v":0},0,0,0,0,0,0,0,0,0,0,0,0,0,0,0,0,0,0,0,0,0,0,0,0,0,0,0,0,0,0,0,0,0,0,0,0,0,0,0,0,0,0,0,0,0,0,0,0,0,0,0,0,0,0,0,0,0,0,0,0,0,0,0,{"$f":"SUM(BXK134:BXK136)","v":0},0,0,0,0,0,0,0,0,0,0,0,0,0,0,0,0,0,0,0,0,0,0,0,0,0,0,0,0,0,0,0,0,0,0,0,0,0,0,0,0,0,0,0,0,0,0,0,0,0,0,0,0,0,0,0,0,0,0,0,0,0,0,0,{"$f":"SUM(BZW134:BZW136)","v":0},0,0,0,0,0,0,0,0,0,0,0,0,0,0,0,0,0,0,0,0,0,0,0,0,0,0,0,0,0,0,0,0,0,0,0,0,0,0,0,0,0,0,0,0,0,0,0,0,0,0,0,0,0,0,0,0,0,0,0,0,0,0,0,{"$f":"SUM(CCI134:CCI136)","v":0},0,0,0,0,0,0,0,0,0,0,0,0,0,0,0,0,0,0,0,0,0,0,0,0,0,0,0,0,0,0,0,0,0,0,0,0,0,0,0,0,0,0,0,0,0,0,0,0,0,0,0,0,0,0,0,0,0,0,0,0,0,0,0,{"$f":"SUM(CEU134:CEU136)","v":0},0,0,0,0,0,0,0,0,0,0,0,0,0,0,0,0,0,0,0,0,0,0,0,0,0,0,0,0,0,0,0,0,0,0,0,0,0,0,0,0,0,0,0,0,0,0,0,0,0,0,0,0,0,0,0,0,0,0,0,0,0,0,0,{"$f":"SUM(CHG134:CHG136)","v":0},0,0,0,0,0,0,0,0,0,0,0,0,0,0,0,0,0,0,0,0,0,0,0,0,0,0,0,0,0,0,0,0,0,0,0,0,0,0,0,0,0,0,0,0,0,0,0,0,0,0,0,0,0,0,0,0,0,0,0,0,0,0,0,{"$f":"SUM(CJS134:CJS136)","v":0},0,0,0,0,0,0,0,0,0,0,0,0,0,0,0,0,0,0,0,0,0,0,0,0,0,0,0,0,0,0,0,0,0,0,0,0,0,0,0,0,0,0,0,0,0,0,0,0,0,0,0,0,0,0,0,0,0,0,0,0,0,0,0,{"$f":"SUM(CME134:CME136)","v":0},0,0,0,0,0,0,0,0,0,0,0,0,0,0,0,0,0,0,0,0,0,0,0,0,0,0,0,0,0,0,0,0,0,0,0,0,0,0,0,0,0,0,0,0,0,0,0,0,0,0,0,0,0,0,0,0,0,0,0,0,0,0,0,{"$f":"SUM(COQ134:COQ136)","v":0},0,0,0,0,0,0,0,0,0,0,0,0,0,0,0,0,0,0,0,0,0,0,0,0,0,0,0,0,0,0,0,0,0,0,0,0,0,0,0,0,0,0,0,0,0,0,0,0,0,0,0,0,0,0,0,0,0,0,0,0,0,0,0,{"$f":"SUM(CRC134:CRC136)","v":0},0,0,0,0,0,0,0,0,0,0,0,0,0,0,0,0,0,0,0,0,0,0,0,0,0,0,0,0,0,0,0,0,0,0,0,0,0,0,0,0,0,0,0,0,0,0,0,0,0,0,0,0,0,0,0,0,0,0,0,0,0,0,0,{"$f":"SUM(CTO134:CTO136)","v":0},0,0,0,0,0,0,0,0,0,0,0,0,0,0,0,0,0,0,0,0,0,0,0,0,0,0,0,0,0,0,0,0,0,0,0,0,0,0,0,0,0,0,0,0,0,0,0,0,0,0,0,0,0,0,0,0,0,0,0,0,0,0,0,{"$f":"SUM(CWA134:CWA136)","v":0},0,0,0,0,0,0,0,0,0,0,0,0,0,0,0,0,0,0,0,0,0,0,0,0,0,0,0,0,0,0,0,0,0,0,0,0,0,0,0,0,0,0,0,0,0,0,0,0,0,0,0,0,0,0,0,0,0,0,0,0,0,0,0,{"$f":"SUM(CYM134:CYM136)","v":0},0,0,0,0,0,0,0,0,0,0,0,0,0,0,0,0,0,0,0,0,0,0,0,0,0,0,0,0,0,0,0,0,0,0,0,0,0,0,0,0,0,0,0,0,0,0,0,0,0,0,0,0,0,0,0,0,0,0,0,0,0,0,0,{"$f":"SUM(DAY134:DAY136)","v":0},0,0,0,0,0,0,0,0,0,0,0,0,0,0,0,0,0,0,0,0,0,0,0,0,0,0,0,0,0,0,0,0,0,0,0,0,0,0,0,0,0,0,0,0,0,0,0,0,0,0,0,0,0,0,0,0,0,0,0,0,0,0,0,{"$f":"SUM(DDK134:DDK136)","v":0},0,0,0,0,0,0,0,0,0,0,0,0,0,0,0,0,0,0,0,0,0,0,0,0,0,0,0,0,0,0,0,0,0,0,0,0,0,0,0,0,0,0,0,0,0,0,0,0,0,0,0,0,0,0,0,0,0,0,0,0,0,0,0,{"$f":"SUM(DFW134:DFW136)","v":0},0,0,0,0,0,0,0,0,0,0,0,0,0,0,0,0,0,0,0,0,0,0,0,0,0,0,0,0,0,0,0,0,0,0,0,0,0,0,0,0,0,0,0,0,0,0,0,0,0,0,0,0,0,0,0,0,0,0,0,0,0,0,0,{"$f":"SUM(DII134:DII136)","v":0},0,0,0,0,0,0,0,0,0,0,0,0,0,0,0,0,0,0,0,0,0,0,0,0,0,0,0,0,0,0,0,0,0,0,0,0,0,0,0,0,0,0,0,0,0,0,0,0,0,0,0,0,0,0,0,0,0,0,0,0,0,0,0,{"$f":"SUM(DKU134:DKU136)","v":0},0,0,0,0,0,0,0,0,0,0,0,0,0,0,0,0,0,0,0,0,0,0,0,0,0,0,0,0,0,0,0,0,0,0,0,0,0,0,0,0,0,0,0,0,0,0,0,0,0,0,0,0,0,0,0,0,0,0,0,0,0,0,0,{"$f":"SUM(DNG134:DNG136)","v":0},0,0,0,0,0,0,0,0,0,0,0,0,0,0,0,0,0,0,0,0,0,0,0,0,0,0,0,0,0,0,0,0,0,0,0,0,0,0,0,0,0,0,0,0,0,0,0,0,0,0,0,0,0,0,0,0,0,0,0,0,0,0,0,{"$f":"SUM(DPS134:DPS136)","v":0},0,0,0,0,0,0,0,0,0,0,0,0,0,0,0,0,0,0,0,0,0,0,0,0,0,0,0,0,0,0,0,0,0,0,0,0,0,0,0,0,0,0,0,0,0,0,0,0,0,0,0,0,0,0,0,0,0,0,0,0,0,0,0,{"$f":"SUM(DSE134:DSE136)","v":0},0,0,0,0,0,0,0,0,0,0,0,0,0,0,0,0,0,0,0,0,0,0,0,0,0,0,0,0,0,0,0,0,0,0,0,0,0,0,0,0,0,0,0,0,0,0,0,0,0,0,0,0,0,0,0,0,0,0,0,0,0,0,0,{"$f":"SUM(DUQ134:DUQ136)","v":0},0,0,0,0,0,0,0,0,0,0,0,0,0,0,0,0,0,0,0,0,0,0,0,0,0,0,0,0,0,0,0,0,0,0,0,0,0,0,0,0,0,0,0,0,0,0,0,0,0,0,0,0,0,0,0,0,0,0,0,0,0,0,0,{"$f":"SUM(DXC134:DXC136)","v":0},0,0,0,0,0,0,0,0,0,0,0,0,0,0,0,0,0,0,0,0,0,0,0,0,0,0,0,0,0,0,0,0,0,0,0,0,0,0,0,0,0,0,0,0,0,0,0,0,0,0,0,0,0,0,0,0,0,0,0,0,0,0,0,{"$f":"SUM(DZO134:DZO136)","v":0},0,0,0,0,0,0,0,0,0,0,0,0,0,0,0,0,0,0,0,0,0,0,0,0,0,0,0,0,0,0,0,0,0,0,0,0,0,0,0,0,0,0,0,0,0,0,0,0,0,0,0,0,0,0,0,0,0,0,0,0,0,0,0,{"$f":"SUM(ECA134:ECA136)","v":0},0,0,0,0,0,0,0,0,0,0,0,0,0,0,0,0,0,0,0,0,0,0,0,0,0,0,0,0,0,0,0,0,0,0,0,0,0,0,0,0,0,0,0,0,0,0,0,0,0,0,0,0,0,0,0,0,0,0,0,0,0,0,0,{"$f":"SUM(EEM134:EEM136)","v":0},0,0,0,0,0,0,0,0,0,0,0,0,0,0,0,0,0,0,0,0,0,0,0,0,0,0,0,0,0,0,0,0,0,0,0,0,0,0,0,0,0,0,0,0,0,0,0,0,0,0,0,0,0,0,0,0,0,0,0,0,0,0,0,{"$f":"SUM(EGY134:EGY136)","v":0},0,0,0,0,0,0,0,0,0,0,0,0,0,0,0,0,0,0,0,0,0,0,0,0,0,0,0,0,0,0,0,0,0,0,0,0,0,0,0,0,0,0,0,0,0,0,0,0,0,0,0,0,0,0,0,0,0,0,0,0,0,0,0,{"$f":"SUM(EJK134:EJK136)","v":0},0,0,0,0,0,0,0,0,0,0,0,0,0,0,0,0,0,0,0,0,0,0,0,0,0,0,0,0,0,0,0,0,0,0,0,0,0,0,0,0,0,0,0,0,0,0,0,0,0,0,0,0,0,0,0,0,0,0,0,0,0,0,0,{"$f":"SUM(ELW134:ELW136)","v":0},0,0,0,0,0,0,0,0,0,0,0,0,0,0,0,0,0,0,0,0,0,0,0,0,0,0,0,0,0,0,0,0,0,0,0,0,0,0,0,0,0,0,0,0,0,0,0,0,0,0,0,0,0,0,0,0,0,0,0,0,0,0,0,{"$f":"SUM(EOI134:EOI136)","v":0},0,0,0,0,0,0,0,0,0,0,0,0,0,0,0,0,0,0,0,0,0,0,0,0,0,0,0,0,0,0,0,0,0,0,0,0,0,0,0,0,0,0,0,0,0,0,0,0,0,0,0,0,0,0,0,0,0,0,0,0,0,0,0,{"$f":"SUM(EQU134:EQU136)","v":0},0,0,0,0,0,0,0,0,0,0,0,0,0,0,0,0,0,0,0,0,0,0,0,0,0,0,0,0,0,0,0,0,0,0,0,0,0,0,0,0,0,0,0,0,0,0,0,0,0,0,0,0,0,0,0,0,0,0,0,0,0,0,0,{"$f":"SUM(ETG134:ETG136)","v":0},0,0,0,0,0,0,0,0,0,0,0,0,0,0,0,0,0,0,0,0,0,0,0,0,0,0,0,0,0,0,0,0,0,0,0,0,0,0,0,0,0,0,0,0,0,0,0,0,0,0,0,0,0,0,0,0,0,0,0,0,0,0,0,{"$f":"SUM(EVS134:EVS136)","v":0},0,0,0,0,0,0,0,0,0,0,0,0,0,0,0,0,0,0,0,0,0,0,0,0,0,0,0,0,0,0,0,0,0,0,0,0,0,0,0,0,0,0,0,0,0,0,0,0,0,0,0,0,0,0,0,0,0,0,0,0,0,0,0,{"$f":"SUM(EYE134:EYE136)","v":0},0,0,0,0,0,0,0,0,0,0,0,0,0,0,0,0,0,0,0,0,0,0,0,0,0,0,0,0,0,0,0,0,0,0,0,0,0,0,0,0,0,0,0,0,0,0,0,0,0,0,0,0,0,0,0,0,0,0,0,0,0,0,0,{"$f":"SUM(FAQ134:FAQ136)","v":0},0,0,0,0,0,0,0,0,0,0,0,0,0,0,0,0,0,0,0,0,0,0,0,0,0,0,0,0,0,0,0,0,0,0,0,0,0,0,0,0,0,0,0,0,0,0,0,0,0,0,0,0,0,0,0,0,0,0,0,0,0,0,0,{"$f":"SUM(FDC134:FDC136)","v":0},0,0,0,0,0,0,0,0,0,0,0,0,0,0,0,0,0,0,0,0,0,0,0,0,0,0,0,0,0,0,0,0,0,0,0,0,0,0,0,0,0,0,0,0,0,0,0,0,0,0,0,0,0,0,0,0,0,0,0,0,0,0,0,{"$f":"SUM(FFO134:FFO136)","v":0},0,0,0,0,0,0,0,0,0,0,0,0,0,0,0,0,0,0,0,0,0,0,0,0,0,0,0,0,0,0,0,0,0,0,0,0,0,0,0,0,0,0,0,0,0,0,0,0,0,0,0,0,0,0,0,0,0,0,0,0,0,0,0,{"$f":"SUM(FIA134:FIA136)","v":0},0,0,0,0,0,0,0,0,0,0,0,0,0,0,0,0,0,0,0,0,0,0,0,0,0,0,0,0,0,0,0,0,0,0,0,0,0,0,0,0,0,0,0,0,0,0,0,0,0,0,0,0,0,0,0,0,0,0,0,0,0,0,0,{"$f":"SUM(FKM134:FKM136)","v":0},0,0,0,0,0,0,0,0,0,0,0,0,0,0,0,0,0,0,0,0,0,0,0,0,0,0,0,0,0,0,0,0,0,0,0,0,0,0,0,0,0,0,0,0,0,0,0,0,0,0,0,0,0,0,0,0,0,0,0,0,0,0,0,{"$f":"SUM(FMY134:FMY136)","v":0},0,0,0,0,0,0,0,0,0,0,0,0,0,0,0,0,0,0,0,0,0,0,0,0,0,0,0,0,0,0,0,0,0,0,0,0,0,0,0,0,0,0,0,0,0,0,0,0,0,0,0,0,0,0,0,0,0,0,0,0,0,0,0,{"$f":"SUM(FPK134:FPK136)","v":0},0,0,0,0,0,0,0,0,0,0,0,0,0,0,0,0,0,0,0,0,0,0,0,0,0,0,0,0,0,0,0,0,0,0,0,0,0,0,0,0,0,0,0,0,0,0,0,0,0,0,0,0,0,0,0,0,0,0,0,0,0,0,0,{"$f":"SUM(FRW134:FRW136)","v":0},0,0,0,0,0,0,0,0,0,0,0,0,0,0,0,0,0,0,0,0,0,0,0,0,0,0,0,0,0,0,0,0,0,0,0,0,0,0,0,0,0,0,0,0,0,0,0,0,0,0,0,0,0,0,0,0,0,0,0,0,0,0,0,{"$f":"SUM(FUI134:FUI136)","v":0},0,0,0,0,0,0,0,0,0,0,0,0,0,0,0,0,0,0,0,0,0,0,0,0,0,0,0,0,0,0,0,0,0,0,0,0,0,0,0,0,0,0,0,0,0,0,0,0,0,0,0,0,0,0,0,0,0,0,0,0,0,0,0,{"$f":"SUM(FWU134:FWU136)","v":0},0,0,0,0,0,0,0,0,0,0,0,0,0,0,0,0,0,0,0,0,0,0,0,0,0,0,0,0,0,0,0,0,0,0,0,0,0,0,0,0,0,0,0,0,0,0,0,0,0,0,0,0,0,0,0,0,0,0,0,0,0,0,0,{"$f":"SUM(FZG134:FZG136)","v":0},0,0,0,0,0,0,0,0,0,0,0,0,0,0,0,0,0,0,0,0,0,0,0,0,0,0,0,0,0,0,0,0,0,0,0,0,0,0,0,0,0,0,0,0,0,0,0,0,0,0,0,0,0,0,0,0,0,0,0,0,0,0,0,{"$f":"SUM(GBS134:GBS136)","v":0},0,0,0,0,0,0,0,0,0,0,0,0,0,0,0,0,0,0,0,0,0,0,0,0,0,0,0,0,0,0,0,0,0,0,0,0,0,0,0,0,0,0,0,0,0,0,0,0,0,0,0,0,0,0,0,0,0,0,0,0,0,0,0,{"$f":"SUM(GEE134:GEE136)","v":0},0,0,0,0,0,0,0,0,0,0,0,0,0,0,0,0,0,0,0,0,0,0,0,0,0,0,0,0,0,0,0,0,0,0,0,0,0,0,0,0,0,0,0,0,0,0,0,0,0,0,0,0,0,0,0,0,0,0,0,0,0,0,0,{"$f":"SUM(GGQ134:GGQ136)","v":0},0,0,0,0,0,0,0,0,0,0,0,0,0,0,0,0,0,0,0,0,0,0,0,0,0,0,0,0,0,0,0,0,0,0,0,0,0,0,0,0,0,0,0,0,0,0,0,0,0,0,0,0,0,0,0,0,0,0,0,0,0,0,0,{"$f":"SUM(GJC134:GJC136)","v":0},0,0,0,0,0,0,0,0,0,0,0,0,0,0,0,0,0,0,0,0,0,0,0,0,0,0,0,0,0,0,0,0,0,0,0,0,0,0,0,0,0,0,0,0,0,0,0,0,0,0,0,0,0,0,0,0,0,0,0,0,0,0,0,{"$f":"SUM(GLO134:GLO136)","v":0},0,0,0,0,0,0,0,0,0,0,0,0,0,0,0,0,0,0,0,0,0,0,0,0,0,0,0,0,0,0,0,0,0,0,0,0,0,0,0,0,0,0,0,0,0,0,0,0,0,0,0,0,0,0,0,0,0,0,0,0,0,0,0,{"$f":"SUM(GOA134:GOA136)","v":0},0,0,0,0,0,0,0,0,0,0,0,0,0,0,0,0,0,0,0,0,0,0,0,0,0,0,0,0,0,0,0,0,0,0,0,0,0,0,0,0,0,0,0,0,0,0,0,0,0,0,0,0,0,0,0,0,0,0,0,0,0,0,0,{"$f":"SUM(GQM134:GQM136)","v":0},0,0,0,0,0,0,0,0,0,0,0,0,0,0,0,0,0,0,0,0,0,0,0,0,0,0,0,0,0,0,0,0,0,0,0,0,0,0,0,0,0,0,0,0,0,0,0,0,0,0,0,0,0,0,0,0,0,0,0,0,0,0,0,{"$f":"SUM(GSY134:GSY136)","v":0},0,0,0,0,0,0,0,0,0,0,0,0,0,0,0,0,0,0,0,0,0,0,0,0,0,0,0,0,0,0,0,0,0,0,0,0,0,0,0,0,0,0,0,0,0,0,0,0,0,0,0,0,0,0,0,0,0,0,0,0,0,0,0,{"$f":"SUM(GVK134:GVK136)","v":0},0,0,0,0,0,0,0,0,0,0,0,0,0,0,0,0,0,0,0,0,0,0,0,0,0,0,0,0,0,0,0,0,0,0,0,0,0,0,0,0,0,0,0,0,0,0,0,0,0,0,0,0,0,0,0,0,0,0,0,0,0,0,0,{"$f":"SUM(GXW134:GXW136)","v":0},0,0,0,0,0,0,0,0,0,0,0,0,0,0,0,0,0,0,0,0,0,0,0,0,0,0,0,0,0,0,0,0,0,0,0,0,0,0,0,0,0,0,0,0,0,0,0,0,0,0,0,0,0,0,0,0,0,0,0,0,0,0,0,{"$f":"SUM(HAI134:HAI136)","v":0},0,0,0,0,0,0,0,0,0,0,0,0,0,0,0,0,0,0,0,0,0,0,0,0,0,0,0,0,0,0,0,0,0,0,0,0,0,0,0,0,0,0,0,0,0,0,0,0,0,0,0,0,0,0,0,0,0,0,0,0,0,0,0,{"$f":"SUM(HCU134:HCU136)","v":0},0,0,0,0,0,0,0,0,0,0,0,0,0,0,0,0,0,0,0,0,0,0,0,0,0,0,0,0,0,0,0,0,0,0,0,0,0,0,0,0,0,0,0,0,0,0,0,0,0,0,0,0,0,0,0,0,0,0,0,0,0,0,0,{"$f":"SUM(HFG134:HFG136)","v":0},0,0,0,0,0,0,0,0,0,0,0,0,0,0,0,0,0,0,0,0,0,0,0,0,0,0,0,0,0,0,0,0,0,0,0,0,0,0,0,0,0,0,0,0,0,0,0,0,0,0,0,0,0,0,0,0,0,0,0,0,0,0,0,{"$f":"SUM(HHS134:HHS136)","v":0},0,0,0,0,0,0,0,0,0,0,0,0,0,0,0,0,0,0,0,0,0,0,0,0,0,0,0,0,0,0,0,0,0,0,0,0,0,0,0,0,0,0,0,0,0,0,0,0,0,0,0,0,0,0,0,0,0,0,0,0,0,0,0,{"$f":"SUM(HKE134:HKE136)","v":0},0,0,0,0,0,0,0,0,0,0,0,0,0,0,0,0,0,0,0,0,0,0,0,0,0,0,0,0,0,0,0,0,0,0,0,0,0,0,0,0,0,0,0,0,0,0,0,0,0,0,0,0,0,0,0,0,0,0,0,0,0,0,0,{"$f":"SUM(HMQ134:HMQ136)","v":0},0,0,0,0,0,0,0,0,0,0,0,0,0,0,0,0,0,0,0,0,0,0,0,0,0,0,0,0,0,0,0,0,0,0,0,0,0,0,0,0,0,0,0,0,0,0,0,0,0,0,0,0,0,0,0,0,0,0,0,0,0,0,0,{"$f":"SUM(HPC134:HPC136)","v":0},0,0,0,0,0,0,0,0,0,0,0,0,0,0,0,0,0,0,0,0,0,0,0,0,0,0,0,0,0,0,0,0,0,0,0,0,0,0,0,0,0,0,0,0,0,0,0,0,0,0,0,0,0,0,0,0,0,0,0,0,0,0,0,{"$f":"SUM(HRO134:HRO136)","v":0},0,0,0,0,0,0,0,0,0,0,0,0,0,0,0,0,0,0,0,0,0,0,0,0,0,0,0,0,0,0,0,0,0,0,0,0,0,0,0,0,0,0,0,0,0,0,0,0,0,0,0,0,0,0,0,0,0,0,0,0,0,0,0,{"$f":"SUM(HUA134:HUA136)","v":0},0,0,0,0,0,0,0,0,0,0,0,0,0,0,0,0,0,0,0,0,0,0,0,0,0,0,0,0,0,0,0,0,0,0,0,0,0,0,0,0,0,0,0,0,0,0,0,0,0,0,0,0,0,0,0,0,0,0,0,0,0,0,0,{"$f":"SUM(HWM134:HWM136)","v":0},0,0,0,0,0,0,0,0,0,0,0,0,0,0,0,0,0,0,0,0,0,0,0,0,0,0,0,0,0,0,0,0,0,0,0,0,0,0,0,0,0,0,0,0,0,0,0,0,0,0,0,0,0,0,0,0,0,0,0,0,0,0,0,{"$f":"SUM(HYY134:HYY136)","v":0},0,0,0,0,0,0,0,0,0,0,0,0,0,0,0,0,0,0,0,0,0,0,0,0,0,0,0,0,0,0,0,0,0,0,0,0,0,0,0,0,0,0,0,0,0,0,0,0,0,0,0,0,0,0,0,0,0,0,0,0,0,0,0,{"$f":"SUM(IBK134:IBK136)","v":0},0,0,0,0,0,0,0,0,0,0,0,0,0,0,0,0,0,0,0,0,0,0,0,0,0,0,0,0,0,0,0,0,0,0,0,0,0,0,0,0,0,0,0,0,0,0,0,0,0,0,0,0,0,0,0,0,0,0,0,0,0,0,0,{"$f":"SUM(IDW134:IDW136)","v":0},0,0,0,0,0,0,0,0,0,0,0,0,0,0,0,0,0,0,0,0,0,0,0,0,0,0,0,0,0,0,0,0,0,0,0,0,0,0,0,0,0,0,0,0,0,0,0,0,0,0,0,0,0,0,0,0,0,0,0,0,0,0,0,{"$f":"SUM(IGI134:IGI136)","v":0},0,0,0,0,0,0,0,0,0,0,0,0,0,0,0,0,0,0,0,0,0,0,0,0,0,0,0,0,0,0,0,0,0,0,0,0,0,0,0,0,0,0,0,0,0,0,0,0,0,0,0,0,0,0,0,0,0,0,0,0,0,0,0,{"$f":"SUM(IIU134:IIU136)","v":0},0,0,0,0,0,0,0,0,0,0,0,0,0,0,0,0,0,0,0,0,0,0,0,0,0,0,0,0,0,0,0,0,0,0,0,0,0,0,0,0,0,0,0,0,0,0,0,0,0,0,0,0,0,0,0,0,0,0,0,0,0,0,0,{"$f":"SUM(ILG134:ILG136)","v":0},0,0,0,0,0,0,0,0,0,0,0,0,0,0,0,0,0,0,0,0,0,0,0,0,0,0,0,0,0,0,0,0,0,0,0,0,0,0,0,0,0,0,0,0,0,0,0,0,0,0,0,0,0,0,0,0,0,0,0,0,0,0,0,{"$f":"SUM(INS134:INS136)","v":0},0,0,0,0,0,0,0,0,0,0,0,0,0,0,0,0,0,0,0,0,0,0,0,0,0,0,0,0,0,0,0,0,0,0,0,0,0,0,0,0,0,0,0,0,0,0,0,0,0,0,0,0,0,0,0,0,0,0,0,0,0,0,0,{"$f":"SUM(IQE134:IQE136)","v":0},0,0,0,0,0,0,0,0,0,0,0,0,0,0,0,0,0,0,0,0,0,0,0,0,0,0,0,0,0,0,0,0,0,0,0,0,0,0,0,0,0,0,0,0,0,0,0,0,0,0,0,0,0,0,0,0,0,0,0,0,0,0,0,{"$f":"SUM(ISQ134:ISQ136)","v":0},0,0,0,0,0,0,0,0,0,0,0,0,0,0,0,0,0,0,0,0,0,0,0,0,0,0,0,0,0,0,0,0,0,0,0,0,0,0,0,0,0,0,0,0,0,0,0,0,0,0,0,0,0,0,0,0,0,0,0,0,0,0,0,{"$f":"SUM(IVC134:IVC136)","v":0},0,0,0,0,0,0,0,0,0,0,0,0,0,0,0,0,0,0,0,0,0,0,0,0,0,0,0,0,0,0,0,0,0,0,0,0,0,0,0,0,0,0,0,0,0,0,0,0,0,0,0,0,0,0,0,0,0,0,0,0,0,0,0,{"$f":"SUM(IXO134:IXO136)","v":0},0,0,0,0,0,0,0,0,0,0,0,0,0,0,0,0,0,0,0,0,0,0,0,0,0,0,0,0,0,0,0,0,0,0,0,0,0,0,0,0,0,0,0,0,0,0,0,0,0,0,0,0,0,0,0,0,0,0,0,0,0,0,0,{"$f":"SUM(JAA134:JAA136)","v":0},0,0,0,0,0,0,0,0,0,0,0,0,0,0,0,0,0,0,0,0,0,0,0,0,0,0,0,0,0,0,0,0,0,0,0,0,0,0,0,0,0,0,0,0,0,0,0,0,0,0,0,0,0,0,0,0,0,0,0,0,0,0,0,{"$f":"SUM(JCM134:JCM136)","v":0},0,0,0,0,0,0,0,0,0,0,0,0,0,0,0,0,0,0,0,0,0,0,0,0,0,0,0,0,0,0,0,0,0,0,0,0,0,0,0,0,0,0,0,0,0,0,0,0,0,0,0,0,0,0,0,0,0,0,0,0,0,0,0,{"$f":"SUM(JEY134:JEY136)","v":0},0,0,0,0,0,0,0,0,0,0,0,0,0,0,0,0,0,0,0,0,0,0,0,0,0,0,0,0,0,0,0,0,0,0,0,0,0,0,0,0,0,0,0,0,0,0,0,0,0,0,0,0,0,0,0,0,0,0,0,0,0,0,0,{"$f":"SUM(JHK134:JHK136)","v":0},0,0,0,0,0,0,0,0,0,0,0,0,0,0,0,0,0,0,0,0,0,0,0,0,0,0,0,0,0,0,0,0,0,0,0,0,0,0,0,0,0,0,0,0,0,0,0,0,0,0,0,0,0,0,0,0,0,0,0,0,0,0,0,{"$f":"SUM(JJW134:JJW136)","v":0},0,0,0,0,0,0,0,0,0,0,0,0,0,0,0,0,0,0,0,0,0,0,0,0,0,0,0,0,0,0,0,0,0,0,0,0,0,0,0,0,0,0,0,0,0,0,0,0,0,0,0,0,0,0,0,0,0,0,0,0,0,0,0,{"$f":"SUM(JMI134:JMI136)","v":0},0,0,0,0,0,0,0,0,0,0,0,0,0,0,0,0,0,0,0,0,0,0,0,0,0,0,0,0,0,0,0,0,0,0,0,0,0,0,0,0,0,0,0,0,0,0,0,0,0,0,0,0,0,0,0,0,0,0,0,0,0,0,0,{"$f":"SUM(JOU134:JOU136)","v":0},0,0,0,0,0,0,0,0,0,0,0,0,0,0,0,0,0,0,0,0,0,0,0,0,0,0,0,0,0,0,0,0,0,0,0,0,0,0,0,0,0,0,0,0,0,0,0,0,0,0,0,0,0,0,0,0,0,0,0,0,0,0,0,{"$f":"SUM(JRG134:JRG136)","v":0},0,0,0,0,0,0,0,0,0,0,0,0,0,0,0,0,0,0,0,0,0,0,0,0,0,0,0,0,0,0,0,0,0,0,0,0,0,0,0,0,0,0,0,0,0,0,0,0,0,0,0,0,0,0,0,0,0,0,0,0,0,0,0,{"$f":"SUM(JTS134:JTS136)","v":0},0,0,0,0,0,0,0,0,0,0,0,0,0,0,0,0,0,0,0,0,0,0,0,0,0,0,0,0,0,0,0,0,0,0,0,0,0,0,0,0,0,0,0,0,0,0,0,0,0,0,0,0,0,0,0,0,0,0,0,0,0,0,0,{"$f":"SUM(JWE134:JWE136)","v":0},0,0,0,0,0,0,0,0,0,0,0,0,0,0,0,0,0,0,0,0,0,0,0,0,0,0,0,0,0,0,0,0,0,0,0,0,0,0,0,0,0,0,0,0,0,0,0,0,0,0,0,0,0,0,0,0,0,0,0,0,0,0,0,{"$f":"SUM(JYQ134:JYQ136)","v":0},0,0,0,0,0,0,0,0,0,0,0,0,0,0,0,0,0,0,0,0,0,0,0,0,0,0,0,0,0,0,0,0,0,0,0,0,0,0,0,0,0,0,0,0,0,0,0,0,0,0,0,0,0,0,0,0,0,0,0,0,0,0,0,{"$f":"SUM(KBC134:KBC136)","v":0},0,0,0,0,0,0,0,0,0,0,0,0,0,0,0,0,0,0,0,0,0,0,0,0,0,0,0,0,0,0,0,0,0,0,0,0,0,0,0,0,0,0,0,0,0,0,0,0,0,0,0,0,0,0,0,0,0,0,0,0,0,0,0,{"$f":"SUM(KDO134:KDO136)","v":0},0,0,0,0,0,0,0,0,0,0,0,0,0,0,0,0,0,0,0,0,0,0,0,0,0,0,0,0,0,0,0,0,0,0,0,0,0,0,0,0,0,0,0,0,0,0,0,0,0,0,0,0,0,0,0,0,0,0,0,0,0,0,0,{"$f":"SUM(KGA134:KGA136)","v":0},0,0,0,0,0,0,0,0,0,0,0,0,0,0,0,0,0,0,0,0,0,0,0,0,0,0,0,0,0,0,0,0,0,0,0,0,0,0,0,0,0,0,0,0,0,0,0,0,0,0,0,0,0,0,0,0,0,0,0,0,0,0,0,{"$f":"SUM(KIM134:KIM136)","v":0},0,0,0,0,0,0,0,0,0,0,0,0,0,0,0,0,0,0,0,0,0,0,0,0,0,0,0,0,0,0,0,0,0,0,0,0,0,0,0,0,0,0,0,0,0,0,0,0,0,0,0,0,0,0,0,0,0,0,0,0,0,0,0,{"$f":"SUM(KKY134:KKY136)","v":0},0,0,0,0,0,0,0,0,0,0,0,0,0,0,0,0,0,0,0,0,0,0,0,0,0,0,0,0,0,0,0,0,0,0,0,0,0,0,0,0,0,0,0,0,0,0,0,0,0,0,0,0,0,0,0,0,0,0,0,0,0,0,0,{"$f":"SUM(KNK134:KNK136)","v":0},0,0,0,0,0,0,0,0,0,0,0,0,0,0,0,0,0,0,0,0,0,0,0,0,0,0,0,0,0,0,0,0,0,0,0,0,0,0,0,0,0,0,0,0,0,0,0,0,0,0,0,0,0,0,0,0,0,0,0,0,0,0,0,{"$f":"SUM(KPW134:KPW136)","v":0},0,0,0,0,0,0,0,0,0,0,0,0,0,0,0,0,0,0,0,0,0,0,0,0,0,0,0,0,0,0,0,0,0,0,0,0,0,0,0,0,0,0,0,0,0,0,0,0,0,0,0,0,0,0,0,0,0,0,0,0,0,0,0,{"$f":"SUM(KSI134:KSI136)","v":0},0,0,0,0,0,0,0,0,0,0,0,0,0,0,0,0,0,0,0,0,0,0,0,0,0,0,0,0,0,0,0,0,0,0,0,0,0,0,0,0,0,0,0,0,0,0,0,0,0,0,0,0,0,0,0,0,0,0,0,0,0,0,0,{"$f":"SUM(KUU134:KUU136)","v":0},0,0,0,0,0,0,0,0,0,0,0,0,0,0,0,0,0,0,0,0,0,0,0,0,0,0,0,0,0,0,0,0,0,0,0,0,0,0,0,0,0,0,0,0,0,0,0,0,0,0,0,0,0,0,0,0,0,0,0,0,0,0,0,{"$f":"SUM(KXG134:KXG136)","v":0},0,0,0,0,0,0,0,0,0,0,0,0,0,0,0,0,0,0,0,0,0,0,0,0,0,0,0,0,0,0,0,0,0,0,0,0,0,0,0,0,0,0,0,0,0,0,0,0,0,0,0,0,0,0,0,0,0,0,0,0,0,0,0,{"$f":"SUM(KZS134:KZS136)","v":0},0,0,0,0,0,0,0,0,0,0,0,0,0,0,0,0,0,0,0,0,0,0,0,0,0,0,0,0,0,0,0,0,0,0,0,0,0,0,0,0,0,0,0,0,0,0,0,0,0,0,0,0,0,0,0,0,0,0,0,0,0,0,0,{"$f":"SUM(LCE134:LCE136)","v":0},0,0,0,0,0,0,0,0,0,0,0,0,0,0,0,0,0,0,0,0,0,0,0,0,0,0,0,0,0,0,0,0,0,0,0,0,0,0,0,0,0,0,0,0,0,0,0,0,0,0,0,0,0,0,0,0,0,0,0,0,0,0,0,{"$f":"SUM(LEQ134:LEQ136)","v":0},0,0,0,0,0,0,0,0,0,0,0,0,0,0,0,0,0,0,0,0,0,0,0,0,0,0,0,0,0,0,0,0,0,0,0,0,0,0,0,0,0,0,0,0,0,0,0,0,0,0,0,0,0,0,0,0,0,0,0,0,0,0,0,{"$f":"SUM(LHC134:LHC136)","v":0},0,0,0,0,0,0,0,0,0,0,0,0,0,0,0,0,0,0,0,0,0,0,0,0,0,0,0,0,0,0,0,0,0,0,0,0,0,0,0,0,0,0,0,0,0,0,0,0,0,0,0,0,0,0,0,0,0,0,0,0,0,0,0,{"$f":"SUM(LJO134:LJO136)","v":0},0,0,0,0,0,0,0,0,0,0,0,0,0,0,0,0,0,0,0,0,0,0,0,0,0,0,0,0,0,0,0,0,0,0,0,0,0,0,0,0,0,0,0,0,0,0,0,0,0,0,0,0,0,0,0,0,0,0,0,0,0,0,0,{"$f":"SUM(LMA134:LMA136)","v":0},0,0,0,0,0,0,0,0,0,0,0,0,0,0,0,0,0,0,0,0,0,0,0,0,0,0,0,0,0,0,0,0,0,0,0,0,0,0,0,0,0,0,0,0,0,0,0,0,0,0,0,0,0,0,0,0,0,0,0,0,0,0,0,{"$f":"SUM(LOM134:LOM136)","v":0},0,0,0,0,0,0,0,0,0,0,0,0,0,0,0,0,0,0,0,0,0,0,0,0,0,0,0,0,0,0,0,0,0,0,0,0,0,0,0,0,0,0,0,0,0,0,0,0,0,0,0,0,0,0,0,0,0,0,0,0,0,0,0,{"$f":"SUM(LQY134:LQY136)","v":0},0,0,0,0,0,0,0,0,0,0,0,0,0,0,0,0,0,0,0,0,0,0,0,0,0,0,0,0,0,0,0,0,0,0,0,0,0,0,0,0,0,0,0,0,0,0,0,0,0,0,0,0,0,0,0,0,0,0,0,0,0,0,0,{"$f":"SUM(LTK134:LTK136)","v":0},0,0,0,0,0,0,0,0,0,0,0,0,0,0,0,0,0,0,0,0,0,0,0,0,0,0,0,0,0,0,0,0,0,0,0,0,0,0,0,0,0,0,0,0,0,0,0,0,0,0,0,0,0,0,0,0,0,0,0,0,0,0,0,{"$f":"SUM(LVW134:LVW136)","v":0},0,0,0,0,0,0,0,0,0,0,0,0,0,0,0,0,0,0,0,0,0,0,0,0,0,0,0,0,0,0,0,0,0,0,0,0,0,0,0,0,0,0,0,0,0,0,0,0,0,0,0,0,0,0,0,0,0,0,0,0,0,0,0,{"$f":"SUM(LYI134:LYI136)","v":0},0,0,0,0,0,0,0,0,0,0,0,0,0,0,0,0,0,0,0,0,0,0,0,0,0,0,0,0,0,0,0,0,0,0,0,0,0,0,0,0,0,0,0,0,0,0,0,0,0,0,0,0,0,0,0,0,0,0,0,0,0,0,0,{"$f":"SUM(MAU134:MAU136)","v":0},0,0,0,0,0,0,0,0,0,0,0,0,0,0,0,0,0,0,0,0,0,0,0,0,0,0,0,0,0,0,0,0,0,0,0,0,0,0,0,0,0,0,0,0,0,0,0,0,0,0,0,0,0,0,0,0,0,0,0,0,0,0,0,{"$f":"SUM(MDG134:MDG136)","v":0},0,0,0,0,0,0,0,0,0,0,0,0,0,0,0,0,0,0,0,0,0,0,0,0,0,0,0,0,0,0,0,0,0,0,0,0,0,0,0,0,0,0,0,0,0,0,0,0,0,0,0,0,0,0,0,0,0,0,0,0,0,0,0,{"$f":"SUM(MFS134:MFS136)","v":0},0,0,0,0,0,0,0,0,0,0,0,0,0,0,0,0,0,0,0,0,0,0,0,0,0,0,0,0,0,0,0,0,0,0,0,0,0,0,0,0,0,0,0,0,0,0,0,0,0,0,0,0,0,0,0,0,0,0,0,0,0,0,0,{"$f":"SUM(MIE134:MIE136)","v":0},0,0,0,0,0,0,0,0,0,0,0,0,0,0,0,0,0,0,0,0,0,0,0,0,0,0,0,0,0,0,0,0,0,0,0,0,0,0,0,0,0,0,0,0,0,0,0,0,0,0,0,0,0,0,0,0,0,0,0,0,0,0,0,{"$f":"SUM(MKQ134:MKQ136)","v":0},0,0,0,0,0,0,0,0,0,0,0,0,0,0,0,0,0,0,0,0,0,0,0,0,0,0,0,0,0,0,0,0,0,0,0,0,0,0,0,0,0,0,0,0,0,0,0,0,0,0,0,0,0,0,0,0,0,0,0,0,0,0,0,{"$f":"SUM(MNC134:MNC136)","v":0},0,0,0,0,0,0,0,0,0,0,0,0,0,0,0,0,0,0,0,0,0,0,0,0,0,0,0,0,0,0,0,0,0,0,0,0,0,0,0,0,0,0,0,0,0,0,0,0,0,0,0,0,0,0,0,0,0,0,0,0,0,0,0,{"$f":"SUM(MPO134:MPO136)","v":0},0,0,0,0,0,0,0,0,0,0,0,0,0,0,0,0,0,0,0,0,0,0,0,0,0,0,0,0,0,0,0,0,0,0,0,0,0,0,0,0,0,0,0,0,0,0,0,0,0,0,0,0,0,0,0,0,0,0,0,0,0,0,0,{"$f":"SUM(MSA134:MSA136)","v":0},0,0,0,0,0,0,0,0,0,0,0,0,0,0,0,0,0,0,0,0,0,0,0,0,0,0,0,0,0,0,0,0,0,0,0,0,0,0,0,0,0,0,0,0,0,0,0,0,0,0,0,0,0,0,0,0,0,0,0,0,0,0,0,{"$f":"SUM(MUM134:MUM136)","v":0},0,0,0,0,0,0,0,0,0,0,0,0,0,0,0,0,0,0,0,0,0,0,0,0,0,0,0,0,0,0,0,0,0,0,0,0,0,0,0,0,0,0,0,0,0,0,0,0,0,0,0,0,0,0,0,0,0,0,0,0,0,0,0,{"$f":"SUM(MWY134:MWY136)","v":0},0,0,0,0,0,0,0,0,0,0,0,0,0,0,0,0,0,0,0,0,0,0,0,0,0,0,0,0,0,0,0,0,0,0,0,0,0,0,0,0,0,0,0,0,0,0,0,0,0,0,0,0,0,0,0,0,0,0,0,0,0,0,0,{"$f":"SUM(MZK134:MZK136)","v":0},0,0,0,0,0,0,0,0,0,0,0,0,0,0,0,0,0,0,0,0,0,0,0,0,0,0,0,0,0,0,0,0,0,0,0,0,0,0,0,0,0,0,0,0,0,0,0,0,0,0,0,0,0,0,0,0,0,0,0,0,0,0,0,{"$f":"SUM(NBW134:NBW136)","v":0},0,0,0,0,0,0,0,0,0,0,0,0,0,0,0,0,0,0,0,0,0,0,0,0,0,0,0,0,0,0,0,0,0,0,0,0,0,0,0,0,0,0,0,0,0,0,0,0,0,0,0,0,0,0,0,0,0,0,0,0,0,0,0,{"$f":"SUM(NEI134:NEI136)","v":0},0,0,0,0,0,0,0,0,0,0,0,0,0,0,0,0,0,0,0,0,0,0,0,0,0,0,0,0,0,0,0,0,0,0,0,0,0,0,0,0,0,0,0,0,0,0,0,0,0,0,0,0,0,0,0,0,0,0,0,0,0,0,0,{"$f":"SUM(NGU134:NGU136)","v":0},0,0,0,0,0,0,0,0,0,0,0,0,0,0,0,0,0,0,0,0,0,0,0,0,0,0,0,0,0,0,0,0,0,0,0,0,0,0,0,0,0,0,0,0,0,0,0,0,0,0,0,0,0,0,0,0,0,0,0,0,0,0,0,{"$f":"SUM(NJG134:NJG136)","v":0},0,0,0,0,0,0,0,0,0,0,0,0,0,0,0,0,0,0,0,0,0,0,0,0,0,0,0,0,0,0,0,0,0,0,0,0,0,0,0,0,0,0,0,0,0,0,0,0,0,0,0,0,0,0,0,0,0,0,0,0,0,0,0,{"$f":"SUM(NLS134:NLS136)","v":0},0,0,0,0,0,0,0,0,0,0,0,0,0,0,0,0,0,0,0,0,0,0,0,0,0,0,0,0,0,0,0,0,0,0,0,0,0,0,0,0,0,0,0,0,0,0,0,0,0,0,0,0,0,0,0,0,0,0,0,0,0,0,0,{"$f":"SUM(NOE134:NOE136)","v":0},0,0,0,0,0,0,0,0,0,0,0,0,0,0,0,0,0,0,0,0,0,0,0,0,0,0,0,0,0,0,0,0,0,0,0,0,0,0,0,0,0,0,0,0,0,0,0,0,0,0,0,0,0,0,0,0,0,0,0,0,0,0,0,{"$f":"SUM(NQQ134:NQQ136)","v":0},0,0,0,0,0,0,0,0,0,0,0,0,0,0,0,0,0,0,0,0,0,0,0,0,0,0,0,0,0,0,0,0,0,0,0,0,0,0,0,0,0,0,0,0,0,0,0,0,0,0,0,0,0,0,0,0,0,0,0,0,0,0,0,{"$f":"SUM(NTC134:NTC136)","v":0},0,0,0,0,0,0,0,0,0,0,0,0,0,0,0,0,0,0,0,0,0,0,0,0,0,0,0,0,0,0,0,0,0,0,0,0,0,0,0,0,0,0,0,0,0,0,0,0,0,0,0,0,0,0,0,0,0,0,0,0,0,0,0,{"$f":"SUM(NVO134:NVO136)","v":0},0,0,0,0,0,0,0,0,0,0,0,0,0,0,0,0,0,0,0,0,0,0,0,0,0,0,0,0,0,0,0,0,0,0,0,0,0,0,0,0,0,0,0,0,0,0,0,0,0,0,0,0,0,0,0,0,0,0,0,0,0,0,0,{"$f":"SUM(NYA134:NYA136)","v":0},0,0,0,0,0,0,0,0,0,0,0,0,0,0,0,0,0,0,0,0,0,0,0,0,0,0,0,0,0,0,0,0,0,0,0,0,0,0,0,0,0,0,0,0,0,0,0,0,0,0,0,0,0,0,0,0,0,0,0,0,0,0,0,{"$f":"SUM(OAM134:OAM136)","v":0},0,0,0,0,0,0,0,0,0,0,0,0,0,0,0,0,0,0,0,0,0,0,0,0,0,0,0,0,0,0,0,0,0,0,0,0,0,0,0,0,0,0,0,0,0,0,0,0,0,0,0,0,0,0,0,0,0,0,0,0,0,0,0,{"$f":"SUM(OCY134:OCY136)","v":0},0,0,0,0,0,0,0,0,0,0,0,0,0,0,0,0,0,0,0,0,0,0,0,0,0,0,0,0,0,0,0,0,0,0,0,0,0,0,0,0,0,0,0,0,0,0,0,0,0,0,0,0,0,0,0,0,0,0,0,0,0,0,0,{"$f":"SUM(OFK134:OFK136)","v":0},0,0,0,0,0,0,0,0,0,0,0,0,0,0,0,0,0,0,0,0,0,0,0,0,0,0,0,0,0,0,0,0,0,0,0,0,0,0,0,0,0,0,0,0,0,0,0,0,0,0,0,0,0,0,0,0,0,0,0,0,0,0,0,{"$f":"SUM(OHW134:OHW136)","v":0},0,0,0,0,0,0,0,0,0,0,0,0,0,0,0,0,0,0,0,0,0,0,0,0,0,0,0,0,0,0,0,0,0,0,0,0,0,0,0,0,0,0,0,0,0,0,0,0,0,0,0,0,0,0,0,0,0,0,0,0,0,0,0,{"$f":"SUM(OKI134:OKI136)","v":0},0,0,0,0,0,0,0,0,0,0,0,0,0,0,0,0,0,0,0,0,0,0,0,0,0,0,0,0,0,0,0,0,0,0,0,0,0,0,0,0,0,0,0,0,0,0,0,0,0,0,0,0,0,0,0,0,0,0,0,0,0,0,0,{"$f":"SUM(OMU134:OMU136)","v":0},0,0,0,0,0,0,0,0,0,0,0,0,0,0,0,0,0,0,0,0,0,0,0,0,0,0,0,0,0,0,0,0,0,0,0,0,0,0,0,0,0,0,0,0,0,0,0,0,0,0,0,0,0,0,0,0,0,0,0,0,0,0,0,{"$f":"SUM(OPG134:OPG136)","v":0},0,0,0,0,0,0,0,0,0,0,0,0,0,0,0,0,0,0,0,0,0,0,0,0,0,0,0,0,0,0,0,0,0,0,0,0,0,0,0,0,0,0,0,0,0,0,0,0,0,0,0,0,0,0,0,0,0,0,0,0,0,0,0,{"$f":"SUM(ORS134:ORS136)","v":0},0,0,0,0,0,0,0,0,0,0,0,0,0,0,0,0,0,0,0,0,0,0,0,0,0,0,0,0,0,0,0,0,0,0,0,0,0,0,0,0,0,0,0,0,0,0,0,0,0,0,0,0,0,0,0,0,0,0,0,0,0,0,0,{"$f":"SUM(OUE134:OUE136)","v":0},0,0,0,0,0,0,0,0,0,0,0,0,0,0,0,0,0,0,0,0,0,0,0,0,0,0,0,0,0,0,0,0,0,0,0,0,0,0,0,0,0,0,0,0,0,0,0,0,0,0,0,0,0,0,0,0,0,0,0,0,0,0,0,{"$f":"SUM(OWQ134:OWQ136)","v":0},0,0,0,0,0,0,0,0,0,0,0,0,0,0,0,0,0,0,0,0,0,0,0,0,0,0,0,0,0,0,0,0,0,0,0,0,0,0,0,0,0,0,0,0,0,0,0,0,0,0,0,0,0,0,0,0,0,0,0,0,0,0,0,{"$f":"SUM(OZC134:OZC136)","v":0},0,0,0,0,0,0,0,0,0,0,0,0,0,0,0,0,0,0,0,0,0,0,0,0,0,0,0,0,0,0,0,0,0,0,0,0,0,0,0,0,0,0,0,0,0,0,0,0,0,0,0,0,0,0,0,0,0,0,0,0,0,0,0,{"$f":"SUM(PBO134:PBO136)","v":0},0,0,0,0,0,0,0,0,0,0,0,0,0,0,0,0,0,0,0,0,0,0,0,0,0,0,0,0,0,0,0,0,0,0,0,0,0,0,0,0,0,0,0,0,0,0,0,0,0,0,0,0,0,0,0,0,0,0,0,0,0,0,0,{"$f":"SUM(PEA134:PEA136)","v":0},0,0,0,0,0,0,0,0,0,0,0,0,0,0,0,0,0,0,0,0,0,0,0,0,0,0,0,0,0,0,0,0,0,0,0,0,0,0,0,0,0,0,0,0,0,0,0,0,0,0,0,0,0,0,0,0,0,0,0,0,0,0,0,{"$f":"SUM(PGM134:PGM136)","v":0},0,0,0,0,0,0,0,0,0,0,0,0,0,0,0,0,0,0,0,0,0,0,0,0,0,0,0,0,0,0,0,0,0,0,0,0,0,0,0,0,0,0,0,0,0,0,0,0,0,0,0,0,0,0,0,0,0,0,0,0,0,0,0,{"$f":"SUM(PIY134:PIY136)","v":0},0,0,0,0,0,0,0,0,0,0,0,0,0,0,0,0,0,0,0,0,0,0,0,0,0,0,0,0,0,0,0,0,0,0,0,0,0,0,0,0,0,0,0,0,0,0,0,0,0,0,0,0,0,0,0,0,0,0,0,0,0,0,0,{"$f":"SUM(PLK134:PLK136)","v":0},0,0,0,0,0,0,0,0,0,0,0,0,0,0,0,0,0,0,0,0,0,0,0,0,0,0,0,0,0,0,0,0,0,0,0,0,0,0,0,0,0,0,0,0,0,0,0,0,0,0,0,0,0,0,0,0,0,0,0,0,0,0,0,{"$f":"SUM(PNW134:PNW136)","v":0},0,0,0,0,0,0,0,0,0,0,0,0,0,0,0,0,0,0,0,0,0,0,0,0,0,0,0,0,0,0,0,0,0,0,0,0,0,0,0,0,0,0,0,0,0,0,0,0,0,0,0,0,0,0,0,0,0,0,0,0,0,0,0,{"$f":"SUM(PQI134:PQI136)","v":0},0,0,0,0,0,0,0,0,0,0,0,0,0,0,0,0,0,0,0,0,0,0,0,0,0,0,0,0,0,0,0,0,0,0,0,0,0,0,0,0,0,0,0,0,0,0,0,0,0,0,0,0,0,0,0,0,0,0,0,0,0,0,0,{"$f":"SUM(PSU134:PSU136)","v":0},0,0,0,0,0,0,0,0,0,0,0,0,0,0,0,0,0,0,0,0,0,0,0,0,0,0,0,0,0,0,0,0,0,0,0,0,0,0,0,0,0,0,0,0,0,0,0,0,0,0,0,0,0,0,0,0,0,0,0,0,0,0,0,{"$f":"SUM(PVG134:PVG136)","v":0},0,0,0,0,0,0,0,0,0,0,0,0,0,0,0,0,0,0,0,0,0,0,0,0,0,0,0,0,0,0,0,0,0,0,0,0,0,0,0,0,0,0,0,0,0,0,0,0,0,0,0,0,0,0,0,0,0,0,0,0,0,0,0,{"$f":"SUM(PXS134:PXS136)","v":0},0,0,0,0,0,0,0,0,0,0,0,0,0,0,0,0,0,0,0,0,0,0,0,0,0,0,0,0,0,0,0,0,0,0,0,0,0,0,0,0,0,0,0,0,0,0,0,0,0,0,0,0,0,0,0,0,0,0,0,0,0,0,0,{"$f":"SUM(QAE134:QAE136)","v":0},0,0,0,0,0,0,0,0,0,0,0,0,0,0,0,0,0,0,0,0,0,0,0,0,0,0,0,0,0,0,0,0,0,0,0,0,0,0,0,0,0,0,0,0,0,0,0,0,0,0,0,0,0,0,0,0,0,0,0,0,0,0,0,{"$f":"SUM(QCQ134:QCQ136)","v":0},0,0,0,0,0,0,0,0,0,0,0,0,0,0,0,0,0,0,0,0,0,0,0,0,0,0,0,0,0,0,0,0,0,0,0,0,0,0,0,0,0,0,0,0,0,0,0,0,0,0,0,0,0,0,0,0,0,0,0,0,0,0,0,{"$f":"SUM(QFC134:QFC136)","v":0},0,0,0,0,0,0,0,0,0,0,0,0,0,0,0,0,0,0,0,0,0,0,0,0,0,0,0,0,0,0,0,0,0,0,0,0,0,0,0,0,0,0,0,0,0,0,0,0,0,0,0,0,0,0,0,0,0,0,0,0,0,0,0,{"$f":"SUM(QHO134:QHO136)","v":0},0,0,0,0,0,0,0,0,0,0,0,0,0,0,0,0,0,0,0,0,0,0,0,0,0,0,0,0,0,0,0,0,0,0,0,0,0,0,0,0,0,0,0,0,0,0,0,0,0,0,0,0,0,0,0,0,0,0,0,0,0,0,0,{"$f":"SUM(QKA134:QKA136)","v":0},0,0,0,0,0,0,0,0,0,0,0,0,0,0,0,0,0,0,0,0,0,0,0,0,0,0,0,0,0,0,0,0,0,0,0,0,0,0,0,0,0,0,0,0,0,0,0,0,0,0,0,0,0,0,0,0,0,0,0,0,0,0,0,{"$f":"SUM(QMM134:QMM136)","v":0},0,0,0,0,0,0,0,0,0,0,0,0,0,0,0,0,0,0,0,0,0,0,0,0,0,0,0,0,0,0,0,0,0,0,0,0,0,0,0,0,0,0,0,0,0,0,0,0,0,0,0,0,0,0,0,0,0,0,0,0,0,0,0,{"$f":"SUM(QOY134:QOY136)","v":0},0,0,0,0,0,0,0,0,0,0,0,0,0,0,0,0,0,0,0,0,0,0,0,0,0,0,0,0,0,0,0,0,0,0,0,0,0,0,0,0,0,0,0,0,0,0,0,0,0,0,0,0,0,0,0,0,0,0,0,0,0,0,0,{"$f":"SUM(QRK134:QRK136)","v":0},0,0,0,0,0,0,0,0,0,0,0,0,0,0,0,0,0,0,0,0,0,0,0,0,0,0,0,0,0,0,0,0,0,0,0,0,0,0,0,0,0,0,0,0,0,0,0,0,0,0,0,0,0,0,0,0,0,0,0,0,0,0,0,{"$f":"SUM(QTW134:QTW136)","v":0},0,0,0,0,0,0,0,0,0,0,0,0,0,0,0,0,0,0,0,0,0,0,0,0,0,0,0,0,0,0,0,0,0,0,0,0,0,0,0,0,0,0,0,0,0,0,0,0,0,0,0,0,0,0,0,0,0,0,0,0,0,0,0,{"$f":"SUM(QWI134:QWI136)","v":0},0,0,0,0,0,0,0,0,0,0,0,0,0,0,0,0,0,0,0,0,0,0,0,0,0,0,0,0,0,0,0,0,0,0,0,0,0,0,0,0,0,0,0,0,0,0,0,0,0,0,0,0,0,0,0,0,0,0,0,0,0,0,0,{"$f":"SUM(QYU134:QYU136)","v":0},0,0,0,0,0,0,0,0,0,0,0,0,0,0,0,0,0,0,0,0,0,0,0,0,0,0,0,0,0,0,0,0,0,0,0,0,0,0,0,0,0,0,0,0,0,0,0,0,0,0,0,0,0,0,0,0,0,0,0,0,0,0,0,{"$f":"SUM(RBG134:RBG136)","v":0},0,0,0,0,0,0,0,0,0,0,0,0,0,0,0,0,0,0,0,0,0,0,0,0,0,0,0,0,0,0,0,0,0,0,0,0,0,0,0,0,0,0,0,0,0,0,0,0,0,0,0,0,0,0,0,0,0,0,0,0,0,0,0,{"$f":"SUM(RDS134:RDS136)","v":0},0,0,0,0,0,0,0,0,0,0,0,0,0,0,0,0,0,0,0,0,0,0,0,0,0,0,0,0,0,0,0,0,0,0,0,0,0,0,0,0,0,0,0,0,0,0,0,0,0,0,0,0,0,0,0,0,0,0,0,0,0,0,0,{"$f":"SUM(RGE134:RGE136)","v":0},0,0,0,0,0,0,0,0,0,0,0,0,0,0,0,0,0,0,0,0,0,0,0,0,0,0,0,0,0,0,0,0,0,0,0,0,0,0,0,0,0,0,0,0,0,0,0,0,0,0,0,0,0,0,0,0,0,0,0,0,0,0,0,{"$f":"SUM(RIQ134:RIQ136)","v":0},0,0,0,0,0,0,0,0,0,0,0,0,0,0,0,0,0,0,0,0,0,0,0,0,0,0,0,0,0,0,0,0,0,0,0,0,0,0,0,0,0,0,0,0,0,0,0,0,0,0,0,0,0,0,0,0,0,0,0,0,0,0,0,{"$f":"SUM(RLC134:RLC136)","v":0},0,0,0,0,0,0,0,0,0,0,0,0,0,0,0,0,0,0,0,0,0,0,0,0,0,0,0,0,0,0,0,0,0,0,0,0,0,0,0,0,0,0,0,0,0,0,0,0,0,0,0,0,0,0,0,0,0,0,0,0,0,0,0,{"$f":"SUM(RNO134:RNO136)","v":0},0,0,0,0,0,0,0,0,0,0,0,0,0,0,0,0,0,0,0,0,0,0,0,0,0,0,0,0,0,0,0,0,0,0,0,0,0,0,0,0,0,0,0,0,0,0,0,0,0,0,0,0,0,0,0,0,0,0,0,0,0,0,0,{"$f":"SUM(RQA134:RQA136)","v":0},0,0,0,0,0,0,0,0,0,0,0,0,0,0,0,0,0,0,0,0,0,0,0,0,0,0,0,0,0,0,0,0,0,0,0,0,0,0,0,0,0,0,0,0,0,0,0,0,0,0,0,0,0,0,0,0,0,0,0,0,0,0,0,{"$f":"SUM(RSM134:RSM136)","v":0},0,0,0,0,0,0,0,0,0,0,0,0,0,0,0,0,0,0,0,0,0,0,0,0,0,0,0,0,0,0,0,0,0,0,0,0,0,0,0,0,0,0,0,0,0,0,0,0,0,0,0,0,0,0,0,0,0,0,0,0,0,0,0,{"$f":"SUM(RUY134:RUY136)","v":0},0,0,0,0,0,0,0,0,0,0,0,0,0,0,0,0,0,0,0,0,0,0,0,0,0,0,0,0,0,0,0,0,0,0,0,0,0,0,0,0,0,0,0,0,0,0,0,0,0,0,0,0,0,0,0,0,0,0,0,0,0,0,0,{"$f":"SUM(RXK134:RXK136)","v":0},0,0,0,0,0,0,0,0,0,0,0,0,0,0,0,0,0,0,0,0,0,0,0,0,0,0,0,0,0,0,0,0,0,0,0,0,0,0,0,0,0,0,0,0,0,0,0,0,0,0,0,0,0,0,0,0,0,0,0,0,0,0,0,{"$f":"SUM(RZW134:RZW136)","v":0},0,0,0,0,0,0,0,0,0,0,0,0,0,0,0,0,0,0,0,0,0,0,0,0,0,0,0,0,0,0,0,0,0,0,0,0,0,0,0,0,0,0,0,0,0,0,0,0,0,0,0,0,0,0,0,0,0,0,0,0,0,0,0,{"$f":"SUM(SCI134:SCI136)","v":0},0,0,0,0,0,0,0,0,0,0,0,0,0,0,0,0,0,0,0,0,0,0,0,0,0,0,0,0,0,0,0,0,0,0,0,0,0,0,0,0,0,0,0,0,0,0,0,0,0,0,0,0,0,0,0,0,0,0,0,0,0,0,0,{"$f":"SUM(SEU134:SEU136)","v":0},0,0,0,0,0,0,0,0,0,0,0,0,0,0,0,0,0,0,0,0,0,0,0,0,0,0,0,0,0,0,0,0,0,0,0,0,0,0,0,0,0,0,0,0,0,0,0,0,0,0,0,0,0,0,0,0,0,0,0,0,0,0,0,{"$f":"SUM(SHG134:SHG136)","v":0},0,0,0,0,0,0,0,0,0,0,0,0,0,0,0,0,0,0,0,0,0,0,0,0,0,0,0,0,0,0,0,0,0,0,0,0,0,0,0,0,0,0,0,0,0,0,0,0,0,0,0,0,0,0,0,0,0,0,0,0,0,0,0,{"$f":"SUM(SJS134:SJS136)","v":0},0,0,0,0,0,0,0,0,0,0,0,0,0,0,0,0,0,0,0,0,0,0,0,0,0,0,0,0,0,0,0,0,0,0,0,0,0,0,0,0,0,0,0,0,0,0,0,0,0,0,0,0,0,0,0,0,0,0,0,0,0,0,0,{"$f":"SUM(SME134:SME136)","v":0},0,0,0,0,0,0,0,0,0,0,0,0,0,0,0,0,0,0,0,0,0,0,0,0,0,0,0,0,0,0,0,0,0,0,0,0,0,0,0,0,0,0,0,0,0,0,0,0,0,0,0,0,0,0,0,0,0,0,0,0,0,0,0,{"$f":"SUM(SOQ134:SOQ136)","v":0},0,0,0,0,0,0,0,0,0,0,0,0,0,0,0,0,0,0,0,0,0,0,0,0,0,0,0,0,0,0,0,0,0,0,0,0,0,0,0,0,0,0,0,0,0,0,0,0,0,0,0,0,0,0,0,0,0,0,0,0,0,0,0,{"$f":"SUM(SRC134:SRC136)","v":0},0,0,0,0,0,0,0,0,0,0,0,0,0,0,0,0,0,0,0,0,0,0,0,0,0,0,0,0,0,0,0,0,0,0,0,0,0,0,0,0,0,0,0,0,0,0,0,0,0,0,0,0,0,0,0,0,0,0,0,0,0,0,0,{"$f":"SUM(STO134:STO136)","v":0},0,0,0,0,0,0,0,0,0,0,0,0,0,0,0,0,0,0,0,0,0,0,0,0,0,0,0,0,0,0,0,0,0,0,0,0,0,0,0,0,0,0,0,0,0,0,0,0,0,0,0,0,0,0,0,0,0,0,0,0,0,0,0,{"$f":"SUM(SWA134:SWA136)","v":0},0,0,0,0,0,0,0,0,0,0,0,0,0,0,0,0,0,0,0,0,0,0,0,0,0,0,0,0,0,0,0,0,0,0,0,0,0,0,0,0,0,0,0,0,0,0,0,0,0,0,0,0,0,0,0,0,0,0,0,0,0,0,0,{"$f":"SUM(SYM134:SYM136)","v":0},0,0,0,0,0,0,0,0,0,0,0,0,0,0,0,0,0,0,0,0,0,0,0,0,0,0,0,0,0,0,0,0,0,0,0,0,0,0,0,0,0,0,0,0,0,0,0,0,0,0,0,0,0,0,0,0,0,0,0,0,0,0,0,{"$f":"SUM(TAY134:TAY136)","v":0},0,0,0,0,0,0,0,0,0,0,0,0,0,0,0,0,0,0,0,0,0,0,0,0,0,0,0,0,0,0,0,0,0,0,0,0,0,0,0,0,0,0,0,0,0,0,0,0,0,0,0,0,0,0,0,0,0,0,0,0,0,0,0,{"$f":"SUM(TDK134:TDK136)","v":0},0,0,0,0,0,0,0,0,0,0,0,0,0,0,0,0,0,0,0,0,0,0,0,0,0,0,0,0,0,0,0,0,0,0,0,0,0,0,0,0,0,0,0,0,0,0,0,0,0,0,0,0,0,0,0,0,0,0,0,0,0,0,0,{"$f":"SUM(TFW134:TFW136)","v":0},0,0,0,0,0,0,0,0,0,0,0,0,0,0,0,0,0,0,0,0,0,0,0,0,0,0,0,0,0,0,0,0,0,0,0,0,0,0,0,0,0,0,0,0,0,0,0,0,0,0,0,0,0,0,0,0,0,0,0,0,0,0,0,{"$f":"SUM(TII134:TII136)","v":0},0,0,0,0,0,0,0,0,0,0,0,0,0,0,0,0,0,0,0,0,0,0,0,0,0,0,0,0,0,0,0,0,0,0,0,0,0,0,0,0,0,0,0,0,0,0,0,0,0,0,0,0,0,0,0,0,0,0,0,0,0,0,0,{"$f":"SUM(TKU134:TKU136)","v":0},0,0,0,0,0,0,0,0,0,0,0,0,0,0,0,0,0,0,0,0,0,0,0,0,0,0,0,0,0,0,0,0,0,0,0,0,0,0,0,0,0,0,0,0,0,0,0,0,0,0,0,0,0,0,0,0,0,0,0,0,0,0,0,{"$f":"SUM(TNG134:TNG136)","v":0},0,0,0,0,0,0,0,0,0,0,0,0,0,0,0,0,0,0,0,0,0,0,0,0,0,0,0,0,0,0,0,0,0,0,0,0,0,0,0,0,0,0,0,0,0,0,0,0,0,0,0,0,0,0,0,0,0,0,0,0,0,0,0,{"$f":"SUM(TPS134:TPS136)","v":0},0,0,0,0,0,0,0,0,0,0,0,0,0,0,0,0,0,0,0,0,0,0,0,0,0,0,0,0,0,0,0,0,0,0,0,0,0,0,0,0,0,0,0,0,0,0,0,0,0,0,0,0,0,0,0,0,0,0,0,0,0,0,0,{"$f":"SUM(TSE134:TSE136)","v":0},0,0,0,0,0,0,0,0,0,0,0,0,0,0,0,0,0,0,0,0,0,0,0,0,0,0,0,0,0,0,0,0,0,0,0,0,0,0,0,0,0,0,0,0,0,0,0,0,0,0,0,0,0,0,0,0,0,0,0,0,0,0,0,{"$f":"SUM(TUQ134:TUQ136)","v":0},0,0,0,0,0,0,0,0,0,0,0,0,0,0,0,0,0,0,0,0,0,0,0,0,0,0,0,0,0,0,0,0,0,0,0,0,0,0,0,0,0,0,0,0,0,0,0,0,0,0,0,0,0,0,0,0,0,0,0,0,0,0,0,{"$f":"SUM(TXC134:TXC136)","v":0},0,0,0,0,0,0,0,0,0,0,0,0,0,0,0,0,0,0,0,0,0,0,0,0,0,0,0,0,0,0,0,0,0,0,0,0,0,0,0,0,0,0,0,0,0,0,0,0,0,0,0,0,0,0,0,0,0,0,0,0,0,0,0,{"$f":"SUM(TZO134:TZO136)","v":0},0,0,0,0,0,0,0,0,0,0,0,0,0,0,0,0,0,0,0,0,0,0,0,0,0,0,0,0,0,0,0,0,0,0,0,0,0,0,0,0,0,0,0,0,0,0,0,0,0,0,0,0,0,0,0,0,0,0,0,0,0,0,0,{"$f":"SUM(UCA134:UCA136)","v":0},0,0,0,0,0,0,0,0,0,0,0,0,0,0,0,0,0,0,0,0,0,0,0,0,0,0,0,0,0,0,0,0,0,0,0,0,0,0,0,0,0,0,0,0,0,0,0,0,0,0,0,0,0,0,0,0,0,0,0,0,0,0,0,{"$f":"SUM(UEM134:UEM136)","v":0},0,0,0,0,0,0,0,0,0,0,0,0,0,0,0,0,0,0,0,0,0,0,0,0,0,0,0,0,0,0,0,0,0,0,0,0,0,0,0,0,0,0,0,0,0,0,0,0,0,0,0,0,0,0,0,0,0,0,0,0,0,0,0,{"$f":"SUM(UGY134:UGY136)","v":0},0,0,0,0,0,0,0,0,0,0,0,0,0,0,0,0,0,0,0,0,0,0,0,0,0,0,0,0,0,0,0,0,0,0,0,0,0,0,0,0,0,0,0,0,0,0,0,0,0,0,0,0,0,0,0,0,0,0,0,0,0,0,0,{"$f":"SUM(UJK134:UJK136)","v":0},0,0,0,0,0,0,0,0,0,0,0,0,0,0,0,0,0,0,0,0,0,0,0,0,0,0,0,0,0,0,0,0,0,0,0,0,0,0,0,0,0,0,0,0,0,0,0,0,0,0,0,0,0,0,0,0,0,0,0,0,0,0,0,{"$f":"SUM(ULW134:ULW136)","v":0},0,0,0,0,0,0,0,0,0,0,0,0,0,0,0,0,0,0,0,0,0,0,0,0,0,0,0,0,0,0,0,0,0,0,0,0,0,0,0,0,0,0,0,0,0,0,0,0,0,0,0,0,0,0,0,0,0,0,0,0,0,0,0,{"$f":"SUM(UOI134:UOI136)","v":0},0,0,0,0,0,0,0,0,0,0,0,0,0,0,0,0,0,0,0,0,0,0,0,0,0,0,0,0,0,0,0,0,0,0,0,0,0,0,0,0,0,0,0,0,0,0,0,0,0,0,0,0,0,0,0,0,0,0,0,0,0,0,0,{"$f":"SUM(UQU134:UQU136)","v":0},0,0,0,0,0,0,0,0,0,0,0,0,0,0,0,0,0,0,0,0,0,0,0,0,0,0,0,0,0,0,0,0,0,0,0,0,0,0,0,0,0,0,0,0,0,0,0,0,0,0,0,0,0,0,0,0,0,0,0,0,0,0,0,{"$f":"SUM(UTG134:UTG136)","v":0},0,0,0,0,0,0,0,0,0,0,0,0,0,0,0,0,0,0,0,0,0,0,0,0,0,0,0,0,0,0,0,0,0,0,0,0,0,0,0,0,0,0,0,0,0,0,0,0,0,0,0,0,0,0,0,0,0,0,0,0,0,0,0,{"$f":"SUM(UVS134:UVS136)","v":0},0,0,0,0,0,0,0,0,0,0,0,0,0,0,0,0,0,0,0,0,0,0,0,0,0,0,0,0,0,0,0,0,0,0,0,0,0,0,0,0,0,0,0,0,0,0,0,0,0,0,0,0,0,0,0,0,0,0,0,0,0,0,0,{"$f":"SUM(UYE134:UYE136)","v":0},0,0,0,0,0,0,0,0,0,0,0,0,0,0,0,0,0,0,0,0,0,0,0,0,0,0,0,0,0,0,0,0,0,0,0,0,0,0,0,0,0,0,0,0,0,0,0,0,0,0,0,0,0,0,0,0,0,0,0,0,0,0,0,{"$f":"SUM(VAQ134:VAQ136)","v":0},0,0,0,0,0,0,0,0,0,0,0,0,0,0,0,0,0,0,0,0,0,0,0,0,0,0,0,0,0,0,0,0,0,0,0,0,0,0,0,0,0,0,0,0,0,0,0,0,0,0,0,0,0,0,0,0,0,0,0,0,0,0,0,{"$f":"SUM(VDC134:VDC136)","v":0},0,0,0,0,0,0,0,0,0,0,0,0,0,0,0,0,0,0,0,0,0,0,0,0,0,0,0,0,0,0,0,0,0,0,0,0,0,0,0,0,0,0,0,0,0,0,0,0,0,0,0,0,0,0,0,0,0,0,0,0,0,0,0,{"$f":"SUM(VFO134:VFO136)","v":0},0,0,0,0,0,0,0,0,0,0,0,0,0,0,0,0,0,0,0,0,0,0,0,0,0,0,0,0,0,0,0,0,0,0,0,0,0,0,0,0,0,0,0,0,0,0,0,0,0,0,0,0,0,0,0,0,0,0,0,0,0,0,0,{"$f":"SUM(VIA134:VIA136)","v":0},0,0,0,0,0,0,0,0,0,0,0,0,0,0,0,0,0,0,0,0,0,0,0,0,0,0,0,0,0,0,0,0,0,0,0,0,0,0,0,0,0,0,0,0,0,0,0,0,0,0,0,0,0,0,0,0,0,0,0,0,0,0,0,{"$f":"SUM(VKM134:VKM136)","v":0},0,0,0,0,0,0,0,0,0,0,0,0,0,0,0,0,0,0,0,0,0,0,0,0,0,0,0,0,0,0,0,0,0,0,0,0,0,0,0,0,0,0,0,0,0,0,0,0,0,0,0,0,0,0,0,0,0,0,0,0,0,0,0,{"$f":"SUM(VMY134:VMY136)","v":0},0,0,0,0,0,0,0,0,0,0,0,0,0,0,0,0,0,0,0,0,0,0,0,0,0,0,0,0,0,0,0,0,0,0,0,0,0,0,0,0,0,0,0,0,0,0,0,0,0,0,0,0,0,0,0,0,0,0,0,0,0,0,0,{"$f":"SUM(VPK134:VPK136)","v":0},0,0,0,0,0,0,0,0,0,0,0,0,0,0,0,0,0,0,0,0,0,0,0,0,0,0,0,0,0,0,0,0,0,0,0,0,0,0,0,0,0,0,0,0,0,0,0,0,0,0,0,0,0,0,0,0,0,0,0,0,0,0,0,{"$f":"SUM(VRW134:VRW136)","v":0},0,0,0,0,0,0,0,0,0,0,0,0,0,0,0,0,0,0,0,0,0,0,0,0,0,0,0,0,0,0,0,0,0,0,0,0,0,0,0,0,0,0,0,0,0,0,0,0,0,0,0,0,0,0,0,0,0,0,0,0,0,0,0,{"$f":"SUM(VUI134:VUI136)","v":0},0,0,0,0,0,0,0,0,0,0,0,0,0,0,0,0,0,0,0,0,0,0,0,0,0,0,0,0,0,0,0,0,0,0,0,0,0,0,0,0,0,0,0,0,0,0,0,0,0,0,0,0,0,0,0,0,0,0,0,0,0,0,0,{"$f":"SUM(VWU134:VWU136)","v":0},0,0,0,0,0,0,0,0,0,0,0,0,0,0,0,0,0,0,0,0,0,0,0,0,0,0,0,0,0,0,0,0,0,0,0,0,0,0,0,0,0,0,0,0,0,0,0,0,0,0,0,0,0,0,0,0,0,0,0,0,0,0,0,{"$f":"SUM(VZG134:VZG136)","v":0},0,0,0,0,0,0,0,0,0,0,0,0,0,0,0,0,0,0,0,0,0,0,0,0,0,0,0,0,0,0,0,0,0,0,0,0,0,0,0,0,0,0,0,0,0,0,0,0,0,0,0,0,0,0,0,0,0,0,0,0,0,0,0,{"$f":"SUM(WBS134:WBS136)","v":0},0,0,0,0,0,0,0,0,0,0,0,0,0,0,0,0,0,0,0,0,0,0,0,0,0,0,0,0,0,0,0,0,0,0,0,0,0,0,0,0,0,0,0,0,0,0,0,0,0,0,0,0,0,0,0,0,0,0,0,0,0,0,0,{"$f":"SUM(WEE134:WEE136)","v":0},0,0,0,0,0,0,0,0,0,0,0,0,0,0,0,0,0,0,0,0,0,0,0,0,0,0,0,0,0,0,0,0,0,0,0,0,0,0,0,0,0,0,0,0,0,0,0,0,0,0,0,0,0,0,0,0,0,0,0,0,0,0,0,{"$f":"SUM(WGQ134:WGQ136)","v":0},0,0,0,0,0,0,0,0,0,0,0,0,0,0,0,0,0,0,0,0,0,0,0,0,0,0,0,0,0,0,0,0,0,0,0,0,0,0,0,0,0,0,0,0,0,0,0,0,0,0,0,0,0,0,0,0,0,0,0,0,0,0,0,{"$f":"SUM(WJC134:WJC136)","v":0},0,0,0,0,0,0,0,0,0,0,0,0,0,0,0,0,0,0,0,0,0,0,0,0,0,0,0,0,0,0,0,0,0,0,0,0,0,0,0,0,0,0,0,0,0,0,0,0,0,0,0,0,0,0,0,0,0,0,0,0,0,0,0,{"$f":"SUM(WLO134:WLO136)","v":0},0,0,0,0,0,0,0,0,0,0,0,0,0,0,0,0,0,0,0,0,0,0,0,0,0,0,0,0,0,0,0,0,0,0,0,0,0,0,0,0,0,0,0,0,0,0,0,0,0,0,0,0,0,0,0,0,0,0,0,0,0,0,0,{"$f":"SUM(WOA134:WOA136)","v":0},0,0,0,0,0,0,0,0,0,0,0,0,0,0,0,0,0,0,0,0,0,0,0,0,0,0,0,0,0,0,0,0,0,0,0,0,0,0,0,0,0,0,0,0,0,0,0,0,0,0,0,0,0,0,0,0,0,0,0,0,0,0,0,{"$f":"SUM(WQM134:WQM136)","v":0},0,0,0,0,0,0,0,0,0,0,0,0,0,0,0,0,0,0,0,0,0,0,0,0,0,0,0,0,0,0,0,0,0,0,0,0,0,0,0,0,0,0,0,0,0,0,0,0,0,0,0,0,0,0,0,0,0,0,0,0,0,0,0,{"$f":"SUM(WSY134:WSY136)","v":0},0,0,0,0,0,0,0,0,0,0,0,0,0,0,0,0,0,0,0,0,0,0,0,0,0,0,0,0,0,0,0,0,0,0,0,0,0,0,0,0,0,0,0,0,0,0,0,0,0,0,0,0,0,0,0,0,0,0,0,0,0,0,0,{"$f":"SUM(WVK134:WVK136)","v":0},0,0,0,0,0,0,0,0,0,0,0,0,0,0,0,0,0,0,0,0,0,0,0,0,0,0,0,0,0,0,0,0,0,0,0,0,0,0,0,0,0,0,0,0,0,0,0,0,0,0,0,0,0,0,0,0,0,0,0,0,0,0,0,{"$f":"SUM(WXW134:WXW136)","v":0},0,0,0,0,0,0,0,0,0,0,0,0,0,0,0,0,0,0,0,0,0,0,0,0,0,0,0,0,0,0,0,0,0,0,0,0,0,0,0,0,0,0,0,0,0,0,0,0,0,0,0,0,0,0,0,0,0,0,0,0,0,0,0,{"$f":"SUM(XAI134:XAI136)","v":0},0,0,0,0,0,0,0,0,0,0,0,0,0,0,0,0,0,0,0,0,0,0,0,0,0,0,0,0,0,0,0,0,0,0,0,0,0,0,0,0,0,0,0,0,0,0,0,0,0,0,0,0,0,0,0,0,0,0,0,0,0,0,0,{"$f":"SUM(XCU134:XCU136)","v":0},0,0,0,0,0,0,0,0,0,0,0,0,0,0,0,0,0,0,0,0,0,0,0,0,0,0,0,0,0,0,0,0,0,0,0,0,0,0,0,0,0,0,0,0,0,0,0,0,0,0,0,0,0,0,0,0,0,0,0,0,0]
["f1) Obra Pública en Bienes de Dominio Público",158510000,30094846.510000002,{"$f":"B134+C134","v":188604846.50999999},20472964.949999999,14860491.68,168131881.56]
["f2) Obra Pública en Bienes Propios",0,549439,{"$f":"B135+C135","v":549439},510328.11,510328.11,39110.890000000014]
["f3) Proyectos Productivos y Acciones de Fomento",0,0,0,0,0,0]
["G. Inversiones Financieras y Otras Provisiones (G=g1+g2+g3+g4+g5+g6+g7)",{"$f":"SUM(B138:B142,B144:B145)","v":0},{"$f":"SUM(C138:C142,C144:C145)","v":0},0,0,0,0,0,0,0,0,0,0,0,0,0,0,0,0,0,0,0,0,0,0,0,0,0,0,0,0,0,0,0,0,0,0,0,0,0,0,0,0,0,0,0,0,0,0,0,0,0,0,0,0,0,0,0,0,0,0,0,0,0,0,0,{"$f":"SUM(BO138:BO142,BO144:BO145)","v":0},0,0,0,0,0,0,0,0,0,0,0,0,0,0,0,0,0,0,0,0,0,0,0,0,0,0,0,0,0,0,0,0,0,0,0,0,0,0,0,0,0,0,0,0,0,0,0,0,0,0,0,0,0,0,0,0,0,0,0,0,0,0,0,{"$f":"SUM(EA138:EA142,EA144:EA145)","v":0},0,0,0,0,0,0,0,0,0,0,0,0,0,0,0,0,0,0,0,0,0,0,0,0,0,0,0,0,0,0,0,0,0,0,0,0,0,0,0,0,0,0,0,0,0,0,0,0,0,0,0,0,0,0,0,0,0,0,0,0,0,0,0,{"$f":"SUM(GM138:GM142,GM144:GM145)","v":0},0,0,0,0,0,0,0,0,0,0,0,0,0,0,0,0,0,0,0,0,0,0,0,0,0,0,0,0,0,0,0,0,0,0,0,0,0,0,0,0,0,0,0,0,0,0,0,0,0,0,0,0,0,0,0,0,0,0,0,0,0,0,0,{"$f":"SUM(IY138:IY142,IY144:IY145)","v":0},0,0,0,0,0,0,0,0,0,0,0,0,0,0,0,0,0,0,0,0,0,0,0,0,0,0,0,0,0,0,0,0,0,0,0,0,0,0,0,0,0,0,0,0,0,0,0,0,0,0,0,0,0,0,0,0,0,0,0,0,0,0,0,{"$f":"SUM(LK138:LK142,LK144:LK145)","v":0},0,0,0,0,0,0,0,0,0,0,0,0,0,0,0,0,0,0,0,0,0,0,0,0,0,0,0,0,0,0,0,0,0,0,0,0,0,0,0,0,0,0,0,0,0,0,0,0,0,0,0,0,0,0,0,0,0,0,0,0,0,0,0,{"$f":"SUM(NW138:NW142,NW144:NW145)","v":0},0,0,0,0,0,0,0,0,0,0,0,0,0,0,0,0,0,0,0,0,0,0,0,0,0,0,0,0,0,0,0,0,0,0,0,0,0,0,0,0,0,0,0,0,0,0,0,0,0,0,0,0,0,0,0,0,0,0,0,0,0,0,0,{"$f":"SUM(QI138:QI142,QI144:QI145)","v":0},0,0,0,0,0,0,0,0,0,0,0,0,0,0,0,0,0,0,0,0,0,0,0,0,0,0,0,0,0,0,0,0,0,0,0,0,0,0,0,0,0,0,0,0,0,0,0,0,0,0,0,0,0,0,0,0,0,0,0,0,0,0,0,{"$f":"SUM(SU138:SU142,SU144:SU145)","v":0},0,0,0,0,0,0,0,0,0,0,0,0,0,0,0,0,0,0,0,0,0,0,0,0,0,0,0,0,0,0,0,0,0,0,0,0,0,0,0,0,0,0,0,0,0,0,0,0,0,0,0,0,0,0,0,0,0,0,0,0,0,0,0,{"$f":"SUM(VG138:VG142,VG144:VG145)","v":0},0,0,0,0,0,0,0,0,0,0,0,0,0,0,0,0,0,0,0,0,0,0,0,0,0,0,0,0,0,0,0,0,0,0,0,0,0,0,0,0,0,0,0,0,0,0,0,0,0,0,0,0,0,0,0,0,0,0,0,0,0,0,0,{"$f":"SUM(XS138:XS142,XS144:XS145)","v":0},0,0,0,0,0,0,0,0,0,0,0,0,0,0,0,0,0,0,0,0,0,0,0,0,0,0,0,0,0,0,0,0,0,0,0,0,0,0,0,0,0,0,0,0,0,0,0,0,0,0,0,0,0,0,0,0,0,0,0,0,0,0,0,{"$f":"SUM(AAE138:AAE142,AAE144:AAE145)","v":0},0,0,0,0,0,0,0,0,0,0,0,0,0,0,0,0,0,0,0,0,0,0,0,0,0,0,0,0,0,0,0,0,0,0,0,0,0,0,0,0,0,0,0,0,0,0,0,0,0,0,0,0,0,0,0,0,0,0,0,0,0,0,0,{"$f":"SUM(ACQ138:ACQ142,ACQ144:ACQ145)","v":0},0,0,0,0,0,0,0,0,0,0,0,0,0,0,0,0,0,0,0,0,0,0,0,0,0,0,0,0,0,0,0,0,0,0,0,0,0,0,0,0,0,0,0,0,0,0,0,0,0,0,0,0,0,0,0,0,0,0,0,0,0,0,0,{"$f":"SUM(AFC138:AFC142,AFC144:AFC145)","v":0},0,0,0,0,0,0,0,0,0,0,0,0,0,0,0,0,0,0,0,0,0,0,0,0,0,0,0,0,0,0,0,0,0,0,0,0,0,0,0,0,0,0,0,0,0,0,0,0,0,0,0,0,0,0,0,0,0,0,0,0,0,0,0,{"$f":"SUM(AHO138:AHO142,AHO144:AHO145)","v":0},0,0,0,0,0,0,0,0,0,0,0,0,0,0,0,0,0,0,0,0,0,0,0,0,0,0,0,0,0,0,0,0,0,0,0,0,0,0,0,0,0,0,0,0,0,0,0,0,0,0,0,0,0,0,0,0,0,0,0,0,0,0,0,{"$f":"SUM(AKA138:AKA142,AKA144:AKA145)","v":0},0,0,0,0,0,0,0,0,0,0,0,0,0,0,0,0,0,0,0,0,0,0,0,0,0,0,0,0,0,0,0,0,0,0,0,0,0,0,0,0,0,0,0,0,0,0,0,0,0,0,0,0,0,0,0,0,0,0,0,0,0,0,0,{"$f":"SUM(AMM138:AMM142,AMM144:AMM145)","v":0},0,0,0,0,0,0,0,0,0,0,0,0,0,0,0,0,0,0,0,0,0,0,0,0,0,0,0,0,0,0,0,0,0,0,0,0,0,0,0,0,0,0,0,0,0,0,0,0,0,0,0,0,0,0,0,0,0,0,0,0,0,0,0,{"$f":"SUM(AOY138:AOY142,AOY144:AOY145)","v":0},0,0,0,0,0,0,0,0,0,0,0,0,0,0,0,0,0,0,0,0,0,0,0,0,0,0,0,0,0,0,0,0,0,0,0,0,0,0,0,0,0,0,0,0,0,0,0,0,0,0,0,0,0,0,0,0,0,0,0,0,0,0,0,{"$f":"SUM(ARK138:ARK142,ARK144:ARK145)","v":0},0,0,0,0,0,0,0,0,0,0,0,0,0,0,0,0,0,0,0,0,0,0,0,0,0,0,0,0,0,0,0,0,0,0,0,0,0,0,0,0,0,0,0,0,0,0,0,0,0,0,0,0,0,0,0,0,0,0,0,0,0,0,0,{"$f":"SUM(ATW138:ATW142,ATW144:ATW145)","v":0},0,0,0,0,0,0,0,0,0,0,0,0,0,0,0,0,0,0,0,0,0,0,0,0,0,0,0,0,0,0,0,0,0,0,0,0,0,0,0,0,0,0,0,0,0,0,0,0,0,0,0,0,0,0,0,0,0,0,0,0,0,0,0,{"$f":"SUM(AWI138:AWI142,AWI144:AWI145)","v":0},0,0,0,0,0,0,0,0,0,0,0,0,0,0,0,0,0,0,0,0,0,0,0,0,0,0,0,0,0,0,0,0,0,0,0,0,0,0,0,0,0,0,0,0,0,0,0,0,0,0,0,0,0,0,0,0,0,0,0,0,0,0,0,{"$f":"SUM(AYU138:AYU142,AYU144:AYU145)","v":0},0,0,0,0,0,0,0,0,0,0,0,0,0,0,0,0,0,0,0,0,0,0,0,0,0,0,0,0,0,0,0,0,0,0,0,0,0,0,0,0,0,0,0,0,0,0,0,0,0,0,0,0,0,0,0,0,0,0,0,0,0,0,0,{"$f":"SUM(BBG138:BBG142,BBG144:BBG145)","v":0},0,0,0,0,0,0,0,0,0,0,0,0,0,0,0,0,0,0,0,0,0,0,0,0,0,0,0,0,0,0,0,0,0,0,0,0,0,0,0,0,0,0,0,0,0,0,0,0,0,0,0,0,0,0,0,0,0,0,0,0,0,0,0,{"$f":"SUM(BDS138:BDS142,BDS144:BDS145)","v":0},0,0,0,0,0,0,0,0,0,0,0,0,0,0,0,0,0,0,0,0,0,0,0,0,0,0,0,0,0,0,0,0,0,0,0,0,0,0,0,0,0,0,0,0,0,0,0,0,0,0,0,0,0,0,0,0,0,0,0,0,0,0,0,{"$f":"SUM(BGE138:BGE142,BGE144:BGE145)","v":0},0,0,0,0,0,0,0,0,0,0,0,0,0,0,0,0,0,0,0,0,0,0,0,0,0,0,0,0,0,0,0,0,0,0,0,0,0,0,0,0,0,0,0,0,0,0,0,0,0,0,0,0,0,0,0,0,0,0,0,0,0,0,0,{"$f":"SUM(BIQ138:BIQ142,BIQ144:BIQ145)","v":0},0,0,0,0,0,0,0,0,0,0,0,0,0,0,0,0,0,0,0,0,0,0,0,0,0,0,0,0,0,0,0,0,0,0,0,0,0,0,0,0,0,0,0,0,0,0,0,0,0,0,0,0,0,0,0,0,0,0,0,0,0,0,0,{"$f":"SUM(BLC138:BLC142,BLC144:BLC145)","v":0},0,0,0,0,0,0,0,0,0,0,0,0,0,0,0,0,0,0,0,0,0,0,0,0,0,0,0,0,0,0,0,0,0,0,0,0,0,0,0,0,0,0,0,0,0,0,0,0,0,0,0,0,0,0,0,0,0,0,0,0,0,0,0,{"$f":"SUM(BNO138:BNO142,BNO144:BNO145)","v":0},0,0,0,0,0,0,0,0,0,0,0,0,0,0,0,0,0,0,0,0,0,0,0,0,0,0,0,0,0,0,0,0,0,0,0,0,0,0,0,0,0,0,0,0,0,0,0,0,0,0,0,0,0,0,0,0,0,0,0,0,0,0,0,{"$f":"SUM(BQA138:BQA142,BQA144:BQA145)","v":0},0,0,0,0,0,0,0,0,0,0,0,0,0,0,0,0,0,0,0,0,0,0,0,0,0,0,0,0,0,0,0,0,0,0,0,0,0,0,0,0,0,0,0,0,0,0,0,0,0,0,0,0,0,0,0,0,0,0,0,0,0,0,0,{"$f":"SUM(BSM138:BSM142,BSM144:BSM145)","v":0},0,0,0,0,0,0,0,0,0,0,0,0,0,0,0,0,0,0,0,0,0,0,0,0,0,0,0,0,0,0,0,0,0,0,0,0,0,0,0,0,0,0,0,0,0,0,0,0,0,0,0,0,0,0,0,0,0,0,0,0,0,0,0,{"$f":"SUM(BUY138:BUY142,BUY144:BUY145)","v":0},0,0,0,0,0,0,0,0,0,0,0,0,0,0,0,0,0,0,0,0,0,0,0,0,0,0,0,0,0,0,0,0,0,0,0,0,0,0,0,0,0,0,0,0,0,0,0,0,0,0,0,0,0,0,0,0,0,0,0,0,0,0,0,{"$f":"SUM(BXK138:BXK142,BXK144:BXK145)","v":0},0,0,0,0,0,0,0,0,0,0,0,0,0,0,0,0,0,0,0,0,0,0,0,0,0,0,0,0,0,0,0,0,0,0,0,0,0,0,0,0,0,0,0,0,0,0,0,0,0,0,0,0,0,0,0,0,0,0,0,0,0,0,0,{"$f":"SUM(BZW138:BZW142,BZW144:BZW145)","v":0},0,0,0,0,0,0,0,0,0,0,0,0,0,0,0,0,0,0,0,0,0,0,0,0,0,0,0,0,0,0,0,0,0,0,0,0,0,0,0,0,0,0,0,0,0,0,0,0,0,0,0,0,0,0,0,0,0,0,0,0,0,0,0,{"$f":"SUM(CCI138:CCI142,CCI144:CCI145)","v":0},0,0,0,0,0,0,0,0,0,0,0,0,0,0,0,0,0,0,0,0,0,0,0,0,0,0,0,0,0,0,0,0,0,0,0,0,0,0,0,0,0,0,0,0,0,0,0,0,0,0,0,0,0,0,0,0,0,0,0,0,0,0,0,{"$f":"SUM(CEU138:CEU142,CEU144:CEU145)","v":0},0,0,0,0,0,0,0,0,0,0,0,0,0,0,0,0,0,0,0,0,0,0,0,0,0,0,0,0,0,0,0,0,0,0,0,0,0,0,0,0,0,0,0,0,0,0,0,0,0,0,0,0,0,0,0,0,0,0,0,0,0,0,0,{"$f":"SUM(CHG138:CHG142,CHG144:CHG145)","v":0},0,0,0,0,0,0,0,0,0,0,0,0,0,0,0,0,0,0,0,0,0,0,0,0,0,0,0,0,0,0,0,0,0,0,0,0,0,0,0,0,0,0,0,0,0,0,0,0,0,0,0,0,0,0,0,0,0,0,0,0,0,0,0,{"$f":"SUM(CJS138:CJS142,CJS144:CJS145)","v":0},0,0,0,0,0,0,0,0,0,0,0,0,0,0,0,0,0,0,0,0,0,0,0,0,0,0,0,0,0,0,0,0,0,0,0,0,0,0,0,0,0,0,0,0,0,0,0,0,0,0,0,0,0,0,0,0,0,0,0,0,0,0,0,{"$f":"SUM(CME138:CME142,CME144:CME145)","v":0},0,0,0,0,0,0,0,0,0,0,0,0,0,0,0,0,0,0,0,0,0,0,0,0,0,0,0,0,0,0,0,0,0,0,0,0,0,0,0,0,0,0,0,0,0,0,0,0,0,0,0,0,0,0,0,0,0,0,0,0,0,0,0,{"$f":"SUM(COQ138:COQ142,COQ144:COQ145)","v":0},0,0,0,0,0,0,0,0,0,0,0,0,0,0,0,0,0,0,0,0,0,0,0,0,0,0,0,0,0,0,0,0,0,0,0,0,0,0,0,0,0,0,0,0,0,0,0,0,0,0,0,0,0,0,0,0,0,0,0,0,0,0,0,{"$f":"SUM(CRC138:CRC142,CRC144:CRC145)","v":0},0,0,0,0,0,0,0,0,0,0,0,0,0,0,0,0,0,0,0,0,0,0,0,0,0,0,0,0,0,0,0,0,0,0,0,0,0,0,0,0,0,0,0,0,0,0,0,0,0,0,0,0,0,0,0,0,0,0,0,0,0,0,0,{"$f":"SUM(CTO138:CTO142,CTO144:CTO145)","v":0},0,0,0,0,0,0,0,0,0,0,0,0,0,0,0,0,0,0,0,0,0,0,0,0,0,0,0,0,0,0,0,0,0,0,0,0,0,0,0,0,0,0,0,0,0,0,0,0,0,0,0,0,0,0,0,0,0,0,0,0,0,0,0,{"$f":"SUM(CWA138:CWA142,CWA144:CWA145)","v":0},0,0,0,0,0,0,0,0,0,0,0,0,0,0,0,0,0,0,0,0,0,0,0,0,0,0,0,0,0,0,0,0,0,0,0,0,0,0,0,0,0,0,0,0,0,0,0,0,0,0,0,0,0,0,0,0,0,0,0,0,0,0,0,{"$f":"SUM(CYM138:CYM142,CYM144:CYM145)","v":0},0,0,0,0,0,0,0,0,0,0,0,0,0,0,0,0,0,0,0,0,0,0,0,0,0,0,0,0,0,0,0,0,0,0,0,0,0,0,0,0,0,0,0,0,0,0,0,0,0,0,0,0,0,0,0,0,0,0,0,0,0,0,0,{"$f":"SUM(DAY138:DAY142,DAY144:DAY145)","v":0},0,0,0,0,0,0,0,0,0,0,0,0,0,0,0,0,0,0,0,0,0,0,0,0,0,0,0,0,0,0,0,0,0,0,0,0,0,0,0,0,0,0,0,0,0,0,0,0,0,0,0,0,0,0,0,0,0,0,0,0,0,0,0,{"$f":"SUM(DDK138:DDK142,DDK144:DDK145)","v":0},0,0,0,0,0,0,0,0,0,0,0,0,0,0,0,0,0,0,0,0,0,0,0,0,0,0,0,0,0,0,0,0,0,0,0,0,0,0,0,0,0,0,0,0,0,0,0,0,0,0,0,0,0,0,0,0,0,0,0,0,0,0,0,{"$f":"SUM(DFW138:DFW142,DFW144:DFW145)","v":0},0,0,0,0,0,0,0,0,0,0,0,0,0,0,0,0,0,0,0,0,0,0,0,0,0,0,0,0,0,0,0,0,0,0,0,0,0,0,0,0,0,0,0,0,0,0,0,0,0,0,0,0,0,0,0,0,0,0,0,0,0,0,0,{"$f":"SUM(DII138:DII142,DII144:DII145)","v":0},0,0,0,0,0,0,0,0,0,0,0,0,0,0,0,0,0,0,0,0,0,0,0,0,0,0,0,0,0,0,0,0,0,0,0,0,0,0,0,0,0,0,0,0,0,0,0,0,0,0,0,0,0,0,0,0,0,0,0,0,0,0,0,{"$f":"SUM(DKU138:DKU142,DKU144:DKU145)","v":0},0,0,0,0,0,0,0,0,0,0,0,0,0,0,0,0,0,0,0,0,0,0,0,0,0,0,0,0,0,0,0,0,0,0,0,0,0,0,0,0,0,0,0,0,0,0,0,0,0,0,0,0,0,0,0,0,0,0,0,0,0,0,0,{"$f":"SUM(DNG138:DNG142,DNG144:DNG145)","v":0},0,0,0,0,0,0,0,0,0,0,0,0,0,0,0,0,0,0,0,0,0,0,0,0,0,0,0,0,0,0,0,0,0,0,0,0,0,0,0,0,0,0,0,0,0,0,0,0,0,0,0,0,0,0,0,0,0,0,0,0,0,0,0,{"$f":"SUM(DPS138:DPS142,DPS144:DPS145)","v":0},0,0,0,0,0,0,0,0,0,0,0,0,0,0,0,0,0,0,0,0,0,0,0,0,0,0,0,0,0,0,0,0,0,0,0,0,0,0,0,0,0,0,0,0,0,0,0,0,0,0,0,0,0,0,0,0,0,0,0,0,0,0,0,{"$f":"SUM(DSE138:DSE142,DSE144:DSE145)","v":0},0,0,0,0,0,0,0,0,0,0,0,0,0,0,0,0,0,0,0,0,0,0,0,0,0,0,0,0,0,0,0,0,0,0,0,0,0,0,0,0,0,0,0,0,0,0,0,0,0,0,0,0,0,0,0,0,0,0,0,0,0,0,0,{"$f":"SUM(DUQ138:DUQ142,DUQ144:DUQ145)","v":0},0,0,0,0,0,0,0,0,0,0,0,0,0,0,0,0,0,0,0,0,0,0,0,0,0,0,0,0,0,0,0,0,0,0,0,0,0,0,0,0,0,0,0,0,0,0,0,0,0,0,0,0,0,0,0,0,0,0,0,0,0,0,0,{"$f":"SUM(DXC138:DXC142,DXC144:DXC145)","v":0},0,0,0,0,0,0,0,0,0,0,0,0,0,0,0,0,0,0,0,0,0,0,0,0,0,0,0,0,0,0,0,0,0,0,0,0,0,0,0,0,0,0,0,0,0,0,0,0,0,0,0,0,0,0,0,0,0,0,0,0,0,0,0,{"$f":"SUM(DZO138:DZO142,DZO144:DZO145)","v":0},0,0,0,0,0,0,0,0,0,0,0,0,0,0,0,0,0,0,0,0,0,0,0,0,0,0,0,0,0,0,0,0,0,0,0,0,0,0,0,0,0,0,0,0,0,0,0,0,0,0,0,0,0,0,0,0,0,0,0,0,0,0,0,{"$f":"SUM(ECA138:ECA142,ECA144:ECA145)","v":0},0,0,0,0,0,0,0,0,0,0,0,0,0,0,0,0,0,0,0,0,0,0,0,0,0,0,0,0,0,0,0,0,0,0,0,0,0,0,0,0,0,0,0,0,0,0,0,0,0,0,0,0,0,0,0,0,0,0,0,0,0,0,0,{"$f":"SUM(EEM138:EEM142,EEM144:EEM145)","v":0},0,0,0,0,0,0,0,0,0,0,0,0,0,0,0,0,0,0,0,0,0,0,0,0,0,0,0,0,0,0,0,0,0,0,0,0,0,0,0,0,0,0,0,0,0,0,0,0,0,0,0,0,0,0,0,0,0,0,0,0,0,0,0,{"$f":"SUM(EGY138:EGY142,EGY144:EGY145)","v":0},0,0,0,0,0,0,0,0,0,0,0,0,0,0,0,0,0,0,0,0,0,0,0,0,0,0,0,0,0,0,0,0,0,0,0,0,0,0,0,0,0,0,0,0,0,0,0,0,0,0,0,0,0,0,0,0,0,0,0,0,0,0,0,{"$f":"SUM(EJK138:EJK142,EJK144:EJK145)","v":0},0,0,0,0,0,0,0,0,0,0,0,0,0,0,0,0,0,0,0,0,0,0,0,0,0,0,0,0,0,0,0,0,0,0,0,0,0,0,0,0,0,0,0,0,0,0,0,0,0,0,0,0,0,0,0,0,0,0,0,0,0,0,0,{"$f":"SUM(ELW138:ELW142,ELW144:ELW145)","v":0},0,0,0,0,0,0,0,0,0,0,0,0,0,0,0,0,0,0,0,0,0,0,0,0,0,0,0,0,0,0,0,0,0,0,0,0,0,0,0,0,0,0,0,0,0,0,0,0,0,0,0,0,0,0,0,0,0,0,0,0,0,0,0,{"$f":"SUM(EOI138:EOI142,EOI144:EOI145)","v":0},0,0,0,0,0,0,0,0,0,0,0,0,0,0,0,0,0,0,0,0,0,0,0,0,0,0,0,0,0,0,0,0,0,0,0,0,0,0,0,0,0,0,0,0,0,0,0,0,0,0,0,0,0,0,0,0,0,0,0,0,0,0,0,{"$f":"SUM(EQU138:EQU142,EQU144:EQU145)","v":0},0,0,0,0,0,0,0,0,0,0,0,0,0,0,0,0,0,0,0,0,0,0,0,0,0,0,0,0,0,0,0,0,0,0,0,0,0,0,0,0,0,0,0,0,0,0,0,0,0,0,0,0,0,0,0,0,0,0,0,0,0,0,0,{"$f":"SUM(ETG138:ETG142,ETG144:ETG145)","v":0},0,0,0,0,0,0,0,0,0,0,0,0,0,0,0,0,0,0,0,0,0,0,0,0,0,0,0,0,0,0,0,0,0,0,0,0,0,0,0,0,0,0,0,0,0,0,0,0,0,0,0,0,0,0,0,0,0,0,0,0,0,0,0,{"$f":"SUM(EVS138:EVS142,EVS144:EVS145)","v":0},0,0,0,0,0,0,0,0,0,0,0,0,0,0,0,0,0,0,0,0,0,0,0,0,0,0,0,0,0,0,0,0,0,0,0,0,0,0,0,0,0,0,0,0,0,0,0,0,0,0,0,0,0,0,0,0,0,0,0,0,0,0,0,{"$f":"SUM(EYE138:EYE142,EYE144:EYE145)","v":0},0,0,0,0,0,0,0,0,0,0,0,0,0,0,0,0,0,0,0,0,0,0,0,0,0,0,0,0,0,0,0,0,0,0,0,0,0,0,0,0,0,0,0,0,0,0,0,0,0,0,0,0,0,0,0,0,0,0,0,0,0,0,0,{"$f":"SUM(FAQ138:FAQ142,FAQ144:FAQ145)","v":0},0,0,0,0,0,0,0,0,0,0,0,0,0,0,0,0,0,0,0,0,0,0,0,0,0,0,0,0,0,0,0,0,0,0,0,0,0,0,0,0,0,0,0,0,0,0,0,0,0,0,0,0,0,0,0,0,0,0,0,0,0,0,0,{"$f":"SUM(FDC138:FDC142,FDC144:FDC145)","v":0},0,0,0,0,0,0,0,0,0,0,0,0,0,0,0,0,0,0,0,0,0,0,0,0,0,0,0,0,0,0,0,0,0,0,0,0,0,0,0,0,0,0,0,0,0,0,0,0,0,0,0,0,0,0,0,0,0,0,0,0,0,0,0,{"$f":"SUM(FFO138:FFO142,FFO144:FFO145)","v":0},0,0,0,0,0,0,0,0,0,0,0,0,0,0,0,0,0,0,0,0,0,0,0,0,0,0,0,0,0,0,0,0,0,0,0,0,0,0,0,0,0,0,0,0,0,0,0,0,0,0,0,0,0,0,0,0,0,0,0,0,0,0,0,{"$f":"SUM(FIA138:FIA142,FIA144:FIA145)","v":0},0,0,0,0,0,0,0,0,0,0,0,0,0,0,0,0,0,0,0,0,0,0,0,0,0,0,0,0,0,0,0,0,0,0,0,0,0,0,0,0,0,0,0,0,0,0,0,0,0,0,0,0,0,0,0,0,0,0,0,0,0,0,0,{"$f":"SUM(FKM138:FKM142,FKM144:FKM145)","v":0},0,0,0,0,0,0,0,0,0,0,0,0,0,0,0,0,0,0,0,0,0,0,0,0,0,0,0,0,0,0,0,0,0,0,0,0,0,0,0,0,0,0,0,0,0,0,0,0,0,0,0,0,0,0,0,0,0,0,0,0,0,0,0,{"$f":"SUM(FMY138:FMY142,FMY144:FMY145)","v":0},0,0,0,0,0,0,0,0,0,0,0,0,0,0,0,0,0,0,0,0,0,0,0,0,0,0,0,0,0,0,0,0,0,0,0,0,0,0,0,0,0,0,0,0,0,0,0,0,0,0,0,0,0,0,0,0,0,0,0,0,0,0,0,{"$f":"SUM(FPK138:FPK142,FPK144:FPK145)","v":0},0,0,0,0,0,0,0,0,0,0,0,0,0,0,0,0,0,0,0,0,0,0,0,0,0,0,0,0,0,0,0,0,0,0,0,0,0,0,0,0,0,0,0,0,0,0,0,0,0,0,0,0,0,0,0,0,0,0,0,0,0,0,0,{"$f":"SUM(FRW138:FRW142,FRW144:FRW145)","v":0},0,0,0,0,0,0,0,0,0,0,0,0,0,0,0,0,0,0,0,0,0,0,0,0,0,0,0,0,0,0,0,0,0,0,0,0,0,0,0,0,0,0,0,0,0,0,0,0,0,0,0,0,0,0,0,0,0,0,0,0,0,0,0,{"$f":"SUM(FUI138:FUI142,FUI144:FUI145)","v":0},0,0,0,0,0,0,0,0,0,0,0,0,0,0,0,0,0,0,0,0,0,0,0,0,0,0,0,0,0,0,0,0,0,0,0,0,0,0,0,0,0,0,0,0,0,0,0,0,0,0,0,0,0,0,0,0,0,0,0,0,0,0,0,{"$f":"SUM(FWU138:FWU142,FWU144:FWU145)","v":0},0,0,0,0,0,0,0,0,0,0,0,0,0,0,0,0,0,0,0,0,0,0,0,0,0,0,0,0,0,0,0,0,0,0,0,0,0,0,0,0,0,0,0,0,0,0,0,0,0,0,0,0,0,0,0,0,0,0,0,0,0,0,0,{"$f":"SUM(FZG138:FZG142,FZG144:FZG145)","v":0},0,0,0,0,0,0,0,0,0,0,0,0,0,0,0,0,0,0,0,0,0,0,0,0,0,0,0,0,0,0,0,0,0,0,0,0,0,0,0,0,0,0,0,0,0,0,0,0,0,0,0,0,0,0,0,0,0,0,0,0,0,0,0,{"$f":"SUM(GBS138:GBS142,GBS144:GBS145)","v":0},0,0,0,0,0,0,0,0,0,0,0,0,0,0,0,0,0,0,0,0,0,0,0,0,0,0,0,0,0,0,0,0,0,0,0,0,0,0,0,0,0,0,0,0,0,0,0,0,0,0,0,0,0,0,0,0,0,0,0,0,0,0,0,{"$f":"SUM(GEE138:GEE142,GEE144:GEE145)","v":0},0,0,0,0,0,0,0,0,0,0,0,0,0,0,0,0,0,0,0,0,0,0,0,0,0,0,0,0,0,0,0,0,0,0,0,0,0,0,0,0,0,0,0,0,0,0,0,0,0,0,0,0,0,0,0,0,0,0,0,0,0,0,0,{"$f":"SUM(GGQ138:GGQ142,GGQ144:GGQ145)","v":0},0,0,0,0,0,0,0,0,0,0,0,0,0,0,0,0,0,0,0,0,0,0,0,0,0,0,0,0,0,0,0,0,0,0,0,0,0,0,0,0,0,0,0,0,0,0,0,0,0,0,0,0,0,0,0,0,0,0,0,0,0,0,0,{"$f":"SUM(GJC138:GJC142,GJC144:GJC145)","v":0},0,0,0,0,0,0,0,0,0,0,0,0,0,0,0,0,0,0,0,0,0,0,0,0,0,0,0,0,0,0,0,0,0,0,0,0,0,0,0,0,0,0,0,0,0,0,0,0,0,0,0,0,0,0,0,0,0,0,0,0,0,0,0,{"$f":"SUM(GLO138:GLO142,GLO144:GLO145)","v":0},0,0,0,0,0,0,0,0,0,0,0,0,0,0,0,0,0,0,0,0,0,0,0,0,0,0,0,0,0,0,0,0,0,0,0,0,0,0,0,0,0,0,0,0,0,0,0,0,0,0,0,0,0,0,0,0,0,0,0,0,0,0,0,{"$f":"SUM(GOA138:GOA142,GOA144:GOA145)","v":0},0,0,0,0,0,0,0,0,0,0,0,0,0,0,0,0,0,0,0,0,0,0,0,0,0,0,0,0,0,0,0,0,0,0,0,0,0,0,0,0,0,0,0,0,0,0,0,0,0,0,0,0,0,0,0,0,0,0,0,0,0,0,0,{"$f":"SUM(GQM138:GQM142,GQM144:GQM145)","v":0},0,0,0,0,0,0,0,0,0,0,0,0,0,0,0,0,0,0,0,0,0,0,0,0,0,0,0,0,0,0,0,0,0,0,0,0,0,0,0,0,0,0,0,0,0,0,0,0,0,0,0,0,0,0,0,0,0,0,0,0,0,0,0,{"$f":"SUM(GSY138:GSY142,GSY144:GSY145)","v":0},0,0,0,0,0,0,0,0,0,0,0,0,0,0,0,0,0,0,0,0,0,0,0,0,0,0,0,0,0,0,0,0,0,0,0,0,0,0,0,0,0,0,0,0,0,0,0,0,0,0,0,0,0,0,0,0,0,0,0,0,0,0,0,{"$f":"SUM(GVK138:GVK142,GVK144:GVK145)","v":0},0,0,0,0,0,0,0,0,0,0,0,0,0,0,0,0,0,0,0,0,0,0,0,0,0,0,0,0,0,0,0,0,0,0,0,0,0,0,0,0,0,0,0,0,0,0,0,0,0,0,0,0,0,0,0,0,0,0,0,0,0,0,0,{"$f":"SUM(GXW138:GXW142,GXW144:GXW145)","v":0},0,0,0,0,0,0,0,0,0,0,0,0,0,0,0,0,0,0,0,0,0,0,0,0,0,0,0,0,0,0,0,0,0,0,0,0,0,0,0,0,0,0,0,0,0,0,0,0,0,0,0,0,0,0,0,0,0,0,0,0,0,0,0,{"$f":"SUM(HAI138:HAI142,HAI144:HAI145)","v":0},0,0,0,0,0,0,0,0,0,0,0,0,0,0,0,0,0,0,0,0,0,0,0,0,0,0,0,0,0,0,0,0,0,0,0,0,0,0,0,0,0,0,0,0,0,0,0,0,0,0,0,0,0,0,0,0,0,0,0,0,0,0,0,{"$f":"SUM(HCU138:HCU142,HCU144:HCU145)","v":0},0,0,0,0,0,0,0,0,0,0,0,0,0,0,0,0,0,0,0,0,0,0,0,0,0,0,0,0,0,0,0,0,0,0,0,0,0,0,0,0,0,0,0,0,0,0,0,0,0,0,0,0,0,0,0,0,0,0,0,0,0,0,0,{"$f":"SUM(HFG138:HFG142,HFG144:HFG145)","v":0},0,0,0,0,0,0,0,0,0,0,0,0,0,0,0,0,0,0,0,0,0,0,0,0,0,0,0,0,0,0,0,0,0,0,0,0,0,0,0,0,0,0,0,0,0,0,0,0,0,0,0,0,0,0,0,0,0,0,0,0,0,0,0,{"$f":"SUM(HHS138:HHS142,HHS144:HHS145)","v":0},0,0,0,0,0,0,0,0,0,0,0,0,0,0,0,0,0,0,0,0,0,0,0,0,0,0,0,0,0,0,0,0,0,0,0,0,0,0,0,0,0,0,0,0,0,0,0,0,0,0,0,0,0,0,0,0,0,0,0,0,0,0,0,{"$f":"SUM(HKE138:HKE142,HKE144:HKE145)","v":0},0,0,0,0,0,0,0,0,0,0,0,0,0,0,0,0,0,0,0,0,0,0,0,0,0,0,0,0,0,0,0,0,0,0,0,0,0,0,0,0,0,0,0,0,0,0,0,0,0,0,0,0,0,0,0,0,0,0,0,0,0,0,0,{"$f":"SUM(HMQ138:HMQ142,HMQ144:HMQ145)","v":0},0,0,0,0,0,0,0,0,0,0,0,0,0,0,0,0,0,0,0,0,0,0,0,0,0,0,0,0,0,0,0,0,0,0,0,0,0,0,0,0,0,0,0,0,0,0,0,0,0,0,0,0,0,0,0,0,0,0,0,0,0,0,0,{"$f":"SUM(HPC138:HPC142,HPC144:HPC145)","v":0},0,0,0,0,0,0,0,0,0,0,0,0,0,0,0,0,0,0,0,0,0,0,0,0,0,0,0,0,0,0,0,0,0,0,0,0,0,0,0,0,0,0,0,0,0,0,0,0,0,0,0,0,0,0,0,0,0,0,0,0,0,0,0,{"$f":"SUM(HRO138:HRO142,HRO144:HRO145)","v":0},0,0,0,0,0,0,0,0,0,0,0,0,0,0,0,0,0,0,0,0,0,0,0,0,0,0,0,0,0,0,0,0,0,0,0,0,0,0,0,0,0,0,0,0,0,0,0,0,0,0,0,0,0,0,0,0,0,0,0,0,0,0,0,{"$f":"SUM(HUA138:HUA142,HUA144:HUA145)","v":0},0,0,0,0,0,0,0,0,0,0,0,0,0,0,0,0,0,0,0,0,0,0,0,0,0,0,0,0,0,0,0,0,0,0,0,0,0,0,0,0,0,0,0,0,0,0,0,0,0,0,0,0,0,0,0,0,0,0,0,0,0,0,0,{"$f":"SUM(HWM138:HWM142,HWM144:HWM145)","v":0},0,0,0,0,0,0,0,0,0,0,0,0,0,0,0,0,0,0,0,0,0,0,0,0,0,0,0,0,0,0,0,0,0,0,0,0,0,0,0,0,0,0,0,0,0,0,0,0,0,0,0,0,0,0,0,0,0,0,0,0,0,0,0,{"$f":"SUM(HYY138:HYY142,HYY144:HYY145)","v":0},0,0,0,0,0,0,0,0,0,0,0,0,0,0,0,0,0,0,0,0,0,0,0,0,0,0,0,0,0,0,0,0,0,0,0,0,0,0,0,0,0,0,0,0,0,0,0,0,0,0,0,0,0,0,0,0,0,0,0,0,0,0,0,{"$f":"SUM(IBK138:IBK142,IBK144:IBK145)","v":0},0,0,0,0,0,0,0,0,0,0,0,0,0,0,0,0,0,0,0,0,0,0,0,0,0,0,0,0,0,0,0,0,0,0,0,0,0,0,0,0,0,0,0,0,0,0,0,0,0,0,0,0,0,0,0,0,0,0,0,0,0,0,0,{"$f":"SUM(IDW138:IDW142,IDW144:IDW145)","v":0},0,0,0,0,0,0,0,0,0,0,0,0,0,0,0,0,0,0,0,0,0,0,0,0,0,0,0,0,0,0,0,0,0,0,0,0,0,0,0,0,0,0,0,0,0,0,0,0,0,0,0,0,0,0,0,0,0,0,0,0,0,0,0,{"$f":"SUM(IGI138:IGI142,IGI144:IGI145)","v":0},0,0,0,0,0,0,0,0,0,0,0,0,0,0,0,0,0,0,0,0,0,0,0,0,0,0,0,0,0,0,0,0,0,0,0,0,0,0,0,0,0,0,0,0,0,0,0,0,0,0,0,0,0,0,0,0,0,0,0,0,0,0,0,{"$f":"SUM(IIU138:IIU142,IIU144:IIU145)","v":0},0,0,0,0,0,0,0,0,0,0,0,0,0,0,0,0,0,0,0,0,0,0,0,0,0,0,0,0,0,0,0,0,0,0,0,0,0,0,0,0,0,0,0,0,0,0,0,0,0,0,0,0,0,0,0,0,0,0,0,0,0,0,0,{"$f":"SUM(ILG138:ILG142,ILG144:ILG145)","v":0},0,0,0,0,0,0,0,0,0,0,0,0,0,0,0,0,0,0,0,0,0,0,0,0,0,0,0,0,0,0,0,0,0,0,0,0,0,0,0,0,0,0,0,0,0,0,0,0,0,0,0,0,0,0,0,0,0,0,0,0,0,0,0,{"$f":"SUM(INS138:INS142,INS144:INS145)","v":0},0,0,0,0,0,0,0,0,0,0,0,0,0,0,0,0,0,0,0,0,0,0,0,0,0,0,0,0,0,0,0,0,0,0,0,0,0,0,0,0,0,0,0,0,0,0,0,0,0,0,0,0,0,0,0,0,0,0,0,0,0,0,0,{"$f":"SUM(IQE138:IQE142,IQE144:IQE145)","v":0},0,0,0,0,0,0,0,0,0,0,0,0,0,0,0,0,0,0,0,0,0,0,0,0,0,0,0,0,0,0,0,0,0,0,0,0,0,0,0,0,0,0,0,0,0,0,0,0,0,0,0,0,0,0,0,0,0,0,0,0,0,0,0,{"$f":"SUM(ISQ138:ISQ142,ISQ144:ISQ145)","v":0},0,0,0,0,0,0,0,0,0,0,0,0,0,0,0,0,0,0,0,0,0,0,0,0,0,0,0,0,0,0,0,0,0,0,0,0,0,0,0,0,0,0,0,0,0,0,0,0,0,0,0,0,0,0,0,0,0,0,0,0,0,0,0,{"$f":"SUM(IVC138:IVC142,IVC144:IVC145)","v":0},0,0,0,0,0,0,0,0,0,0,0,0,0,0,0,0,0,0,0,0,0,0,0,0,0,0,0,0,0,0,0,0,0,0,0,0,0,0,0,0,0,0,0,0,0,0,0,0,0,0,0,0,0,0,0,0,0,0,0,0,0,0,0,{"$f":"SUM(IXO138:IXO142,IXO144:IXO145)","v":0},0,0,0,0,0,0,0,0,0,0,0,0,0,0,0,0,0,0,0,0,0,0,0,0,0,0,0,0,0,0,0,0,0,0,0,0,0,0,0,0,0,0,0,0,0,0,0,0,0,0,0,0,0,0,0,0,0,0,0,0,0,0,0,{"$f":"SUM(JAA138:JAA142,JAA144:JAA145)","v":0},0,0,0,0,0,0,0,0,0,0,0,0,0,0,0,0,0,0,0,0,0,0,0,0,0,0,0,0,0,0,0,0,0,0,0,0,0,0,0,0,0,0,0,0,0,0,0,0,0,0,0,0,0,0,0,0,0,0,0,0,0,0,0,{"$f":"SUM(JCM138:JCM142,JCM144:JCM145)","v":0},0,0,0,0,0,0,0,0,0,0,0,0,0,0,0,0,0,0,0,0,0,0,0,0,0,0,0,0,0,0,0,0,0,0,0,0,0,0,0,0,0,0,0,0,0,0,0,0,0,0,0,0,0,0,0,0,0,0,0,0,0,0,0,{"$f":"SUM(JEY138:JEY142,JEY144:JEY145)","v":0},0,0,0,0,0,0,0,0,0,0,0,0,0,0,0,0,0,0,0,0,0,0,0,0,0,0,0,0,0,0,0,0,0,0,0,0,0,0,0,0,0,0,0,0,0,0,0,0,0,0,0,0,0,0,0,0,0,0,0,0,0,0,0,{"$f":"SUM(JHK138:JHK142,JHK144:JHK145)","v":0},0,0,0,0,0,0,0,0,0,0,0,0,0,0,0,0,0,0,0,0,0,0,0,0,0,0,0,0,0,0,0,0,0,0,0,0,0,0,0,0,0,0,0,0,0,0,0,0,0,0,0,0,0,0,0,0,0,0,0,0,0,0,0,{"$f":"SUM(JJW138:JJW142,JJW144:JJW145)","v":0},0,0,0,0,0,0,0,0,0,0,0,0,0,0,0,0,0,0,0,0,0,0,0,0,0,0,0,0,0,0,0,0,0,0,0,0,0,0,0,0,0,0,0,0,0,0,0,0,0,0,0,0,0,0,0,0,0,0,0,0,0,0,0,{"$f":"SUM(JMI138:JMI142,JMI144:JMI145)","v":0},0,0,0,0,0,0,0,0,0,0,0,0,0,0,0,0,0,0,0,0,0,0,0,0,0,0,0,0,0,0,0,0,0,0,0,0,0,0,0,0,0,0,0,0,0,0,0,0,0,0,0,0,0,0,0,0,0,0,0,0,0,0,0,{"$f":"SUM(JOU138:JOU142,JOU144:JOU145)","v":0},0,0,0,0,0,0,0,0,0,0,0,0,0,0,0,0,0,0,0,0,0,0,0,0,0,0,0,0,0,0,0,0,0,0,0,0,0,0,0,0,0,0,0,0,0,0,0,0,0,0,0,0,0,0,0,0,0,0,0,0,0,0,0,{"$f":"SUM(JRG138:JRG142,JRG144:JRG145)","v":0},0,0,0,0,0,0,0,0,0,0,0,0,0,0,0,0,0,0,0,0,0,0,0,0,0,0,0,0,0,0,0,0,0,0,0,0,0,0,0,0,0,0,0,0,0,0,0,0,0,0,0,0,0,0,0,0,0,0,0,0,0,0,0,{"$f":"SUM(JTS138:JTS142,JTS144:JTS145)","v":0},0,0,0,0,0,0,0,0,0,0,0,0,0,0,0,0,0,0,0,0,0,0,0,0,0,0,0,0,0,0,0,0,0,0,0,0,0,0,0,0,0,0,0,0,0,0,0,0,0,0,0,0,0,0,0,0,0,0,0,0,0,0,0,{"$f":"SUM(JWE138:JWE142,JWE144:JWE145)","v":0},0,0,0,0,0,0,0,0,0,0,0,0,0,0,0,0,0,0,0,0,0,0,0,0,0,0,0,0,0,0,0,0,0,0,0,0,0,0,0,0,0,0,0,0,0,0,0,0,0,0,0,0,0,0,0,0,0,0,0,0,0,0,0,{"$f":"SUM(JYQ138:JYQ142,JYQ144:JYQ145)","v":0},0,0,0,0,0,0,0,0,0,0,0,0,0,0,0,0,0,0,0,0,0,0,0,0,0,0,0,0,0,0,0,0,0,0,0,0,0,0,0,0,0,0,0,0,0,0,0,0,0,0,0,0,0,0,0,0,0,0,0,0,0,0,0,{"$f":"SUM(KBC138:KBC142,KBC144:KBC145)","v":0},0,0,0,0,0,0,0,0,0,0,0,0,0,0,0,0,0,0,0,0,0,0,0,0,0,0,0,0,0,0,0,0,0,0,0,0,0,0,0,0,0,0,0,0,0,0,0,0,0,0,0,0,0,0,0,0,0,0,0,0,0,0,0,{"$f":"SUM(KDO138:KDO142,KDO144:KDO145)","v":0},0,0,0,0,0,0,0,0,0,0,0,0,0,0,0,0,0,0,0,0,0,0,0,0,0,0,0,0,0,0,0,0,0,0,0,0,0,0,0,0,0,0,0,0,0,0,0,0,0,0,0,0,0,0,0,0,0,0,0,0,0,0,0,{"$f":"SUM(KGA138:KGA142,KGA144:KGA145)","v":0},0,0,0,0,0,0,0,0,0,0,0,0,0,0,0,0,0,0,0,0,0,0,0,0,0,0,0,0,0,0,0,0,0,0,0,0,0,0,0,0,0,0,0,0,0,0,0,0,0,0,0,0,0,0,0,0,0,0,0,0,0,0,0,{"$f":"SUM(KIM138:KIM142,KIM144:KIM145)","v":0},0,0,0,0,0,0,0,0,0,0,0,0,0,0,0,0,0,0,0,0,0,0,0,0,0,0,0,0,0,0,0,0,0,0,0,0,0,0,0,0,0,0,0,0,0,0,0,0,0,0,0,0,0,0,0,0,0,0,0,0,0,0,0,{"$f":"SUM(KKY138:KKY142,KKY144:KKY145)","v":0},0,0,0,0,0,0,0,0,0,0,0,0,0,0,0,0,0,0,0,0,0,0,0,0,0,0,0,0,0,0,0,0,0,0,0,0,0,0,0,0,0,0,0,0,0,0,0,0,0,0,0,0,0,0,0,0,0,0,0,0,0,0,0,{"$f":"SUM(KNK138:KNK142,KNK144:KNK145)","v":0},0,0,0,0,0,0,0,0,0,0,0,0,0,0,0,0,0,0,0,0,0,0,0,0,0,0,0,0,0,0,0,0,0,0,0,0,0,0,0,0,0,0,0,0,0,0,0,0,0,0,0,0,0,0,0,0,0,0,0,0,0,0,0,{"$f":"SUM(KPW138:KPW142,KPW144:KPW145)","v":0},0,0,0,0,0,0,0,0,0,0,0,0,0,0,0,0,0,0,0,0,0,0,0,0,0,0,0,0,0,0,0,0,0,0,0,0,0,0,0,0,0,0,0,0,0,0,0,0,0,0,0,0,0,0,0,0,0,0,0,0,0,0,0,{"$f":"SUM(KSI138:KSI142,KSI144:KSI145)","v":0},0,0,0,0,0,0,0,0,0,0,0,0,0,0,0,0,0,0,0,0,0,0,0,0,0,0,0,0,0,0,0,0,0,0,0,0,0,0,0,0,0,0,0,0,0,0,0,0,0,0,0,0,0,0,0,0,0,0,0,0,0,0,0,{"$f":"SUM(KUU138:KUU142,KUU144:KUU145)","v":0},0,0,0,0,0,0,0,0,0,0,0,0,0,0,0,0,0,0,0,0,0,0,0,0,0,0,0,0,0,0,0,0,0,0,0,0,0,0,0,0,0,0,0,0,0,0,0,0,0,0,0,0,0,0,0,0,0,0,0,0,0,0,0,{"$f":"SUM(KXG138:KXG142,KXG144:KXG145)","v":0},0,0,0,0,0,0,0,0,0,0,0,0,0,0,0,0,0,0,0,0,0,0,0,0,0,0,0,0,0,0,0,0,0,0,0,0,0,0,0,0,0,0,0,0,0,0,0,0,0,0,0,0,0,0,0,0,0,0,0,0,0,0,0,{"$f":"SUM(KZS138:KZS142,KZS144:KZS145)","v":0},0,0,0,0,0,0,0,0,0,0,0,0,0,0,0,0,0,0,0,0,0,0,0,0,0,0,0,0,0,0,0,0,0,0,0,0,0,0,0,0,0,0,0,0,0,0,0,0,0,0,0,0,0,0,0,0,0,0,0,0,0,0,0,{"$f":"SUM(LCE138:LCE142,LCE144:LCE145)","v":0},0,0,0,0,0,0,0,0,0,0,0,0,0,0,0,0,0,0,0,0,0,0,0,0,0,0,0,0,0,0,0,0,0,0,0,0,0,0,0,0,0,0,0,0,0,0,0,0,0,0,0,0,0,0,0,0,0,0,0,0,0,0,0,{"$f":"SUM(LEQ138:LEQ142,LEQ144:LEQ145)","v":0},0,0,0,0,0,0,0,0,0,0,0,0,0,0,0,0,0,0,0,0,0,0,0,0,0,0,0,0,0,0,0,0,0,0,0,0,0,0,0,0,0,0,0,0,0,0,0,0,0,0,0,0,0,0,0,0,0,0,0,0,0,0,0,{"$f":"SUM(LHC138:LHC142,LHC144:LHC145)","v":0},0,0,0,0,0,0,0,0,0,0,0,0,0,0,0,0,0,0,0,0,0,0,0,0,0,0,0,0,0,0,0,0,0,0,0,0,0,0,0,0,0,0,0,0,0,0,0,0,0,0,0,0,0,0,0,0,0,0,0,0,0,0,0,{"$f":"SUM(LJO138:LJO142,LJO144:LJO145)","v":0},0,0,0,0,0,0,0,0,0,0,0,0,0,0,0,0,0,0,0,0,0,0,0,0,0,0,0,0,0,0,0,0,0,0,0,0,0,0,0,0,0,0,0,0,0,0,0,0,0,0,0,0,0,0,0,0,0,0,0,0,0,0,0,{"$f":"SUM(LMA138:LMA142,LMA144:LMA145)","v":0},0,0,0,0,0,0,0,0,0,0,0,0,0,0,0,0,0,0,0,0,0,0,0,0,0,0,0,0,0,0,0,0,0,0,0,0,0,0,0,0,0,0,0,0,0,0,0,0,0,0,0,0,0,0,0,0,0,0,0,0,0,0,0,{"$f":"SUM(LOM138:LOM142,LOM144:LOM145)","v":0},0,0,0,0,0,0,0,0,0,0,0,0,0,0,0,0,0,0,0,0,0,0,0,0,0,0,0,0,0,0,0,0,0,0,0,0,0,0,0,0,0,0,0,0,0,0,0,0,0,0,0,0,0,0,0,0,0,0,0,0,0,0,0,{"$f":"SUM(LQY138:LQY142,LQY144:LQY145)","v":0},0,0,0,0,0,0,0,0,0,0,0,0,0,0,0,0,0,0,0,0,0,0,0,0,0,0,0,0,0,0,0,0,0,0,0,0,0,0,0,0,0,0,0,0,0,0,0,0,0,0,0,0,0,0,0,0,0,0,0,0,0,0,0,{"$f":"SUM(LTK138:LTK142,LTK144:LTK145)","v":0},0,0,0,0,0,0,0,0,0,0,0,0,0,0,0,0,0,0,0,0,0,0,0,0,0,0,0,0,0,0,0,0,0,0,0,0,0,0,0,0,0,0,0,0,0,0,0,0,0,0,0,0,0,0,0,0,0,0,0,0,0,0,0,{"$f":"SUM(LVW138:LVW142,LVW144:LVW145)","v":0},0,0,0,0,0,0,0,0,0,0,0,0,0,0,0,0,0,0,0,0,0,0,0,0,0,0,0,0,0,0,0,0,0,0,0,0,0,0,0,0,0,0,0,0,0,0,0,0,0,0,0,0,0,0,0,0,0,0,0,0,0,0,0,{"$f":"SUM(LYI138:LYI142,LYI144:LYI145)","v":0},0,0,0,0,0,0,0,0,0,0,0,0,0,0,0,0,0,0,0,0,0,0,0,0,0,0,0,0,0,0,0,0,0,0,0,0,0,0,0,0,0,0,0,0,0,0,0,0,0,0,0,0,0,0,0,0,0,0,0,0,0,0,0,{"$f":"SUM(MAU138:MAU142,MAU144:MAU145)","v":0},0,0,0,0,0,0,0,0,0,0,0,0,0,0,0,0,0,0,0,0,0,0,0,0,0,0,0,0,0,0,0,0,0,0,0,0,0,0,0,0,0,0,0,0,0,0,0,0,0,0,0,0,0,0,0,0,0,0,0,0,0,0,0,{"$f":"SUM(MDG138:MDG142,MDG144:MDG145)","v":0},0,0,0,0,0,0,0,0,0,0,0,0,0,0,0,0,0,0,0,0,0,0,0,0,0,0,0,0,0,0,0,0,0,0,0,0,0,0,0,0,0,0,0,0,0,0,0,0,0,0,0,0,0,0,0,0,0,0,0,0,0,0,0,{"$f":"SUM(MFS138:MFS142,MFS144:MFS145)","v":0},0,0,0,0,0,0,0,0,0,0,0,0,0,0,0,0,0,0,0,0,0,0,0,0,0,0,0,0,0,0,0,0,0,0,0,0,0,0,0,0,0,0,0,0,0,0,0,0,0,0,0,0,0,0,0,0,0,0,0,0,0,0,0,{"$f":"SUM(MIE138:MIE142,MIE144:MIE145)","v":0},0,0,0,0,0,0,0,0,0,0,0,0,0,0,0,0,0,0,0,0,0,0,0,0,0,0,0,0,0,0,0,0,0,0,0,0,0,0,0,0,0,0,0,0,0,0,0,0,0,0,0,0,0,0,0,0,0,0,0,0,0,0,0,{"$f":"SUM(MKQ138:MKQ142,MKQ144:MKQ145)","v":0},0,0,0,0,0,0,0,0,0,0,0,0,0,0,0,0,0,0,0,0,0,0,0,0,0,0,0,0,0,0,0,0,0,0,0,0,0,0,0,0,0,0,0,0,0,0,0,0,0,0,0,0,0,0,0,0,0,0,0,0,0,0,0,{"$f":"SUM(MNC138:MNC142,MNC144:MNC145)","v":0},0,0,0,0,0,0,0,0,0,0,0,0,0,0,0,0,0,0,0,0,0,0,0,0,0,0,0,0,0,0,0,0,0,0,0,0,0,0,0,0,0,0,0,0,0,0,0,0,0,0,0,0,0,0,0,0,0,0,0,0,0,0,0,{"$f":"SUM(MPO138:MPO142,MPO144:MPO145)","v":0},0,0,0,0,0,0,0,0,0,0,0,0,0,0,0,0,0,0,0,0,0,0,0,0,0,0,0,0,0,0,0,0,0,0,0,0,0,0,0,0,0,0,0,0,0,0,0,0,0,0,0,0,0,0,0,0,0,0,0,0,0,0,0,{"$f":"SUM(MSA138:MSA142,MSA144:MSA145)","v":0},0,0,0,0,0,0,0,0,0,0,0,0,0,0,0,0,0,0,0,0,0,0,0,0,0,0,0,0,0,0,0,0,0,0,0,0,0,0,0,0,0,0,0,0,0,0,0,0,0,0,0,0,0,0,0,0,0,0,0,0,0,0,0,{"$f":"SUM(MUM138:MUM142,MUM144:MUM145)","v":0},0,0,0,0,0,0,0,0,0,0,0,0,0,0,0,0,0,0,0,0,0,0,0,0,0,0,0,0,0,0,0,0,0,0,0,0,0,0,0,0,0,0,0,0,0,0,0,0,0,0,0,0,0,0,0,0,0,0,0,0,0,0,0,{"$f":"SUM(MWY138:MWY142,MWY144:MWY145)","v":0},0,0,0,0,0,0,0,0,0,0,0,0,0,0,0,0,0,0,0,0,0,0,0,0,0,0,0,0,0,0,0,0,0,0,0,0,0,0,0,0,0,0,0,0,0,0,0,0,0,0,0,0,0,0,0,0,0,0,0,0,0,0,0,{"$f":"SUM(MZK138:MZK142,MZK144:MZK145)","v":0},0,0,0,0,0,0,0,0,0,0,0,0,0,0,0,0,0,0,0,0,0,0,0,0,0,0,0,0,0,0,0,0,0,0,0,0,0,0,0,0,0,0,0,0,0,0,0,0,0,0,0,0,0,0,0,0,0,0,0,0,0,0,0,{"$f":"SUM(NBW138:NBW142,NBW144:NBW145)","v":0},0,0,0,0,0,0,0,0,0,0,0,0,0,0,0,0,0,0,0,0,0,0,0,0,0,0,0,0,0,0,0,0,0,0,0,0,0,0,0,0,0,0,0,0,0,0,0,0,0,0,0,0,0,0,0,0,0,0,0,0,0,0,0,{"$f":"SUM(NEI138:NEI142,NEI144:NEI145)","v":0},0,0,0,0,0,0,0,0,0,0,0,0,0,0,0,0,0,0,0,0,0,0,0,0,0,0,0,0,0,0,0,0,0,0,0,0,0,0,0,0,0,0,0,0,0,0,0,0,0,0,0,0,0,0,0,0,0,0,0,0,0,0,0,{"$f":"SUM(NGU138:NGU142,NGU144:NGU145)","v":0},0,0,0,0,0,0,0,0,0,0,0,0,0,0,0,0,0,0,0,0,0,0,0,0,0,0,0,0,0,0,0,0,0,0,0,0,0,0,0,0,0,0,0,0,0,0,0,0,0,0,0,0,0,0,0,0,0,0,0,0,0,0,0,{"$f":"SUM(NJG138:NJG142,NJG144:NJG145)","v":0},0,0,0,0,0,0,0,0,0,0,0,0,0,0,0,0,0,0,0,0,0,0,0,0,0,0,0,0,0,0,0,0,0,0,0,0,0,0,0,0,0,0,0,0,0,0,0,0,0,0,0,0,0,0,0,0,0,0,0,0,0,0,0,{"$f":"SUM(NLS138:NLS142,NLS144:NLS145)","v":0},0,0,0,0,0,0,0,0,0,0,0,0,0,0,0,0,0,0,0,0,0,0,0,0,0,0,0,0,0,0,0,0,0,0,0,0,0,0,0,0,0,0,0,0,0,0,0,0,0,0,0,0,0,0,0,0,0,0,0,0,0,0,0,{"$f":"SUM(NOE138:NOE142,NOE144:NOE145)","v":0},0,0,0,0,0,0,0,0,0,0,0,0,0,0,0,0,0,0,0,0,0,0,0,0,0,0,0,0,0,0,0,0,0,0,0,0,0,0,0,0,0,0,0,0,0,0,0,0,0,0,0,0,0,0,0,0,0,0,0,0,0,0,0,{"$f":"SUM(NQQ138:NQQ142,NQQ144:NQQ145)","v":0},0,0,0,0,0,0,0,0,0,0,0,0,0,0,0,0,0,0,0,0,0,0,0,0,0,0,0,0,0,0,0,0,0,0,0,0,0,0,0,0,0,0,0,0,0,0,0,0,0,0,0,0,0,0,0,0,0,0,0,0,0,0,0,{"$f":"SUM(NTC138:NTC142,NTC144:NTC145)","v":0},0,0,0,0,0,0,0,0,0,0,0,0,0,0,0,0,0,0,0,0,0,0,0,0,0,0,0,0,0,0,0,0,0,0,0,0,0,0,0,0,0,0,0,0,0,0,0,0,0,0,0,0,0,0,0,0,0,0,0,0,0,0,0,{"$f":"SUM(NVO138:NVO142,NVO144:NVO145)","v":0},0,0,0,0,0,0,0,0,0,0,0,0,0,0,0,0,0,0,0,0,0,0,0,0,0,0,0,0,0,0,0,0,0,0,0,0,0,0,0,0,0,0,0,0,0,0,0,0,0,0,0,0,0,0,0,0,0,0,0,0,0,0,0,{"$f":"SUM(NYA138:NYA142,NYA144:NYA145)","v":0},0,0,0,0,0,0,0,0,0,0,0,0,0,0,0,0,0,0,0,0,0,0,0,0,0,0,0,0,0,0,0,0,0,0,0,0,0,0,0,0,0,0,0,0,0,0,0,0,0,0,0,0,0,0,0,0,0,0,0,0,0,0,0,{"$f":"SUM(OAM138:OAM142,OAM144:OAM145)","v":0},0,0,0,0,0,0,0,0,0,0,0,0,0,0,0,0,0,0,0,0,0,0,0,0,0,0,0,0,0,0,0,0,0,0,0,0,0,0,0,0,0,0,0,0,0,0,0,0,0,0,0,0,0,0,0,0,0,0,0,0,0,0,0,{"$f":"SUM(OCY138:OCY142,OCY144:OCY145)","v":0},0,0,0,0,0,0,0,0,0,0,0,0,0,0,0,0,0,0,0,0,0,0,0,0,0,0,0,0,0,0,0,0,0,0,0,0,0,0,0,0,0,0,0,0,0,0,0,0,0,0,0,0,0,0,0,0,0,0,0,0,0,0,0,{"$f":"SUM(OFK138:OFK142,OFK144:OFK145)","v":0},0,0,0,0,0,0,0,0,0,0,0,0,0,0,0,0,0,0,0,0,0,0,0,0,0,0,0,0,0,0,0,0,0,0,0,0,0,0,0,0,0,0,0,0,0,0,0,0,0,0,0,0,0,0,0,0,0,0,0,0,0,0,0,{"$f":"SUM(OHW138:OHW142,OHW144:OHW145)","v":0},0,0,0,0,0,0,0,0,0,0,0,0,0,0,0,0,0,0,0,0,0,0,0,0,0,0,0,0,0,0,0,0,0,0,0,0,0,0,0,0,0,0,0,0,0,0,0,0,0,0,0,0,0,0,0,0,0,0,0,0,0,0,0,{"$f":"SUM(OKI138:OKI142,OKI144:OKI145)","v":0},0,0,0,0,0,0,0,0,0,0,0,0,0,0,0,0,0,0,0,0,0,0,0,0,0,0,0,0,0,0,0,0,0,0,0,0,0,0,0,0,0,0,0,0,0,0,0,0,0,0,0,0,0,0,0,0,0,0,0,0,0,0,0,{"$f":"SUM(OMU138:OMU142,OMU144:OMU145)","v":0},0,0,0,0,0,0,0,0,0,0,0,0,0,0,0,0,0,0,0,0,0,0,0,0,0,0,0,0,0,0,0,0,0,0,0,0,0,0,0,0,0,0,0,0,0,0,0,0,0,0,0,0,0,0,0,0,0,0,0,0,0,0,0,{"$f":"SUM(OPG138:OPG142,OPG144:OPG145)","v":0},0,0,0,0,0,0,0,0,0,0,0,0,0,0,0,0,0,0,0,0,0,0,0,0,0,0,0,0,0,0,0,0,0,0,0,0,0,0,0,0,0,0,0,0,0,0,0,0,0,0,0,0,0,0,0,0,0,0,0,0,0,0,0,{"$f":"SUM(ORS138:ORS142,ORS144:ORS145)","v":0},0,0,0,0,0,0,0,0,0,0,0,0,0,0,0,0,0,0,0,0,0,0,0,0,0,0,0,0,0,0,0,0,0,0,0,0,0,0,0,0,0,0,0,0,0,0,0,0,0,0,0,0,0,0,0,0,0,0,0,0,0,0,0,{"$f":"SUM(OUE138:OUE142,OUE144:OUE145)","v":0},0,0,0,0,0,0,0,0,0,0,0,0,0,0,0,0,0,0,0,0,0,0,0,0,0,0,0,0,0,0,0,0,0,0,0,0,0,0,0,0,0,0,0,0,0,0,0,0,0,0,0,0,0,0,0,0,0,0,0,0,0,0,0,{"$f":"SUM(OWQ138:OWQ142,OWQ144:OWQ145)","v":0},0,0,0,0,0,0,0,0,0,0,0,0,0,0,0,0,0,0,0,0,0,0,0,0,0,0,0,0,0,0,0,0,0,0,0,0,0,0,0,0,0,0,0,0,0,0,0,0,0,0,0,0,0,0,0,0,0,0,0,0,0,0,0,{"$f":"SUM(OZC138:OZC142,OZC144:OZC145)","v":0},0,0,0,0,0,0,0,0,0,0,0,0,0,0,0,0,0,0,0,0,0,0,0,0,0,0,0,0,0,0,0,0,0,0,0,0,0,0,0,0,0,0,0,0,0,0,0,0,0,0,0,0,0,0,0,0,0,0,0,0,0,0,0,{"$f":"SUM(PBO138:PBO142,PBO144:PBO145)","v":0},0,0,0,0,0,0,0,0,0,0,0,0,0,0,0,0,0,0,0,0,0,0,0,0,0,0,0,0,0,0,0,0,0,0,0,0,0,0,0,0,0,0,0,0,0,0,0,0,0,0,0,0,0,0,0,0,0,0,0,0,0,0,0,{"$f":"SUM(PEA138:PEA142,PEA144:PEA145)","v":0},0,0,0,0,0,0,0,0,0,0,0,0,0,0,0,0,0,0,0,0,0,0,0,0,0,0,0,0,0,0,0,0,0,0,0,0,0,0,0,0,0,0,0,0,0,0,0,0,0,0,0,0,0,0,0,0,0,0,0,0,0,0,0,{"$f":"SUM(PGM138:PGM142,PGM144:PGM145)","v":0},0,0,0,0,0,0,0,0,0,0,0,0,0,0,0,0,0,0,0,0,0,0,0,0,0,0,0,0,0,0,0,0,0,0,0,0,0,0,0,0,0,0,0,0,0,0,0,0,0,0,0,0,0,0,0,0,0,0,0,0,0,0,0,{"$f":"SUM(PIY138:PIY142,PIY144:PIY145)","v":0},0,0,0,0,0,0,0,0,0,0,0,0,0,0,0,0,0,0,0,0,0,0,0,0,0,0,0,0,0,0,0,0,0,0,0,0,0,0,0,0,0,0,0,0,0,0,0,0,0,0,0,0,0,0,0,0,0,0,0,0,0,0,0,{"$f":"SUM(PLK138:PLK142,PLK144:PLK145)","v":0},0,0,0,0,0,0,0,0,0,0,0,0,0,0,0,0,0,0,0,0,0,0,0,0,0,0,0,0,0,0,0,0,0,0,0,0,0,0,0,0,0,0,0,0,0,0,0,0,0,0,0,0,0,0,0,0,0,0,0,0,0,0,0,{"$f":"SUM(PNW138:PNW142,PNW144:PNW145)","v":0},0,0,0,0,0,0,0,0,0,0,0,0,0,0,0,0,0,0,0,0,0,0,0,0,0,0,0,0,0,0,0,0,0,0,0,0,0,0,0,0,0,0,0,0,0,0,0,0,0,0,0,0,0,0,0,0,0,0,0,0,0,0,0,{"$f":"SUM(PQI138:PQI142,PQI144:PQI145)","v":0},0,0,0,0,0,0,0,0,0,0,0,0,0,0,0,0,0,0,0,0,0,0,0,0,0,0,0,0,0,0,0,0,0,0,0,0,0,0,0,0,0,0,0,0,0,0,0,0,0,0,0,0,0,0,0,0,0,0,0,0,0,0,0,{"$f":"SUM(PSU138:PSU142,PSU144:PSU145)","v":0},0,0,0,0,0,0,0,0,0,0,0,0,0,0,0,0,0,0,0,0,0,0,0,0,0,0,0,0,0,0,0,0,0,0,0,0,0,0,0,0,0,0,0,0,0,0,0,0,0,0,0,0,0,0,0,0,0,0,0,0,0,0,0,{"$f":"SUM(PVG138:PVG142,PVG144:PVG145)","v":0},0,0,0,0,0,0,0,0,0,0,0,0,0,0,0,0,0,0,0,0,0,0,0,0,0,0,0,0,0,0,0,0,0,0,0,0,0,0,0,0,0,0,0,0,0,0,0,0,0,0,0,0,0,0,0,0,0,0,0,0,0,0,0,{"$f":"SUM(PXS138:PXS142,PXS144:PXS145)","v":0},0,0,0,0,0,0,0,0,0,0,0,0,0,0,0,0,0,0,0,0,0,0,0,0,0,0,0,0,0,0,0,0,0,0,0,0,0,0,0,0,0,0,0,0,0,0,0,0,0,0,0,0,0,0,0,0,0,0,0,0,0,0,0,{"$f":"SUM(QAE138:QAE142,QAE144:QAE145)","v":0},0,0,0,0,0,0,0,0,0,0,0,0,0,0,0,0,0,0,0,0,0,0,0,0,0,0,0,0,0,0,0,0,0,0,0,0,0,0,0,0,0,0,0,0,0,0,0,0,0,0,0,0,0,0,0,0,0,0,0,0,0,0,0,{"$f":"SUM(QCQ138:QCQ142,QCQ144:QCQ145)","v":0},0,0,0,0,0,0,0,0,0,0,0,0,0,0,0,0,0,0,0,0,0,0,0,0,0,0,0,0,0,0,0,0,0,0,0,0,0,0,0,0,0,0,0,0,0,0,0,0,0,0,0,0,0,0,0,0,0,0,0,0,0,0,0,{"$f":"SUM(QFC138:QFC142,QFC144:QFC145)","v":0},0,0,0,0,0,0,0,0,0,0,0,0,0,0,0,0,0,0,0,0,0,0,0,0,0,0,0,0,0,0,0,0,0,0,0,0,0,0,0,0,0,0,0,0,0,0,0,0,0,0,0,0,0,0,0,0,0,0,0,0,0,0,0,{"$f":"SUM(QHO138:QHO142,QHO144:QHO145)","v":0},0,0,0,0,0,0,0,0,0,0,0,0,0,0,0,0,0,0,0,0,0,0,0,0,0,0,0,0,0,0,0,0,0,0,0,0,0,0,0,0,0,0,0,0,0,0,0,0,0,0,0,0,0,0,0,0,0,0,0,0,0,0,0,{"$f":"SUM(QKA138:QKA142,QKA144:QKA145)","v":0},0,0,0,0,0,0,0,0,0,0,0,0,0,0,0,0,0,0,0,0,0,0,0,0,0,0,0,0,0,0,0,0,0,0,0,0,0,0,0,0,0,0,0,0,0,0,0,0,0,0,0,0,0,0,0,0,0,0,0,0,0,0,0,{"$f":"SUM(QMM138:QMM142,QMM144:QMM145)","v":0},0,0,0,0,0,0,0,0,0,0,0,0,0,0,0,0,0,0,0,0,0,0,0,0,0,0,0,0,0,0,0,0,0,0,0,0,0,0,0,0,0,0,0,0,0,0,0,0,0,0,0,0,0,0,0,0,0,0,0,0,0,0,0,{"$f":"SUM(QOY138:QOY142,QOY144:QOY145)","v":0},0,0,0,0,0,0,0,0,0,0,0,0,0,0,0,0,0,0,0,0,0,0,0,0,0,0,0,0,0,0,0,0,0,0,0,0,0,0,0,0,0,0,0,0,0,0,0,0,0,0,0,0,0,0,0,0,0,0,0,0,0,0,0,{"$f":"SUM(QRK138:QRK142,QRK144:QRK145)","v":0},0,0,0,0,0,0,0,0,0,0,0,0,0,0,0,0,0,0,0,0,0,0,0,0,0,0,0,0,0,0,0,0,0,0,0,0,0,0,0,0,0,0,0,0,0,0,0,0,0,0,0,0,0,0,0,0,0,0,0,0,0,0,0,{"$f":"SUM(QTW138:QTW142,QTW144:QTW145)","v":0},0,0,0,0,0,0,0,0,0,0,0,0,0,0,0,0,0,0,0,0,0,0,0,0,0,0,0,0,0,0,0,0,0,0,0,0,0,0,0,0,0,0,0,0,0,0,0,0,0,0,0,0,0,0,0,0,0,0,0,0,0,0,0,{"$f":"SUM(QWI138:QWI142,QWI144:QWI145)","v":0},0,0,0,0,0,0,0,0,0,0,0,0,0,0,0,0,0,0,0,0,0,0,0,0,0,0,0,0,0,0,0,0,0,0,0,0,0,0,0,0,0,0,0,0,0,0,0,0,0,0,0,0,0,0,0,0,0,0,0,0,0,0,0,{"$f":"SUM(QYU138:QYU142,QYU144:QYU145)","v":0},0,0,0,0,0,0,0,0,0,0,0,0,0,0,0,0,0,0,0,0,0,0,0,0,0,0,0,0,0,0,0,0,0,0,0,0,0,0,0,0,0,0,0,0,0,0,0,0,0,0,0,0,0,0,0,0,0,0,0,0,0,0,0,{"$f":"SUM(RBG138:RBG142,RBG144:RBG145)","v":0},0,0,0,0,0,0,0,0,0,0,0,0,0,0,0,0,0,0,0,0,0,0,0,0,0,0,0,0,0,0,0,0,0,0,0,0,0,0,0,0,0,0,0,0,0,0,0,0,0,0,0,0,0,0,0,0,0,0,0,0,0,0,0,{"$f":"SUM(RDS138:RDS142,RDS144:RDS145)","v":0},0,0,0,0,0,0,0,0,0,0,0,0,0,0,0,0,0,0,0,0,0,0,0,0,0,0,0,0,0,0,0,0,0,0,0,0,0,0,0,0,0,0,0,0,0,0,0,0,0,0,0,0,0,0,0,0,0,0,0,0,0,0,0,{"$f":"SUM(RGE138:RGE142,RGE144:RGE145)","v":0},0,0,0,0,0,0,0,0,0,0,0,0,0,0,0,0,0,0,0,0,0,0,0,0,0,0,0,0,0,0,0,0,0,0,0,0,0,0,0,0,0,0,0,0,0,0,0,0,0,0,0,0,0,0,0,0,0,0,0,0,0,0,0,{"$f":"SUM(RIQ138:RIQ142,RIQ144:RIQ145)","v":0},0,0,0,0,0,0,0,0,0,0,0,0,0,0,0,0,0,0,0,0,0,0,0,0,0,0,0,0,0,0,0,0,0,0,0,0,0,0,0,0,0,0,0,0,0,0,0,0,0,0,0,0,0,0,0,0,0,0,0,0,0,0,0,{"$f":"SUM(RLC138:RLC142,RLC144:RLC145)","v":0},0,0,0,0,0,0,0,0,0,0,0,0,0,0,0,0,0,0,0,0,0,0,0,0,0,0,0,0,0,0,0,0,0,0,0,0,0,0,0,0,0,0,0,0,0,0,0,0,0,0,0,0,0,0,0,0,0,0,0,0,0,0,0,{"$f":"SUM(RNO138:RNO142,RNO144:RNO145)","v":0},0,0,0,0,0,0,0,0,0,0,0,0,0,0,0,0,0,0,0,0,0,0,0,0,0,0,0,0,0,0,0,0,0,0,0,0,0,0,0,0,0,0,0,0,0,0,0,0,0,0,0,0,0,0,0,0,0,0,0,0,0,0,0,{"$f":"SUM(RQA138:RQA142,RQA144:RQA145)","v":0},0,0,0,0,0,0,0,0,0,0,0,0,0,0,0,0,0,0,0,0,0,0,0,0,0,0,0,0,0,0,0,0,0,0,0,0,0,0,0,0,0,0,0,0,0,0,0,0,0,0,0,0,0,0,0,0,0,0,0,0,0,0,0,{"$f":"SUM(RSM138:RSM142,RSM144:RSM145)","v":0},0,0,0,0,0,0,0,0,0,0,0,0,0,0,0,0,0,0,0,0,0,0,0,0,0,0,0,0,0,0,0,0,0,0,0,0,0,0,0,0,0,0,0,0,0,0,0,0,0,0,0,0,0,0,0,0,0,0,0,0,0,0,0,{"$f":"SUM(RUY138:RUY142,RUY144:RUY145)","v":0},0,0,0,0,0,0,0,0,0,0,0,0,0,0,0,0,0,0,0,0,0,0,0,0,0,0,0,0,0,0,0,0,0,0,0,0,0,0,0,0,0,0,0,0,0,0,0,0,0,0,0,0,0,0,0,0,0,0,0,0,0,0,0,{"$f":"SUM(RXK138:RXK142,RXK144:RXK145)","v":0},0,0,0,0,0,0,0,0,0,0,0,0,0,0,0,0,0,0,0,0,0,0,0,0,0,0,0,0,0,0,0,0,0,0,0,0,0,0,0,0,0,0,0,0,0,0,0,0,0,0,0,0,0,0,0,0,0,0,0,0,0,0,0,{"$f":"SUM(RZW138:RZW142,RZW144:RZW145)","v":0},0,0,0,0,0,0,0,0,0,0,0,0,0,0,0,0,0,0,0,0,0,0,0,0,0,0,0,0,0,0,0,0,0,0,0,0,0,0,0,0,0,0,0,0,0,0,0,0,0,0,0,0,0,0,0,0,0,0,0,0,0,0,0,{"$f":"SUM(SCI138:SCI142,SCI144:SCI145)","v":0},0,0,0,0,0,0,0,0,0,0,0,0,0,0,0,0,0,0,0,0,0,0,0,0,0,0,0,0,0,0,0,0,0,0,0,0,0,0,0,0,0,0,0,0,0,0,0,0,0,0,0,0,0,0,0,0,0,0,0,0,0,0,0,{"$f":"SUM(SEU138:SEU142,SEU144:SEU145)","v":0},0,0,0,0,0,0,0,0,0,0,0,0,0,0,0,0,0,0,0,0,0,0,0,0,0,0,0,0,0,0,0,0,0,0,0,0,0,0,0,0,0,0,0,0,0,0,0,0,0,0,0,0,0,0,0,0,0,0,0,0,0,0,0,{"$f":"SUM(SHG138:SHG142,SHG144:SHG145)","v":0},0,0,0,0,0,0,0,0,0,0,0,0,0,0,0,0,0,0,0,0,0,0,0,0,0,0,0,0,0,0,0,0,0,0,0,0,0,0,0,0,0,0,0,0,0,0,0,0,0,0,0,0,0,0,0,0,0,0,0,0,0,0,0,{"$f":"SUM(SJS138:SJS142,SJS144:SJS145)","v":0},0,0,0,0,0,0,0,0,0,0,0,0,0,0,0,0,0,0,0,0,0,0,0,0,0,0,0,0,0,0,0,0,0,0,0,0,0,0,0,0,0,0,0,0,0,0,0,0,0,0,0,0,0,0,0,0,0,0,0,0,0,0,0,{"$f":"SUM(SME138:SME142,SME144:SME145)","v":0},0,0,0,0,0,0,0,0,0,0,0,0,0,0,0,0,0,0,0,0,0,0,0,0,0,0,0,0,0,0,0,0,0,0,0,0,0,0,0,0,0,0,0,0,0,0,0,0,0,0,0,0,0,0,0,0,0,0,0,0,0,0,0,{"$f":"SUM(SOQ138:SOQ142,SOQ144:SOQ145)","v":0},0,0,0,0,0,0,0,0,0,0,0,0,0,0,0,0,0,0,0,0,0,0,0,0,0,0,0,0,0,0,0,0,0,0,0,0,0,0,0,0,0,0,0,0,0,0,0,0,0,0,0,0,0,0,0,0,0,0,0,0,0,0,0,{"$f":"SUM(SRC138:SRC142,SRC144:SRC145)","v":0},0,0,0,0,0,0,0,0,0,0,0,0,0,0,0,0,0,0,0,0,0,0,0,0,0,0,0,0,0,0,0,0,0,0,0,0,0,0,0,0,0,0,0,0,0,0,0,0,0,0,0,0,0,0,0,0,0,0,0,0,0,0,0,{"$f":"SUM(STO138:STO142,STO144:STO145)","v":0},0,0,0,0,0,0,0,0,0,0,0,0,0,0,0,0,0,0,0,0,0,0,0,0,0,0,0,0,0,0,0,0,0,0,0,0,0,0,0,0,0,0,0,0,0,0,0,0,0,0,0,0,0,0,0,0,0,0,0,0,0,0,0,{"$f":"SUM(SWA138:SWA142,SWA144:SWA145)","v":0},0,0,0,0,0,0,0,0,0,0,0,0,0,0,0,0,0,0,0,0,0,0,0,0,0,0,0,0,0,0,0,0,0,0,0,0,0,0,0,0,0,0,0,0,0,0,0,0,0,0,0,0,0,0,0,0,0,0,0,0,0,0,0,{"$f":"SUM(SYM138:SYM142,SYM144:SYM145)","v":0},0,0,0,0,0,0,0,0,0,0,0,0,0,0,0,0,0,0,0,0,0,0,0,0,0,0,0,0,0,0,0,0,0,0,0,0,0,0,0,0,0,0,0,0,0,0,0,0,0,0,0,0,0,0,0,0,0,0,0,0,0,0,0,{"$f":"SUM(TAY138:TAY142,TAY144:TAY145)","v":0},0,0,0,0,0,0,0,0,0,0,0,0,0,0,0,0,0,0,0,0,0,0,0,0,0,0,0,0,0,0,0,0,0,0,0,0,0,0,0,0,0,0,0,0,0,0,0,0,0,0,0,0,0,0,0,0,0,0,0,0,0,0,0,{"$f":"SUM(TDK138:TDK142,TDK144:TDK145)","v":0},0,0,0,0,0,0,0,0,0,0,0,0,0,0,0,0,0,0,0,0,0,0,0,0,0,0,0,0,0,0,0,0,0,0,0,0,0,0,0,0,0,0,0,0,0,0,0,0,0,0,0,0,0,0,0,0,0,0,0,0,0,0,0,{"$f":"SUM(TFW138:TFW142,TFW144:TFW145)","v":0},0,0,0,0,0,0,0,0,0,0,0,0,0,0,0,0,0,0,0,0,0,0,0,0,0,0,0,0,0,0,0,0,0,0,0,0,0,0,0,0,0,0,0,0,0,0,0,0,0,0,0,0,0,0,0,0,0,0,0,0,0,0,0,{"$f":"SUM(TII138:TII142,TII144:TII145)","v":0},0,0,0,0,0,0,0,0,0,0,0,0,0,0,0,0,0,0,0,0,0,0,0,0,0,0,0,0,0,0,0,0,0,0,0,0,0,0,0,0,0,0,0,0,0,0,0,0,0,0,0,0,0,0,0,0,0,0,0,0,0,0,0,{"$f":"SUM(TKU138:TKU142,TKU144:TKU145)","v":0},0,0,0,0,0,0,0,0,0,0,0,0,0,0,0,0,0,0,0,0,0,0,0,0,0,0,0,0,0,0,0,0,0,0,0,0,0,0,0,0,0,0,0,0,0,0,0,0,0,0,0,0,0,0,0,0,0,0,0,0,0,0,0,{"$f":"SUM(TNG138:TNG142,TNG144:TNG145)","v":0},0,0,0,0,0,0,0,0,0,0,0,0,0,0,0,0,0,0,0,0,0,0,0,0,0,0,0,0,0,0,0,0,0,0,0,0,0,0,0,0,0,0,0,0,0,0,0,0,0,0,0,0,0,0,0,0,0,0,0,0,0,0,0,{"$f":"SUM(TPS138:TPS142,TPS144:TPS145)","v":0},0,0,0,0,0,0,0,0,0,0,0,0,0,0,0,0,0,0,0,0,0,0,0,0,0,0,0,0,0,0,0,0,0,0,0,0,0,0,0,0,0,0,0,0,0,0,0,0,0,0,0,0,0,0,0,0,0,0,0,0,0,0,0,{"$f":"SUM(TSE138:TSE142,TSE144:TSE145)","v":0},0,0,0,0,0,0,0,0,0,0,0,0,0,0,0,0,0,0,0,0,0,0,0,0,0,0,0,0,0,0,0,0,0,0,0,0,0,0,0,0,0,0,0,0,0,0,0,0,0,0,0,0,0,0,0,0,0,0,0,0,0,0,0,{"$f":"SUM(TUQ138:TUQ142,TUQ144:TUQ145)","v":0},0,0,0,0,0,0,0,0,0,0,0,0,0,0,0,0,0,0,0,0,0,0,0,0,0,0,0,0,0,0,0,0,0,0,0,0,0,0,0,0,0,0,0,0,0,0,0,0,0,0,0,0,0,0,0,0,0,0,0,0,0,0,0,{"$f":"SUM(TXC138:TXC142,TXC144:TXC145)","v":0},0,0,0,0,0,0,0,0,0,0,0,0,0,0,0,0,0,0,0,0,0,0,0,0,0,0,0,0,0,0,0,0,0,0,0,0,0,0,0,0,0,0,0,0,0,0,0,0,0,0,0,0,0,0,0,0,0,0,0,0,0,0,0,{"$f":"SUM(TZO138:TZO142,TZO144:TZO145)","v":0},0,0,0,0,0,0,0,0,0,0,0,0,0,0,0,0,0,0,0,0,0,0,0,0,0,0,0,0,0,0,0,0,0,0,0,0,0,0,0,0,0,0,0,0,0,0,0,0,0,0,0,0,0,0,0,0,0,0,0,0,0,0,0,{"$f":"SUM(UCA138:UCA142,UCA144:UCA145)","v":0},0,0,0,0,0,0,0,0,0,0,0,0,0,0,0,0,0,0,0,0,0,0,0,0,0,0,0,0,0,0,0,0,0,0,0,0,0,0,0,0,0,0,0,0,0,0,0,0,0,0,0,0,0,0,0,0,0,0,0,0,0,0,0,{"$f":"SUM(UEM138:UEM142,UEM144:UEM145)","v":0},0,0,0,0,0,0,0,0,0,0,0,0,0,0,0,0,0,0,0,0,0,0,0,0,0,0,0,0,0,0,0,0,0,0,0,0,0,0,0,0,0,0,0,0,0,0,0,0,0,0,0,0,0,0,0,0,0,0,0,0,0,0,0,{"$f":"SUM(UGY138:UGY142,UGY144:UGY145)","v":0},0,0,0,0,0,0,0,0,0,0,0,0,0,0,0,0,0,0,0,0,0,0,0,0,0,0,0,0,0,0,0,0,0,0,0,0,0,0,0,0,0,0,0,0,0,0,0,0,0,0,0,0,0,0,0,0,0,0,0,0,0,0,0,{"$f":"SUM(UJK138:UJK142,UJK144:UJK145)","v":0},0,0,0,0,0,0,0,0,0,0,0,0,0,0,0,0,0,0,0,0,0,0,0,0,0,0,0,0,0,0,0,0,0,0,0,0,0,0,0,0,0,0,0,0,0,0,0,0,0,0,0,0,0,0,0,0,0,0,0,0,0,0,0,{"$f":"SUM(ULW138:ULW142,ULW144:ULW145)","v":0},0,0,0,0,0,0,0,0,0,0,0,0,0,0,0,0,0,0,0,0,0,0,0,0,0,0,0,0,0,0,0,0,0,0,0,0,0,0,0,0,0,0,0,0,0,0,0,0,0,0,0,0,0,0,0,0,0,0,0,0,0,0,0,{"$f":"SUM(UOI138:UOI142,UOI144:UOI145)","v":0},0,0,0,0,0,0,0,0,0,0,0,0,0,0,0,0,0,0,0,0,0,0,0,0,0,0,0,0,0,0,0,0,0,0,0,0,0,0,0,0,0,0,0,0,0,0,0,0,0,0,0,0,0,0,0,0,0,0,0,0,0,0,0,{"$f":"SUM(UQU138:UQU142,UQU144:UQU145)","v":0},0,0,0,0,0,0,0,0,0,0,0,0,0,0,0,0,0,0,0,0,0,0,0,0,0,0,0,0,0,0,0,0,0,0,0,0,0,0,0,0,0,0,0,0,0,0,0,0,0,0,0,0,0,0,0,0,0,0,0,0,0,0,0,{"$f":"SUM(UTG138:UTG142,UTG144:UTG145)","v":0},0,0,0,0,0,0,0,0,0,0,0,0,0,0,0,0,0,0,0,0,0,0,0,0,0,0,0,0,0,0,0,0,0,0,0,0,0,0,0,0,0,0,0,0,0,0,0,0,0,0,0,0,0,0,0,0,0,0,0,0,0,0,0,{"$f":"SUM(UVS138:UVS142,UVS144:UVS145)","v":0},0,0,0,0,0,0,0,0,0,0,0,0,0,0,0,0,0,0,0,0,0,0,0,0,0,0,0,0,0,0,0,0,0,0,0,0,0,0,0,0,0,0,0,0,0,0,0,0,0,0,0,0,0,0,0,0,0,0,0,0,0,0,0,{"$f":"SUM(UYE138:UYE142,UYE144:UYE145)","v":0},0,0,0,0,0,0,0,0,0,0,0,0,0,0,0,0,0,0,0,0,0,0,0,0,0,0,0,0,0,0,0,0,0,0,0,0,0,0,0,0,0,0,0,0,0,0,0,0,0,0,0,0,0,0,0,0,0,0,0,0,0,0,0,{"$f":"SUM(VAQ138:VAQ142,VAQ144:VAQ145)","v":0},0,0,0,0,0,0,0,0,0,0,0,0,0,0,0,0,0,0,0,0,0,0,0,0,0,0,0,0,0,0,0,0,0,0,0,0,0,0,0,0,0,0,0,0,0,0,0,0,0,0,0,0,0,0,0,0,0,0,0,0,0,0,0,{"$f":"SUM(VDC138:VDC142,VDC144:VDC145)","v":0},0,0,0,0,0,0,0,0,0,0,0,0,0,0,0,0,0,0,0,0,0,0,0,0,0,0,0,0,0,0,0,0,0,0,0,0,0,0,0,0,0,0,0,0,0,0,0,0,0,0,0,0,0,0,0,0,0,0,0,0,0,0,0,{"$f":"SUM(VFO138:VFO142,VFO144:VFO145)","v":0},0,0,0,0,0,0,0,0,0,0,0,0,0,0,0,0,0,0,0,0,0,0,0,0,0,0,0,0,0,0,0,0,0,0,0,0,0,0,0,0,0,0,0,0,0,0,0,0,0,0,0,0,0,0,0,0,0,0,0,0,0,0,0,{"$f":"SUM(VIA138:VIA142,VIA144:VIA145)","v":0},0,0,0,0,0,0,0,0,0,0,0,0,0,0,0,0,0,0,0,0,0,0,0,0,0,0,0,0,0,0,0,0,0,0,0,0,0,0,0,0,0,0,0,0,0,0,0,0,0,0,0,0,0,0,0,0,0,0,0,0,0,0,0,{"$f":"SUM(VKM138:VKM142,VKM144:VKM145)","v":0},0,0,0,0,0,0,0,0,0,0,0,0,0,0,0,0,0,0,0,0,0,0,0,0,0,0,0,0,0,0,0,0,0,0,0,0,0,0,0,0,0,0,0,0,0,0,0,0,0,0,0,0,0,0,0,0,0,0,0,0,0,0,0,{"$f":"SUM(VMY138:VMY142,VMY144:VMY145)","v":0},0,0,0,0,0,0,0,0,0,0,0,0,0,0,0,0,0,0,0,0,0,0,0,0,0,0,0,0,0,0,0,0,0,0,0,0,0,0,0,0,0,0,0,0,0,0,0,0,0,0,0,0,0,0,0,0,0,0,0,0,0,0,0,{"$f":"SUM(VPK138:VPK142,VPK144:VPK145)","v":0},0,0,0,0,0,0,0,0,0,0,0,0,0,0,0,0,0,0,0,0,0,0,0,0,0,0,0,0,0,0,0,0,0,0,0,0,0,0,0,0,0,0,0,0,0,0,0,0,0,0,0,0,0,0,0,0,0,0,0,0,0,0,0,{"$f":"SUM(VRW138:VRW142,VRW144:VRW145)","v":0},0,0,0,0,0,0,0,0,0,0,0,0,0,0,0,0,0,0,0,0,0,0,0,0,0,0,0,0,0,0,0,0,0,0,0,0,0,0,0,0,0,0,0,0,0,0,0,0,0,0,0,0,0,0,0,0,0,0,0,0,0,0,0,{"$f":"SUM(VUI138:VUI142,VUI144:VUI145)","v":0},0,0,0,0,0,0,0,0,0,0,0,0,0,0,0,0,0,0,0,0,0,0,0,0,0,0,0,0,0,0,0,0,0,0,0,0,0,0,0,0,0,0,0,0,0,0,0,0,0,0,0,0,0,0,0,0,0,0,0,0,0,0,0,{"$f":"SUM(VWU138:VWU142,VWU144:VWU145)","v":0},0,0,0,0,0,0,0,0,0,0,0,0,0,0,0,0,0,0,0,0,0,0,0,0,0,0,0,0,0,0,0,0,0,0,0,0,0,0,0,0,0,0,0,0,0,0,0,0,0,0,0,0,0,0,0,0,0,0,0,0,0,0,0,{"$f":"SUM(VZG138:VZG142,VZG144:VZG145)","v":0},0,0,0,0,0,0,0,0,0,0,0,0,0,0,0,0,0,0,0,0,0,0,0,0,0,0,0,0,0,0,0,0,0,0,0,0,0,0,0,0,0,0,0,0,0,0,0,0,0,0,0,0,0,0,0,0,0,0,0,0,0,0,0,{"$f":"SUM(WBS138:WBS142,WBS144:WBS145)","v":0},0,0,0,0,0,0,0,0,0,0,0,0,0,0,0,0,0,0,0,0,0,0,0,0,0,0,0,0,0,0,0,0,0,0,0,0,0,0,0,0,0,0,0,0,0,0,0,0,0,0,0,0,0,0,0,0,0,0,0,0,0,0,0,{"$f":"SUM(WEE138:WEE142,WEE144:WEE145)","v":0},0,0,0,0,0,0,0,0,0,0,0,0,0,0,0,0,0,0,0,0,0,0,0,0,0,0,0,0,0,0,0,0,0,0,0,0,0,0,0,0,0,0,0,0,0,0,0,0,0,0,0,0,0,0,0,0,0,0,0,0,0,0,0,{"$f":"SUM(WGQ138:WGQ142,WGQ144:WGQ145)","v":0},0,0,0,0,0,0,0,0,0,0,0,0,0,0,0,0,0,0,0,0,0,0,0,0,0,0,0,0,0,0,0,0,0,0,0,0,0,0,0,0,0,0,0,0,0,0,0,0,0,0,0,0,0,0,0,0,0,0,0,0,0,0,0,{"$f":"SUM(WJC138:WJC142,WJC144:WJC145)","v":0},0,0,0,0,0,0,0,0,0,0,0,0,0,0,0,0,0,0,0,0,0,0,0,0,0,0,0,0,0,0,0,0,0,0,0,0,0,0,0,0,0,0,0,0,0,0,0,0,0,0,0,0,0,0,0,0,0,0,0,0,0,0,0,{"$f":"SUM(WLO138:WLO142,WLO144:WLO145)","v":0},0,0,0,0,0,0,0,0,0,0,0,0,0,0,0,0,0,0,0,0,0,0,0,0,0,0,0,0,0,0,0,0,0,0,0,0,0,0,0,0,0,0,0,0,0,0,0,0,0,0,0,0,0,0,0,0,0,0,0,0,0,0,0,{"$f":"SUM(WOA138:WOA142,WOA144:WOA145)","v":0},0,0,0,0,0,0,0,0,0,0,0,0,0,0,0,0,0,0,0,0,0,0,0,0,0,0,0,0,0,0,0,0,0,0,0,0,0,0,0,0,0,0,0,0,0,0,0,0,0,0,0,0,0,0,0,0,0,0,0,0,0,0,0,{"$f":"SUM(WQM138:WQM142,WQM144:WQM145)","v":0},0,0,0,0,0,0,0,0,0,0,0,0,0,0,0,0,0,0,0,0,0,0,0,0,0,0,0,0,0,0,0,0,0,0,0,0,0,0,0,0,0,0,0,0,0,0,0,0,0,0,0,0,0,0,0,0,0,0,0,0,0,0,0,{"$f":"SUM(WSY138:WSY142,WSY144:WSY145)","v":0},0,0,0,0,0,0,0,0,0,0,0,0,0,0,0,0,0,0,0,0,0,0,0,0,0,0,0,0,0,0,0,0,0,0,0,0,0,0,0,0,0,0,0,0,0,0,0,0,0,0,0,0,0,0,0,0,0,0,0,0,0,0,0,{"$f":"SUM(WVK138:WVK142,WVK144:WVK145)","v":0},0,0,0,0,0,0,0,0,0,0,0,0,0,0,0,0,0,0,0,0,0,0,0,0,0,0,0,0,0,0,0,0,0,0,0,0,0,0,0,0,0,0,0,0,0,0,0,0,0,0,0,0,0,0,0,0,0,0,0,0,0,0,0,{"$f":"SUM(WXW138:WXW142,WXW144:WXW145)","v":0},0,0,0,0,0,0,0,0,0,0,0,0,0,0,0,0,0,0,0,0,0,0,0,0,0,0,0,0,0,0,0,0,0,0,0,0,0,0,0,0,0,0,0,0,0,0,0,0,0,0,0,0,0,0,0,0,0,0,0,0,0,0,0,{"$f":"SUM(XAI138:XAI142,XAI144:XAI145)","v":0},0,0,0,0,0,0,0,0,0,0,0,0,0,0,0,0,0,0,0,0,0,0,0,0,0,0,0,0,0,0,0,0,0,0,0,0,0,0,0,0,0,0,0,0,0,0,0,0,0,0,0,0,0,0,0,0,0,0,0,0,0,0,0,{"$f":"SUM(XCU138:XCU142,XCU144:XCU145)","v":0},0,0,0,0,0,0,0,0,0,0,0,0,0,0,0,0,0,0,0,0,0,0,0,0,0,0,0,0,0,0,0,0,0,0,0,0,0,0,0,0,0,0,0,0,0,0,0,0,0,0,0,0,0,0,0,0,0,0,0,0,0]
["g1) Inversiones Para el Fomento de Actividades Productivas",0,0,{"$f":"B138+C138","v":0},0,0,0]
["g2) Acciones y Participaciones de Capital",0,0,{"$f":"B139+C139","v":0},0,0,0]
["g3) Compra de Títulos y Valores",0,0,0,0,0,0]
["g4) Concesión de Préstamos",0,0,0,0,0,0]
["g5) Inversiones en Fideicomisos, Mandatos y Otros Análogos",0,0,0,0,0,0]
["          Fideicomiso de Desastres Naturales (Informativo)",0,0,0,0,0,0]
["g6) Otras Inversiones Financieras",0,0,0,0,0,0]
["g7) Provisiones para Contingencias y Otras Erogaciones Especiales",0,0,0,0,0,0]
["H. Participaciones y Aportaciones (H=h1+h2+h3)",{"$f":"SUM(B147:B149)","v":0},0,{"$f":"SUM(D147:D149)","v":0},{"$f":"SUM(E147:E149)","v":0},0,0]
["h1) Participaciones",0,0,{"$f":"B147+C147","v":0},0,0,0]
["h2) Aportaciones",0,0,{"$f":"B148+C148","v":0},0,0,0]
["h3) Convenios",0,0,0,0,0,{"$f":"D149-E149","v":0}]
["I. Deuda Pública (I=i1+i2+i3+i4+i5+i6+i7)",{"$f":"SUM(B151:B157)","v":2207142.84},{"$f":"SUM(C151:C157)","v":0},2207142.84,{"$f":"SUM(E151:E157)","v":571606.97},571606.97,1635535.87,0,0,0,0,0,0,0,0,0,0,0,0,0,0,0,0,0,0,0,0,0,0,0,0,0,0,0,0,0,0,0,0,0,0,0,0,0,0,0,0,0,0,0,0,0,0,0,0,0,0,0,0,0,0,0,0,0,0,0,{"$f":"SUM(BO151:BO157)","v":0},0,0,0,0,0,0,0,0,0,0,0,0,0,0,0,0,0,0,0,0,0,0,0,0,0,0,0,0,0,0,0,0,0,0,0,0,0,0,0,0,0,0,0,0,0,0,0,0,0,0,0,0,0,0,0,0,0,0,0,0,0,0,0,{"$f":"SUM(EA151:EA157)","v":0},0,0,0,0,0,0,0,0,0,0,0,0,0,0,0,0,0,0,0,0,0,0,0,0,0,0,0,0,0,0,0,0,0,0,0,0,0,0,0,0,0,0,0,0,0,0,0,0,0,0,0,0,0,0,0,0,0,0,0,0,0,0,0,{"$f":"SUM(GM151:GM157)","v":0},0,0,0,0,0,0,0,0,0,0,0,0,0,0,0,0,0,0,0,0,0,0,0,0,0,0,0,0,0,0,0,0,0,0,0,0,0,0,0,0,0,0,0,0,0,0,0,0,0,0,0,0,0,0,0,0,0,0,0,0,0,0,0,{"$f":"SUM(IY151:IY157)","v":0},0,0,0,0,0,0,0,0,0,0,0,0,0,0,0,0,0,0,0,0,0,0,0,0,0,0,0,0,0,0,0,0,0,0,0,0,0,0,0,0,0,0,0,0,0,0,0,0,0,0,0,0,0,0,0,0,0,0,0,0,0,0,0,{"$f":"SUM(LK151:LK157)","v":0},0,0,0,0,0,0,0,0,0,0,0,0,0,0,0,0,0,0,0,0,0,0,0,0,0,0,0,0,0,0,0,0,0,0,0,0,0,0,0,0,0,0,0,0,0,0,0,0,0,0,0,0,0,0,0,0,0,0,0,0,0,0,0,{"$f":"SUM(NW151:NW157)","v":0},0,0,0,0,0,0,0,0,0,0,0,0,0,0,0,0,0,0,0,0,0,0,0,0,0,0,0,0,0,0,0,0,0,0,0,0,0,0,0,0,0,0,0,0,0,0,0,0,0,0,0,0,0,0,0,0,0,0,0,0,0,0,0,{"$f":"SUM(QI151:QI157)","v":0},0,0,0,0,0,0,0,0,0,0,0,0,0,0,0,0,0,0,0,0,0,0,0,0,0,0,0,0,0,0,0,0,0,0,0,0,0,0,0,0,0,0,0,0,0,0,0,0,0,0,0,0,0,0,0,0,0,0,0,0,0,0,0,{"$f":"SUM(SU151:SU157)","v":0},0,0,0,0,0,0,0,0,0,0,0,0,0,0,0,0,0,0,0,0,0,0,0,0,0,0,0,0,0,0,0,0,0,0,0,0,0,0,0,0,0,0,0,0,0,0,0,0,0,0,0,0,0,0,0,0,0,0,0,0,0,0,0,{"$f":"SUM(VG151:VG157)","v":0},0,0,0,0,0,0,0,0,0,0,0,0,0,0,0,0,0,0,0,0,0,0,0,0,0,0,0,0,0,0,0,0,0,0,0,0,0,0,0,0,0,0,0,0,0,0,0,0,0,0,0,0,0,0,0,0,0,0,0,0,0,0,0,{"$f":"SUM(XS151:XS157)","v":0},0,0,0,0,0,0,0,0,0,0,0,0,0,0,0,0,0,0,0,0,0,0,0,0,0,0,0,0,0,0,0,0,0,0,0,0,0,0,0,0,0,0,0,0,0,0,0,0,0,0,0,0,0,0,0,0,0,0,0,0,0,0,0,{"$f":"SUM(AAE151:AAE157)","v":0},0,0,0,0,0,0,0,0,0,0,0,0,0,0,0,0,0,0,0,0,0,0,0,0,0,0,0,0,0,0,0,0,0,0,0,0,0,0,0,0,0,0,0,0,0,0,0,0,0,0,0,0,0,0,0,0,0,0,0,0,0,0,0,{"$f":"SUM(ACQ151:ACQ157)","v":0},0,0,0,0,0,0,0,0,0,0,0,0,0,0,0,0,0,0,0,0,0,0,0,0,0,0,0,0,0,0,0,0,0,0,0,0,0,0,0,0,0,0,0,0,0,0,0,0,0,0,0,0,0,0,0,0,0,0,0,0,0,0,0,{"$f":"SUM(AFC151:AFC157)","v":0},0,0,0,0,0,0,0,0,0,0,0,0,0,0,0,0,0,0,0,0,0,0,0,0,0,0,0,0,0,0,0,0,0,0,0,0,0,0,0,0,0,0,0,0,0,0,0,0,0,0,0,0,0,0,0,0,0,0,0,0,0,0,0,{"$f":"SUM(AHO151:AHO157)","v":0},0,0,0,0,0,0,0,0,0,0,0,0,0,0,0,0,0,0,0,0,0,0,0,0,0,0,0,0,0,0,0,0,0,0,0,0,0,0,0,0,0,0,0,0,0,0,0,0,0,0,0,0,0,0,0,0,0,0,0,0,0,0,0,{"$f":"SUM(AKA151:AKA157)","v":0},0,0,0,0,0,0,0,0,0,0,0,0,0,0,0,0,0,0,0,0,0,0,0,0,0,0,0,0,0,0,0,0,0,0,0,0,0,0,0,0,0,0,0,0,0,0,0,0,0,0,0,0,0,0,0,0,0,0,0,0,0,0,0,{"$f":"SUM(AMM151:AMM157)","v":0},0,0,0,0,0,0,0,0,0,0,0,0,0,0,0,0,0,0,0,0,0,0,0,0,0,0,0,0,0,0,0,0,0,0,0,0,0,0,0,0,0,0,0,0,0,0,0,0,0,0,0,0,0,0,0,0,0,0,0,0,0,0,0,{"$f":"SUM(AOY151:AOY157)","v":0},0,0,0,0,0,0,0,0,0,0,0,0,0,0,0,0,0,0,0,0,0,0,0,0,0,0,0,0,0,0,0,0,0,0,0,0,0,0,0,0,0,0,0,0,0,0,0,0,0,0,0,0,0,0,0,0,0,0,0,0,0,0,0,{"$f":"SUM(ARK151:ARK157)","v":0},0,0,0,0,0,0,0,0,0,0,0,0,0,0,0,0,0,0,0,0,0,0,0,0,0,0,0,0,0,0,0,0,0,0,0,0,0,0,0,0,0,0,0,0,0,0,0,0,0,0,0,0,0,0,0,0,0,0,0,0,0,0,0,{"$f":"SUM(ATW151:ATW157)","v":0},0,0,0,0,0,0,0,0,0,0,0,0,0,0,0,0,0,0,0,0,0,0,0,0,0,0,0,0,0,0,0,0,0,0,0,0,0,0,0,0,0,0,0,0,0,0,0,0,0,0,0,0,0,0,0,0,0,0,0,0,0,0,0,{"$f":"SUM(AWI151:AWI157)","v":0},0,0,0,0,0,0,0,0,0,0,0,0,0,0,0,0,0,0,0,0,0,0,0,0,0,0,0,0,0,0,0,0,0,0,0,0,0,0,0,0,0,0,0,0,0,0,0,0,0,0,0,0,0,0,0,0,0,0,0,0,0,0,0,{"$f":"SUM(AYU151:AYU157)","v":0},0,0,0,0,0,0,0,0,0,0,0,0,0,0,0,0,0,0,0,0,0,0,0,0,0,0,0,0,0,0,0,0,0,0,0,0,0,0,0,0,0,0,0,0,0,0,0,0,0,0,0,0,0,0,0,0,0,0,0,0,0,0,0,{"$f":"SUM(BBG151:BBG157)","v":0},0,0,0,0,0,0,0,0,0,0,0,0,0,0,0,0,0,0,0,0,0,0,0,0,0,0,0,0,0,0,0,0,0,0,0,0,0,0,0,0,0,0,0,0,0,0,0,0,0,0,0,0,0,0,0,0,0,0,0,0,0,0,0,{"$f":"SUM(BDS151:BDS157)","v":0},0,0,0,0,0,0,0,0,0,0,0,0,0,0,0,0,0,0,0,0,0,0,0,0,0,0,0,0,0,0,0,0,0,0,0,0,0,0,0,0,0,0,0,0,0,0,0,0,0,0,0,0,0,0,0,0,0,0,0,0,0,0,0,{"$f":"SUM(BGE151:BGE157)","v":0},0,0,0,0,0,0,0,0,0,0,0,0,0,0,0,0,0,0,0,0,0,0,0,0,0,0,0,0,0,0,0,0,0,0,0,0,0,0,0,0,0,0,0,0,0,0,0,0,0,0,0,0,0,0,0,0,0,0,0,0,0,0,0,{"$f":"SUM(BIQ151:BIQ157)","v":0},0,0,0,0,0,0,0,0,0,0,0,0,0,0,0,0,0,0,0,0,0,0,0,0,0,0,0,0,0,0,0,0,0,0,0,0,0,0,0,0,0,0,0,0,0,0,0,0,0,0,0,0,0,0,0,0,0,0,0,0,0,0,0,{"$f":"SUM(BLC151:BLC157)","v":0},0,0,0,0,0,0,0,0,0,0,0,0,0,0,0,0,0,0,0,0,0,0,0,0,0,0,0,0,0,0,0,0,0,0,0,0,0,0,0,0,0,0,0,0,0,0,0,0,0,0,0,0,0,0,0,0,0,0,0,0,0,0,0,{"$f":"SUM(BNO151:BNO157)","v":0},0,0,0,0,0,0,0,0,0,0,0,0,0,0,0,0,0,0,0,0,0,0,0,0,0,0,0,0,0,0,0,0,0,0,0,0,0,0,0,0,0,0,0,0,0,0,0,0,0,0,0,0,0,0,0,0,0,0,0,0,0,0,0,{"$f":"SUM(BQA151:BQA157)","v":0},0,0,0,0,0,0,0,0,0,0,0,0,0,0,0,0,0,0,0,0,0,0,0,0,0,0,0,0,0,0,0,0,0,0,0,0,0,0,0,0,0,0,0,0,0,0,0,0,0,0,0,0,0,0,0,0,0,0,0,0,0,0,0,{"$f":"SUM(BSM151:BSM157)","v":0},0,0,0,0,0,0,0,0,0,0,0,0,0,0,0,0,0,0,0,0,0,0,0,0,0,0,0,0,0,0,0,0,0,0,0,0,0,0,0,0,0,0,0,0,0,0,0,0,0,0,0,0,0,0,0,0,0,0,0,0,0,0,0,{"$f":"SUM(BUY151:BUY157)","v":0},0,0,0,0,0,0,0,0,0,0,0,0,0,0,0,0,0,0,0,0,0,0,0,0,0,0,0,0,0,0,0,0,0,0,0,0,0,0,0,0,0,0,0,0,0,0,0,0,0,0,0,0,0,0,0,0,0,0,0,0,0,0,0,{"$f":"SUM(BXK151:BXK157)","v":0},0,0,0,0,0,0,0,0,0,0,0,0,0,0,0,0,0,0,0,0,0,0,0,0,0,0,0,0,0,0,0,0,0,0,0,0,0,0,0,0,0,0,0,0,0,0,0,0,0,0,0,0,0,0,0,0,0,0,0,0,0,0,0,{"$f":"SUM(BZW151:BZW157)","v":0},0,0,0,0,0,0,0,0,0,0,0,0,0,0,0,0,0,0,0,0,0,0,0,0,0,0,0,0,0,0,0,0,0,0,0,0,0,0,0,0,0,0,0,0,0,0,0,0,0,0,0,0,0,0,0,0,0,0,0,0,0,0,0,{"$f":"SUM(CCI151:CCI157)","v":0},0,0,0,0,0,0,0,0,0,0,0,0,0,0,0,0,0,0,0,0,0,0,0,0,0,0,0,0,0,0,0,0,0,0,0,0,0,0,0,0,0,0,0,0,0,0,0,0,0,0,0,0,0,0,0,0,0,0,0,0,0,0,0,{"$f":"SUM(CEU151:CEU157)","v":0},0,0,0,0,0,0,0,0,0,0,0,0,0,0,0,0,0,0,0,0,0,0,0,0,0,0,0,0,0,0,0,0,0,0,0,0,0,0,0,0,0,0,0,0,0,0,0,0,0,0,0,0,0,0,0,0,0,0,0,0,0,0,0,{"$f":"SUM(CHG151:CHG157)","v":0},0,0,0,0,0,0,0,0,0,0,0,0,0,0,0,0,0,0,0,0,0,0,0,0,0,0,0,0,0,0,0,0,0,0,0,0,0,0,0,0,0,0,0,0,0,0,0,0,0,0,0,0,0,0,0,0,0,0,0,0,0,0,0,{"$f":"SUM(CJS151:CJS157)","v":0},0,0,0,0,0,0,0,0,0,0,0,0,0,0,0,0,0,0,0,0,0,0,0,0,0,0,0,0,0,0,0,0,0,0,0,0,0,0,0,0,0,0,0,0,0,0,0,0,0,0,0,0,0,0,0,0,0,0,0,0,0,0,0,{"$f":"SUM(CME151:CME157)","v":0},0,0,0,0,0,0,0,0,0,0,0,0,0,0,0,0,0,0,0,0,0,0,0,0,0,0,0,0,0,0,0,0,0,0,0,0,0,0,0,0,0,0,0,0,0,0,0,0,0,0,0,0,0,0,0,0,0,0,0,0,0,0,0,{"$f":"SUM(COQ151:COQ157)","v":0},0,0,0,0,0,0,0,0,0,0,0,0,0,0,0,0,0,0,0,0,0,0,0,0,0,0,0,0,0,0,0,0,0,0,0,0,0,0,0,0,0,0,0,0,0,0,0,0,0,0,0,0,0,0,0,0,0,0,0,0,0,0,0,{"$f":"SUM(CRC151:CRC157)","v":0},0,0,0,0,0,0,0,0,0,0,0,0,0,0,0,0,0,0,0,0,0,0,0,0,0,0,0,0,0,0,0,0,0,0,0,0,0,0,0,0,0,0,0,0,0,0,0,0,0,0,0,0,0,0,0,0,0,0,0,0,0,0,0,{"$f":"SUM(CTO151:CTO157)","v":0},0,0,0,0,0,0,0,0,0,0,0,0,0,0,0,0,0,0,0,0,0,0,0,0,0,0,0,0,0,0,0,0,0,0,0,0,0,0,0,0,0,0,0,0,0,0,0,0,0,0,0,0,0,0,0,0,0,0,0,0,0,0,0,{"$f":"SUM(CWA151:CWA157)","v":0},0,0,0,0,0,0,0,0,0,0,0,0,0,0,0,0,0,0,0,0,0,0,0,0,0,0,0,0,0,0,0,0,0,0,0,0,0,0,0,0,0,0,0,0,0,0,0,0,0,0,0,0,0,0,0,0,0,0,0,0,0,0,0,{"$f":"SUM(CYM151:CYM157)","v":0},0,0,0,0,0,0,0,0,0,0,0,0,0,0,0,0,0,0,0,0,0,0,0,0,0,0,0,0,0,0,0,0,0,0,0,0,0,0,0,0,0,0,0,0,0,0,0,0,0,0,0,0,0,0,0,0,0,0,0,0,0,0,0,{"$f":"SUM(DAY151:DAY157)","v":0},0,0,0,0,0,0,0,0,0,0,0,0,0,0,0,0,0,0,0,0,0,0,0,0,0,0,0,0,0,0,0,0,0,0,0,0,0,0,0,0,0,0,0,0,0,0,0,0,0,0,0,0,0,0,0,0,0,0,0,0,0,0,0,{"$f":"SUM(DDK151:DDK157)","v":0},0,0,0,0,0,0,0,0,0,0,0,0,0,0,0,0,0,0,0,0,0,0,0,0,0,0,0,0,0,0,0,0,0,0,0,0,0,0,0,0,0,0,0,0,0,0,0,0,0,0,0,0,0,0,0,0,0,0,0,0,0,0,0,{"$f":"SUM(DFW151:DFW157)","v":0},0,0,0,0,0,0,0,0,0,0,0,0,0,0,0,0,0,0,0,0,0,0,0,0,0,0,0,0,0,0,0,0,0,0,0,0,0,0,0,0,0,0,0,0,0,0,0,0,0,0,0,0,0,0,0,0,0,0,0,0,0,0,0,{"$f":"SUM(DII151:DII157)","v":0},0,0,0,0,0,0,0,0,0,0,0,0,0,0,0,0,0,0,0,0,0,0,0,0,0,0,0,0,0,0,0,0,0,0,0,0,0,0,0,0,0,0,0,0,0,0,0,0,0,0,0,0,0,0,0,0,0,0,0,0,0,0,0,{"$f":"SUM(DKU151:DKU157)","v":0},0,0,0,0,0,0,0,0,0,0,0,0,0,0,0,0,0,0,0,0,0,0,0,0,0,0,0,0,0,0,0,0,0,0,0,0,0,0,0,0,0,0,0,0,0,0,0,0,0,0,0,0,0,0,0,0,0,0,0,0,0,0,0,{"$f":"SUM(DNG151:DNG157)","v":0},0,0,0,0,0,0,0,0,0,0,0,0,0,0,0,0,0,0,0,0,0,0,0,0,0,0,0,0,0,0,0,0,0,0,0,0,0,0,0,0,0,0,0,0,0,0,0,0,0,0,0,0,0,0,0,0,0,0,0,0,0,0,0,{"$f":"SUM(DPS151:DPS157)","v":0},0,0,0,0,0,0,0,0,0,0,0,0,0,0,0,0,0,0,0,0,0,0,0,0,0,0,0,0,0,0,0,0,0,0,0,0,0,0,0,0,0,0,0,0,0,0,0,0,0,0,0,0,0,0,0,0,0,0,0,0,0,0,0,{"$f":"SUM(DSE151:DSE157)","v":0},0,0,0,0,0,0,0,0,0,0,0,0,0,0,0,0,0,0,0,0,0,0,0,0,0,0,0,0,0,0,0,0,0,0,0,0,0,0,0,0,0,0,0,0,0,0,0,0,0,0,0,0,0,0,0,0,0,0,0,0,0,0,0,{"$f":"SUM(DUQ151:DUQ157)","v":0},0,0,0,0,0,0,0,0,0,0,0,0,0,0,0,0,0,0,0,0,0,0,0,0,0,0,0,0,0,0,0,0,0,0,0,0,0,0,0,0,0,0,0,0,0,0,0,0,0,0,0,0,0,0,0,0,0,0,0,0,0,0,0,{"$f":"SUM(DXC151:DXC157)","v":0},0,0,0,0,0,0,0,0,0,0,0,0,0,0,0,0,0,0,0,0,0,0,0,0,0,0,0,0,0,0,0,0,0,0,0,0,0,0,0,0,0,0,0,0,0,0,0,0,0,0,0,0,0,0,0,0,0,0,0,0,0,0,0,{"$f":"SUM(DZO151:DZO157)","v":0},0,0,0,0,0,0,0,0,0,0,0,0,0,0,0,0,0,0,0,0,0,0,0,0,0,0,0,0,0,0,0,0,0,0,0,0,0,0,0,0,0,0,0,0,0,0,0,0,0,0,0,0,0,0,0,0,0,0,0,0,0,0,0,{"$f":"SUM(ECA151:ECA157)","v":0},0,0,0,0,0,0,0,0,0,0,0,0,0,0,0,0,0,0,0,0,0,0,0,0,0,0,0,0,0,0,0,0,0,0,0,0,0,0,0,0,0,0,0,0,0,0,0,0,0,0,0,0,0,0,0,0,0,0,0,0,0,0,0,{"$f":"SUM(EEM151:EEM157)","v":0},0,0,0,0,0,0,0,0,0,0,0,0,0,0,0,0,0,0,0,0,0,0,0,0,0,0,0,0,0,0,0,0,0,0,0,0,0,0,0,0,0,0,0,0,0,0,0,0,0,0,0,0,0,0,0,0,0,0,0,0,0,0,0,{"$f":"SUM(EGY151:EGY157)","v":0},0,0,0,0,0,0,0,0,0,0,0,0,0,0,0,0,0,0,0,0,0,0,0,0,0,0,0,0,0,0,0,0,0,0,0,0,0,0,0,0,0,0,0,0,0,0,0,0,0,0,0,0,0,0,0,0,0,0,0,0,0,0,0,{"$f":"SUM(EJK151:EJK157)","v":0},0,0,0,0,0,0,0,0,0,0,0,0,0,0,0,0,0,0,0,0,0,0,0,0,0,0,0,0,0,0,0,0,0,0,0,0,0,0,0,0,0,0,0,0,0,0,0,0,0,0,0,0,0,0,0,0,0,0,0,0,0,0,0,{"$f":"SUM(ELW151:ELW157)","v":0},0,0,0,0,0,0,0,0,0,0,0,0,0,0,0,0,0,0,0,0,0,0,0,0,0,0,0,0,0,0,0,0,0,0,0,0,0,0,0,0,0,0,0,0,0,0,0,0,0,0,0,0,0,0,0,0,0,0,0,0,0,0,0,{"$f":"SUM(EOI151:EOI157)","v":0},0,0,0,0,0,0,0,0,0,0,0,0,0,0,0,0,0,0,0,0,0,0,0,0,0,0,0,0,0,0,0,0,0,0,0,0,0,0,0,0,0,0,0,0,0,0,0,0,0,0,0,0,0,0,0,0,0,0,0,0,0,0,0,{"$f":"SUM(EQU151:EQU157)","v":0},0,0,0,0,0,0,0,0,0,0,0,0,0,0,0,0,0,0,0,0,0,0,0,0,0,0,0,0,0,0,0,0,0,0,0,0,0,0,0,0,0,0,0,0,0,0,0,0,0,0,0,0,0,0,0,0,0,0,0,0,0,0,0,{"$f":"SUM(ETG151:ETG157)","v":0},0,0,0,0,0,0,0,0,0,0,0,0,0,0,0,0,0,0,0,0,0,0,0,0,0,0,0,0,0,0,0,0,0,0,0,0,0,0,0,0,0,0,0,0,0,0,0,0,0,0,0,0,0,0,0,0,0,0,0,0,0,0,0,{"$f":"SUM(EVS151:EVS157)","v":0},0,0,0,0,0,0,0,0,0,0,0,0,0,0,0,0,0,0,0,0,0,0,0,0,0,0,0,0,0,0,0,0,0,0,0,0,0,0,0,0,0,0,0,0,0,0,0,0,0,0,0,0,0,0,0,0,0,0,0,0,0,0,0,{"$f":"SUM(EYE151:EYE157)","v":0},0,0,0,0,0,0,0,0,0,0,0,0,0,0,0,0,0,0,0,0,0,0,0,0,0,0,0,0,0,0,0,0,0,0,0,0,0,0,0,0,0,0,0,0,0,0,0,0,0,0,0,0,0,0,0,0,0,0,0,0,0,0,0,{"$f":"SUM(FAQ151:FAQ157)","v":0},0,0,0,0,0,0,0,0,0,0,0,0,0,0,0,0,0,0,0,0,0,0,0,0,0,0,0,0,0,0,0,0,0,0,0,0,0,0,0,0,0,0,0,0,0,0,0,0,0,0,0,0,0,0,0,0,0,0,0,0,0,0,0,{"$f":"SUM(FDC151:FDC157)","v":0},0,0,0,0,0,0,0,0,0,0,0,0,0,0,0,0,0,0,0,0,0,0,0,0,0,0,0,0,0,0,0,0,0,0,0,0,0,0,0,0,0,0,0,0,0,0,0,0,0,0,0,0,0,0,0,0,0,0,0,0,0,0,0,{"$f":"SUM(FFO151:FFO157)","v":0},0,0,0,0,0,0,0,0,0,0,0,0,0,0,0,0,0,0,0,0,0,0,0,0,0,0,0,0,0,0,0,0,0,0,0,0,0,0,0,0,0,0,0,0,0,0,0,0,0,0,0,0,0,0,0,0,0,0,0,0,0,0,0,{"$f":"SUM(FIA151:FIA157)","v":0},0,0,0,0,0,0,0,0,0,0,0,0,0,0,0,0,0,0,0,0,0,0,0,0,0,0,0,0,0,0,0,0,0,0,0,0,0,0,0,0,0,0,0,0,0,0,0,0,0,0,0,0,0,0,0,0,0,0,0,0,0,0,0,{"$f":"SUM(FKM151:FKM157)","v":0},0,0,0,0,0,0,0,0,0,0,0,0,0,0,0,0,0,0,0,0,0,0,0,0,0,0,0,0,0,0,0,0,0,0,0,0,0,0,0,0,0,0,0,0,0,0,0,0,0,0,0,0,0,0,0,0,0,0,0,0,0,0,0,{"$f":"SUM(FMY151:FMY157)","v":0},0,0,0,0,0,0,0,0,0,0,0,0,0,0,0,0,0,0,0,0,0,0,0,0,0,0,0,0,0,0,0,0,0,0,0,0,0,0,0,0,0,0,0,0,0,0,0,0,0,0,0,0,0,0,0,0,0,0,0,0,0,0,0,{"$f":"SUM(FPK151:FPK157)","v":0},0,0,0,0,0,0,0,0,0,0,0,0,0,0,0,0,0,0,0,0,0,0,0,0,0,0,0,0,0,0,0,0,0,0,0,0,0,0,0,0,0,0,0,0,0,0,0,0,0,0,0,0,0,0,0,0,0,0,0,0,0,0,0,{"$f":"SUM(FRW151:FRW157)","v":0},0,0,0,0,0,0,0,0,0,0,0,0,0,0,0,0,0,0,0,0,0,0,0,0,0,0,0,0,0,0,0,0,0,0,0,0,0,0,0,0,0,0,0,0,0,0,0,0,0,0,0,0,0,0,0,0,0,0,0,0,0,0,0,{"$f":"SUM(FUI151:FUI157)","v":0},0,0,0,0,0,0,0,0,0,0,0,0,0,0,0,0,0,0,0,0,0,0,0,0,0,0,0,0,0,0,0,0,0,0,0,0,0,0,0,0,0,0,0,0,0,0,0,0,0,0,0,0,0,0,0,0,0,0,0,0,0,0,0,{"$f":"SUM(FWU151:FWU157)","v":0},0,0,0,0,0,0,0,0,0,0,0,0,0,0,0,0,0,0,0,0,0,0,0,0,0,0,0,0,0,0,0,0,0,0,0,0,0,0,0,0,0,0,0,0,0,0,0,0,0,0,0,0,0,0,0,0,0,0,0,0,0,0,0,{"$f":"SUM(FZG151:FZG157)","v":0},0,0,0,0,0,0,0,0,0,0,0,0,0,0,0,0,0,0,0,0,0,0,0,0,0,0,0,0,0,0,0,0,0,0,0,0,0,0,0,0,0,0,0,0,0,0,0,0,0,0,0,0,0,0,0,0,0,0,0,0,0,0,0,{"$f":"SUM(GBS151:GBS157)","v":0},0,0,0,0,0,0,0,0,0,0,0,0,0,0,0,0,0,0,0,0,0,0,0,0,0,0,0,0,0,0,0,0,0,0,0,0,0,0,0,0,0,0,0,0,0,0,0,0,0,0,0,0,0,0,0,0,0,0,0,0,0,0,0,{"$f":"SUM(GEE151:GEE157)","v":0},0,0,0,0,0,0,0,0,0,0,0,0,0,0,0,0,0,0,0,0,0,0,0,0,0,0,0,0,0,0,0,0,0,0,0,0,0,0,0,0,0,0,0,0,0,0,0,0,0,0,0,0,0,0,0,0,0,0,0,0,0,0,0,{"$f":"SUM(GGQ151:GGQ157)","v":0},0,0,0,0,0,0,0,0,0,0,0,0,0,0,0,0,0,0,0,0,0,0,0,0,0,0,0,0,0,0,0,0,0,0,0,0,0,0,0,0,0,0,0,0,0,0,0,0,0,0,0,0,0,0,0,0,0,0,0,0,0,0,0,{"$f":"SUM(GJC151:GJC157)","v":0},0,0,0,0,0,0,0,0,0,0,0,0,0,0,0,0,0,0,0,0,0,0,0,0,0,0,0,0,0,0,0,0,0,0,0,0,0,0,0,0,0,0,0,0,0,0,0,0,0,0,0,0,0,0,0,0,0,0,0,0,0,0,0,{"$f":"SUM(GLO151:GLO157)","v":0},0,0,0,0,0,0,0,0,0,0,0,0,0,0,0,0,0,0,0,0,0,0,0,0,0,0,0,0,0,0,0,0,0,0,0,0,0,0,0,0,0,0,0,0,0,0,0,0,0,0,0,0,0,0,0,0,0,0,0,0,0,0,0,{"$f":"SUM(GOA151:GOA157)","v":0},0,0,0,0,0,0,0,0,0,0,0,0,0,0,0,0,0,0,0,0,0,0,0,0,0,0,0,0,0,0,0,0,0,0,0,0,0,0,0,0,0,0,0,0,0,0,0,0,0,0,0,0,0,0,0,0,0,0,0,0,0,0,0,{"$f":"SUM(GQM151:GQM157)","v":0},0,0,0,0,0,0,0,0,0,0,0,0,0,0,0,0,0,0,0,0,0,0,0,0,0,0,0,0,0,0,0,0,0,0,0,0,0,0,0,0,0,0,0,0,0,0,0,0,0,0,0,0,0,0,0,0,0,0,0,0,0,0,0,{"$f":"SUM(GSY151:GSY157)","v":0},0,0,0,0,0,0,0,0,0,0,0,0,0,0,0,0,0,0,0,0,0,0,0,0,0,0,0,0,0,0,0,0,0,0,0,0,0,0,0,0,0,0,0,0,0,0,0,0,0,0,0,0,0,0,0,0,0,0,0,0,0,0,0,{"$f":"SUM(GVK151:GVK157)","v":0},0,0,0,0,0,0,0,0,0,0,0,0,0,0,0,0,0,0,0,0,0,0,0,0,0,0,0,0,0,0,0,0,0,0,0,0,0,0,0,0,0,0,0,0,0,0,0,0,0,0,0,0,0,0,0,0,0,0,0,0,0,0,0,{"$f":"SUM(GXW151:GXW157)","v":0},0,0,0,0,0,0,0,0,0,0,0,0,0,0,0,0,0,0,0,0,0,0,0,0,0,0,0,0,0,0,0,0,0,0,0,0,0,0,0,0,0,0,0,0,0,0,0,0,0,0,0,0,0,0,0,0,0,0,0,0,0,0,0,{"$f":"SUM(HAI151:HAI157)","v":0},0,0,0,0,0,0,0,0,0,0,0,0,0,0,0,0,0,0,0,0,0,0,0,0,0,0,0,0,0,0,0,0,0,0,0,0,0,0,0,0,0,0,0,0,0,0,0,0,0,0,0,0,0,0,0,0,0,0,0,0,0,0,0,{"$f":"SUM(HCU151:HCU157)","v":0},0,0,0,0,0,0,0,0,0,0,0,0,0,0,0,0,0,0,0,0,0,0,0,0,0,0,0,0,0,0,0,0,0,0,0,0,0,0,0,0,0,0,0,0,0,0,0,0,0,0,0,0,0,0,0,0,0,0,0,0,0,0,0,{"$f":"SUM(HFG151:HFG157)","v":0},0,0,0,0,0,0,0,0,0,0,0,0,0,0,0,0,0,0,0,0,0,0,0,0,0,0,0,0,0,0,0,0,0,0,0,0,0,0,0,0,0,0,0,0,0,0,0,0,0,0,0,0,0,0,0,0,0,0,0,0,0,0,0,{"$f":"SUM(HHS151:HHS157)","v":0},0,0,0,0,0,0,0,0,0,0,0,0,0,0,0,0,0,0,0,0,0,0,0,0,0,0,0,0,0,0,0,0,0,0,0,0,0,0,0,0,0,0,0,0,0,0,0,0,0,0,0,0,0,0,0,0,0,0,0,0,0,0,0,{"$f":"SUM(HKE151:HKE157)","v":0},0,0,0,0,0,0,0,0,0,0,0,0,0,0,0,0,0,0,0,0,0,0,0,0,0,0,0,0,0,0,0,0,0,0,0,0,0,0,0,0,0,0,0,0,0,0,0,0,0,0,0,0,0,0,0,0,0,0,0,0,0,0,0,{"$f":"SUM(HMQ151:HMQ157)","v":0},0,0,0,0,0,0,0,0,0,0,0,0,0,0,0,0,0,0,0,0,0,0,0,0,0,0,0,0,0,0,0,0,0,0,0,0,0,0,0,0,0,0,0,0,0,0,0,0,0,0,0,0,0,0,0,0,0,0,0,0,0,0,0,{"$f":"SUM(HPC151:HPC157)","v":0},0,0,0,0,0,0,0,0,0,0,0,0,0,0,0,0,0,0,0,0,0,0,0,0,0,0,0,0,0,0,0,0,0,0,0,0,0,0,0,0,0,0,0,0,0,0,0,0,0,0,0,0,0,0,0,0,0,0,0,0,0,0,0,{"$f":"SUM(HRO151:HRO157)","v":0},0,0,0,0,0,0,0,0,0,0,0,0,0,0,0,0,0,0,0,0,0,0,0,0,0,0,0,0,0,0,0,0,0,0,0,0,0,0,0,0,0,0,0,0,0,0,0,0,0,0,0,0,0,0,0,0,0,0,0,0,0,0,0,{"$f":"SUM(HUA151:HUA157)","v":0},0,0,0,0,0,0,0,0,0,0,0,0,0,0,0,0,0,0,0,0,0,0,0,0,0,0,0,0,0,0,0,0,0,0,0,0,0,0,0,0,0,0,0,0,0,0,0,0,0,0,0,0,0,0,0,0,0,0,0,0,0,0,0,{"$f":"SUM(HWM151:HWM157)","v":0},0,0,0,0,0,0,0,0,0,0,0,0,0,0,0,0,0,0,0,0,0,0,0,0,0,0,0,0,0,0,0,0,0,0,0,0,0,0,0,0,0,0,0,0,0,0,0,0,0,0,0,0,0,0,0,0,0,0,0,0,0,0,0,{"$f":"SUM(HYY151:HYY157)","v":0},0,0,0,0,0,0,0,0,0,0,0,0,0,0,0,0,0,0,0,0,0,0,0,0,0,0,0,0,0,0,0,0,0,0,0,0,0,0,0,0,0,0,0,0,0,0,0,0,0,0,0,0,0,0,0,0,0,0,0,0,0,0,0,{"$f":"SUM(IBK151:IBK157)","v":0},0,0,0,0,0,0,0,0,0,0,0,0,0,0,0,0,0,0,0,0,0,0,0,0,0,0,0,0,0,0,0,0,0,0,0,0,0,0,0,0,0,0,0,0,0,0,0,0,0,0,0,0,0,0,0,0,0,0,0,0,0,0,0,{"$f":"SUM(IDW151:IDW157)","v":0},0,0,0,0,0,0,0,0,0,0,0,0,0,0,0,0,0,0,0,0,0,0,0,0,0,0,0,0,0,0,0,0,0,0,0,0,0,0,0,0,0,0,0,0,0,0,0,0,0,0,0,0,0,0,0,0,0,0,0,0,0,0,0,{"$f":"SUM(IGI151:IGI157)","v":0},0,0,0,0,0,0,0,0,0,0,0,0,0,0,0,0,0,0,0,0,0,0,0,0,0,0,0,0,0,0,0,0,0,0,0,0,0,0,0,0,0,0,0,0,0,0,0,0,0,0,0,0,0,0,0,0,0,0,0,0,0,0,0,{"$f":"SUM(IIU151:IIU157)","v":0},0,0,0,0,0,0,0,0,0,0,0,0,0,0,0,0,0,0,0,0,0,0,0,0,0,0,0,0,0,0,0,0,0,0,0,0,0,0,0,0,0,0,0,0,0,0,0,0,0,0,0,0,0,0,0,0,0,0,0,0,0,0,0,{"$f":"SUM(ILG151:ILG157)","v":0},0,0,0,0,0,0,0,0,0,0,0,0,0,0,0,0,0,0,0,0,0,0,0,0,0,0,0,0,0,0,0,0,0,0,0,0,0,0,0,0,0,0,0,0,0,0,0,0,0,0,0,0,0,0,0,0,0,0,0,0,0,0,0,{"$f":"SUM(INS151:INS157)","v":0},0,0,0,0,0,0,0,0,0,0,0,0,0,0,0,0,0,0,0,0,0,0,0,0,0,0,0,0,0,0,0,0,0,0,0,0,0,0,0,0,0,0,0,0,0,0,0,0,0,0,0,0,0,0,0,0,0,0,0,0,0,0,0,{"$f":"SUM(IQE151:IQE157)","v":0},0,0,0,0,0,0,0,0,0,0,0,0,0,0,0,0,0,0,0,0,0,0,0,0,0,0,0,0,0,0,0,0,0,0,0,0,0,0,0,0,0,0,0,0,0,0,0,0,0,0,0,0,0,0,0,0,0,0,0,0,0,0,0,{"$f":"SUM(ISQ151:ISQ157)","v":0},0,0,0,0,0,0,0,0,0,0,0,0,0,0,0,0,0,0,0,0,0,0,0,0,0,0,0,0,0,0,0,0,0,0,0,0,0,0,0,0,0,0,0,0,0,0,0,0,0,0,0,0,0,0,0,0,0,0,0,0,0,0,0,{"$f":"SUM(IVC151:IVC157)","v":0},0,0,0,0,0,0,0,0,0,0,0,0,0,0,0,0,0,0,0,0,0,0,0,0,0,0,0,0,0,0,0,0,0,0,0,0,0,0,0,0,0,0,0,0,0,0,0,0,0,0,0,0,0,0,0,0,0,0,0,0,0,0,0,{"$f":"SUM(IXO151:IXO157)","v":0},0,0,0,0,0,0,0,0,0,0,0,0,0,0,0,0,0,0,0,0,0,0,0,0,0,0,0,0,0,0,0,0,0,0,0,0,0,0,0,0,0,0,0,0,0,0,0,0,0,0,0,0,0,0,0,0,0,0,0,0,0,0,0,{"$f":"SUM(JAA151:JAA157)","v":0},0,0,0,0,0,0,0,0,0,0,0,0,0,0,0,0,0,0,0,0,0,0,0,0,0,0,0,0,0,0,0,0,0,0,0,0,0,0,0,0,0,0,0,0,0,0,0,0,0,0,0,0,0,0,0,0,0,0,0,0,0,0,0,{"$f":"SUM(JCM151:JCM157)","v":0},0,0,0,0,0,0,0,0,0,0,0,0,0,0,0,0,0,0,0,0,0,0,0,0,0,0,0,0,0,0,0,0,0,0,0,0,0,0,0,0,0,0,0,0,0,0,0,0,0,0,0,0,0,0,0,0,0,0,0,0,0,0,0,{"$f":"SUM(JEY151:JEY157)","v":0},0,0,0,0,0,0,0,0,0,0,0,0,0,0,0,0,0,0,0,0,0,0,0,0,0,0,0,0,0,0,0,0,0,0,0,0,0,0,0,0,0,0,0,0,0,0,0,0,0,0,0,0,0,0,0,0,0,0,0,0,0,0,0,{"$f":"SUM(JHK151:JHK157)","v":0},0,0,0,0,0,0,0,0,0,0,0,0,0,0,0,0,0,0,0,0,0,0,0,0,0,0,0,0,0,0,0,0,0,0,0,0,0,0,0,0,0,0,0,0,0,0,0,0,0,0,0,0,0,0,0,0,0,0,0,0,0,0,0,{"$f":"SUM(JJW151:JJW157)","v":0},0,0,0,0,0,0,0,0,0,0,0,0,0,0,0,0,0,0,0,0,0,0,0,0,0,0,0,0,0,0,0,0,0,0,0,0,0,0,0,0,0,0,0,0,0,0,0,0,0,0,0,0,0,0,0,0,0,0,0,0,0,0,0,{"$f":"SUM(JMI151:JMI157)","v":0},0,0,0,0,0,0,0,0,0,0,0,0,0,0,0,0,0,0,0,0,0,0,0,0,0,0,0,0,0,0,0,0,0,0,0,0,0,0,0,0,0,0,0,0,0,0,0,0,0,0,0,0,0,0,0,0,0,0,0,0,0,0,0,{"$f":"SUM(JOU151:JOU157)","v":0},0,0,0,0,0,0,0,0,0,0,0,0,0,0,0,0,0,0,0,0,0,0,0,0,0,0,0,0,0,0,0,0,0,0,0,0,0,0,0,0,0,0,0,0,0,0,0,0,0,0,0,0,0,0,0,0,0,0,0,0,0,0,0,{"$f":"SUM(JRG151:JRG157)","v":0},0,0,0,0,0,0,0,0,0,0,0,0,0,0,0,0,0,0,0,0,0,0,0,0,0,0,0,0,0,0,0,0,0,0,0,0,0,0,0,0,0,0,0,0,0,0,0,0,0,0,0,0,0,0,0,0,0,0,0,0,0,0,0,{"$f":"SUM(JTS151:JTS157)","v":0},0,0,0,0,0,0,0,0,0,0,0,0,0,0,0,0,0,0,0,0,0,0,0,0,0,0,0,0,0,0,0,0,0,0,0,0,0,0,0,0,0,0,0,0,0,0,0,0,0,0,0,0,0,0,0,0,0,0,0,0,0,0,0,{"$f":"SUM(JWE151:JWE157)","v":0},0,0,0,0,0,0,0,0,0,0,0,0,0,0,0,0,0,0,0,0,0,0,0,0,0,0,0,0,0,0,0,0,0,0,0,0,0,0,0,0,0,0,0,0,0,0,0,0,0,0,0,0,0,0,0,0,0,0,0,0,0,0,0,{"$f":"SUM(JYQ151:JYQ157)","v":0},0,0,0,0,0,0,0,0,0,0,0,0,0,0,0,0,0,0,0,0,0,0,0,0,0,0,0,0,0,0,0,0,0,0,0,0,0,0,0,0,0,0,0,0,0,0,0,0,0,0,0,0,0,0,0,0,0,0,0,0,0,0,0,{"$f":"SUM(KBC151:KBC157)","v":0},0,0,0,0,0,0,0,0,0,0,0,0,0,0,0,0,0,0,0,0,0,0,0,0,0,0,0,0,0,0,0,0,0,0,0,0,0,0,0,0,0,0,0,0,0,0,0,0,0,0,0,0,0,0,0,0,0,0,0,0,0,0,0,{"$f":"SUM(KDO151:KDO157)","v":0},0,0,0,0,0,0,0,0,0,0,0,0,0,0,0,0,0,0,0,0,0,0,0,0,0,0,0,0,0,0,0,0,0,0,0,0,0,0,0,0,0,0,0,0,0,0,0,0,0,0,0,0,0,0,0,0,0,0,0,0,0,0,0,{"$f":"SUM(KGA151:KGA157)","v":0},0,0,0,0,0,0,0,0,0,0,0,0,0,0,0,0,0,0,0,0,0,0,0,0,0,0,0,0,0,0,0,0,0,0,0,0,0,0,0,0,0,0,0,0,0,0,0,0,0,0,0,0,0,0,0,0,0,0,0,0,0,0,0,{"$f":"SUM(KIM151:KIM157)","v":0},0,0,0,0,0,0,0,0,0,0,0,0,0,0,0,0,0,0,0,0,0,0,0,0,0,0,0,0,0,0,0,0,0,0,0,0,0,0,0,0,0,0,0,0,0,0,0,0,0,0,0,0,0,0,0,0,0,0,0,0,0,0,0,{"$f":"SUM(KKY151:KKY157)","v":0},0,0,0,0,0,0,0,0,0,0,0,0,0,0,0,0,0,0,0,0,0,0,0,0,0,0,0,0,0,0,0,0,0,0,0,0,0,0,0,0,0,0,0,0,0,0,0,0,0,0,0,0,0,0,0,0,0,0,0,0,0,0,0,{"$f":"SUM(KNK151:KNK157)","v":0},0,0,0,0,0,0,0,0,0,0,0,0,0,0,0,0,0,0,0,0,0,0,0,0,0,0,0,0,0,0,0,0,0,0,0,0,0,0,0,0,0,0,0,0,0,0,0,0,0,0,0,0,0,0,0,0,0,0,0,0,0,0,0,{"$f":"SUM(KPW151:KPW157)","v":0},0,0,0,0,0,0,0,0,0,0,0,0,0,0,0,0,0,0,0,0,0,0,0,0,0,0,0,0,0,0,0,0,0,0,0,0,0,0,0,0,0,0,0,0,0,0,0,0,0,0,0,0,0,0,0,0,0,0,0,0,0,0,0,{"$f":"SUM(KSI151:KSI157)","v":0},0,0,0,0,0,0,0,0,0,0,0,0,0,0,0,0,0,0,0,0,0,0,0,0,0,0,0,0,0,0,0,0,0,0,0,0,0,0,0,0,0,0,0,0,0,0,0,0,0,0,0,0,0,0,0,0,0,0,0,0,0,0,0,{"$f":"SUM(KUU151:KUU157)","v":0},0,0,0,0,0,0,0,0,0,0,0,0,0,0,0,0,0,0,0,0,0,0,0,0,0,0,0,0,0,0,0,0,0,0,0,0,0,0,0,0,0,0,0,0,0,0,0,0,0,0,0,0,0,0,0,0,0,0,0,0,0,0,0,{"$f":"SUM(KXG151:KXG157)","v":0},0,0,0,0,0,0,0,0,0,0,0,0,0,0,0,0,0,0,0,0,0,0,0,0,0,0,0,0,0,0,0,0,0,0,0,0,0,0,0,0,0,0,0,0,0,0,0,0,0,0,0,0,0,0,0,0,0,0,0,0,0,0,0,{"$f":"SUM(KZS151:KZS157)","v":0},0,0,0,0,0,0,0,0,0,0,0,0,0,0,0,0,0,0,0,0,0,0,0,0,0,0,0,0,0,0,0,0,0,0,0,0,0,0,0,0,0,0,0,0,0,0,0,0,0,0,0,0,0,0,0,0,0,0,0,0,0,0,0,{"$f":"SUM(LCE151:LCE157)","v":0},0,0,0,0,0,0,0,0,0,0,0,0,0,0,0,0,0,0,0,0,0,0,0,0,0,0,0,0,0,0,0,0,0,0,0,0,0,0,0,0,0,0,0,0,0,0,0,0,0,0,0,0,0,0,0,0,0,0,0,0,0,0,0,{"$f":"SUM(LEQ151:LEQ157)","v":0},0,0,0,0,0,0,0,0,0,0,0,0,0,0,0,0,0,0,0,0,0,0,0,0,0,0,0,0,0,0,0,0,0,0,0,0,0,0,0,0,0,0,0,0,0,0,0,0,0,0,0,0,0,0,0,0,0,0,0,0,0,0,0,{"$f":"SUM(LHC151:LHC157)","v":0},0,0,0,0,0,0,0,0,0,0,0,0,0,0,0,0,0,0,0,0,0,0,0,0,0,0,0,0,0,0,0,0,0,0,0,0,0,0,0,0,0,0,0,0,0,0,0,0,0,0,0,0,0,0,0,0,0,0,0,0,0,0,0,{"$f":"SUM(LJO151:LJO157)","v":0},0,0,0,0,0,0,0,0,0,0,0,0,0,0,0,0,0,0,0,0,0,0,0,0,0,0,0,0,0,0,0,0,0,0,0,0,0,0,0,0,0,0,0,0,0,0,0,0,0,0,0,0,0,0,0,0,0,0,0,0,0,0,0,{"$f":"SUM(LMA151:LMA157)","v":0},0,0,0,0,0,0,0,0,0,0,0,0,0,0,0,0,0,0,0,0,0,0,0,0,0,0,0,0,0,0,0,0,0,0,0,0,0,0,0,0,0,0,0,0,0,0,0,0,0,0,0,0,0,0,0,0,0,0,0,0,0,0,0,{"$f":"SUM(LOM151:LOM157)","v":0},0,0,0,0,0,0,0,0,0,0,0,0,0,0,0,0,0,0,0,0,0,0,0,0,0,0,0,0,0,0,0,0,0,0,0,0,0,0,0,0,0,0,0,0,0,0,0,0,0,0,0,0,0,0,0,0,0,0,0,0,0,0,0,{"$f":"SUM(LQY151:LQY157)","v":0},0,0,0,0,0,0,0,0,0,0,0,0,0,0,0,0,0,0,0,0,0,0,0,0,0,0,0,0,0,0,0,0,0,0,0,0,0,0,0,0,0,0,0,0,0,0,0,0,0,0,0,0,0,0,0,0,0,0,0,0,0,0,0,{"$f":"SUM(LTK151:LTK157)","v":0},0,0,0,0,0,0,0,0,0,0,0,0,0,0,0,0,0,0,0,0,0,0,0,0,0,0,0,0,0,0,0,0,0,0,0,0,0,0,0,0,0,0,0,0,0,0,0,0,0,0,0,0,0,0,0,0,0,0,0,0,0,0,0,{"$f":"SUM(LVW151:LVW157)","v":0},0,0,0,0,0,0,0,0,0,0,0,0,0,0,0,0,0,0,0,0,0,0,0,0,0,0,0,0,0,0,0,0,0,0,0,0,0,0,0,0,0,0,0,0,0,0,0,0,0,0,0,0,0,0,0,0,0,0,0,0,0,0,0,{"$f":"SUM(LYI151:LYI157)","v":0},0,0,0,0,0,0,0,0,0,0,0,0,0,0,0,0,0,0,0,0,0,0,0,0,0,0,0,0,0,0,0,0,0,0,0,0,0,0,0,0,0,0,0,0,0,0,0,0,0,0,0,0,0,0,0,0,0,0,0,0,0,0,0,{"$f":"SUM(MAU151:MAU157)","v":0},0,0,0,0,0,0,0,0,0,0,0,0,0,0,0,0,0,0,0,0,0,0,0,0,0,0,0,0,0,0,0,0,0,0,0,0,0,0,0,0,0,0,0,0,0,0,0,0,0,0,0,0,0,0,0,0,0,0,0,0,0,0,0,{"$f":"SUM(MDG151:MDG157)","v":0},0,0,0,0,0,0,0,0,0,0,0,0,0,0,0,0,0,0,0,0,0,0,0,0,0,0,0,0,0,0,0,0,0,0,0,0,0,0,0,0,0,0,0,0,0,0,0,0,0,0,0,0,0,0,0,0,0,0,0,0,0,0,0,{"$f":"SUM(MFS151:MFS157)","v":0},0,0,0,0,0,0,0,0,0,0,0,0,0,0,0,0,0,0,0,0,0,0,0,0,0,0,0,0,0,0,0,0,0,0,0,0,0,0,0,0,0,0,0,0,0,0,0,0,0,0,0,0,0,0,0,0,0,0,0,0,0,0,0,{"$f":"SUM(MIE151:MIE157)","v":0},0,0,0,0,0,0,0,0,0,0,0,0,0,0,0,0,0,0,0,0,0,0,0,0,0,0,0,0,0,0,0,0,0,0,0,0,0,0,0,0,0,0,0,0,0,0,0,0,0,0,0,0,0,0,0,0,0,0,0,0,0,0,0,{"$f":"SUM(MKQ151:MKQ157)","v":0},0,0,0,0,0,0,0,0,0,0,0,0,0,0,0,0,0,0,0,0,0,0,0,0,0,0,0,0,0,0,0,0,0,0,0,0,0,0,0,0,0,0,0,0,0,0,0,0,0,0,0,0,0,0,0,0,0,0,0,0,0,0,0,{"$f":"SUM(MNC151:MNC157)","v":0},0,0,0,0,0,0,0,0,0,0,0,0,0,0,0,0,0,0,0,0,0,0,0,0,0,0,0,0,0,0,0,0,0,0,0,0,0,0,0,0,0,0,0,0,0,0,0,0,0,0,0,0,0,0,0,0,0,0,0,0,0,0,0,{"$f":"SUM(MPO151:MPO157)","v":0},0,0,0,0,0,0,0,0,0,0,0,0,0,0,0,0,0,0,0,0,0,0,0,0,0,0,0,0,0,0,0,0,0,0,0,0,0,0,0,0,0,0,0,0,0,0,0,0,0,0,0,0,0,0,0,0,0,0,0,0,0,0,0,{"$f":"SUM(MSA151:MSA157)","v":0},0,0,0,0,0,0,0,0,0,0,0,0,0,0,0,0,0,0,0,0,0,0,0,0,0,0,0,0,0,0,0,0,0,0,0,0,0,0,0,0,0,0,0,0,0,0,0,0,0,0,0,0,0,0,0,0,0,0,0,0,0,0,0,{"$f":"SUM(MUM151:MUM157)","v":0},0,0,0,0,0,0,0,0,0,0,0,0,0,0,0,0,0,0,0,0,0,0,0,0,0,0,0,0,0,0,0,0,0,0,0,0,0,0,0,0,0,0,0,0,0,0,0,0,0,0,0,0,0,0,0,0,0,0,0,0,0,0,0,{"$f":"SUM(MWY151:MWY157)","v":0},0,0,0,0,0,0,0,0,0,0,0,0,0,0,0,0,0,0,0,0,0,0,0,0,0,0,0,0,0,0,0,0,0,0,0,0,0,0,0,0,0,0,0,0,0,0,0,0,0,0,0,0,0,0,0,0,0,0,0,0,0,0,0,{"$f":"SUM(MZK151:MZK157)","v":0},0,0,0,0,0,0,0,0,0,0,0,0,0,0,0,0,0,0,0,0,0,0,0,0,0,0,0,0,0,0,0,0,0,0,0,0,0,0,0,0,0,0,0,0,0,0,0,0,0,0,0,0,0,0,0,0,0,0,0,0,0,0,0,{"$f":"SUM(NBW151:NBW157)","v":0},0,0,0,0,0,0,0,0,0,0,0,0,0,0,0,0,0,0,0,0,0,0,0,0,0,0,0,0,0,0,0,0,0,0,0,0,0,0,0,0,0,0,0,0,0,0,0,0,0,0,0,0,0,0,0,0,0,0,0,0,0,0,0,{"$f":"SUM(NEI151:NEI157)","v":0},0,0,0,0,0,0,0,0,0,0,0,0,0,0,0,0,0,0,0,0,0,0,0,0,0,0,0,0,0,0,0,0,0,0,0,0,0,0,0,0,0,0,0,0,0,0,0,0,0,0,0,0,0,0,0,0,0,0,0,0,0,0,0,{"$f":"SUM(NGU151:NGU157)","v":0},0,0,0,0,0,0,0,0,0,0,0,0,0,0,0,0,0,0,0,0,0,0,0,0,0,0,0,0,0,0,0,0,0,0,0,0,0,0,0,0,0,0,0,0,0,0,0,0,0,0,0,0,0,0,0,0,0,0,0,0,0,0,0,{"$f":"SUM(NJG151:NJG157)","v":0},0,0,0,0,0,0,0,0,0,0,0,0,0,0,0,0,0,0,0,0,0,0,0,0,0,0,0,0,0,0,0,0,0,0,0,0,0,0,0,0,0,0,0,0,0,0,0,0,0,0,0,0,0,0,0,0,0,0,0,0,0,0,0,{"$f":"SUM(NLS151:NLS157)","v":0},0,0,0,0,0,0,0,0,0,0,0,0,0,0,0,0,0,0,0,0,0,0,0,0,0,0,0,0,0,0,0,0,0,0,0,0,0,0,0,0,0,0,0,0,0,0,0,0,0,0,0,0,0,0,0,0,0,0,0,0,0,0,0,{"$f":"SUM(NOE151:NOE157)","v":0},0,0,0,0,0,0,0,0,0,0,0,0,0,0,0,0,0,0,0,0,0,0,0,0,0,0,0,0,0,0,0,0,0,0,0,0,0,0,0,0,0,0,0,0,0,0,0,0,0,0,0,0,0,0,0,0,0,0,0,0,0,0,0,{"$f":"SUM(NQQ151:NQQ157)","v":0},0,0,0,0,0,0,0,0,0,0,0,0,0,0,0,0,0,0,0,0,0,0,0,0,0,0,0,0,0,0,0,0,0,0,0,0,0,0,0,0,0,0,0,0,0,0,0,0,0,0,0,0,0,0,0,0,0,0,0,0,0,0,0,{"$f":"SUM(NTC151:NTC157)","v":0},0,0,0,0,0,0,0,0,0,0,0,0,0,0,0,0,0,0,0,0,0,0,0,0,0,0,0,0,0,0,0,0,0,0,0,0,0,0,0,0,0,0,0,0,0,0,0,0,0,0,0,0,0,0,0,0,0,0,0,0,0,0,0,{"$f":"SUM(NVO151:NVO157)","v":0},0,0,0,0,0,0,0,0,0,0,0,0,0,0,0,0,0,0,0,0,0,0,0,0,0,0,0,0,0,0,0,0,0,0,0,0,0,0,0,0,0,0,0,0,0,0,0,0,0,0,0,0,0,0,0,0,0,0,0,0,0,0,0,{"$f":"SUM(NYA151:NYA157)","v":0},0,0,0,0,0,0,0,0,0,0,0,0,0,0,0,0,0,0,0,0,0,0,0,0,0,0,0,0,0,0,0,0,0,0,0,0,0,0,0,0,0,0,0,0,0,0,0,0,0,0,0,0,0,0,0,0,0,0,0,0,0,0,0,{"$f":"SUM(OAM151:OAM157)","v":0},0,0,0,0,0,0,0,0,0,0,0,0,0,0,0,0,0,0,0,0,0,0,0,0,0,0,0,0,0,0,0,0,0,0,0,0,0,0,0,0,0,0,0,0,0,0,0,0,0,0,0,0,0,0,0,0,0,0,0,0,0,0,0,{"$f":"SUM(OCY151:OCY157)","v":0},0,0,0,0,0,0,0,0,0,0,0,0,0,0,0,0,0,0,0,0,0,0,0,0,0,0,0,0,0,0,0,0,0,0,0,0,0,0,0,0,0,0,0,0,0,0,0,0,0,0,0,0,0,0,0,0,0,0,0,0,0,0,0,{"$f":"SUM(OFK151:OFK157)","v":0},0,0,0,0,0,0,0,0,0,0,0,0,0,0,0,0,0,0,0,0,0,0,0,0,0,0,0,0,0,0,0,0,0,0,0,0,0,0,0,0,0,0,0,0,0,0,0,0,0,0,0,0,0,0,0,0,0,0,0,0,0,0,0,{"$f":"SUM(OHW151:OHW157)","v":0},0,0,0,0,0,0,0,0,0,0,0,0,0,0,0,0,0,0,0,0,0,0,0,0,0,0,0,0,0,0,0,0,0,0,0,0,0,0,0,0,0,0,0,0,0,0,0,0,0,0,0,0,0,0,0,0,0,0,0,0,0,0,0,{"$f":"SUM(OKI151:OKI157)","v":0},0,0,0,0,0,0,0,0,0,0,0,0,0,0,0,0,0,0,0,0,0,0,0,0,0,0,0,0,0,0,0,0,0,0,0,0,0,0,0,0,0,0,0,0,0,0,0,0,0,0,0,0,0,0,0,0,0,0,0,0,0,0,0,{"$f":"SUM(OMU151:OMU157)","v":0},0,0,0,0,0,0,0,0,0,0,0,0,0,0,0,0,0,0,0,0,0,0,0,0,0,0,0,0,0,0,0,0,0,0,0,0,0,0,0,0,0,0,0,0,0,0,0,0,0,0,0,0,0,0,0,0,0,0,0,0,0,0,0,{"$f":"SUM(OPG151:OPG157)","v":0},0,0,0,0,0,0,0,0,0,0,0,0,0,0,0,0,0,0,0,0,0,0,0,0,0,0,0,0,0,0,0,0,0,0,0,0,0,0,0,0,0,0,0,0,0,0,0,0,0,0,0,0,0,0,0,0,0,0,0,0,0,0,0,{"$f":"SUM(ORS151:ORS157)","v":0},0,0,0,0,0,0,0,0,0,0,0,0,0,0,0,0,0,0,0,0,0,0,0,0,0,0,0,0,0,0,0,0,0,0,0,0,0,0,0,0,0,0,0,0,0,0,0,0,0,0,0,0,0,0,0,0,0,0,0,0,0,0,0,{"$f":"SUM(OUE151:OUE157)","v":0},0,0,0,0,0,0,0,0,0,0,0,0,0,0,0,0,0,0,0,0,0,0,0,0,0,0,0,0,0,0,0,0,0,0,0,0,0,0,0,0,0,0,0,0,0,0,0,0,0,0,0,0,0,0,0,0,0,0,0,0,0,0,0,{"$f":"SUM(OWQ151:OWQ157)","v":0},0,0,0,0,0,0,0,0,0,0,0,0,0,0,0,0,0,0,0,0,0,0,0,0,0,0,0,0,0,0,0,0,0,0,0,0,0,0,0,0,0,0,0,0,0,0,0,0,0,0,0,0,0,0,0,0,0,0,0,0,0,0,0,{"$f":"SUM(OZC151:OZC157)","v":0},0,0,0,0,0,0,0,0,0,0,0,0,0,0,0,0,0,0,0,0,0,0,0,0,0,0,0,0,0,0,0,0,0,0,0,0,0,0,0,0,0,0,0,0,0,0,0,0,0,0,0,0,0,0,0,0,0,0,0,0,0,0,0,{"$f":"SUM(PBO151:PBO157)","v":0},0,0,0,0,0,0,0,0,0,0,0,0,0,0,0,0,0,0,0,0,0,0,0,0,0,0,0,0,0,0,0,0,0,0,0,0,0,0,0,0,0,0,0,0,0,0,0,0,0,0,0,0,0,0,0,0,0,0,0,0,0,0,0,{"$f":"SUM(PEA151:PEA157)","v":0},0,0,0,0,0,0,0,0,0,0,0,0,0,0,0,0,0,0,0,0,0,0,0,0,0,0,0,0,0,0,0,0,0,0,0,0,0,0,0,0,0,0,0,0,0,0,0,0,0,0,0,0,0,0,0,0,0,0,0,0,0,0,0,{"$f":"SUM(PGM151:PGM157)","v":0},0,0,0,0,0,0,0,0,0,0,0,0,0,0,0,0,0,0,0,0,0,0,0,0,0,0,0,0,0,0,0,0,0,0,0,0,0,0,0,0,0,0,0,0,0,0,0,0,0,0,0,0,0,0,0,0,0,0,0,0,0,0,0,{"$f":"SUM(PIY151:PIY157)","v":0},0,0,0,0,0,0,0,0,0,0,0,0,0,0,0,0,0,0,0,0,0,0,0,0,0,0,0,0,0,0,0,0,0,0,0,0,0,0,0,0,0,0,0,0,0,0,0,0,0,0,0,0,0,0,0,0,0,0,0,0,0,0,0,{"$f":"SUM(PLK151:PLK157)","v":0},0,0,0,0,0,0,0,0,0,0,0,0,0,0,0,0,0,0,0,0,0,0,0,0,0,0,0,0,0,0,0,0,0,0,0,0,0,0,0,0,0,0,0,0,0,0,0,0,0,0,0,0,0,0,0,0,0,0,0,0,0,0,0,{"$f":"SUM(PNW151:PNW157)","v":0},0,0,0,0,0,0,0,0,0,0,0,0,0,0,0,0,0,0,0,0,0,0,0,0,0,0,0,0,0,0,0,0,0,0,0,0,0,0,0,0,0,0,0,0,0,0,0,0,0,0,0,0,0,0,0,0,0,0,0,0,0,0,0,{"$f":"SUM(PQI151:PQI157)","v":0},0,0,0,0,0,0,0,0,0,0,0,0,0,0,0,0,0,0,0,0,0,0,0,0,0,0,0,0,0,0,0,0,0,0,0,0,0,0,0,0,0,0,0,0,0,0,0,0,0,0,0,0,0,0,0,0,0,0,0,0,0,0,0,{"$f":"SUM(PSU151:PSU157)","v":0},0,0,0,0,0,0,0,0,0,0,0,0,0,0,0,0,0,0,0,0,0,0,0,0,0,0,0,0,0,0,0,0,0,0,0,0,0,0,0,0,0,0,0,0,0,0,0,0,0,0,0,0,0,0,0,0,0,0,0,0,0,0,0,{"$f":"SUM(PVG151:PVG157)","v":0},0,0,0,0,0,0,0,0,0,0,0,0,0,0,0,0,0,0,0,0,0,0,0,0,0,0,0,0,0,0,0,0,0,0,0,0,0,0,0,0,0,0,0,0,0,0,0,0,0,0,0,0,0,0,0,0,0,0,0,0,0,0,0,{"$f":"SUM(PXS151:PXS157)","v":0},0,0,0,0,0,0,0,0,0,0,0,0,0,0,0,0,0,0,0,0,0,0,0,0,0,0,0,0,0,0,0,0,0,0,0,0,0,0,0,0,0,0,0,0,0,0,0,0,0,0,0,0,0,0,0,0,0,0,0,0,0,0,0,{"$f":"SUM(QAE151:QAE157)","v":0},0,0,0,0,0,0,0,0,0,0,0,0,0,0,0,0,0,0,0,0,0,0,0,0,0,0,0,0,0,0,0,0,0,0,0,0,0,0,0,0,0,0,0,0,0,0,0,0,0,0,0,0,0,0,0,0,0,0,0,0,0,0,0,{"$f":"SUM(QCQ151:QCQ157)","v":0},0,0,0,0,0,0,0,0,0,0,0,0,0,0,0,0,0,0,0,0,0,0,0,0,0,0,0,0,0,0,0,0,0,0,0,0,0,0,0,0,0,0,0,0,0,0,0,0,0,0,0,0,0,0,0,0,0,0,0,0,0,0,0,{"$f":"SUM(QFC151:QFC157)","v":0},0,0,0,0,0,0,0,0,0,0,0,0,0,0,0,0,0,0,0,0,0,0,0,0,0,0,0,0,0,0,0,0,0,0,0,0,0,0,0,0,0,0,0,0,0,0,0,0,0,0,0,0,0,0,0,0,0,0,0,0,0,0,0,{"$f":"SUM(QHO151:QHO157)","v":0},0,0,0,0,0,0,0,0,0,0,0,0,0,0,0,0,0,0,0,0,0,0,0,0,0,0,0,0,0,0,0,0,0,0,0,0,0,0,0,0,0,0,0,0,0,0,0,0,0,0,0,0,0,0,0,0,0,0,0,0,0,0,0,{"$f":"SUM(QKA151:QKA157)","v":0},0,0,0,0,0,0,0,0,0,0,0,0,0,0,0,0,0,0,0,0,0,0,0,0,0,0,0,0,0,0,0,0,0,0,0,0,0,0,0,0,0,0,0,0,0,0,0,0,0,0,0,0,0,0,0,0,0,0,0,0,0,0,0,{"$f":"SUM(QMM151:QMM157)","v":0},0,0,0,0,0,0,0,0,0,0,0,0,0,0,0,0,0,0,0,0,0,0,0,0,0,0,0,0,0,0,0,0,0,0,0,0,0,0,0,0,0,0,0,0,0,0,0,0,0,0,0,0,0,0,0,0,0,0,0,0,0,0,0,{"$f":"SUM(QOY151:QOY157)","v":0},0,0,0,0,0,0,0,0,0,0,0,0,0,0,0,0,0,0,0,0,0,0,0,0,0,0,0,0,0,0,0,0,0,0,0,0,0,0,0,0,0,0,0,0,0,0,0,0,0,0,0,0,0,0,0,0,0,0,0,0,0,0,0,{"$f":"SUM(QRK151:QRK157)","v":0},0,0,0,0,0,0,0,0,0,0,0,0,0,0,0,0,0,0,0,0,0,0,0,0,0,0,0,0,0,0,0,0,0,0,0,0,0,0,0,0,0,0,0,0,0,0,0,0,0,0,0,0,0,0,0,0,0,0,0,0,0,0,0,{"$f":"SUM(QTW151:QTW157)","v":0},0,0,0,0,0,0,0,0,0,0,0,0,0,0,0,0,0,0,0,0,0,0,0,0,0,0,0,0,0,0,0,0,0,0,0,0,0,0,0,0,0,0,0,0,0,0,0,0,0,0,0,0,0,0,0,0,0,0,0,0,0,0,0,{"$f":"SUM(QWI151:QWI157)","v":0},0,0,0,0,0,0,0,0,0,0,0,0,0,0,0,0,0,0,0,0,0,0,0,0,0,0,0,0,0,0,0,0,0,0,0,0,0,0,0,0,0,0,0,0,0,0,0,0,0,0,0,0,0,0,0,0,0,0,0,0,0,0,0,{"$f":"SUM(QYU151:QYU157)","v":0},0,0,0,0,0,0,0,0,0,0,0,0,0,0,0,0,0,0,0,0,0,0,0,0,0,0,0,0,0,0,0,0,0,0,0,0,0,0,0,0,0,0,0,0,0,0,0,0,0,0,0,0,0,0,0,0,0,0,0,0,0,0,0,{"$f":"SUM(RBG151:RBG157)","v":0},0,0,0,0,0,0,0,0,0,0,0,0,0,0,0,0,0,0,0,0,0,0,0,0,0,0,0,0,0,0,0,0,0,0,0,0,0,0,0,0,0,0,0,0,0,0,0,0,0,0,0,0,0,0,0,0,0,0,0,0,0,0,0,{"$f":"SUM(RDS151:RDS157)","v":0},0,0,0,0,0,0,0,0,0,0,0,0,0,0,0,0,0,0,0,0,0,0,0,0,0,0,0,0,0,0,0,0,0,0,0,0,0,0,0,0,0,0,0,0,0,0,0,0,0,0,0,0,0,0,0,0,0,0,0,0,0,0,0,{"$f":"SUM(RGE151:RGE157)","v":0},0,0,0,0,0,0,0,0,0,0,0,0,0,0,0,0,0,0,0,0,0,0,0,0,0,0,0,0,0,0,0,0,0,0,0,0,0,0,0,0,0,0,0,0,0,0,0,0,0,0,0,0,0,0,0,0,0,0,0,0,0,0,0,{"$f":"SUM(RIQ151:RIQ157)","v":0},0,0,0,0,0,0,0,0,0,0,0,0,0,0,0,0,0,0,0,0,0,0,0,0,0,0,0,0,0,0,0,0,0,0,0,0,0,0,0,0,0,0,0,0,0,0,0,0,0,0,0,0,0,0,0,0,0,0,0,0,0,0,0,{"$f":"SUM(RLC151:RLC157)","v":0},0,0,0,0,0,0,0,0,0,0,0,0,0,0,0,0,0,0,0,0,0,0,0,0,0,0,0,0,0,0,0,0,0,0,0,0,0,0,0,0,0,0,0,0,0,0,0,0,0,0,0,0,0,0,0,0,0,0,0,0,0,0,0,{"$f":"SUM(RNO151:RNO157)","v":0},0,0,0,0,0,0,0,0,0,0,0,0,0,0,0,0,0,0,0,0,0,0,0,0,0,0,0,0,0,0,0,0,0,0,0,0,0,0,0,0,0,0,0,0,0,0,0,0,0,0,0,0,0,0,0,0,0,0,0,0,0,0,0,{"$f":"SUM(RQA151:RQA157)","v":0},0,0,0,0,0,0,0,0,0,0,0,0,0,0,0,0,0,0,0,0,0,0,0,0,0,0,0,0,0,0,0,0,0,0,0,0,0,0,0,0,0,0,0,0,0,0,0,0,0,0,0,0,0,0,0,0,0,0,0,0,0,0,0,{"$f":"SUM(RSM151:RSM157)","v":0},0,0,0,0,0,0,0,0,0,0,0,0,0,0,0,0,0,0,0,0,0,0,0,0,0,0,0,0,0,0,0,0,0,0,0,0,0,0,0,0,0,0,0,0,0,0,0,0,0,0,0,0,0,0,0,0,0,0,0,0,0,0,0,{"$f":"SUM(RUY151:RUY157)","v":0},0,0,0,0,0,0,0,0,0,0,0,0,0,0,0,0,0,0,0,0,0,0,0,0,0,0,0,0,0,0,0,0,0,0,0,0,0,0,0,0,0,0,0,0,0,0,0,0,0,0,0,0,0,0,0,0,0,0,0,0,0,0,0,{"$f":"SUM(RXK151:RXK157)","v":0},0,0,0,0,0,0,0,0,0,0,0,0,0,0,0,0,0,0,0,0,0,0,0,0,0,0,0,0,0,0,0,0,0,0,0,0,0,0,0,0,0,0,0,0,0,0,0,0,0,0,0,0,0,0,0,0,0,0,0,0,0,0,0,{"$f":"SUM(RZW151:RZW157)","v":0},0,0,0,0,0,0,0,0,0,0,0,0,0,0,0,0,0,0,0,0,0,0,0,0,0,0,0,0,0,0,0,0,0,0,0,0,0,0,0,0,0,0,0,0,0,0,0,0,0,0,0,0,0,0,0,0,0,0,0,0,0,0,0,{"$f":"SUM(SCI151:SCI157)","v":0},0,0,0,0,0,0,0,0,0,0,0,0,0,0,0,0,0,0,0,0,0,0,0,0,0,0,0,0,0,0,0,0,0,0,0,0,0,0,0,0,0,0,0,0,0,0,0,0,0,0,0,0,0,0,0,0,0,0,0,0,0,0,0,{"$f":"SUM(SEU151:SEU157)","v":0},0,0,0,0,0,0,0,0,0,0,0,0,0,0,0,0,0,0,0,0,0,0,0,0,0,0,0,0,0,0,0,0,0,0,0,0,0,0,0,0,0,0,0,0,0,0,0,0,0,0,0,0,0,0,0,0,0,0,0,0,0,0,0,{"$f":"SUM(SHG151:SHG157)","v":0},0,0,0,0,0,0,0,0,0,0,0,0,0,0,0,0,0,0,0,0,0,0,0,0,0,0,0,0,0,0,0,0,0,0,0,0,0,0,0,0,0,0,0,0,0,0,0,0,0,0,0,0,0,0,0,0,0,0,0,0,0,0,0,{"$f":"SUM(SJS151:SJS157)","v":0},0,0,0,0,0,0,0,0,0,0,0,0,0,0,0,0,0,0,0,0,0,0,0,0,0,0,0,0,0,0,0,0,0,0,0,0,0,0,0,0,0,0,0,0,0,0,0,0,0,0,0,0,0,0,0,0,0,0,0,0,0,0,0,{"$f":"SUM(SME151:SME157)","v":0},0,0,0,0,0,0,0,0,0,0,0,0,0,0,0,0,0,0,0,0,0,0,0,0,0,0,0,0,0,0,0,0,0,0,0,0,0,0,0,0,0,0,0,0,0,0,0,0,0,0,0,0,0,0,0,0,0,0,0,0,0,0,0,{"$f":"SUM(SOQ151:SOQ157)","v":0},0,0,0,0,0,0,0,0,0,0,0,0,0,0,0,0,0,0,0,0,0,0,0,0,0,0,0,0,0,0,0,0,0,0,0,0,0,0,0,0,0,0,0,0,0,0,0,0,0,0,0,0,0,0,0,0,0,0,0,0,0,0,0,{"$f":"SUM(SRC151:SRC157)","v":0},0,0,0,0,0,0,0,0,0,0,0,0,0,0,0,0,0,0,0,0,0,0,0,0,0,0,0,0,0,0,0,0,0,0,0,0,0,0,0,0,0,0,0,0,0,0,0,0,0,0,0,0,0,0,0,0,0,0,0,0,0,0,0,{"$f":"SUM(STO151:STO157)","v":0},0,0,0,0,0,0,0,0,0,0,0,0,0,0,0,0,0,0,0,0,0,0,0,0,0,0,0,0,0,0,0,0,0,0,0,0,0,0,0,0,0,0,0,0,0,0,0,0,0,0,0,0,0,0,0,0,0,0,0,0,0,0,0,{"$f":"SUM(SWA151:SWA157)","v":0},0,0,0,0,0,0,0,0,0,0,0,0,0,0,0,0,0,0,0,0,0,0,0,0,0,0,0,0,0,0,0,0,0,0,0,0,0,0,0,0,0,0,0,0,0,0,0,0,0,0,0,0,0,0,0,0,0,0,0,0,0,0,0,{"$f":"SUM(SYM151:SYM157)","v":0},0,0,0,0,0,0,0,0,0,0,0,0,0,0,0,0,0,0,0,0,0,0,0,0,0,0,0,0,0,0,0,0,0,0,0,0,0,0,0,0,0,0,0,0,0,0,0,0,0,0,0,0,0,0,0,0,0,0,0,0,0,0,0,{"$f":"SUM(TAY151:TAY157)","v":0},0,0,0,0,0,0,0,0,0,0,0,0,0,0,0,0,0,0,0,0,0,0,0,0,0,0,0,0,0,0,0,0,0,0,0,0,0,0,0,0,0,0,0,0,0,0,0,0,0,0,0,0,0,0,0,0,0,0,0,0,0,0,0,{"$f":"SUM(TDK151:TDK157)","v":0},0,0,0,0,0,0,0,0,0,0,0,0,0,0,0,0,0,0,0,0,0,0,0,0,0,0,0,0,0,0,0,0,0,0,0,0,0,0,0,0,0,0,0,0,0,0,0,0,0,0,0,0,0,0,0,0,0,0,0,0,0,0,0,{"$f":"SUM(TFW151:TFW157)","v":0},0,0,0,0,0,0,0,0,0,0,0,0,0,0,0,0,0,0,0,0,0,0,0,0,0,0,0,0,0,0,0,0,0,0,0,0,0,0,0,0,0,0,0,0,0,0,0,0,0,0,0,0,0,0,0,0,0,0,0,0,0,0,0,{"$f":"SUM(TII151:TII157)","v":0},0,0,0,0,0,0,0,0,0,0,0,0,0,0,0,0,0,0,0,0,0,0,0,0,0,0,0,0,0,0,0,0,0,0,0,0,0,0,0,0,0,0,0,0,0,0,0,0,0,0,0,0,0,0,0,0,0,0,0,0,0,0,0,{"$f":"SUM(TKU151:TKU157)","v":0},0,0,0,0,0,0,0,0,0,0,0,0,0,0,0,0,0,0,0,0,0,0,0,0,0,0,0,0,0,0,0,0,0,0,0,0,0,0,0,0,0,0,0,0,0,0,0,0,0,0,0,0,0,0,0,0,0,0,0,0,0,0,0,{"$f":"SUM(TNG151:TNG157)","v":0},0,0,0,0,0,0,0,0,0,0,0,0,0,0,0,0,0,0,0,0,0,0,0,0,0,0,0,0,0,0,0,0,0,0,0,0,0,0,0,0,0,0,0,0,0,0,0,0,0,0,0,0,0,0,0,0,0,0,0,0,0,0,0,{"$f":"SUM(TPS151:TPS157)","v":0},0,0,0,0,0,0,0,0,0,0,0,0,0,0,0,0,0,0,0,0,0,0,0,0,0,0,0,0,0,0,0,0,0,0,0,0,0,0,0,0,0,0,0,0,0,0,0,0,0,0,0,0,0,0,0,0,0,0,0,0,0,0,0,{"$f":"SUM(TSE151:TSE157)","v":0},0,0,0,0,0,0,0,0,0,0,0,0,0,0,0,0,0,0,0,0,0,0,0,0,0,0,0,0,0,0,0,0,0,0,0,0,0,0,0,0,0,0,0,0,0,0,0,0,0,0,0,0,0,0,0,0,0,0,0,0,0,0,0,{"$f":"SUM(TUQ151:TUQ157)","v":0},0,0,0,0,0,0,0,0,0,0,0,0,0,0,0,0,0,0,0,0,0,0,0,0,0,0,0,0,0,0,0,0,0,0,0,0,0,0,0,0,0,0,0,0,0,0,0,0,0,0,0,0,0,0,0,0,0,0,0,0,0,0,0,{"$f":"SUM(TXC151:TXC157)","v":0},0,0,0,0,0,0,0,0,0,0,0,0,0,0,0,0,0,0,0,0,0,0,0,0,0,0,0,0,0,0,0,0,0,0,0,0,0,0,0,0,0,0,0,0,0,0,0,0,0,0,0,0,0,0,0,0,0,0,0,0,0,0,0,{"$f":"SUM(TZO151:TZO157)","v":0},0,0,0,0,0,0,0,0,0,0,0,0,0,0,0,0,0,0,0,0,0,0,0,0,0,0,0,0,0,0,0,0,0,0,0,0,0,0,0,0,0,0,0,0,0,0,0,0,0,0,0,0,0,0,0,0,0,0,0,0,0,0,0,{"$f":"SUM(UCA151:UCA157)","v":0},0,0,0,0,0,0,0,0,0,0,0,0,0,0,0,0,0,0,0,0,0,0,0,0,0,0,0,0,0,0,0,0,0,0,0,0,0,0,0,0,0,0,0,0,0,0,0,0,0,0,0,0,0,0,0,0,0,0,0,0,0,0,0,{"$f":"SUM(UEM151:UEM157)","v":0},0,0,0,0,0,0,0,0,0,0,0,0,0,0,0,0,0,0,0,0,0,0,0,0,0,0,0,0,0,0,0,0,0,0,0,0,0,0,0,0,0,0,0,0,0,0,0,0,0,0,0,0,0,0,0,0,0,0,0,0,0,0,0,{"$f":"SUM(UGY151:UGY157)","v":0},0,0,0,0,0,0,0,0,0,0,0,0,0,0,0,0,0,0,0,0,0,0,0,0,0,0,0,0,0,0,0,0,0,0,0,0,0,0,0,0,0,0,0,0,0,0,0,0,0,0,0,0,0,0,0,0,0,0,0,0,0,0,0,{"$f":"SUM(UJK151:UJK157)","v":0},0,0,0,0,0,0,0,0,0,0,0,0,0,0,0,0,0,0,0,0,0,0,0,0,0,0,0,0,0,0,0,0,0,0,0,0,0,0,0,0,0,0,0,0,0,0,0,0,0,0,0,0,0,0,0,0,0,0,0,0,0,0,0,{"$f":"SUM(ULW151:ULW157)","v":0},0,0,0,0,0,0,0,0,0,0,0,0,0,0,0,0,0,0,0,0,0,0,0,0,0,0,0,0,0,0,0,0,0,0,0,0,0,0,0,0,0,0,0,0,0,0,0,0,0,0,0,0,0,0,0,0,0,0,0,0,0,0,0,{"$f":"SUM(UOI151:UOI157)","v":0},0,0,0,0,0,0,0,0,0,0,0,0,0,0,0,0,0,0,0,0,0,0,0,0,0,0,0,0,0,0,0,0,0,0,0,0,0,0,0,0,0,0,0,0,0,0,0,0,0,0,0,0,0,0,0,0,0,0,0,0,0,0,0,{"$f":"SUM(UQU151:UQU157)","v":0},0,0,0,0,0,0,0,0,0,0,0,0,0,0,0,0,0,0,0,0,0,0,0,0,0,0,0,0,0,0,0,0,0,0,0,0,0,0,0,0,0,0,0,0,0,0,0,0,0,0,0,0,0,0,0,0,0,0,0,0,0,0,0,{"$f":"SUM(UTG151:UTG157)","v":0},0,0,0,0,0,0,0,0,0,0,0,0,0,0,0,0,0,0,0,0,0,0,0,0,0,0,0,0,0,0,0,0,0,0,0,0,0,0,0,0,0,0,0,0,0,0,0,0,0,0,0,0,0,0,0,0,0,0,0,0,0,0,0,{"$f":"SUM(UVS151:UVS157)","v":0},0,0,0,0,0,0,0,0,0,0,0,0,0,0,0,0,0,0,0,0,0,0,0,0,0,0,0,0,0,0,0,0,0,0,0,0,0,0,0,0,0,0,0,0,0,0,0,0,0,0,0,0,0,0,0,0,0,0,0,0,0,0,0,{"$f":"SUM(UYE151:UYE157)","v":0},0,0,0,0,0,0,0,0,0,0,0,0,0,0,0,0,0,0,0,0,0,0,0,0,0,0,0,0,0,0,0,0,0,0,0,0,0,0,0,0,0,0,0,0,0,0,0,0,0,0,0,0,0,0,0,0,0,0,0,0,0,0,0,{"$f":"SUM(VAQ151:VAQ157)","v":0},0,0,0,0,0,0,0,0,0,0,0,0,0,0,0,0,0,0,0,0,0,0,0,0,0,0,0,0,0,0,0,0,0,0,0,0,0,0,0,0,0,0,0,0,0,0,0,0,0,0,0,0,0,0,0,0,0,0,0,0,0,0,0,{"$f":"SUM(VDC151:VDC157)","v":0},0,0,0,0,0,0,0,0,0,0,0,0,0,0,0,0,0,0,0,0,0,0,0,0,0,0,0,0,0,0,0,0,0,0,0,0,0,0,0,0,0,0,0,0,0,0,0,0,0,0,0,0,0,0,0,0,0,0,0,0,0,0,0,{"$f":"SUM(VFO151:VFO157)","v":0},0,0,0,0,0,0,0,0,0,0,0,0,0,0,0,0,0,0,0,0,0,0,0,0,0,0,0,0,0,0,0,0,0,0,0,0,0,0,0,0,0,0,0,0,0,0,0,0,0,0,0,0,0,0,0,0,0,0,0,0,0,0,0,{"$f":"SUM(VIA151:VIA157)","v":0},0,0,0,0,0,0,0,0,0,0,0,0,0,0,0,0,0,0,0,0,0,0,0,0,0,0,0,0,0,0,0,0,0,0,0,0,0,0,0,0,0,0,0,0,0,0,0,0,0,0,0,0,0,0,0,0,0,0,0,0,0,0,0,{"$f":"SUM(VKM151:VKM157)","v":0},0,0,0,0,0,0,0,0,0,0,0,0,0,0,0,0,0,0,0,0,0,0,0,0,0,0,0,0,0,0,0,0,0,0,0,0,0,0,0,0,0,0,0,0,0,0,0,0,0,0,0,0,0,0,0,0,0,0,0,0,0,0,0,{"$f":"SUM(VMY151:VMY157)","v":0},0,0,0,0,0,0,0,0,0,0,0,0,0,0,0,0,0,0,0,0,0,0,0,0,0,0,0,0,0,0,0,0,0,0,0,0,0,0,0,0,0,0,0,0,0,0,0,0,0,0,0,0,0,0,0,0,0,0,0,0,0,0,0,{"$f":"SUM(VPK151:VPK157)","v":0},0,0,0,0,0,0,0,0,0,0,0,0,0,0,0,0,0,0,0,0,0,0,0,0,0,0,0,0,0,0,0,0,0,0,0,0,0,0,0,0,0,0,0,0,0,0,0,0,0,0,0,0,0,0,0,0,0,0,0,0,0,0,0,{"$f":"SUM(VRW151:VRW157)","v":0},0,0,0,0,0,0,0,0,0,0,0,0,0,0,0,0,0,0,0,0,0,0,0,0,0,0,0,0,0,0,0,0,0,0,0,0,0,0,0,0,0,0,0,0,0,0,0,0,0,0,0,0,0,0,0,0,0,0,0,0,0,0,0,{"$f":"SUM(VUI151:VUI157)","v":0},0,0,0,0,0,0,0,0,0,0,0,0,0,0,0,0,0,0,0,0,0,0,0,0,0,0,0,0,0,0,0,0,0,0,0,0,0,0,0,0,0,0,0,0,0,0,0,0,0,0,0,0,0,0,0,0,0,0,0,0,0,0,0,{"$f":"SUM(VWU151:VWU157)","v":0},0,0,0,0,0,0,0,0,0,0,0,0,0,0,0,0,0,0,0,0,0,0,0,0,0,0,0,0,0,0,0,0,0,0,0,0,0,0,0,0,0,0,0,0,0,0,0,0,0,0,0,0,0,0,0,0,0,0,0,0,0,0,0,{"$f":"SUM(VZG151:VZG157)","v":0},0,0,0,0,0,0,0,0,0,0,0,0,0,0,0,0,0,0,0,0,0,0,0,0,0,0,0,0,0,0,0,0,0,0,0,0,0,0,0,0,0,0,0,0,0,0,0,0,0,0,0,0,0,0,0,0,0,0,0,0,0,0,0,{"$f":"SUM(WBS151:WBS157)","v":0},0,0,0,0,0,0,0,0,0,0,0,0,0,0,0,0,0,0,0,0,0,0,0,0,0,0,0,0,0,0,0,0,0,0,0,0,0,0,0,0,0,0,0,0,0,0,0,0,0,0,0,0,0,0,0,0,0,0,0,0,0,0,0,{"$f":"SUM(WEE151:WEE157)","v":0},0,0,0,0,0,0,0,0,0,0,0,0,0,0,0,0,0,0,0,0,0,0,0,0,0,0,0,0,0,0,0,0,0,0,0,0,0,0,0,0,0,0,0,0,0,0,0,0,0,0,0,0,0,0,0,0,0,0,0,0,0,0,0,{"$f":"SUM(WGQ151:WGQ157)","v":0},0,0,0,0,0,0,0,0,0,0,0,0,0,0,0,0,0,0,0,0,0,0,0,0,0,0,0,0,0,0,0,0,0,0,0,0,0,0,0,0,0,0,0,0,0,0,0,0,0,0,0,0,0,0,0,0,0,0,0,0,0,0,0,{"$f":"SUM(WJC151:WJC157)","v":0},0,0,0,0,0,0,0,0,0,0,0,0,0,0,0,0,0,0,0,0,0,0,0,0,0,0,0,0,0,0,0,0,0,0,0,0,0,0,0,0,0,0,0,0,0,0,0,0,0,0,0,0,0,0,0,0,0,0,0,0,0,0,0,{"$f":"SUM(WLO151:WLO157)","v":0},0,0,0,0,0,0,0,0,0,0,0,0,0,0,0,0,0,0,0,0,0,0,0,0,0,0,0,0,0,0,0,0,0,0,0,0,0,0,0,0,0,0,0,0,0,0,0,0,0,0,0,0,0,0,0,0,0,0,0,0,0,0,0,{"$f":"SUM(WOA151:WOA157)","v":0},0,0,0,0,0,0,0,0,0,0,0,0,0,0,0,0,0,0,0,0,0,0,0,0,0,0,0,0,0,0,0,0,0,0,0,0,0,0,0,0,0,0,0,0,0,0,0,0,0,0,0,0,0,0,0,0,0,0,0,0,0,0,0,{"$f":"SUM(WQM151:WQM157)","v":0},0,0,0,0,0,0,0,0,0,0,0,0,0,0,0,0,0,0,0,0,0,0,0,0,0,0,0,0,0,0,0,0,0,0,0,0,0,0,0,0,0,0,0,0,0,0,0,0,0,0,0,0,0,0,0,0,0,0,0,0,0,0,0,{"$f":"SUM(WSY151:WSY157)","v":0},0,0,0,0,0,0,0,0,0,0,0,0,0,0,0,0,0,0,0,0,0,0,0,0,0,0,0,0,0,0,0,0,0,0,0,0,0,0,0,0,0,0,0,0,0,0,0,0,0,0,0,0,0,0,0,0,0,0,0,0,0,0,0,{"$f":"SUM(WVK151:WVK157)","v":0},0,0,0,0,0,0,0,0,0,0,0,0,0,0,0,0,0,0,0,0,0,0,0,0,0,0,0,0,0,0,0,0,0,0,0,0,0,0,0,0,0,0,0,0,0,0,0,0,0,0,0,0,0,0,0,0,0,0,0,0,0,0,0,{"$f":"SUM(WXW151:WXW157)","v":0},0,0,0,0,0,0,0,0,0,0,0,0,0,0,0,0,0,0,0,0,0,0,0,0,0,0,0,0,0,0,0,0,0,0,0,0,0,0,0,0,0,0,0,0,0,0,0,0,0,0,0,0,0,0,0,0,0,0,0,0,0,0,0,{"$f":"SUM(XAI151:XAI157)","v":0},0,0,0,0,0,0,0,0,0,0,0,0,0,0,0,0,0,0,0,0,0,0,0,0,0,0,0,0,0,0,0,0,0,0,0,0,0,0,0,0,0,0,0,0,0,0,0,0,0,0,0,0,0,0,0,0,0,0,0,0,0,0,0,{"$f":"SUM(XCU151:XCU157)","v":0},0,0,0,0,0,0,0,0,0,0,0,0,0,0,0,0,0,0,0,0,0,0,0,0,0,0,0,0,0,0,0,0,0,0,0,0,0,0,0,0,0,0,0,0,0,0,0,0,0,0,0,0,0,0,0,0,0,0,0,0,0]
["i1) Amortización de la Deuda Pública",1607142.84,0,{"$f":"B151+C151","v":1607142.84},401785.71,401785.71,1205357.1300000001]
["i2) Intereses de la Deuda Pública",600000,0,{"$f":"B152+C152","v":600000},169821.26,169821.26,430178.74]
["i3) Comisiones de la Deuda Pública",0,0,0,0,0,0]
["i4) Gastos de la Deuda Pública",0,0,0,0,0,0]
["i5) Costo por Coberturas",0,0,0,0,0,0]
["i6) Apoyos Financieros",0,0,0,0,0,0]
["i7) Adeudos de Ejercicios Fiscales Anteriores (ADEFAS)",0,0,0,0,0,0]
[]
["III. Total de Egresos (III = I + II)",{"$f":"B9+B84","v":500000000},55920715.869999997,555920715.86999989,88795873.25,{"$f":"F9+F84","v":81949853.729999989},467124842.62]

{"sheet":"F06a","index":14,"n_rows":150,"n_cols":21,"rows_kept":150,"cut":false,"hidden":true,"merged":[]}
["CLAVE","N1","N2","N3","N4","N5","N6","N7","C  O  N  C  E  P  T  O  S",null,null,null,null,null,null,"APROBADO","AMPLIACIONES","MODIFICADO","DEVENGADO","PAGADO","SUBEJERCICIO"]
[{"$f":"IF(LEN(CLEAN(B2))=0,\"0\",B2)&\",\"&IF(LEN(CLEAN(C2))=0,\"0\",C2)&\",\"&IF(LEN(CLEAN(D2))=0,\"0\",D2)&\",\"&IF(LEN(CLEAN(E2))=0,\"0\",E2)&\",\"&IF(LEN(CLEAN(F2))=0,\"0\",F2)&\",\"&IF(LEN(CLEAN(G2))=0,\"0\",G2)&\",\"&IF(LEN(CLEAN(H2))=0,\"0\",H2)","v":"6,1,1,0,0,0,0"},6,1,1,null,null,null,null,"Gasto No Etiquetado",null,null,null,null,null,null,{"$f":"'Formato 6 a)'!B9","v":232000000},{"$f":"'Formato 6 a)'!C9","v":19384465.899999999},{"$f":"'Formato 6 a)'!D9","v":251384465.89999998},{"$f":"'Formato 6 a)'!E9","v":44527266.350000009},{"$f":"'Formato 6 a)'!F9","v":43778673.939999998},{"$f":"'Formato 6 a)'!G9","v":206857199.55000001}]
[{"$f":"IF(LEN(CLEAN(B3))=0,\"0\",B3)&\",\"&IF(LEN(CLEAN(C3))=0,\"0\",C3)&\",\"&IF(LEN(CLEAN(D3))=0,\"0\",D3)&\",\"&IF(LEN(CLEAN(E3))=0,\"0\",E3)&\",\"&IF(LEN(CLEAN(F3))=0,\"0\",F3)&\",\"&IF(LEN(CLEAN(G3))=0,\"0\",G3)&\",\"&IF(LEN(CLEAN(H3))=0,\"0\",H3)","v":"6,1,1,1,0,0,0"},6,1,1,1,null,null,null,null,"Servicios Personales",null,null,null,null,null,{"$f":"'Formato 6 a)'!B10","v":109782618},{"$f":"'Formato 6 a)'!C10","v":0},{"$f":"'Formato 6 a)'!D10","v":109782618},{"$f":"'Formato 6 a)'!E10","v":22574450.210000005},{"$f":"'Formato 6 a)'!F10","v":22138386.399999999},{"$f":"'Formato 6 a)'!G10","v":87208167.790000007}]
["6,1,1,1,1,0,0",6,1,1,1,1,null,null,null,null,"Remuneraciones al Personal de Carácter Permanente",null,null,null,null,{"$f":"'Formato 6 a)'!B11","v":71472536},{"$f":"'Formato 6 a)'!C11","v":0},{"$f":"'Formato 6 a)'!D11","v":71472536},{"$f":"'Formato 6 a)'!E11","v":16447055.220000001},{"$f":"'Formato 6 a)'!F11","v":16441881.74},{"$f":"'Formato 6 a)'!G11","v":55025480.780000001}]
["6,1,1,1,2,0,0",6,1,1,1,2,null,null,null,null,"Remuneraciones al Personal de Carácter Transitorio",null,null,null,null,{"$f":"'Formato 6 a)'!B12","v":1746000},{"$f":"'Formato 6 a)'!C12","v":0},{"$f":"'Formato 6 a)'!D12","v":1746000},{"$f":"'Formato 6 a)'!E12","v":606597.82999999996},{"$f":"'Formato 6 a)'!F12","v":606597.82999999996},{"$f":"'Formato 6 a)'!G12","v":1139402.17}]
["6,1,1,1,3,0,0",6,1,1,1,3,null,null,null,null,"Remuneraciones Adicionales y Especiales",null,null,null,null,{"$f":"'Formato 6 a)'!B13","v":14442950},{"$f":"'Formato 6 a)'!C13","v":0},{"$f":"'Formato 6 a)'!D13","v":14442950},{"$f":"'Formato 6 a)'!E13","v":526838.68999999994},{"$f":"'Formato 6 a)'!F13","v":469672.4},{"$f":"'Formato 6 a)'!G13","v":13916111.310000001}]
["6,1,1,1,4,0,0",6,1,1,1,4,null,null,null,null,"Seguridad Social",null,null,null,null,{"$f":"'Formato 6 a)'!B14","v":5650000},{"$f":"'Formato 6 a)'!C14","v":0},{"$f":"'Formato 6 a)'!D14","v":5650000},{"$f":"'Formato 6 a)'!E14","v":1172211.17},{"$f":"'Formato 6 a)'!F14","v":825798.8},{"$f":"'Formato 6 a)'!G14","v":4477788.83}]
["6,1,1,1,5,0,0",6,1,1,1,5,null,null,null,null,"Otras Prestaciones Sociales y Económicas",null,null,null,null,{"$f":"'Formato 6 a)'!B15","v":16471132},{"$f":"'Formato 6 a)'!C15","v":0},{"$f":"'Formato 6 a)'!D15","v":16471132},{"$f":"'Formato 6 a)'!E15","v":3821747.3},{"$f":"'Formato 6 a)'!F15","v":3794435.63},{"$f":"'Formato 6 a)'!G15","v":12649384.699999999}]
["6,1,1,1,6,0,0",6,1,1,1,6,null,null,null,null,"Previsiones",null,null,null,null,{"$f":"'Formato 6 a)'!B16","v":0},{"$f":"'Formato 6 a)'!C16","v":0},{"$f":"'Formato 6 a)'!D16","v":0},{"$f":"'Formato 6 a)'!E16","v":0},{"$f":"'Formato 6 a)'!F16","v":0},{"$f":"'Formato 6 a)'!G16","v":0}]
["6,1,1,1,7,0,0",6,1,1,1,7,null,null,null,null,"Pago de Estímulos a Servidores Públicos",null,null,null,null,{"$f":"'Formato 6 a)'!B17","v":0},{"$f":"'Formato 6 a)'!C17","v":0},{"$f":"'Formato 6 a)'!D17","v":0},{"$f":"'Formato 6 a)'!E17","v":0},{"$f":"'Formato 6 a)'!F17","v":0},{"$f":"'Formato 6 a)'!G17","v":0}]
["6,1,1,2,0,0,0",6,1,1,2,null,null,null,null,"Materiales y Suministros",null,null,null,null,null,{"$f":"'Formato 6 a)'!B18","v":13292243.810000001},{"$f":"'Formato 6 a)'!C18","v":472800},{"$f":"'Formato 6 a)'!D18","v":13765043.810000001},{"$f":"'Formato 6 a)'!E18","v":2321997.29},{"$f":"'Formato 6 a)'!F18","v":2321997.29},{"$f":"'Formato 6 a)'!G18","v":11443046.520000001}]
["6,1,1,2,1,0,0",6,1,1,2,1,null,null,null,null,"Materiales de Administración, Emisión de Documentos y Artículos Oficiales",null,null,null,null,{"$f":"'Formato 6 a)'!B19","v":3618500},{"$f":"'Formato 6 a)'!C19","v":39500},{"$f":"'Formato 6 a)'!D19","v":3658000},{"$f":"'Formato 6 a)'!E19","v":754012.5},{"$f":"'Formato 6 a)'!F19","v":754012.5},{"$f":"'Formato 6 a)'!G19","v":2903987.5}]
["6,1,1,2,2,0,0",6,1,1,2,2,null,null,null,null,"Alimentos y Utensilios",null,null,null,null,{"$f":"'Formato 6 a)'!B20","v":792243.81},{"$f":"'Formato 6 a)'!C20","v":33000},{"$f":"'Formato 6 a)'!D20","v":825243.81},{"$f":"'Formato 6 a)'!E20","v":85590.04},{"$f":"'Formato 6 a)'!F20","v":85590.04},{"$f":"'Formato 6 a)'!G20","v":739653.77}]
["6,1,1,2,3,0,0",6,1,1,2,3,null,null,null,null,"Materias Primas y Materiales de Producción y Comercialización",null,null,null,null,{"$f":"'Formato 6 a)'!B21","v":9000},{"$f":"'Formato 6 a)'!C21","v":0},{"$f":"'Formato 6 a)'!D21","v":9000},{"$f":"'Formato 6 a)'!E21","v":0},{"$f":"'Formato 6 a)'!F21","v":0},{"$f":"'Formato 6 a)'!G21","v":9000}]
["6,1,1,2,4,0,0",6,1,1,2,4,null,null,null,null,"Materiales y Artículos de Construcción y de Reparación",null,null,null,null,{"$f":"'Formato 6 a)'!B22","v":2448000},{"$f":"'Formato 6 a)'!C22","v":38800},{"$f":"'Formato 6 a)'!D22","v":2486800},{"$f":"'Formato 6 a)'!E22","v":601492.02},{"$f":"'Formato 6 a)'!F22","v":601492.02},{"$f":"'Formato 6 a)'!G22","v":1885307.98}]
["6,1,1,2,5,0,0",6,1,1,2,5,null,null,null,null,"Productos Químicos, Farmacéuticos y de Laboratorio",null,null,null,null,{"$f":"'Formato 6 a)'!B23","v":895000},{"$f":"'Formato 6 a)'!C23","v":90500},{"$f":"'Formato 6 a)'!D23","v":985500},{"$f":"'Formato 6 a)'!E23","v":100986.71},{"$f":"'Formato 6 a)'!F23","v":100986.71},{"$f":"'Formato 6 a)'!G23","v":884513.29}]
["6,1,1,2,6,0,0",6,1,1,2,6,null,null,null,null,"Combustibles, Lubricantes y Aditivos",null,null,null,null,{"$f":"'Formato 6 a)'!B24","v":2642000},{"$f":"'Formato 6 a)'!C24","v":-76000},{"$f":"'Formato 6 a)'!D24","v":2566000},{"$f":"'Formato 6 a)'!E24","v":467397.05},{"$f":"'Formato 6 a)'!F24","v":467397.05},{"$f":"'Formato 6 a)'!G24","v":2098602.9500000002}]
["6,1,1,2,7,0,0",6,1,1,2,7,null,null,null,null,"Vestuario, Blancos, Prendas de Protección y Artículos Deportivos",null,null,null,null,{"$f":"'Formato 6 a)'!B25","v":1725000},{"$f":"'Formato 6 a)'!C25","v":140000},{"$f":"'Formato 6 a)'!D25","v":1865000},{"$f":"'Formato 6 a)'!E25","v":50083.28},{"$f":"'Formato 6 a)'!F25","v":50083.28},{"$f":"'Formato 6 a)'!G25","v":1814916.72}]
["6,1,1,2,8,0,0",6,1,1,2,8,null,null,null,null,"Materiales y Suministros Para Seguridad",null,null,null,null,{"$f":"'Formato 6 a)'!B26","v":0},{"$f":"'Formato 6 a)'!C26","v":0},{"$f":"'Formato 6 a)'!D26","v":0},{"$f":"'Formato 6 a)'!E26","v":0},{"$f":"'Formato 6 a)'!F26","v":0},{"$f":"'Formato 6 a)'!G26","v":0}]
["6,1,1,2,9,0,0",6,1,1,2,9,null,null,null,null,"Herramientas, Refacciones y Accesorios Menores",null,null,null,null,{"$f":"'Formato 6 a)'!B27","v":1162500},{"$f":"'Formato 6 a)'!C27","v":207000},{"$f":"'Formato 6 a)'!D27","v":1369500},{"$f":"'Formato 6 a)'!E27","v":262435.69},{"$f":"'Formato 6 a)'!F27","v":262435.69},{"$f":"'Formato 6 a)'!G27","v":1107064.31}]
["6,1,1,3,0,0,0",6,1,1,3,null,null,null,null,"Servicios Generales",null,null,null,null,null,{"$f":"'Formato 6 a)'!B28","v":46494309},{"$f":"'Formato 6 a)'!C28","v":3579826},{"$f":"'Formato 6 a)'!D28","v":50074135},{"$f":"'Formato 6 a)'!E28","v":7560839.6600000001},{"$f":"'Formato 6 a)'!F28","v":7501996.1699999999},{"$f":"'Formato 6 a)'!G28","v":42513295.340000004}]
["6,1,1,3,1,0,0",6,1,1,3,1,null,null,null,null,"Servicios Básicos",null,null,null,null,{"$f":"'Formato 6 a)'!B29","v":16181500},{"$f":"'Formato 6 a)'!C29","v":6200},{"$f":"'Formato 6 a)'!D29","v":16187700},{"$f":"'Formato 6 a)'!E29","v":2630450.09},{"$f":"'Formato 6 a)'!F29","v":2630450.09},{"$f":"'Formato 6 a)'!G29","v":13557249.91}]
["6,1,1,3,2,0,0",6,1,1,3,2,null,null,null,null,"Servicios de Arrendamiento",null,null,null,null,{"$f":"'Formato 6 a)'!B30","v":1046115},{"$f":"'Formato 6 a)'!C30","v":57500},{"$f":"'Formato 6 a)'!D30","v":1103615},{"$f":"'Formato 6 a)'!E30","v":116001.18},{"$f":"'Formato 6 a)'!F30","v":116001.18},{"$f":"'Formato 6 a)'!G30","v":987613.82000000007}]
["6,1,1,3,3,0,0",6,1,1,3,3,null,null,null,null,"Servicios Profesionales, Científicos, Técnicos y Otros Servicios",null,null,null,null,{"$f":"'Formato 6 a)'!B31","v":6186400},{"$f":"'Formato 6 a)'!C31","v":2081926},{"$f":"'Formato 6 a)'!D31","v":8268326},{"$f":"'Formato 6 a)'!E31","v":528103.57999999996},{"$f":"'Formato 6 a)'!F31","v":528103.57999999996},{"$f":"'Formato 6 a)'!G31","v":7740222.4199999999}]
["6,1,1,3,4,0,0",6,1,1,3,4,null,null,null,null,"Servicios Financieros, Bancarios y Comerciales",null,null,null,null,{"$f":"'Formato 6 a)'!B32","v":1500000},{"$f":"'Formato 6 a)'!C32","v":0},{"$f":"'Formato 6 a)'!D32","v":1500000},{"$f":"'Formato 6 a)'!E32","v":318147.56},{"$f":"'Formato 6 a)'!F32","v":318146.07},{"$f":"'Formato 6 a)'!G32","v":1181852.44}]
["6,1,1,3,5,0,0",6,1,1,3,5,null,null,null,null,"Servicios de Instalación, Reparación, Mantenimiento y Conservación",null,null,null,null,{"$f":"'Formato 6 a)'!B33","v":917594},{"$f":"'Formato 6 a)'!C33","v":64200},{"$f":"'Formato 6 a)'!D33","v":981794},{"$f":"'Formato 6 a)'!E33","v":317909.5},{"$f":"'Formato 6 a)'!F33","v":317909.5},{"$f":"'Formato 6 a)'!G33","v":663884.5}]
["6,1,1,3,6,0,0",6,1,1,3,6,null,null,null,null,"Servicios de Comunicación Social y Publicidad",null,null,null,null,{"$f":"'Formato 6 a)'!B34","v":2626000},{"$f":"'Formato 6 a)'!C34","v":0},{"$f":"'Formato 6 a)'!D34","v":2626000},{"$f":"'Formato 6 a)'!E34","v":163960.94},{"$f":"'Formato 6 a)'!F34","v":163960.94},{"$f":"'Formato 6 a)'!G34","v":2462039.06}]
["6,1,1,3,7,0,0",6,1,1,3,7,null,null,null,null,"Servicios de Traslado y Viáticos",null,null,null,null,{"$f":"'Formato 6 a)'!B35","v":362700},{"$f":"'Formato 6 a)'!C35","v":9000},{"$f":"'Formato 6 a)'!D35","v":371700},{"$f":"'Formato 6 a)'!E35","v":12246.08},{"$f":"'Formato 6 a)'!F35","v":12246.08},{"$f":"'Formato 6 a)'!G35","v":359453.92}]
["6,1,1,3,8,0,0",6,1,1,3,8,null,null,null,null,"Servicios Oficiales",null,null,null,null,{"$f":"'Formato 6 a)'!B36","v":2266000},{"$f":"'Formato 6 a)'!C36","v":168000},{"$f":"'Formato 6 a)'!D36","v":2434000},{"$f":"'Formato 6 a)'!E36","v":243923.63},{"$f":"'Formato 6 a)'!F36","v":243923.63},{"$f":"'Formato 6 a)'!G36","v":2190076.37}]
["6,1,1,3,9,0,0",6,1,1,3,9,null,null,null,null,"Otros Servicios Generales",null,null,null,null,{"$f":"'Formato 6 a)'!B37","v":15408000},{"$f":"'Formato 6 a)'!C37","v":1193000},{"$f":"'Formato 6 a)'!D37","v":16601000},{"$f":"'Formato 6 a)'!E37","v":3230097.1},{"$f":"'Formato 6 a)'!F37","v":3171255.1},{"$f":"'Formato 6 a)'!G37","v":13370902.9}]
["6,1,1,4,0,0,0",6,1,1,4,null,null,null,null,"Transferencias, Asignaciones, Subsidios y Otras Ayudas",null,null,null,null,null,{"$f":"'Formato 6 a)'!B38","v":38102829.189999998},{"$f":"'Formato 6 a)'!C38","v":1860627.6400000001},{"$f":"'Formato 6 a)'!D38","v":39963456.829999998},{"$f":"'Formato 6 a)'!E38","v":7498705.21},{"$f":"'Formato 6 a)'!F38","v":7498705.21},{"$f":"'Formato 6 a)'!G38","v":32464751.620000001}]
["6,1,1,4,1,0,0",6,1,1,4,1,null,null,null,null,"Transferencias Internas y Asignaciones al Sector Público",null,null,null,null,{"$f":"'Formato 6 a)'!B39","v":0},{"$f":"'Formato 6 a)'!C39","v":0},{"$f":"'Formato 6 a)'!D39","v":0},{"$f":"'Formato 6 a)'!E39","v":0},{"$f":"'Formato 6 a)'!F39","v":0},{"$f":"'Formato 6 a)'!G39","v":0}]
["6,1,1,4,2,0,0",6,1,1,4,2,null,null,null,null,"Transferencias al Resto del Sector Público",null,null,null,null,{"$f":"'Formato 6 a)'!B40","v":16020656.189999999},{"$f":"'Formato 6 a)'!C40","v":0},{"$f":"'Formato 6 a)'!D40","v":16020656.189999999},{"$f":"'Formato 6 a)'!E40","v":4005164.04},{"$f":"'Formato 6 a)'!F40","v":4005164.04},{"$f":"'Formato 6 a)'!G40","v":12015492.149999999}]
["6,1,1,4,3,0,0",6,1,1,4,3,null,null,null,null,"Subsidios y Subvenciones",null,null,null,null,{"$f":"'Formato 6 a)'!B41","v":0},{"$f":"'Formato 6 a)'!C41","v":539093.64},{"$f":"'Formato 6 a)'!D41","v":539093.64},{"$f":"'Formato 6 a)'!E41","v":0},{"$f":"'Formato 6 a)'!F41","v":0},{"$f":"'Formato 6 a)'!G41","v":539093.64}]
["6,1,1,4,4,0,0",6,1,1,4,4,null,null,null,null,"Ayudas Sociales",null,null,null,null,{"$f":"'Formato 6 a)'!B42","v":13820000},{"$f":"'Formato 6 a)'!C42","v":1321534},{"$f":"'Formato 6 a)'!D42","v":15141534},{"$f":"'Formato 6 a)'!E42","v":1919486.47},{"$f":"'Formato 6 a)'!F42","v":1919486.47},{"$f":"'Formato 6 a)'!G42","v":13222047.529999999}]
["6,1,1,4,5,0,0",6,1,1,4,5,null,null,null,null,"Pensiones y Jubilaciones",null,null,null,null,{"$f":"'Formato 6 a)'!B43","v":8262173},{"$f":"'Formato 6 a)'!C43","v":0},{"$f":"'Formato 6 a)'!D43","v":8262173},{"$f":"'Formato 6 a)'!E43","v":1574054.7},{"$f":"'Formato 6 a)'!F43","v":1574054.7},{"$f":"'Formato 6 a)'!G43","v":6688118.2999999998}]
["6,1,1,4,6,0,0",6,1,1,4,6,null,null,null,null,"Transferencias a Fideicomisos, Mandatos y Otros Análogos",null,null,null,null,{"$f":"'Formato 6 a)'!B44","v":0},{"$f":"'Formato 6 a)'!C44","v":0},{"$f":"'Formato 6 a)'!D44","v":0},{"$f":"'Formato 6 a)'!E44","v":0},{"$f":"'Formato 6 a)'!F44","v":0},{"$f":"'Formato 6 a)'!G44","v":0}]
["6,1,1,4,7,0,0",6,1,1,4,7,null,null,null,null,"Transferencias a la Seguridad Social",null,null,null,null,{"$f":"'Formato 6 a)'!B45","v":0},{"$f":"'Formato 6 a)'!C45","v":0},{"$f":"'Formato 6 a)'!D45","v":0},{"$f":"'Formato 6 a)'!E45","v":0},{"$f":"'Formato 6 a)'!F45","v":0},{"$f":"'Formato 6 a)'!G45","v":0}]
["6,1,1,4,8,0,0",6,1,1,4,8,null,null,null,null,"Donativos",null,null,null,null,{"$f":"'Formato 6 a)'!B46","v":0},{"$f":"'Formato 6 a)'!C46","v":0},{"$f":"'Formato 6 a)'!D46","v":0},{"$f":"'Formato 6 a)'!E46","v":0},{"$f":"'Formato 6 a)'!F46","v":0},{"$f":"'Formato 6 a)'!G46","v":0}]
["6,1,1,4,9,0,0",6,1,1,4,9,null,null,null,null,"Transferencias al Exterior",null,null,null,null,{"$f":"'Formato 6 a)'!B47","v":0},{"$f":"'Formato 6 a)'!C47","v":0},{"$f":"'Formato 6 a)'!D47","v":0},{"$f":"'Formato 6 a)'!E47","v":0},{"$f":"'Formato 6 a)'!F47","v":0},{"$f":"'Formato 6 a)'!G47","v":0}]
["6,1,1,5,0,0,0",6,1,1,5,null,null,null,null,"Bienes Muebles, Inmuebles e Intangibles",null,null,null,null,null,{"$f":"'Formato 6 a)'!B48","v":2328000},{"$f":"'Formato 6 a)'!C48","v":50000},{"$f":"'Formato 6 a)'!D48","v":2378000},{"$f":"'Formato 6 a)'!E48","v":35953.96},{"$f":"'Formato 6 a)'!F48","v":5329.96},{"$f":"'Formato 6 a)'!G48","v":2342046.04}]
["6,1,1,5,1,0,0",6,1,1,5,1,null,null,null,null,"Mobiliario y Equipo de Administración",null,null,null,null,{"$f":"'Formato 6 a)'!B49","v":294000},{"$f":"'Formato 6 a)'!C49","v":0},{"$f":"'Formato 6 a)'!D49","v":294000},{"$f":"'Formato 6 a)'!E49","v":5329.96},{"$f":"'Formato 6 a)'!F49","v":5329.96},{"$f":"'Formato 6 a)'!G49","v":288670.03999999998}]
["6,1,1,5,2,0,0",6,1,1,5,2,null,null,null,null,"Mobiliario y Equipo Educacional y Recreativo",null,null,null,null,{"$f":"'Formato 6 a)'!B50","v":80000},{"$f":"'Formato 6 a)'!C50","v":50000},{"$f":"'Formato 6 a)'!D50","v":130000},{"$f":"'Formato 6 a)'!E50","v":30624},{"$f":"'Formato 6 a)'!F50","v":0},{"$f":"'Formato 6 a)'!G50","v":99376}]
["6,1,1,5,3,0,0",6,1,1,5,3,null,null,null,null,"Equipo e Instrumental Médico y de Laboratorio",null,null,null,null,{"$f":"'Formato 6 a)'!B51","v":100000},{"$f":"'Formato 6 a)'!C51","v":0},{"$f":"'Formato 6 a)'!D51","v":100000},{"$f":"'Formato 6 a)'!E51","v":0},{"$f":"'Formato 6 a)'!F51","v":0},{"$f":"'Formato 6 a)'!G51","v":100000}]
["6,1,1,5,4,0,0",6,1,1,5,4,null,null,null,null,"Vehículos y Equipo de Transporte",null,null,null,null,{"$f":"'Formato 6 a)'!B52","v":0},{"$f":"'Formato 6 a)'!C52","v":0},{"$f":"'Formato 6 a)'!D52","v":0},{"$f":"'Formato 6 a)'!E52","v":0},{"$f":"'Formato 6 a)'!F52","v":0},{"$f":"'Formato 6 a)'!G52","v":0}]
["6,1,1,5,5,0,0",6,1,1,5,5,null,null,null,null,"Equipo de Defensa y Seguridad",null,null,null,null,{"$f":"'Formato 6 a)'!B53","v":0},{"$f":"'Formato 6 a)'!C53","v":0},{"$f":"'Formato 6 a)'!D53","v":0},{"$f":"'Formato 6 a)'!E53","v":0},{"$f":"'Formato 6 a)'!F53","v":0},{"$f":"'Formato 6 a)'!G53","v":0}]
["6,1,1,5,6,0,0",6,1,1,5,6,null,null,null,null,"Maquinaria, Otros Equipos y Herramientas",null,null,null,null,{"$f":"'Formato 6 a)'!B54","v":254000},{"$f":"'Formato 6 a)'!C54","v":0},{"$f":"'Formato 6 a)'!D54","v":254000},{"$f":"'Formato 6 a)'!E54","v":0},{"$f":"'Formato 6 a)'!F54","v":0},{"$f":"'Formato 6 a)'!G54","v":254000}]
["6,1,1,5,7,0,0",6,1,1,5,7,null,null,null,null,"Activos Biológicos",null,null,null,null,{"$f":"'Formato 6 a)'!B55","v":0},{"$f":"'Formato 6 a)'!C55","v":0},{"$f":"'Formato 6 a)'!D55","v":0},{"$f":"'Formato 6 a)'!E55","v":0},{"$f":"'Formato 6 a)'!F55","v":0},{"$f":"'Formato 6 a)'!G55","v":0}]
["6,1,1,5,8,0,0",6,1,1,5,8,null,null,null,null,"Bienes Inmuebles",null,null,null,null,{"$f":"'Formato 6 a)'!B56","v":1600000},{"$f":"'Formato 6 a)'!C56","v":0},{"$f":"'Formato 6 a)'!D56","v":1600000},{"$f":"'Formato 6 a)'!E56","v":0},{"$f":"'Formato 6 a)'!F56","v":0},{"$f":"'Formato 6 a)'!G56","v":1600000}]
["6,1,1,5,9,0,0",6,1,1,5,9,null,null,null,null,"Activos Intangibles",null,null,null,null,{"$f":"'Formato 6 a)'!B57","v":0},{"$f":"'Formato 6 a)'!C57","v":0},{"$f":"'Formato 6 a)'!D57","v":0},{"$f":"'Formato 6 a)'!E57","v":0},{"$f":"'Formato 6 a)'!F57","v":0},{"$f":"'Formato 6 a)'!G57","v":0}]
["6,1,1,6,0,0,0",6,1,1,6,null,null,null,null,"Inversión Pública",null,null,null,null,null,{"$f":"'Formato 6 a)'!B58","v":22000000},{"$f":"'Formato 6 a)'!C58","v":11781749.51},{"$f":"'Formato 6 a)'!D58","v":33781749.509999998},{"$f":"'Formato 6 a)'!E58","v":3595857.27},{"$f":"'Formato 6 a)'!F58","v":3372796.16},{"$f":"'Formato 6 a)'!G58","v":30185892.239999998}]
["6,1,1,6,1,0,0",6,1,1,6,1,null,null,null,null,"Obra Pública en Bienes de Dominio Público",null,null,null,null,{"$f":"'Formato 6 a)'!B59","v":22000000},{"$f":"'Formato 6 a)'!C59","v":11652934.470000001},{"$f":"'Formato 6 a)'!D59","v":33652934.469999999},{"$f":"'Formato 6 a)'!E59","v":3467902.67},{"$f":"'Formato 6 a)'!F59","v":3244841.56},{"$f":"'Formato 6 a)'!G59","v":30185031.799999997}]
["6,1,1,6,2,0,0",6,1,1,6,2,null,null,null,null,"Obra Pública en Bienes Propios",null,null,null,null,{"$f":"'Formato 6 a)'!B60","v":0},{"$f":"'Formato 6 a)'!C60","v":128815.03999999999},{"$f":"'Formato 6 a)'!D60","v":128815.03999999999},{"$f":"'Formato 6 a)'!E60","v":127954.6},{"$f":"'Formato 6 a)'!F60","v":127954.6},{"$f":"'Formato 6 a)'!G60","v":860.43999999998778}]
["6,1,1,6,3,0,0",6,1,1,6,3,null,null,null,null,"Proyectos Productivos y Acciones de Fomento",null,null,null,null,{"$f":"'Formato 6 a)'!B61","v":0},{"$f":"'Formato 6 a)'!C61","v":0},{"$f":"'Formato 6 a)'!D61","v":0},{"$f":"'Formato 6 a)'!E61","v":0},{"$f":"'Formato 6 a)'!F61","v":0},{"$f":"'Formato 6 a)'!G61","v":0}]
["6,1,1,7,0,0,0",6,1,1,7,null,null,null,null,"Inversiones Financieras y Otras Provisiones",null,null,null,null,null,{"$f":"'Formato 6 a)'!B62","v":0},{"$f":"'Formato 6 a)'!C62","v":0},{"$f":"'Formato 6 a)'!D62","v":0},{"$f":"'Formato 6 a)'!E62","v":0},{"$f":"'Formato 6 a)'!F62","v":0},{"$f":"'Formato 6 a)'!G62","v":0}]
["6,1,1,7,1,0,0",6,1,1,7,1,null,null,null,null,"Inversiones Para el Fomento de Actividades Productivas",null,null,null,null,{"$f":"'Formato 6 a)'!B63","v":0},{"$f":"'Formato 6 a)'!C63","v":0},{"$f":"'Formato 6 a)'!D63","v":0},{"$f":"'Formato 6 a)'!E63","v":0},{"$f":"'Formato 6 a)'!F63","v":0},{"$f":"'Formato 6 a)'!G63","v":0}]
["6,1,1,7,2,0,0",6,1,1,7,2,null,null,null,null,"Acciones y Participaciones de Capital",null,null,null,null,{"$f":"'Formato 6 a)'!B64","v":0},{"$f":"'Formato 6 a)'!C64","v":0},{"$f":"'Formato 6 a)'!D64","v":0},{"$f":"'Formato 6 a)'!E64","v":0},{"$f":"'Formato 6 a)'!F64","v":0},{"$f":"'Formato 6 a)'!G64","v":0}]
["6,1,1,7,3,0,0",6,1,1,7,3,null,null,null,null,"Compra de Títulos y Valores",null,null,null,null,{"$f":"'Formato 6 a)'!B65","v":0},{"$f":"'Formato 6 a)'!C65","v":0},{"$f":"'Formato 6 a)'!D65","v":0},{"$f":"'Formato 6 a)'!E65","v":0},{"$f":"'Formato 6 a)'!F65","v":0},{"$f":"'Formato 6 a)'!G65","v":0}]
["6,1,1,7,4,0,0",6,1,1,7,4,null,null,null,null,"Concesión de Préstamos",null,null,null,null,{"$f":"'Formato 6 a)'!B66","v":0},{"$f":"'Formato 6 a)'!C66","v":0},{"$f":"'Formato 6 a)'!D66","v":0},{"$f":"'Formato 6 a)'!E66","v":0},{"$f":"'Formato 6 a)'!F66","v":0},{"$f":"'Formato 6 a)'!G66","v":0}]
["6,1,1,7,5,0,0",6,1,1,7,5,null,null,null,null,"Inversiones en Fideicomisos, Mandatos y Otros Análogos",null,null,null,null,{"$f":"'Formato 6 a)'!B67","v":0},{"$f":"'Formato 6 a)'!C67","v":0},{"$f":"'Formato 6 a)'!D67","v":0},{"$f":"'Formato 6 a)'!E67","v":0},{"$f":"'Formato 6 a)'!F67","v":0},{"$f":"'Formato 6 a)'!G67","v":0}]
["6,1,1,7,5,1,0",6,1,1,7,5,1,null,null,null,null,"Fideicomiso de Desastres Naturales (Informativo)",null,null,null,{"$f":"'Formato 6 a)'!B68","v":0},{"$f":"'Formato 6 a)'!C68","v":0},{"$f":"'Formato 6 a)'!D68","v":0},{"$f":"'Formato 6 a)'!E68","v":0},{"$f":"'Formato 6 a)'!F68","v":0},{"$f":"'Formato 6 a)'!G68","v":0}]
["6,1,1,7,6,0,0",6,1,1,7,6,null,null,null,null,"Otras Inversiones Financieras",null,null,null,null,{"$f":"'Formato 6 a)'!B69","v":0},{"$f":"'Formato 6 a)'!C69","v":0},{"$f":"'Formato 6 a)'!D69","v":0},{"$f":"'Formato 6 a)'!E69","v":0},{"$f":"'Formato 6 a)'!F69","v":0},{"$f":"'Formato 6 a)'!G69","v":0}]
["6,1,1,7,7,0,0",6,1,1,7,7,null,null,null,null,"Provisiones para Contingencias y Otras Erogaciones Especiales",null,null,null,null,{"$f":"'Formato 6 a)'!B70","v":0},{"$f":"'Formato 6 a)'!C70","v":0},{"$f":"'Formato 6 a)'!D70","v":0},{"$f":"'Formato 6 a)'!E70","v":0},{"$f":"'Formato 6 a)'!F70","v":0},{"$f":"'Formato 6 a)'!G70","v":0}]
[{"$f":"IF(LEN(CLEAN(B64))=0,\"0\",B64)&\",\"&IF(LEN(CLEAN(C64))=0,\"0\",C64)&\",\"&IF(LEN(CLEAN(D64))=0,\"0\",D64)&\",\"&IF(LEN(CLEAN(E64))=0,\"0\",E64)&\",\"&IF(LEN(CLEAN(F64))=0,\"0\",F64)&\",\"&IF(LEN(CLEAN(G64))=0,\"0\",G64)&\",\"&IF(LEN(CLEAN(H64))=0,\"0\",H64)","v":"6,1,1,8,0,0,0"},6,1,1,8,null,null,null,null,"Participaciones y Aportaciones",null,null,null,null,null,{"$f":"'Formato 6 a)'!B71","v":0},{"$f":"'Formato 6 a)'!C71","v":1639462.75},{"$f":"'Formato 6 a)'!D71","v":1639462.75},{"$f":"'Formato 6 a)'!E71","v":939462.75},{"$f":"'Formato 6 a)'!F71","v":939462.75},{"$f":"'Formato 6 a)'!G71","v":700000}]
["6,1,1,8,1,0,0",6,1,1,8,1,null,null,null,null,"Participaciones",null,null,null,null,{"$f":"'Formato 6 a)'!B72","v":0},{"$f":"'Formato 6 a)'!C72","v":0},{"$f":"'Formato 6 a)'!D72","v":0},{"$f":"'Formato 6 a)'!E72","v":0},{"$f":"'Formato 6 a)'!F72","v":0},{"$f":"'Formato 6 a)'!G72","v":0}]
["6,1,1,8,2,0,0",6,1,1,8,2,null,null,null,null,"Aportaciones",null,null,null,null,{"$f":"'Formato 6 a)'!B73","v":0},{"$f":"'Formato 6 a)'!C73","v":0},{"$f":"'Formato 6 a)'!D73","v":0},{"$f":"'Formato 6 a)'!E73","v":0},{"$f":"'Formato 6 a)'!F73","v":0},{"$f":"'Formato 6 a)'!G73","v":0}]
["6,1,1,8,3,0,0",6,1,1,8,3,null,null,null,null,"Convenios",null,null,null,null,{"$f":"'Formato 6 a)'!B74","v":0},{"$f":"'Formato 6 a)'!C74","v":1639462.75},{"$f":"'Formato 6 a)'!D74","v":1639462.75},{"$f":"'Formato 6 a)'!E74","v":939462.75},{"$f":"'Formato 6 a)'!F74","v":939462.75},{"$f":"'Formato 6 a)'!G74","v":700000}]
["6,1,1,9,0,0,0",6,1,1,9,null,null,null,null,"Deuda Pública",null,null,null,null,null,{"$f":"'Formato 6 a)'!B75","v":0},{"$f":"'Formato 6 a)'!C75","v":0},{"$f":"'Formato 6 a)'!D75","v":0},{"$f":"'Formato 6 a)'!E75","v":0},{"$f":"'Formato 6 a)'!F75","v":0},{"$f":"'Formato 6 a)'!G75","v":0}]
["6,1,1,9,1,0,0",6,1,1,9,1,null,null,null,null,"Amortización de la Deuda Pública",null,null,null,null,{"$f":"'Formato 6 a)'!B76","v":0},{"$f":"'Formato 6 a)'!C76","v":0},{"$f":"'Formato 6 a)'!D76","v":0},{"$f":"'Formato 6 a)'!E76","v":0},{"$f":"'Formato 6 a)'!F76","v":0},{"$f":"'Formato 6 a)'!G76","v":0}]
["6,1,1,9,2,0,0",6,1,1,9,2,null,null,null,null,"Intereses de la Deuda Pública",null,null,null,null,{"$f":"'Formato 6 a)'!B77","v":0},{"$f":"'Formato 6 a)'!C77","v":0},{"$f":"'Formato 6 a)'!D77","v":0},{"$f":"'Formato 6 a)'!E77","v":0},{"$f":"'Formato 6 a)'!F77","v":0},{"$f":"'Formato 6 a)'!G77","v":0}]
["6,1,1,9,3,0,0",6,1,1,9,3,null,null,null,null,"Comisiones de la Deuda Pública",null,null,null,null,{"$f":"'Formato 6 a)'!B78","v":0},{"$f":"'Formato 6 a)'!C78","v":0},{"$f":"'Formato 6 a)'!D78","v":0},{"$f":"'Formato 6 a)'!E78","v":0},{"$f":"'Formato 6 a)'!F78","v":0},{"$f":"'Formato 6 a)'!G78","v":0}]
["6,1,1,9,4,0,0",6,1,1,9,4,null,null,null,null,"Gastos de la Deuda Pública",null,null,null,null,{"$f":"'Formato 6 a)'!B79","v":0},{"$f":"'Formato 6 a)'!C79","v":0},{"$f":"'Formato 6 a)'!D79","v":0},{"$f":"'Formato 6 a)'!E79","v":0},{"$f":"'Formato 6 a)'!F79","v":0},{"$f":"'Formato 6 a)'!G79","v":0}]
["6,1,1,9,5,0,0",6,1,1,9,5,null,null,null,null,"Costo por Coberturas",null,null,null,null,{"$f":"'Formato 6 a)'!B80","v":0},{"$f":"'Formato 6 a)'!C80","v":0},{"$f":"'Formato 6 a)'!D80","v":0},{"$f":"'Formato 6 a)'!E80","v":0},{"$f":"'Formato 6 a)'!F80","v":0},{"$f":"'Formato 6 a)'!G80","v":0}]
["6,1,1,9,6,0,0",6,1,1,9,6,null,null,null,null,"Apoyos Financieros",null,null,null,null,{"$f":"'Formato 6 a)'!B81","v":0},{"$f":"'Formato 6 a)'!C81","v":0},{"$f":"'Formato 6 a)'!D81","v":0},{"$f":"'Formato 6 a)'!E81","v":0},{"$f":"'Formato 6 a)'!F81","v":0},{"$f":"'Formato 6 a)'!G81","v":0}]
["6,1,1,9,7,0,0",6,1,1,9,7,null,null,null,null,"Adeudos de Ejercicios Fiscales Anteriores (ADEFAS)",null,null,null,null,{"$f":"'Formato 6 a)'!B82","v":0},{"$f":"'Formato 6 a)'!C82","v":0},{"$f":"'Formato 6 a)'!D82","v":0},{"$f":"'Formato 6 a)'!E82","v":0},{"$f":"'Formato 6 a)'!F82","v":0},{"$f":"'Formato 6 a)'!G82","v":0}]
["6,1,2,0,0,0,0",6,1,2,null,null,null,null,"Gasto Etiquetado",null,null,null,null,null,null,{"$f":"'Formato 6 a)'!B84","v":268000000},{"$f":"'Formato 6 a)'!C84","v":36536249.969999999},{"$f":"'Formato 6 a)'!D84","v":304536249.96999997},{"$f":"'Formato 6 a)'!E84","v":44268606.899999999},{"$f":"'Formato 6 a)'!F84","v":38171179.789999999},{"$f":"'Formato 6 a)'!G84","v":260267643.06999996}]
[{"$f":"IF(LEN(CLEAN(B77))=0,\"0\",B77)&\",\"&IF(LEN(CLEAN(C77))=0,\"0\",C77)&\",\"&IF(LEN(CLEAN(D77))=0,\"0\",D77)&\",\"&IF(LEN(CLEAN(E77))=0,\"0\",E77)&\",\"&IF(LEN(CLEAN(F77))=0,\"0\",F77)&\",\"&IF(LEN(CLEAN(G77))=0,\"0\",G77)&\",\"&IF(LEN(CLEAN(H77))=0,\"0\",H77)","v":"6,1,2,1,0,0,0"},6,1,2,1,null,null,null,null,"Servicios Personales",null,null,null,null,null,{"$f":"'Formato 6 a)'!B85","v":61312868.880000003},{"$f":"'Formato 6 a)'!C85","v":0},{"$f":"'Formato 6 a)'!D85","v":61312868.880000003},{"$f":"'Formato 6 a)'!E85","v":12986188.120000001},{"$f":"'Formato 6 a)'!F85","v":12614915.280000001},{"$f":"'Formato 6 a)'!G85","v":48326680.75999999}]
["6,1,2,1,1,0,0",6,1,2,1,1,null,null,null,null,"Remuneraciones al Personal de Carácter Permanente",null,null,null,null,{"$f":"'Formato 6 a)'!B86","v":41835856},{"$f":"'Formato 6 a)'!C86","v":0},{"$f":"'Formato 6 a)'!D86","v":41835856},{"$f":"'Formato 6 a)'!E86","v":9253926.6300000008},{"$f":"'Formato 6 a)'!F86","v":9252549.3800000008},{"$f":"'Formato 6 a)'!G86","v":32581929.369999997}]
["6,1,2,1,2,0,0",6,1,2,1,2,null,null,null,null,"Remuneraciones al Personal de Carácter Transitorio",null,null,null,null,{"$f":"'Formato 6 a)'!B87","v":50000},{"$f":"'Formato 6 a)'!C87","v":0},{"$f":"'Formato 6 a)'!D87","v":50000},{"$f":"'Formato 6 a)'!E87","v":0},{"$f":"'Formato 6 a)'!F87","v":0},{"$f":"'Formato 6 a)'!G87","v":50000}]
["6,1,2,1,3,0,0",6,1,2,1,3,null,null,null,null,"Remuneraciones Adicionales y Especiales",null,null,null,null,{"$f":"'Formato 6 a)'!B88","v":7928173},{"$f":"'Formato 6 a)'!C88","v":0},{"$f":"'Formato 6 a)'!D88","v":7928173},{"$f":"'Formato 6 a)'!E88","v":13721.56},{"$f":"'Formato 6 a)'!F88","v":11896.07},{"$f":"'Formato 6 a)'!G88","v":7914451.4400000004}]
["6,1,2,1,4,0,0",6,1,2,1,4,null,null,null,null,"Seguridad Social",null,null,null,null,{"$f":"'Formato 6 a)'!B89","v":6238839.8799999999},{"$f":"'Formato 6 a)'!C89","v":0},{"$f":"'Formato 6 a)'!D89","v":6238839.8799999999},{"$f":"'Formato 6 a)'!E89","v":2268696.33},{"$f":"'Formato 6 a)'!F89","v":1959618.16},{"$f":"'Formato 6 a)'!G89","v":3970143.55}]
["6,1,2,1,5,0,0",6,1,2,1,5,null,null,null,null,"Otras Prestaciones Sociales y Económicas",null,null,null,null,{"$f":"'Formato 6 a)'!B90","v":5260000},{"$f":"'Formato 6 a)'!C90","v":0},{"$f":"'Formato 6 a)'!D90","v":5260000},{"$f":"'Formato 6 a)'!E90","v":1449843.6},{"$f":"'Formato 6 a)'!F90","v":1390851.67},{"$f":"'Formato 6 a)'!G90","v":3810156.4}]
["6,1,2,1,6,0,0",6,1,2,1,6,null,null,null,null,"Previsiones",null,null,null,null,{"$f":"'Formato 6 a)'!B91","v":0},{"$f":"'Formato 6 a)'!C91","v":0},{"$f":"'Formato 6 a)'!D91","v":0},{"$f":"'Formato 6 a)'!E91","v":0},{"$f":"'Formato 6 a)'!F91","v":0},{"$f":"'Formato 6 a)'!G91","v":0}]
["6,1,2,1,7,0,0",6,1,2,1,7,null,null,null,null,"Pago de Estímulos a Servidores Públicos",null,null,null,null,{"$f":"'Formato 6 a)'!B92","v":0},{"$f":"'Formato 6 a)'!C92","v":0},{"$f":"'Formato 6 a)'!D92","v":0},{"$f":"'Formato 6 a)'!E92","v":0},{"$f":"'Formato 6 a)'!F92","v":0},{"$f":"'Formato 6 a)'!G92","v":0}]
["6,1,2,2,0,0,0",6,1,2,2,null,null,null,null,"Materiales y Suministros",null,null,null,null,null,{"$f":"'Formato 6 a)'!B93","v":38680000},{"$f":"'Formato 6 a)'!C93","v":930000},{"$f":"'Formato 6 a)'!D93","v":39610000},{"$f":"'Formato 6 a)'!E93","v":8120795.2700000005},{"$f":"'Formato 6 a)'!F93","v":8120795.2700000005},{"$f":"'Formato 6 a)'!G93","v":31489204.729999997}]
["6,1,2,2,1,0,0",6,1,2,2,1,null,null,null,null,"Materiales de Administración, Emisión de Documentos y Artículos Oficiales",null,null,null,null,{"$f":"'Formato 6 a)'!B94","v":0},{"$f":"'Formato 6 a)'!C94","v":0},{"$f":"'Formato 6 a)'!D94","v":0},{"$f":"'Formato 6 a)'!E94","v":0},{"$f":"'Formato 6 a)'!F94","v":0},{"$f":"'Formato 6 a)'!G94","v":0}]
["6,1,2,2,2,0,0",6,1,2,2,2,null,null,null,null,"Alimentos y Utensilios",null,null,null,null,{"$f":"'Formato 6 a)'!B95","v":15000},{"$f":"'Formato 6 a)'!C95","v":0},{"$f":"'Formato 6 a)'!D95","v":15000},{"$f":"'Formato 6 a)'!E95","v":0},{"$f":"'Formato 6 a)'!F95","v":0},{"$f":"'Formato 6 a)'!G95","v":15000}]
["6,1,2,2,3,0,0",6,1,2,2,3,null,null,null,null,"Materias Primas y Materiales de Producción y Comercialización",null,null,null,null,{"$f":"'Formato 6 a)'!B96","v":0},{"$f":"'Formato 6 a)'!C96","v":0},{"$f":"'Formato 6 a)'!D96","v":0},{"$f":"'Formato 6 a)'!E96","v":0},{"$f":"'Formato 6 a)'!F96","v":0},{"$f":"'Formato 6 a)'!G96","v":0}]
["6,1,2,2,4,0,0",6,1,2,2,4,null,null,null,null,"Materiales y Artículos de Construcción y de Reparación",null,null,null,null,{"$f":"'Formato 6 a)'!B97","v":24220000},{"$f":"'Formato 6 a)'!C97","v":0},{"$f":"'Formato 6 a)'!D97","v":24220000},{"$f":"'Formato 6 a)'!E97","v":4093599.98},{"$f":"'Formato 6 a)'!F97","v":4093599.98},{"$f":"'Formato 6 a)'!G97","v":20126400.02}]
["6,1,2,2,5,0,0",6,1,2,2,5,null,null,null,null,"Productos Químicos, Farmacéuticos y de Laboratorio",null,null,null,null,{"$f":"'Formato 6 a)'!B98","v":45000},{"$f":"'Formato 6 a)'!C98","v":0},{"$f":"'Formato 6 a)'!D98","v":45000},{"$f":"'Formato 6 a)'!E98","v":0},{"$f":"'Formato 6 a)'!F98","v":0},{"$f":"'Formato 6 a)'!G98","v":45000}]
["6,1,2,2,6,0,0",6,1,2,2,6,null,null,null,null,"Combustibles, Lubricantes y Aditivos",null,null,null,null,{"$f":"'Formato 6 a)'!B99","v":11050000},{"$f":"'Formato 6 a)'!C99","v":0},{"$f":"'Formato 6 a)'!D99","v":11050000},{"$f":"'Formato 6 a)'!E99","v":3056293.26},{"$f":"'Formato 6 a)'!F99","v":3056293.26},{"$f":"'Formato 6 a)'!G99","v":7993706.7400000002}]
["6,1,2,2,7,0,0",6,1,2,2,7,null,null,null,null,"Vestuario, Blancos, Prendas de Protección y Artículos Deportivos",null,null,null,null,{"$f":"'Formato 6 a)'!B100","v":1175000},{"$f":"'Formato 6 a)'!C100","v":930000},{"$f":"'Formato 6 a)'!D100","v":2105000},{"$f":"'Formato 6 a)'!E100","v":9976},{"$f":"'Formato 6 a)'!F100","v":9976},{"$f":"'Formato 6 a)'!G100","v":2095024}]
["6,1,2,2,8,0,0",6,1,2,2,8,null,null,null,null,"Materiales y Suministros Para Seguridad",null,null,null,null,{"$f":"'Formato 6 a)'!B101","v":0},{"$f":"'Formato 6 a)'!C101","v":0},{"$f":"'Formato 6 a)'!D101","v":0},{"$f":"'Formato 6 a)'!E101","v":0},{"$f":"'Formato 6 a)'!F101","v":0},{"$f":"'Formato 6 a)'!G101","v":0}]
["6,1,2,2,9,0,0",6,1,2,2,9,null,null,null,null,"Herramientas, Refacciones y Accesorios Menores",null,null,null,null,{"$f":"'Formato 6 a)'!B102","v":2175000},{"$f":"'Formato 6 a)'!C102","v":0},{"$f":"'Formato 6 a)'!D102","v":2175000},{"$f":"'Formato 6 a)'!E102","v":960926.03},{"$f":"'Formato 6 a)'!F102","v":960926.03},{"$f":"'Formato 6 a)'!G102","v":1214073.97}]
["6,1,2,3,0,0,0",6,1,2,3,null,null,null,null,"Servicios Generales",null,null,null,null,null,{"$f":"'Formato 6 a)'!B103","v":6618988.2800000003},{"$f":"'Formato 6 a)'!C103","v":240500},{"$f":"'Formato 6 a)'!D103","v":6859488.2800000003},{"$f":"'Formato 6 a)'!E103","v":1606723.48},{"$f":"'Formato 6 a)'!F103","v":1493042.48},{"$f":"'Formato 6 a)'!G103","v":5252764.8}]
["6,1,2,3,1,0,0",6,1,2,3,1,null,null,null,null,"Servicios Básicos",null,null,null,null,{"$f":"'Formato 6 a)'!B104","v":0},{"$f":"'Formato 6 a)'!C104","v":0},{"$f":"'Formato 6 a)'!D104","v":0},{"$f":"'Formato 6 a)'!E104","v":0},{"$f":"'Formato 6 a)'!F104","v":0},{"$f":"'Formato 6 a)'!G104","v":0}]
["6,1,2,3,2,0,0",6,1,2,3,2,null,null,null,null,"Servicios de Arrendamiento",null,null,null,null,{"$f":"'Formato 6 a)'!B105","v":50000},{"$f":"'Formato 6 a)'!C105","v":0},{"$f":"'Formato 6 a)'!D105","v":50000},{"$f":"'Formato 6 a)'!E105","v":0},{"$f":"'Formato 6 a)'!F105","v":0},{"$f":"'Formato 6 a)'!G105","v":50000}]
["6,1,2,3,3,0,0",6,1,2,3,3,null,null,null,null,"Servicios Profesionales, Científicos, Técnicos y Otros Servicios",null,null,null,null,{"$f":"'Formato 6 a)'!B106","v":2540000},{"$f":"'Formato 6 a)'!C106","v":175500},{"$f":"'Formato 6 a)'!D106","v":2715500},{"$f":"'Formato 6 a)'!E106","v":39987.31},{"$f":"'Formato 6 a)'!F106","v":39987.31},{"$f":"'Formato 6 a)'!G106","v":2675512.69}]
["6,1,2,3,4,0,0",6,1,2,3,4,null,null,null,null,"Servicios Financieros, Bancarios y Comerciales",null,null,null,null,{"$f":"'Formato 6 a)'!B107","v":1850000},{"$f":"'Formato 6 a)'!C107","v":0},{"$f":"'Formato 6 a)'!D107","v":1850000},{"$f":"'Formato 6 a)'!E107","v":1094904.5},{"$f":"'Formato 6 a)'!F107","v":1094904.5},{"$f":"'Formato 6 a)'!G107","v":755095.5}]
["6,1,2,3,5,0,0",6,1,2,3,5,null,null,null,null,"Servicios de Instalación, Reparación, Mantenimiento y Conservación",null,null,null,null,{"$f":"'Formato 6 a)'!B108","v":959000},{"$f":"'Formato 6 a)'!C108","v":85000},{"$f":"'Formato 6 a)'!D108","v":1044000},{"$f":"'Formato 6 a)'!E108","v":190133.67},{"$f":"'Formato 6 a)'!F108","v":190133.67},{"$f":"'Formato 6 a)'!G108","v":853866.33}]
["6,1,2,3,6,0,0",6,1,2,3,6,null,null,null,null,"Servicios de Comunicación Social y Publicidad",null,null,null,null,{"$f":"'Formato 6 a)'!B109","v":0},{"$f":"'Formato 6 a)'!C109","v":0},{"$f":"'Formato 6 a)'!D109","v":0},{"$f":"'Formato 6 a)'!E109","v":0},{"$f":"'Formato 6 a)'!F109","v":0},{"$f":"'Formato 6 a)'!G109","v":0}]
["6,1,2,3,7,0,0",6,1,2,3,7,null,null,null,null,"Servicios de Traslado y Viáticos",null,null,null,null,{"$f":"'Formato 6 a)'!B110","v":0},{"$f":"'Formato 6 a)'!C110","v":0},{"$f":"'Formato 6 a)'!D110","v":0},{"$f":"'Formato 6 a)'!E110","v":0},{"$f":"'Formato 6 a)'!F110","v":0},{"$f":"'Formato 6 a)'!G110","v":0}]
["6,1,2,3,8,0,0",6,1,2,3,8,null,null,null,null,"Servicios Oficiales",null,null,null,null,{"$f":"'Formato 6 a)'!B111","v":0},{"$f":"'Formato 6 a)'!C111","v":0},{"$f":"'Formato 6 a)'!D111","v":0},{"$f":"'Formato 6 a)'!E111","v":0},{"$f":"'Formato 6 a)'!F111","v":0},{"$f":"'Formato 6 a)'!G111","v":0}]
["6,1,2,3,9,0,0",6,1,2,3,9,null,null,null,null,"Otros Servicios Generales",null,null,null,null,{"$f":"'Formato 6 a)'!B112","v":1219988.28},{"$f":"'Formato 6 a)'!C112","v":-20000},{"$f":"'Formato 6 a)'!D112","v":1199988.28},{"$f":"'Formato 6 a)'!E112","v":281698},{"$f":"'Formato 6 a)'!F112","v":168017},{"$f":"'Formato 6 a)'!G112","v":918290.28}]
["6,1,2,4,0,0,0",6,1,2,4,null,null,null,null,"Transferencias, Asignaciones, Subsidios y Otras Ayudas",null,null,null,null,null,{"$f":"'Formato 6 a)'!B113","v":50000},{"$f":"'Formato 6 a)'!C113","v":1024464.46},{"$f":"'Formato 6 a)'!D113","v":1074464.46},{"$f":"'Formato 6 a)'!E113","v":0},{"$f":"'Formato 6 a)'!F113","v":0},{"$f":"'Formato 6 a)'!G113","v":1074464.46}]
["6,1,2,4,1,0,0",6,1,2,4,1,null,null,null,null,"Transferencias Internas y Asignaciones al Sector Público",null,null,null,null,{"$f":"'Formato 6 a)'!B114","v":0},{"$f":"'Formato 6 a)'!C114","v":0},{"$f":"'Formato 6 a)'!D114","v":0},{"$f":"'Formato 6 a)'!E114","v":0},{"$f":"'Formato 6 a)'!F114","v":0},{"$f":"'Formato 6 a)'!G114","v":0}]
["6,1,2,4,2,0,0",6,1,2,4,2,null,null,null,null,"Transferencias al Resto del Sector Público",null,null,null,null,{"$f":"'Formato 6 a)'!B115","v":0},{"$f":"'Formato 6 a)'!C115","v":0},{"$f":"'Formato 6 a)'!D115","v":0},{"$f":"'Formato 6 a)'!E115","v":0},{"$f":"'Formato 6 a)'!F115","v":0},{"$f":"'Formato 6 a)'!G115","v":0}]
["6,1,2,4,3,0,0",6,1,2,4,3,null,null,null,null,"Subsidios y Subvenciones",null,null,null,null,{"$f":"'Formato 6 a)'!B116","v":0},{"$f":"'Formato 6 a)'!C116","v":1024464.46},{"$f":"'Formato 6 a)'!D116","v":1024464.46},{"$f":"'Formato 6 a)'!E116","v":0},{"$f":"'Formato 6 a)'!F116","v":0},{"$f":"'Formato 6 a)'!G116","v":1024464.46}]
["6,1,2,4,4,0,0",6,1,2,4,4,null,null,null,null,"Ayudas Sociales",null,null,null,null,{"$f":"'Formato 6 a)'!B117","v":50000},{"$f":"'Formato 6 a)'!C117","v":0},{"$f":"'Formato 6 a)'!D117","v":50000},{"$f":"'Formato 6 a)'!E117","v":0},{"$f":"'Formato 6 a)'!F117","v":0},{"$f":"'Formato 6 a)'!G117","v":50000}]
["6,1,2,4,5,0,0",6,1,2,4,5,null,null,null,null,"Pensiones y Jubilaciones",null,null,null,null,{"$f":"'Formato 6 a)'!B118","v":0},{"$f":"'Formato 6 a)'!C118","v":0},{"$f":"'Formato 6 a)'!D118","v":0},{"$f":"'Formato 6 a)'!E118","v":0},{"$f":"'Formato 6 a)'!F118","v":0},{"$f":"'Formato 6 a)'!G118","v":0}]
["6,1,2,4,6,0,0",6,1,2,4,6,null,null,null,null,"Transferencias a Fideicomisos, Mandatos y Otros Análogos",null,null,null,null,{"$f":"'Formato 6 a)'!B119","v":0},{"$f":"'Formato 6 a)'!C119","v":0},{"$f":"'Formato 6 a)'!D119","v":0},{"$f":"'Formato 6 a)'!E119","v":0},{"$f":"'Formato 6 a)'!F119","v":0},{"$f":"'Formato 6 a)'!G119","v":0}]
["6,1,2,4,7,0,0",6,1,2,4,7,null,null,null,null,"Transferencias a la Seguridad Social",null,null,null,null,{"$f":"'Formato 6 a)'!B120","v":0},{"$f":"'Formato 6 a)'!C120","v":0},{"$f":"'Formato 6 a)'!D120","v":0},{"$f":"'Formato 6 a)'!E120","v":0},{"$f":"'Formato 6 a)'!F120","v":0},{"$f":"'Formato 6 a)'!G120","v":0}]
["6,1,2,4,8,0,0",6,1,2,4,8,null,null,null,null,"Donativos",null,null,null,null,{"$f":"'Formato 6 a)'!B121","v":0},{"$f":"'Formato 6 a)'!C121","v":0},{"$f":"'Formato 6 a)'!D121","v":0},{"$f":"'Formato 6 a)'!E121","v":0},{"$f":"'Formato 6 a)'!F121","v":0},{"$f":"'Formato 6 a)'!G121","v":0}]
["6,1,2,4,9,0,0",6,1,2,4,9,null,null,null,null,"Transferencias al Exterior",null,null,null,null,{"$f":"'Formato 6 a)'!B122","v":0},{"$f":"'Formato 6 a)'!C122","v":0},{"$f":"'Formato 6 a)'!D122","v":0},{"$f":"'Formato 6 a)'!E122","v":0},{"$f":"'Formato 6 a)'!F122","v":0},{"$f":"'Formato 6 a)'!G122","v":0}]
["6,1,2,5,0,0,0",6,1,2,5,null,null,null,null,"Bienes Muebles, Inmuebles e Intangibles",null,null,null,null,null,{"$f":"'Formato 6 a)'!B123","v":621000},{"$f":"'Formato 6 a)'!C123","v":3697000},{"$f":"'Formato 6 a)'!D123","v":4318000},{"$f":"'Formato 6 a)'!E123","v":0},{"$f":"'Formato 6 a)'!F123","v":0},{"$f":"'Formato 6 a)'!G123","v":4318000}]
["6,1,2,5,1,0,0",6,1,2,5,1,null,null,null,null,"Mobiliario y Equipo de Administración",null,null,null,null,{"$f":"'Formato 6 a)'!B124","v":9000},{"$f":"'Formato 6 a)'!C124","v":9000},{"$f":"'Formato 6 a)'!D124","v":18000},{"$f":"'Formato 6 a)'!E124","v":0},{"$f":"'Formato 6 a)'!F124","v":0},{"$f":"'Formato 6 a)'!G124","v":18000}]
["6,1,2,5,2,0,0",6,1,2,5,2,null,null,null,null,"Mobiliario y Equipo Educacional y Recreativo",null,null,null,null,{"$f":"'Formato 6 a)'!B125","v":600000},{"$f":"'Formato 6 a)'!C125","v":0},{"$f":"'Formato 6 a)'!D125","v":600000},{"$f":"'Formato 6 a)'!E125","v":0},{"$f":"'Formato 6 a)'!F125","v":0},{"$f":"'Formato 6 a)'!G125","v":600000}]
["6,1,2,5,3,0,0",6,1,2,5,3,null,null,null,null,"Equipo e Instrumental Médico y de Laboratorio",null,null,null,null,{"$f":"'Formato 6 a)'!B126","v":0},{"$f":"'Formato 6 a)'!C126","v":0},{"$f":"'Formato 6 a)'!D126","v":0},{"$f":"'Formato 6 a)'!E126","v":0},{"$f":"'Formato 6 a)'!F126","v":0},{"$f":"'Formato 6 a)'!G126","v":0}]
["6,1,2,5,4,0,0",6,1,2,5,4,null,null,null,null,"Vehículos y Equipo de Transporte",null,null,null,null,{"$f":"'Formato 6 a)'!B127","v":0},{"$f":"'Formato 6 a)'!C127","v":3700000},{"$f":"'Formato 6 a)'!D127","v":3700000},{"$f":"'Formato 6 a)'!E127","v":0},{"$f":"'Formato 6 a)'!F127","v":0},{"$f":"'Formato 6 a)'!G127","v":3700000}]
["6,1,2,5,5,0,0",6,1,2,5,5,null,null,null,null,"Equipo de Defensa y Seguridad",null,null,null,null,{"$f":"'Formato 6 a)'!B128","v":0},{"$f":"'Formato 6 a)'!C128","v":0},{"$f":"'Formato 6 a)'!D128","v":0},{"$f":"'Formato 6 a)'!E128","v":0},{"$f":"'Formato 6 a)'!F128","v":0},{"$f":"'Formato 6 a)'!G128","v":0}]
["6,1,2,5,6,0,0",6,1,2,5,6,null,null,null,null,"Maquinaria, Otros Equipos y Herramientas",null,null,null,null,{"$f":"'Formato 6 a)'!B129","v":12000},{"$f":"'Formato 6 a)'!C129","v":-12000},{"$f":"'Formato 6 a)'!D129","v":0},{"$f":"'Formato 6 a)'!E129","v":0},{"$f":"'Formato 6 a)'!F129","v":0},{"$f":"'Formato 6 a)'!G129","v":0}]
["6,1,2,5,7,0,0",6,1,2,5,7,null,null,null,null,"Activos Biológicos",null,null,null,null,{"$f":"'Formato 6 a)'!B130","v":0},{"$f":"'Formato 6 a)'!C130","v":0},{"$f":"'Formato 6 a)'!D130","v":0},{"$f":"'Formato 6 a)'!E130","v":0},{"$f":"'Formato 6 a)'!F130","v":0},{"$f":"'Formato 6 a)'!G130","v":0}]
["6,1,2,5,8,0,0",6,1,2,5,8,null,null,null,null,"Bienes Inmuebles",null,null,null,null,{"$f":"'Formato 6 a)'!B131","v":0},{"$f":"'Formato 6 a)'!C131","v":0},{"$f":"'Formato 6 a)'!D131","v":0},{"$f":"'Formato 6 a)'!E131","v":0},{"$f":"'Formato 6 a)'!F131","v":0},{"$f":"'Formato 6 a)'!G131","v":0}]
["6,1,2,5,9,0,0",6,1,2,5,9,null,null,null,null,"Activos Intangibles",null,null,null,null,{"$f":"'Formato 6 a)'!B132","v":0},{"$f":"'Formato 6 a)'!C132","v":0},{"$f":"'Formato 6 a)'!D132","v":0},{"$f":"'Formato 6 a)'!E132","v":0},{"$f":"'Formato 6 a)'!F132","v":0},{"$f":"'Formato 6 a)'!G132","v":0}]
["6,1,2,6,0,0,0",6,1,2,6,null,null,null,null,"Inversión Pública",null,null,null,null,null,{"$f":"'Formato 6 a)'!B133","v":158510000},{"$f":"'Formato 6 a)'!C133","v":30644285.510000002},{"$f":"'Formato 6 a)'!D133","v":189154285.50999999},{"$f":"'Formato 6 a)'!E133","v":20983293.059999999},{"$f":"'Formato 6 a)'!F133","v":15370819.789999999},{"$f":"'Formato 6 a)'!G133","v":168170992.44999999}]
["6,1,2,6,1,0,0",6,1,2,6,1,null,null,null,null,"Obra Pública en Bienes de Dominio Público",null,null,null,null,{"$f":"'Formato 6 a)'!B134","v":158510000},{"$f":"'Formato 6 a)'!C134","v":30094846.510000002},{"$f":"'Formato 6 a)'!D134","v":188604846.50999999},{"$f":"'Formato 6 a)'!E134","v":20472964.949999999},{"$f":"'Formato 6 a)'!F134","v":14860491.68},{"$f":"'Formato 6 a)'!G134","v":168131881.56}]
["6,1,2,6,2,0,0",6,1,2,6,2,null,null,null,null,"Obra Pública en Bienes Propios",null,null,null,null,{"$f":"'Formato 6 a)'!B135","v":0},{"$f":"'Formato 6 a)'!C135","v":549439},{"$f":"'Formato 6 a)'!D135","v":549439},{"$f":"'Formato 6 a)'!E135","v":510328.11},{"$f":"'Formato 6 a)'!F135","v":510328.11},{"$f":"'Formato 6 a)'!G135","v":39110.890000000014}]
["6,1,2,6,3,0,0",6,1,2,6,3,null,null,null,null,"Proyectos Productivos y Acciones de Fomento",null,null,null,null,{"$f":"'Formato 6 a)'!B136","v":0},{"$f":"'Formato 6 a)'!C136","v":0},{"$f":"'Formato 6 a)'!D136","v":0},{"$f":"'Formato 6 a)'!E136","v":0},{"$f":"'Formato 6 a)'!F136","v":0},{"$f":"'Formato 6 a)'!G136","v":0}]
["6,1,2,7,0,0,0",6,1,2,7,null,null,null,null,"Inversiones Financieras y Otras Provisiones",null,null,null,null,null,{"$f":"'Formato 6 a)'!B137","v":0},{"$f":"'Formato 6 a)'!C137","v":0},{"$f":"'Formato 6 a)'!D137","v":0},{"$f":"'Formato 6 a)'!E137","v":0},{"$f":"'Formato 6 a)'!F137","v":0},{"$f":"'Formato 6 a)'!G137","v":0}]
["6,1,2,7,1,0,0",6,1,2,7,1,null,null,null,null,"Inversiones Para el Fomento de Actividades Productivas",null,null,null,null,{"$f":"'Formato 6 a)'!B138","v":0},{"$f":"'Formato 6 a)'!C138","v":0},{"$f":"'Formato 6 a)'!D138","v":0},{"$f":"'Formato 6 a)'!E138","v":0},{"$f":"'Formato 6 a)'!F138","v":0},{"$f":"'Formato 6 a)'!G138","v":0}]
["6,1,2,7,2,0,0",6,1,2,7,2,null,null,null,null,"Acciones y Participaciones de Capital",null,null,null,null,{"$f":"'Formato 6 a)'!B139","v":0},{"$f":"'Formato 6 a)'!C139","v":0},{"$f":"'Formato 6 a)'!D139","v":0},{"$f":"'Formato 6 a)'!E139","v":0},{"$f":"'Formato 6 a)'!F139","v":0},{"$f":"'Formato 6 a)'!G139","v":0}]
["6,1,2,7,3,0,0",6,1,2,7,3,null,null,null,null,"Compra de Títulos y Valores",null,null,null,null,{"$f":"'Formato 6 a)'!B140","v":0},{"$f":"'Formato 6 a)'!C140","v":0},{"$f":"'Formato 6 a)'!D140","v":0},{"$f":"'Formato 6 a)'!E140","v":0},{"$f":"'Formato 6 a)'!F140","v":0},{"$f":"'Formato 6 a)'!G140","v":0}]
["6,1,2,7,4,0,0",6,1,2,7,4,null,null,null,null,"Concesión de Préstamos",null,null,null,null,{"$f":"'Formato 6 a)'!B141","v":0},{"$f":"'Formato 6 a)'!C141","v":0},{"$f":"'Formato 6 a)'!D141","v":0},{"$f":"'Formato 6 a)'!E141","v":0},{"$f":"'Formato 6 a)'!F141","v":0},{"$f":"'Formato 6 a)'!G141","v":0}]
["6,1,2,7,5,0,0",6,1,2,7,5,null,null,null,null,"Inversiones en Fideicomisos, Mandatos y Otros Análogos",null,null,null,null,{"$f":"'Formato 6 a)'!B142","v":0},{"$f":"'Formato 6 a)'!C142","v":0},{"$f":"'Formato 6 a)'!D142","v":0},{"$f":"'Formato 6 a)'!E142","v":0},{"$f":"'Formato 6 a)'!F142","v":0},{"$f":"'Formato 6 a)'!G142","v":0}]
["6,1,2,7,5,1,0",6,1,2,7,5,1,null,null,null,null,"Fideicomiso de Desastres Naturales (Informativo)",null,null,null,{"$f":"'Formato 6 a)'!B143","v":0},{"$f":"'Formato 6 a)'!C143","v":0},{"$f":"'Formato 6 a)'!D143","v":0},{"$f":"'Formato 6 a)'!E143","v":0},{"$f":"'Formato 6 a)'!F143","v":0},{"$f":"'Formato 6 a)'!G143","v":0}]
["6,1,2,7,6,0,0",6,1,2,7,6,null,null,null,null,"Otras Inversiones Financieras",null,null,null,null,{"$f":"'Formato 6 a)'!B144","v":0},{"$f":"'Formato 6 a)'!C144","v":0},{"$f":"'Formato 6 a)'!D144","v":0},{"$f":"'Formato 6 a)'!E144","v":0},{"$f":"'Formato 6 a)'!F144","v":0},{"$f":"'Formato 6 a)'!G144","v":0}]
["6,1,2,7,7,0,0",6,1,2,7,7,null,null,null,null,"Provisiones para Contingencias y Otras Erogaciones Especiales",null,null,null,null,{"$f":"'Formato 6 a)'!B145","v":0},{"$f":"'Formato 6 a)'!C145","v":0},{"$f":"'Formato 6 a)'!D145","v":0},{"$f":"'Formato 6 a)'!E145","v":0},{"$f":"'Formato 6 a)'!F145","v":0},{"$f":"'Formato 6 a)'!G145","v":0}]
["6,1,2,8,0,0,0",6,1,2,8,null,null,null,null,"Participaciones y Aportaciones",null,null,null,null,null,{"$f":"'Formato 6 a)'!B146","v":0},{"$f":"'Formato 6 a)'!C146","v":0},{"$f":"'Formato 6 a)'!D146","v":0},{"$f":"'Formato 6 a)'!E146","v":0},{"$f":"'Formato 6 a)'!F146","v":0},{"$f":"'Formato 6 a)'!G146","v":0}]
["6,1,2,8,1,0,0",6,1,2,8,1,null,null,null,null,"Participaciones",null,null,null,null,{"$f":"'Formato 6 a)'!B147","v":0},{"$f":"'Formato 6 a)'!C147","v":0},{"$f":"'Formato 6 a)'!D147","v":0},{"$f":"'Formato 6 a)'!E147","v":0},{"$f":"'Formato 6 a)'!F147","v":0},{"$f":"'Formato 6 a)'!G147","v":0}]
["6,1,2,8,2,0,0",6,1,2,8,2,null,null,null,null,"Aportaciones",null,null,null,null,{"$f":"'Formato 6 a)'!B148","v":0},{"$f":"'Formato 6 a)'!C148","v":0},{"$f":"'Formato 6 a)'!D148","v":0},{"$f":"'Formato 6 a)'!E148","v":0},{"$f":"'Formato 6 a)'!F148","v":0},{"$f":"'Formato 6 a)'!G148","v":0}]
[{"$f":"IF(LEN(CLEAN(B141))=0,\"0\",B141)&\",\"&IF(LEN(CLEAN(C141))=0,\"0\",C141)&\",\"&IF(LEN(CLEAN(D141))=0,\"0\",D141)&\",\"&IF(LEN(CLEAN(E141))=0,\"0\",E141)&\",\"&IF(LEN(CLEAN(F141))=0,\"0\",F141)&\",\"&IF(LEN(CLEAN(G141))=0,\"0\",G141)&\",\"&IF(LEN(CLEAN(H141))=0,\"0\",H141)","v":"6,1,2,8,3,0,0"},6,1,2,8,3,null,null,null,null,"Convenios",null,null,null,null,{"$f":"'Formato 6 a)'!B149","v":0},{"$f":"'Formato 6 a)'!C149","v":0},{"$f":"'Formato 6 a)'!D149","v":0},{"$f":"'Formato 6 a)'!E149","v":0},{"$f":"'Formato 6 a)'!F149","v":0},{"$f":"'Formato 6 a)'!G149","v":0}]
["6,1,2,9,0,0,0",6,1,2,9,null,null,null,null,"Deuda Pública",null,null,null,null,null,{"$f":"'Formato 6 a)'!B150","v":2207142.84},{"$f":"'Formato 6 a)'!C150","v":0},{"$f":"'Formato 6 a)'!D150","v":2207142.84},{"$f":"'Formato 6 a)'!E150","v":571606.97},{"$f":"'Formato 6 a)'!F150","v":571606.97},{"$f":"'Formato 6 a)'!G150","v":1635535.87}]
["6,1,2,9,1,0,0",6,1,2,9,1,null,null,null,null,"Amortización de la Deuda Pública",null,null,null,null,{"$f":"'Formato 6 a)'!B151","v":1607142.84},{"$f":"'Formato 6 a)'!C151","v":0},{"$f":"'Formato 6 a)'!D151","v":1607142.84},{"$f":"'Formato 6 a)'!E151","v":401785.71},{"$f":"'Formato 6 a)'!F151","v":401785.71},{"$f":"'Formato 6 a)'!G151","v":1205357.1300000001}]
["6,1,2,9,2,0,0",6,1,2,9,2,null,null,null,null,"Intereses de la Deuda Pública",null,null,null,null,{"$f":"'Formato 6 a)'!B152","v":600000},{"$f":"'Formato 6 a)'!C152","v":0},{"$f":"'Formato 6 a)'!D152","v":600000},{"$f":"'Formato 6 a)'!E152","v":169821.26},{"$f":"'Formato 6 a)'!F152","v":169821.26},{"$f":"'Formato 6 a)'!G152","v":430178.74}]
["6,1,2,9,3,0,0",6,1,2,9,3,null,null,null,null,"Comisiones de la Deuda Pública",null,null,null,null,{"$f":"'Formato 6 a)'!B153","v":0},{"$f":"'Formato 6 a)'!C153","v":0},{"$f":"'Formato 6 a)'!D153","v":0},{"$f":"'Formato 6 a)'!E153","v":0},{"$f":"'Formato 6 a)'!F153","v":0},{"$f":"'Formato 6 a)'!G153","v":0}]
["6,1,2,9,4,0,0",6,1,2,9,4,null,null,null,null,"Gastos de la Deuda Pública",null,null,null,null,{"$f":"'Formato 6 a)'!B154","v":0},{"$f":"'Formato 6 a)'!C154","v":0},{"$f":"'Formato 6 a)'!D154","v":0},{"$f":"'Formato 6 a)'!E154","v":0},{"$f":"'Formato 6 a)'!F154","v":0},{"$f":"'Formato 6 a)'!G154","v":0}]
["6,1,2,9,5,0,0",6,1,2,9,5,null,null,null,null,"Costo por Coberturas",null,null,null,null,{"$f":"'Formato 6 a)'!B155","v":0},{"$f":"'Formato 6 a)'!C155","v":0},{"$f":"'Formato 6 a)'!D155","v":0},{"$f":"'Formato 6 a)'!E155","v":0},{"$f":"'Formato 6 a)'!F155","v":0},{"$f":"'Formato 6 a)'!G155","v":0}]
["6,1,2,9,6,0,0",6,1,2,9,6,null,null,null,null,"Apoyos Financieros",null,null,null,null,{"$f":"'Formato 6 a)'!B156","v":0},{"$f":"'Formato 6 a)'!C156","v":0},{"$f":"'Formato 6 a)'!D156","v":0},{"$f":"'Formato 6 a)'!E156","v":0},{"$f":"'Formato 6 a)'!F156","v":0},{"$f":"'Formato 6 a)'!G156","v":0}]
["6,1,2,9,7,0,0",6,1,2,9,7,null,null,null,null,"Adeudos de Ejercicios Fiscales Anteriores (ADEFAS)",null,null,null,null,{"$f":"'Formato 6 a)'!B157","v":0},{"$f":"'Formato 6 a)'!C157","v":0},{"$f":"'Formato 6 a)'!D157","v":0},{"$f":"'Formato 6 a)'!E157","v":0},{"$f":"'Formato 6 a)'!F157","v":0},{"$f":"'Formato 6 a)'!G157","v":0}]
["6,1,3,10,0,0,0",6,1,3,10,null,null,null,"Total de Egresos",null,null,null,null,null,null,{"$f":"'Formato 6 a)'!B159","v":500000000},{"$f":"'Formato 6 a)'!C159","v":55920715.869999997},{"$f":"'Formato 6 a)'!D159","v":555920715.86999989},{"$f":"'Formato 6 a)'!E159","v":88795873.25},{"$f":"'Formato 6 a)'!F159","v":81949853.729999989},{"$f":"'Formato 6 a)'!G159","v":467124842.62}]

{"sheet":"Formato 6 b)","index":15,"n_rows":83,"n_cols":7,"rows_kept":83,"cut":false,"hidden":false,"merged":[[5,0,5,6],[6,0,7,0],[6,1,6,5],[6,6,7,6],[0,0,0,6],[1,0,1,6],[2,0,2,6],[3,0,3,6],[4,0,4,6]]}
["Formato 6 b) Estado Analítico del Ejercicio del Presupuesto de Egresos Detallado - LDF \n                        (Clasificación Administrativa)"]
[{"$f":"ENTE_PUBLICO_A","v":"Municipio de Valle de Santiago, Gto., Gobierno del Estado de Guanajuato (a)"}]
["Estado Analítico del Ejercicio del Presupuesto de Egresos Detallado - LDF"]
["Clasificación Administrativa"]
[{"$f":"TRIMESTRE","v":"Del 1 de enero al 30 de marzo de 2022 (b)"}]
["(PESOS)"]
["Concepto (c)","Egresos",null,null,null,null,"Subejercicio (e)"]
[null,"Aprobado (d)","Ampliaciones/ (Reducciones)","Modificado","Devengado","Pagado"]
["I. Gasto No Etiquetado (I=A+B+C+D+E+F+G+H)",{"$f":"SUM(B10:B68)","v":232000000},19384465.899999999,251384465.90000001,44527266.349999994,43778673.939999998,206857199.55000001]
["31111-0101  PRESIDENTE",1652654,0,1652654,361284.84,361284.84,{"$f":"D10-E10","v":1291369.1599999999}]
["31111-0102  SINDICO",1831783,{"$f":"D11-B11","v":3000},1834783,355037.39,355037.39,{"$f":"D11-E11","v":1479745.6099999999}]
["31111-0103  REGIDORES",10776713,{"$f":"D12-B12","v":0},10776713,2294339.08,2294339.08,8482373.9199999999]
["31111-0201  DESPACHO DEL PRESIDENTE",2086067,1500000,3586067,335813.63,335813.63,3250253.37]
["31111-0301  DESPACHO DEL SECRETARIO PARTICULAR",10050715,0,10050715,2326456,2295832,7724259]
["31111-0303  COMUNICACION SOCIAL",4469400,0,4469400,381335.42,381335.42,4088064.58]
["31111-0401  DESPACHO DEL SECRETARIO DE AYUNTAMNTO",2066938,31000,2097938,438229.85,438229.85,{"$f":"D16-E16","v":1659708.15}]
["31111-0402  DIRECCIÓN DE REGLAMENTOS FISCALIZACIÓN",3713242,0,3713242,760290.66,760290.66,2952951.34]
["31111-0403  DEPARTAMENTO JURIDICO",1919015,0,1919015,358327.02,358327.02,1560687.98]
["31111-0405  UNIDAD DE ACCESO A INFORMACIÓN",617181,0,617181,97047,97047,520134]
["31111-0407  ARCHIVO HISTÓRICO",287103,0,287103,61140,61140,{"$f":"D20-E20","v":225963}]
["31111-0408 JUZGADO ADMINISTRATIVO Y CIVICO",595685,0,595685,83465,83465,{"$f":"D21-E21","v":512220}]
["31111-0501  DESPACHO DEL TESORERO",70967195.189999998,1598259.049999997,72565454.239999995,11062430.390000001,10657174.529999999,61503023.849999994]
["31111-0502  CONTABILIDAD",5862602,0,5862602,1190691.8899999999,1190691.8899999999,4671910.1100000003]
["31111-0503  CATASTRO Y PREDIAL",3278765,0,3278765,260283.16,260283.16,3018481.84]
["31111-0601  DESPACHO DEL CONTRALORIA",502725,0,502725,81086,81086,421639]
["31111-0602  AUDITORÍA",537376,0,537376,65607.66,65607.66,471768.33999999997]
["31111-0603  ASUNTOS JURÍDICOS Y RESPONSABILIDADES",356859,0,356859,77205,77205,279654]
["31111-0604  EVALUACIÓN Y CONTROL DE OBRA PÚBLICA",375893,0,375893,44910,44910,330983]
["31111-0605  QUEJAS, DENUNCIAS Y SUGERENCIAS",369893,0,369893,35115,35115,334778]
["31111-0701  DESPACHO DEL DIRECTOR DE OBRAS PÚBLICAS",1279479,-5000,1274479,257597.83,257597.83,1016881.17]
["31111-0702  PRESUPUESTOS Y PROYECTOS",1036075,0,1036075,224151,224151,811924]
["31111-0703  CONTROL DE OBRA",6797228,12035706.850000001,18832934.850000001,5312111.83,5089050.72,13520823.020000001]
["31111-0705  DEPARTAMENTO DE MATERIALES",4981443,0,4981443,971992.31,971992.31,4009450.69]
["31111-0706  ÁREA DE CONSTRUCCIÓN",1867828,0,1867828,397154.06,397154.06,1470673.94]
["31111-0801  DESPACHO DEL DIRECTOR DE SERVICIOS PÚBLICOS",1778864,0,1778864,283439.38,283439.38,1495424.62]
["31111-0802  ALUMBRADO PUBLICO",1851867,0,1851867,352826.74,352826.74,1499040.26]
["31111-0803  DEPARTAMENTO DE LIMPIA",8845505,0,8845505,1511894.41,1511894.41,7333610.5899999999]
["31111-0804  PARQUES Y JARDINES",4385661,103000,4488661,1059103.32,1059103.32,{"$f":"D38-E38","v":3429557.6799999997}]
["31111-0805  RASTRO MUNICIPAL",3953533,0,3953533,816018.34,816018.34,3137514.66]
["31111-0806  MERCADO MUNICIPAL",2409582,0,2409582,505706.68,505706.68,1903875.32]
["31111-0807  PANTEONES",3799573,0,3799573,542316.43000000005,542316.43000000005,3257256.57]
["31111-0901  DESPACHO DEL DIRECTOR DE DESARROLLO SOCIAL Y RURAL",5821304,1700000,7521304,1242632.53,1242632.53,6278671.4699999997]
["31111-0903  DEPARTAMENTO DE SALUD",739371.81,60000,799371.81,119391.94,115857,679979.87000000011]
["31111-0907 JEFATURA DE DESARROLLO AGROPECUARIO",806567,0,806567,152613.85999999999,152613.85999999999,653953.14]
["31111-0908 JEFATURA DE GESTIÓN EDUCATIVA",873127,0,873127,0,0,873127]
["31111-1001  DESPACHO DEL DIRECTOR DE DESARROLLO INTEGRAL DE LA MUJER",1565234,50000,1615234,157680.66,157680.66,1457553.34]
["31111-1201  DESPACHO DEL DIRECTOR DE DESARROLLO ECONÓMICO",1762651,200000,1962651,256085.06,256085.06,1706565.94]
["31111-1202  SERVICIOS EMPRESARIALES",304674,0,304674,57495,57495,247179]
["31111-1301  DESPACHO DEL DIRECTOR DE DESARROLLO URBANO",2646767,100000,2746767,503617.87,503617.87,2243149.13]
["31111-1401  DESPACHO DEL DIRECTOR DE EDUCACIÓN",6676382,100000,6776382,374809,374809,6401573]
["31111-1403  DEPARTAMENTO DE BIBLIOTECA",833188,0,833188,177933.33,177933.33,655254.67000000004]
["31111-1406  AUDITORIO",363487,0,363487,76692.3,76692.3,286794.7]
["31111-1501  DESPACHO DEL OFICIAL MAYOR",13965393,80000,14045393,2454169.46,2454169.46,11591223.539999999]
["31111-1503  ADQUISICIONES",1404900,0,1404900,285558.26,285558.26,1119341.74]
["31111-1504  RECURSOS HUMANOS",14326164,0,14326164,3402270.51,3316154.01,10923893.49]
["31111-1506 DEPARTAMENTO DE INFORMATICA",996889,80000,1076889,215914.14,215914.14,{"$f":"D56-E56","v":860974.86}]
["31111-1701  DIRECCIÓN DE COMISIÓN MUNICIPAL DEL DEPORTE",1925970,0,1925970,367711.84,367711.84,1558258.16]
["31111-1703  DEPARTAMENTO DE UNIDAD DEPORTIVA",3139442,137000,3276442,664761.88,664761.88,2611680.12]
["31111-1704  DEPARTAMENTO DE GIMNASIO",1063333,3000,1066333,178849.13,178849.13,887483.87]
["31111-1801  DIRECCIÓN DE TURISMO",3517895,1333000,4850895,168426.7,168426.7,4682468.3]
["31111-2001  INSTITUTO MUNICIPAL DE LA JUVENTUD ",786481,100000,886481,133732.54999999999,133732.54999999999,752748.45]
["31111-2101  INSTITUTO DE PLANEACIÓN",829142,79500,908642,161616.92000000001,161616.92000000001,{"$f":"D62-E62","v":747025.08}]
["31111-2201  COMISARÍA DE SEGURIDAD PÚBLICA",204000,46500,250500,45240.53,45240.53,205259.47]
["31111-2202  COORDINACIÓN DE PROTECCIÓN CIVIL",54000,8000,62000,3697.01,3697.01,58302.99]
["31111-2203  COORDINACIÓN DE TRÁNSITO",14500,41500,56000,9117.6,9117.6,46882.400000000001]
["31111-2204  CARCEL MUNICIPAL",54000,{"$f":"B66-D66","v":0},54000,7308.5,7308.5,46691.5]
["31111-2205  COORDINACIÓN DE MOVILIDAD Y TRANSPORTE",9000,0,9000,1740,1740,7260]
["31111-2301  DIRECCIÓN DEL MEDIO AMBIENTE",2011696,0,2011696,403792.45,403792.45,1607903.55]
["*",null,null,null,0]
["II. Gasto Etiquetado (II=A+B+C+D+E+F+G+H)",{"$f":"SUM(B71:B81)","v":268000000},36536249.969999999,304536249.97000003,44268606.899999999,38171179.789999999,260267643.06999999]
["31111-0501  DESPACHO DEL TESORERO",2927131.12,{"$f":"D71-B71","v":8317999.9999999991},11245131.119999999,740065.34,713833.34,{"$f":"D71-E71","v":10505065.779999999}]
["31111-0703  CONTROL DE OBRA",161000000,{"$f":"D72-B72","v":23350749.969999999},184350749.97,20983293.059999999,15370819.789999999,{"$f":"D72-E72","v":163367456.91}]
["31111-0802  ALUMBRADO PUBLICO",24000000,0,24000000,4000000,4000000,20000000]
["31111-0803  DEPARTAMENTO DE LIMPIA",0,2300000,2300000,0,0,{"$f":"D74-E74","v":2300000}]
["31111-1501  DESPACHO DEL OFICIAL MAYOR",14450000,0,14450000,4539919.59,4539919.59,9910080.4100000001]
["31111-2101  INSTITUTO DE PLANEACIÓN",0,185500,185500,0,0,185500]
["31111-2201  COMISARÍA DE  SEGURIDAD PÚBLICA",52838668.880000003,2394000,55232668.880000003,11573175.279999999,11116999.4,43659493.600000001]
["31111-2202  COORDINACIÓN DE PROTECCIÓN CIVIL",2738581,0,2738581,515167,515167,2223414]
["31111-2203  COORDINACIÓN DE TRANSITO",8407624,-12000,8395624,1583531.43,1580985.47,6812092.5700000003]
["31111-2204  CARCEL MUNICIPAL",343450,0,343450,74304,74304,269146]
["31111-2205  COORDINACIÓN DE MOVILIDAD Y TRANSPORTE",1294545,0,1294545,259151.2,259151.2,1035393.8]
["*"]
["III. Total de Egresos (III = I + II)",{"$f":"GASTO_NE_T1+GASTO_E_T1","v":500000000},{"$f":"GASTO_E_T2+GASTO_NE_T2","v":55920715.869999997},{"$f":"GASTO_NE_T3+GASTO_E_T3","v":555920715.87},{"$f":"GASTO_NE_T4+GASTO_E_T4","v":88795873.25},{"$f":"GASTO_NE_T5+GASTO_E_T5","v":81949853.729999989},{"$f":"GASTO_NE_T6+GASTO_E_T6","v":467124842.62}]

{"sheet":"F06b","index":16,"n_rows":4,"n_cols":21,"rows_kept":4,"cut":false,"hidden":true,"merged":[]}
["CLAVE","N1","N2","N3","N4","N5","N6","N7","C  O  N  C  E  P  T  O  S",null,null,null,null,null,null,"APROBADO","AMPLIACIONES","MODIFICADO","DEVENGADO","PAGADO","SUBEJERCICIO"]
[{"$f":"IF(LEN(CLEAN(B2))=0,\"0\",B2)&\",\"&IF(LEN(CLEAN(C2))=0,\"0\",C2)&\",\"&IF(LEN(CLEAN(D2))=0,\"0\",D2)&\",\"&IF(LEN(CLEAN(E2))=0,\"0\",E2)&\",\"&IF(LEN(CLEAN(F2))=0,\"0\",F2)&\",\"&IF(LEN(CLEAN(G2))=0,\"0\",G2)&\",\"&IF(LEN(CLEAN(H2))=0,\"0\",H2)","v":"6,2,1,0,0,0,0"},6,2,1,null,null,null,null,"Gasto No Etiquetado",null,null,null,null,null,null,{"$f":"GASTO_NE_T1","v":232000000},{"$f":"GASTO_NE_T2","v":19384465.899999999},{"$f":"GASTO_NE_T3","v":251384465.90000001},{"$f":"GASTO_NE_T4","v":44527266.349999994},{"$f":"GASTO_NE_T5","v":43778673.939999998},{"$f":"GASTO_NE_T6","v":206857199.55000001}]
[{"$f":"IF(LEN(CLEAN(B3))=0,\"0\",B3)&\",\"&IF(LEN(CLEAN(C3))=0,\"0\",C3)&\",\"&IF(LEN(CLEAN(D3))=0,\"0\",D3)&\",\"&IF(LEN(CLEAN(E3))=0,\"0\",E3)&\",\"&IF(LEN(CLEAN(F3))=0,\"0\",F3)&\",\"&IF(LEN(CLEAN(G3))=0,\"0\",G3)&\",\"&IF(LEN(CLEAN(H3))=0,\"0\",H3)","v":"6,2,2,0,0,0,0"},6,2,2,null,null,null,null,"Gasto Etiquetado",null,null,null,null,null,null,{"$f":"GASTO_E_T1","v":268000000},{"$f":"GASTO_E_T2","v":36536249.969999999},{"$f":"GASTO_E_T3","v":304536249.97000003},{"$f":"GASTO_E_T4","v":44268606.899999999},{"$f":"GASTO_E_T5","v":38171179.789999999},{"$f":"GASTO_E_T6","v":260267643.06999999}]
["6,2,3,0,0,0,0",6,2,3,null,null,null,null,"Total de Egresos",null,null,null,null,null,null,{"$f":"TOTAL_E_T1","v":500000000},{"$f":"TOTAL_E_T2","v":55920715.869999997},{"$f":"TOTAL_E_T3","v":555920715.87},{"$f":"TOTAL_E_T4","v":88795873.25},{"$f":"TOTAL_E_T5","v":81949853.729999989},{"$f":"TOTAL_E_T6","v":467124842.62}]

{"sheet":"Formato 6 c)","index":17,"n_rows":77,"n_cols":16384,"rows_kept":77,"cut":false,"hidden":false,"merged":[[6,1,6,5],[6,6,7,6],[6,0,7,0],[0,0,0,6],[1,0,1,6],[2,0,2,6],[3,0,3,6],[4,0,4,6],[5,0,5,6]]}
["Formato 6 c) Estado Analítico del Ejercicio del Presupuesto de Egresos Detallado -LDF \n                       (Claisificación Funcional)"]
[{"$f":"ENTE_PUBLICO_A","v":"Municipio de Valle de Santiago, Gto., Gobierno del Estado de Guanajuato (a)"}]
["Estado Analítico del Ejercicio del Presupueso de Egresos Detallado - LDF"]
["Clasificación Funcional (Finalidad y Función)"]
[{"$f":"TRIMESTRE","v":"Del 1 de enero al 30 de marzo de 2022 (b)"}]
["(PESOS)"]
["Concepto (c)","Egresos",null,null,null,null,"Subejercicio  (e)"]
[null,"Aprobado (d)","Ampliaciones / (Reducciones)","Modificado ","Devengado","Pagado"]
["I. Gasto No Etiquetado (I=A+B+C+D)",{"$f":"SUM(B10,B19,B27,B37)","v":232000000},19384465.899999991,{"$f":"SUM(D10,D19,D27,D37)","v":251384465.90000001},44527266.350000009,43778673.940000005,206857199.54999998]
["A. Gobierno (A=a1+a2+a3+a4+a5+a6+a7+a8)",{"$f":"SUM(B11:B18)","v":125096369.19},{"$f":"SUM(C11:C18)","v":3462759.049999997},{"$f":"SUM(D11:D18)","v":128559128.23999999},{"$f":"SUM(E11:E18)","v":20775053.310000002},20253056.950000003,107784074.92999999]
["a1) Legislación",12608496,{"$f":"D11-B11","v":3000},12611496,2649376.4700000002,2649376.4700000002,{"$f":"D11-E11","v":9962119.5299999993}]
["a2) Justicia",595685,{"$f":"D12-B12","v":0},595685,83465,83465,512220]
["a3) Coordinación de la Política de Gobierno",37834843,1690500,39525343,7288633.25,7171892.75,32236709.75]
["a4) Relaciones Exteriores",0,{"$f":"D14-B14","v":0},0,0,0,0]
["a5) Asuntos Financieros y Hacendarios",54908562.189999998,1598259.049999997,56506821.239999995,7234337.3099999996,6829081.4500000002,49272483.929999992]
["a6) Seguridad Nacional",0,0,0,0,0,0]
["a7) Asuntos de Orden Público y de Seguridad Interior",1035500,96000,1131500,76746.84,76746.84,1054753.1599999999]
["a8) Otros Servicios Generales",18113283,75000,18188283,3442494.44,3442494.44,14745788.560000001]
["B. Desarrollo Social (B=b1+b2+b3+b4+b5+b6+b7)",{"$f":"SUM(B20:B26)","v":99855168.810000002},{"$f":"SUM(C20:C26)","v":11371701.529999994},111226870.34000002,21580964.410000004,{"$f":"SUM(F20:F26)","v":21577429.470000003},89645905.929999992]
["b1) Protección Ambiental ",10857201,83818.179999999702,10941019.18,1915686.86,1915686.86,9025332.3200000003]
["b2) Vivienda y Servicios a la Comunidad",62004849,8329769.1299999952,70334618.129999995,15105987.6,15105987.6,55228630.529999994]
["b3) Salud",739371.81,760000,1499371.81,119391.94,115857,1379979.87]
["b4) Recreación, Cultura y Otras Manifestaciones Sociales",10699004,1919299.1799999997,12618303.18,2139942.7799999998,2139942.7799999998,10478360.4]
["b5) Educación ",7549509,100000,7649509,374809,374809,7274700]
["b6) Protección Social",8005234,178815.04000000004,8184049.04,1925146.23,1925146.23,6258902.8100000005]
["b7) Otros Asuntos Sociales",0,0,0,0,0,0]
["C. Desarrollo Económico (C=c1+c2+c3+c4+c5+c6+c7+c8+c9)",{"$f":"SUM(B28:B36)","v":7048462},{"$f":"SUM(C28:C36)","v":4550005.32},11598467.32,2171248.63,1948187.5199999998,9427218.6900000013,0,0,0,0,0,0,0,0,0,0,0,0,0,0,0,0,0,0,0,0,0,0,0,0,0,0,0,0,0,0,0,0,0,0,0,0,0,0,0,0,0,0,0,0,0,0,0,0,0,0,0,0,0,0,0,0,0,0,0,{"$f":"SUM(BO28:BO36)","v":0},0,0,0,0,0,0,0,0,0,0,0,0,0,0,0,0,0,0,0,0,0,0,0,0,0,0,0,0,0,0,0,0,0,0,0,0,0,0,0,0,0,0,0,0,0,0,0,0,0,0,0,0,0,0,0,0,0,0,0,0,0,0,0,{"$f":"SUM(EA28:EA36)","v":0},0,0,0,0,0,0,0,0,0,0,0,0,0,0,0,0,0,0,0,0,0,0,0,0,0,0,0,0,0,0,0,0,0,0,0,0,0,0,0,0,0,0,0,0,0,0,0,0,0,0,0,0,0,0,0,0,0,0,0,0,0,0,0,{"$f":"SUM(GM28:GM36)","v":0},0,0,0,0,0,0,0,0,0,0,0,0,0,0,0,0,0,0,0,0,0,0,0,0,0,0,0,0,0,0,0,0,0,0,0,0,0,0,0,0,0,0,0,0,0,0,0,0,0,0,0,0,0,0,0,0,0,0,0,0,0,0,0,{"$f":"SUM(IY28:IY36)","v":0},0,0,0,0,0,0,0,0,0,0,0,0,0,0,0,0,0,0,0,0,0,0,0,0,0,0,0,0,0,0,0,0,0,0,0,0,0,0,0,0,0,0,0,0,0,0,0,0,0,0,0,0,0,0,0,0,0,0,0,0,0,0,0,{"$f":"SUM(LK28:LK36)","v":0},0,0,0,0,0,0,0,0,0,0,0,0,0,0,0,0,0,0,0,0,0,0,0,0,0,0,0,0,0,0,0,0,0,0,0,0,0,0,0,0,0,0,0,0,0,0,0,0,0,0,0,0,0,0,0,0,0,0,0,0,0,0,0,{"$f":"SUM(NW28:NW36)","v":0},0,0,0,0,0,0,0,0,0,0,0,0,0,0,0,0,0,0,0,0,0,0,0,0,0,0,0,0,0,0,0,0,0,0,0,0,0,0,0,0,0,0,0,0,0,0,0,0,0,0,0,0,0,0,0,0,0,0,0,0,0,0,0,{"$f":"SUM(QI28:QI36)","v":0},0,0,0,0,0,0,0,0,0,0,0,0,0,0,0,0,0,0,0,0,0,0,0,0,0,0,0,0,0,0,0,0,0,0,0,0,0,0,0,0,0,0,0,0,0,0,0,0,0,0,0,0,0,0,0,0,0,0,0,0,0,0,0,{"$f":"SUM(SU28:SU36)","v":0},0,0,0,0,0,0,0,0,0,0,0,0,0,0,0,0,0,0,0,0,0,0,0,0,0,0,0,0,0,0,0,0,0,0,0,0,0,0,0,0,0,0,0,0,0,0,0,0,0,0,0,0,0,0,0,0,0,0,0,0,0,0,0,{"$f":"SUM(VG28:VG36)","v":0},0,0,0,0,0,0,0,0,0,0,0,0,0,0,0,0,0,0,0,0,0,0,0,0,0,0,0,0,0,0,0,0,0,0,0,0,0,0,0,0,0,0,0,0,0,0,0,0,0,0,0,0,0,0,0,0,0,0,0,0,0,0,0,{"$f":"SUM(XS28:XS36)","v":0},0,0,0,0,0,0,0,0,0,0,0,0,0,0,0,0,0,0,0,0,0,0,0,0,0,0,0,0,0,0,0,0,0,0,0,0,0,0,0,0,0,0,0,0,0,0,0,0,0,0,0,0,0,0,0,0,0,0,0,0,0,0,0,{"$f":"SUM(AAE28:AAE36)","v":0},0,0,0,0,0,0,0,0,0,0,0,0,0,0,0,0,0,0,0,0,0,0,0,0,0,0,0,0,0,0,0,0,0,0,0,0,0,0,0,0,0,0,0,0,0,0,0,0,0,0,0,0,0,0,0,0,0,0,0,0,0,0,0,{"$f":"SUM(ACQ28:ACQ36)","v":0},0,0,0,0,0,0,0,0,0,0,0,0,0,0,0,0,0,0,0,0,0,0,0,0,0,0,0,0,0,0,0,0,0,0,0,0,0,0,0,0,0,0,0,0,0,0,0,0,0,0,0,0,0,0,0,0,0,0,0,0,0,0,0,{"$f":"SUM(AFC28:AFC36)","v":0},0,0,0,0,0,0,0,0,0,0,0,0,0,0,0,0,0,0,0,0,0,0,0,0,0,0,0,0,0,0,0,0,0,0,0,0,0,0,0,0,0,0,0,0,0,0,0,0,0,0,0,0,0,0,0,0,0,0,0,0,0,0,0,{"$f":"SUM(AHO28:AHO36)","v":0},0,0,0,0,0,0,0,0,0,0,0,0,0,0,0,0,0,0,0,0,0,0,0,0,0,0,0,0,0,0,0,0,0,0,0,0,0,0,0,0,0,0,0,0,0,0,0,0,0,0,0,0,0,0,0,0,0,0,0,0,0,0,0,{"$f":"SUM(AKA28:AKA36)","v":0},0,0,0,0,0,0,0,0,0,0,0,0,0,0,0,0,0,0,0,0,0,0,0,0,0,0,0,0,0,0,0,0,0,0,0,0,0,0,0,0,0,0,0,0,0,0,0,0,0,0,0,0,0,0,0,0,0,0,0,0,0,0,0,{"$f":"SUM(AMM28:AMM36)","v":0},0,0,0,0,0,0,0,0,0,0,0,0,0,0,0,0,0,0,0,0,0,0,0,0,0,0,0,0,0,0,0,0,0,0,0,0,0,0,0,0,0,0,0,0,0,0,0,0,0,0,0,0,0,0,0,0,0,0,0,0,0,0,0,{"$f":"SUM(AOY28:AOY36)","v":0},0,0,0,0,0,0,0,0,0,0,0,0,0,0,0,0,0,0,0,0,0,0,0,0,0,0,0,0,0,0,0,0,0,0,0,0,0,0,0,0,0,0,0,0,0,0,0,0,0,0,0,0,0,0,0,0,0,0,0,0,0,0,0,{"$f":"SUM(ARK28:ARK36)","v":0},0,0,0,0,0,0,0,0,0,0,0,0,0,0,0,0,0,0,0,0,0,0,0,0,0,0,0,0,0,0,0,0,0,0,0,0,0,0,0,0,0,0,0,0,0,0,0,0,0,0,0,0,0,0,0,0,0,0,0,0,0,0,0,{"$f":"SUM(ATW28:ATW36)","v":0},0,0,0,0,0,0,0,0,0,0,0,0,0,0,0,0,0,0,0,0,0,0,0,0,0,0,0,0,0,0,0,0,0,0,0,0,0,0,0,0,0,0,0,0,0,0,0,0,0,0,0,0,0,0,0,0,0,0,0,0,0,0,0,{"$f":"SUM(AWI28:AWI36)","v":0},0,0,0,0,0,0,0,0,0,0,0,0,0,0,0,0,0,0,0,0,0,0,0,0,0,0,0,0,0,0,0,0,0,0,0,0,0,0,0,0,0,0,0,0,0,0,0,0,0,0,0,0,0,0,0,0,0,0,0,0,0,0,0,{"$f":"SUM(AYU28:AYU36)","v":0},0,0,0,0,0,0,0,0,0,0,0,0,0,0,0,0,0,0,0,0,0,0,0,0,0,0,0,0,0,0,0,0,0,0,0,0,0,0,0,0,0,0,0,0,0,0,0,0,0,0,0,0,0,0,0,0,0,0,0,0,0,0,0,{"$f":"SUM(BBG28:BBG36)","v":0},0,0,0,0,0,0,0,0,0,0,0,0,0,0,0,0,0,0,0,0,0,0,0,0,0,0,0,0,0,0,0,0,0,0,0,0,0,0,0,0,0,0,0,0,0,0,0,0,0,0,0,0,0,0,0,0,0,0,0,0,0,0,0,{"$f":"SUM(BDS28:BDS36)","v":0},0,0,0,0,0,0,0,0,0,0,0,0,0,0,0,0,0,0,0,0,0,0,0,0,0,0,0,0,0,0,0,0,0,0,0,0,0,0,0,0,0,0,0,0,0,0,0,0,0,0,0,0,0,0,0,0,0,0,0,0,0,0,0,{"$f":"SUM(BGE28:BGE36)","v":0},0,0,0,0,0,0,0,0,0,0,0,0,0,0,0,0,0,0,0,0,0,0,0,0,0,0,0,0,0,0,0,0,0,0,0,0,0,0,0,0,0,0,0,0,0,0,0,0,0,0,0,0,0,0,0,0,0,0,0,0,0,0,0,{"$f":"SUM(BIQ28:BIQ36)","v":0},0,0,0,0,0,0,0,0,0,0,0,0,0,0,0,0,0,0,0,0,0,0,0,0,0,0,0,0,0,0,0,0,0,0,0,0,0,0,0,0,0,0,0,0,0,0,0,0,0,0,0,0,0,0,0,0,0,0,0,0,0,0,0,{"$f":"SUM(BLC28:BLC36)","v":0},0,0,0,0,0,0,0,0,0,0,0,0,0,0,0,0,0,0,0,0,0,0,0,0,0,0,0,0,0,0,0,0,0,0,0,0,0,0,0,0,0,0,0,0,0,0,0,0,0,0,0,0,0,0,0,0,0,0,0,0,0,0,0,{"$f":"SUM(BNO28:BNO36)","v":0},0,0,0,0,0,0,0,0,0,0,0,0,0,0,0,0,0,0,0,0,0,0,0,0,0,0,0,0,0,0,0,0,0,0,0,0,0,0,0,0,0,0,0,0,0,0,0,0,0,0,0,0,0,0,0,0,0,0,0,0,0,0,0,{"$f":"SUM(BQA28:BQA36)","v":0},0,0,0,0,0,0,0,0,0,0,0,0,0,0,0,0,0,0,0,0,0,0,0,0,0,0,0,0,0,0,0,0,0,0,0,0,0,0,0,0,0,0,0,0,0,0,0,0,0,0,0,0,0,0,0,0,0,0,0,0,0,0,0,{"$f":"SUM(BSM28:BSM36)","v":0},0,0,0,0,0,0,0,0,0,0,0,0,0,0,0,0,0,0,0,0,0,0,0,0,0,0,0,0,0,0,0,0,0,0,0,0,0,0,0,0,0,0,0,0,0,0,0,0,0,0,0,0,0,0,0,0,0,0,0,0,0,0,0,{"$f":"SUM(BUY28:BUY36)","v":0},0,0,0,0,0,0,0,0,0,0,0,0,0,0,0,0,0,0,0,0,0,0,0,0,0,0,0,0,0,0,0,0,0,0,0,0,0,0,0,0,0,0,0,0,0,0,0,0,0,0,0,0,0,0,0,0,0,0,0,0,0,0,0,{"$f":"SUM(BXK28:BXK36)","v":0},0,0,0,0,0,0,0,0,0,0,0,0,0,0,0,0,0,0,0,0,0,0,0,0,0,0,0,0,0,0,0,0,0,0,0,0,0,0,0,0,0,0,0,0,0,0,0,0,0,0,0,0,0,0,0,0,0,0,0,0,0,0,0,{"$f":"SUM(BZW28:BZW36)","v":0},0,0,0,0,0,0,0,0,0,0,0,0,0,0,0,0,0,0,0,0,0,0,0,0,0,0,0,0,0,0,0,0,0,0,0,0,0,0,0,0,0,0,0,0,0,0,0,0,0,0,0,0,0,0,0,0,0,0,0,0,0,0,0,{"$f":"SUM(CCI28:CCI36)","v":0},0,0,0,0,0,0,0,0,0,0,0,0,0,0,0,0,0,0,0,0,0,0,0,0,0,0,0,0,0,0,0,0,0,0,0,0,0,0,0,0,0,0,0,0,0,0,0,0,0,0,0,0,0,0,0,0,0,0,0,0,0,0,0,{"$f":"SUM(CEU28:CEU36)","v":0},0,0,0,0,0,0,0,0,0,0,0,0,0,0,0,0,0,0,0,0,0,0,0,0,0,0,0,0,0,0,0,0,0,0,0,0,0,0,0,0,0,0,0,0,0,0,0,0,0,0,0,0,0,0,0,0,0,0,0,0,0,0,0,{"$f":"SUM(CHG28:CHG36)","v":0},0,0,0,0,0,0,0,0,0,0,0,0,0,0,0,0,0,0,0,0,0,0,0,0,0,0,0,0,0,0,0,0,0,0,0,0,0,0,0,0,0,0,0,0,0,0,0,0,0,0,0,0,0,0,0,0,0,0,0,0,0,0,0,{"$f":"SUM(CJS28:CJS36)","v":0},0,0,0,0,0,0,0,0,0,0,0,0,0,0,0,0,0,0,0,0,0,0,0,0,0,0,0,0,0,0,0,0,0,0,0,0,0,0,0,0,0,0,0,0,0,0,0,0,0,0,0,0,0,0,0,0,0,0,0,0,0,0,0,{"$f":"SUM(CME28:CME36)","v":0},0,0,0,0,0,0,0,0,0,0,0,0,0,0,0,0,0,0,0,0,0,0,0,0,0,0,0,0,0,0,0,0,0,0,0,0,0,0,0,0,0,0,0,0,0,0,0,0,0,0,0,0,0,0,0,0,0,0,0,0,0,0,0,{"$f":"SUM(COQ28:COQ36)","v":0},0,0,0,0,0,0,0,0,0,0,0,0,0,0,0,0,0,0,0,0,0,0,0,0,0,0,0,0,0,0,0,0,0,0,0,0,0,0,0,0,0,0,0,0,0,0,0,0,0,0,0,0,0,0,0,0,0,0,0,0,0,0,0,{"$f":"SUM(CRC28:CRC36)","v":0},0,0,0,0,0,0,0,0,0,0,0,0,0,0,0,0,0,0,0,0,0,0,0,0,0,0,0,0,0,0,0,0,0,0,0,0,0,0,0,0,0,0,0,0,0,0,0,0,0,0,0,0,0,0,0,0,0,0,0,0,0,0,0,{"$f":"SUM(CTO28:CTO36)","v":0},0,0,0,0,0,0,0,0,0,0,0,0,0,0,0,0,0,0,0,0,0,0,0,0,0,0,0,0,0,0,0,0,0,0,0,0,0,0,0,0,0,0,0,0,0,0,0,0,0,0,0,0,0,0,0,0,0,0,0,0,0,0,0,{"$f":"SUM(CWA28:CWA36)","v":0},0,0,0,0,0,0,0,0,0,0,0,0,0,0,0,0,0,0,0,0,0,0,0,0,0,0,0,0,0,0,0,0,0,0,0,0,0,0,0,0,0,0,0,0,0,0,0,0,0,0,0,0,0,0,0,0,0,0,0,0,0,0,0,{"$f":"SUM(CYM28:CYM36)","v":0},0,0,0,0,0,0,0,0,0,0,0,0,0,0,0,0,0,0,0,0,0,0,0,0,0,0,0,0,0,0,0,0,0,0,0,0,0,0,0,0,0,0,0,0,0,0,0,0,0,0,0,0,0,0,0,0,0,0,0,0,0,0,0,{"$f":"SUM(DAY28:DAY36)","v":0},0,0,0,0,0,0,0,0,0,0,0,0,0,0,0,0,0,0,0,0,0,0,0,0,0,0,0,0,0,0,0,0,0,0,0,0,0,0,0,0,0,0,0,0,0,0,0,0,0,0,0,0,0,0,0,0,0,0,0,0,0,0,0,{"$f":"SUM(DDK28:DDK36)","v":0},0,0,0,0,0,0,0,0,0,0,0,0,0,0,0,0,0,0,0,0,0,0,0,0,0,0,0,0,0,0,0,0,0,0,0,0,0,0,0,0,0,0,0,0,0,0,0,0,0,0,0,0,0,0,0,0,0,0,0,0,0,0,0,{"$f":"SUM(DFW28:DFW36)","v":0},0,0,0,0,0,0,0,0,0,0,0,0,0,0,0,0,0,0,0,0,0,0,0,0,0,0,0,0,0,0,0,0,0,0,0,0,0,0,0,0,0,0,0,0,0,0,0,0,0,0,0,0,0,0,0,0,0,0,0,0,0,0,0,{"$f":"SUM(DII28:DII36)","v":0},0,0,0,0,0,0,0,0,0,0,0,0,0,0,0,0,0,0,0,0,0,0,0,0,0,0,0,0,0,0,0,0,0,0,0,0,0,0,0,0,0,0,0,0,0,0,0,0,0,0,0,0,0,0,0,0,0,0,0,0,0,0,0,{"$f":"SUM(DKU28:DKU36)","v":0},0,0,0,0,0,0,0,0,0,0,0,0,0,0,0,0,0,0,0,0,0,0,0,0,0,0,0,0,0,0,0,0,0,0,0,0,0,0,0,0,0,0,0,0,0,0,0,0,0,0,0,0,0,0,0,0,0,0,0,0,0,0,0,{"$f":"SUM(DNG28:DNG36)","v":0},0,0,0,0,0,0,0,0,0,0,0,0,0,0,0,0,0,0,0,0,0,0,0,0,0,0,0,0,0,0,0,0,0,0,0,0,0,0,0,0,0,0,0,0,0,0,0,0,0,0,0,0,0,0,0,0,0,0,0,0,0,0,0,{"$f":"SUM(DPS28:DPS36)","v":0},0,0,0,0,0,0,0,0,0,0,0,0,0,0,0,0,0,0,0,0,0,0,0,0,0,0,0,0,0,0,0,0,0,0,0,0,0,0,0,0,0,0,0,0,0,0,0,0,0,0,0,0,0,0,0,0,0,0,0,0,0,0,0,{"$f":"SUM(DSE28:DSE36)","v":0},0,0,0,0,0,0,0,0,0,0,0,0,0,0,0,0,0,0,0,0,0,0,0,0,0,0,0,0,0,0,0,0,0,0,0,0,0,0,0,0,0,0,0,0,0,0,0,0,0,0,0,0,0,0,0,0,0,0,0,0,0,0,0,{"$f":"SUM(DUQ28:DUQ36)","v":0},0,0,0,0,0,0,0,0,0,0,0,0,0,0,0,0,0,0,0,0,0,0,0,0,0,0,0,0,0,0,0,0,0,0,0,0,0,0,0,0,0,0,0,0,0,0,0,0,0,0,0,0,0,0,0,0,0,0,0,0,0,0,0,{"$f":"SUM(DXC28:DXC36)","v":0},0,0,0,0,0,0,0,0,0,0,0,0,0,0,0,0,0,0,0,0,0,0,0,0,0,0,0,0,0,0,0,0,0,0,0,0,0,0,0,0,0,0,0,0,0,0,0,0,0,0,0,0,0,0,0,0,0,0,0,0,0,0,0,{"$f":"SUM(DZO28:DZO36)","v":0},0,0,0,0,0,0,0,0,0,0,0,0,0,0,0,0,0,0,0,0,0,0,0,0,0,0,0,0,0,0,0,0,0,0,0,0,0,0,0,0,0,0,0,0,0,0,0,0,0,0,0,0,0,0,0,0,0,0,0,0,0,0,0,{"$f":"SUM(ECA28:ECA36)","v":0},0,0,0,0,0,0,0,0,0,0,0,0,0,0,0,0,0,0,0,0,0,0,0,0,0,0,0,0,0,0,0,0,0,0,0,0,0,0,0,0,0,0,0,0,0,0,0,0,0,0,0,0,0,0,0,0,0,0,0,0,0,0,0,{"$f":"SUM(EEM28:EEM36)","v":0},0,0,0,0,0,0,0,0,0,0,0,0,0,0,0,0,0,0,0,0,0,0,0,0,0,0,0,0,0,0,0,0,0,0,0,0,0,0,0,0,0,0,0,0,0,0,0,0,0,0,0,0,0,0,0,0,0,0,0,0,0,0,0,{"$f":"SUM(EGY28:EGY36)","v":0},0,0,0,0,0,0,0,0,0,0,0,0,0,0,0,0,0,0,0,0,0,0,0,0,0,0,0,0,0,0,0,0,0,0,0,0,0,0,0,0,0,0,0,0,0,0,0,0,0,0,0,0,0,0,0,0,0,0,0,0,0,0,0,{"$f":"SUM(EJK28:EJK36)","v":0},0,0,0,0,0,0,0,0,0,0,0,0,0,0,0,0,0,0,0,0,0,0,0,0,0,0,0,0,0,0,0,0,0,0,0,0,0,0,0,0,0,0,0,0,0,0,0,0,0,0,0,0,0,0,0,0,0,0,0,0,0,0,0,{"$f":"SUM(ELW28:ELW36)","v":0},0,0,0,0,0,0,0,0,0,0,0,0,0,0,0,0,0,0,0,0,0,0,0,0,0,0,0,0,0,0,0,0,0,0,0,0,0,0,0,0,0,0,0,0,0,0,0,0,0,0,0,0,0,0,0,0,0,0,0,0,0,0,0,{"$f":"SUM(EOI28:EOI36)","v":0},0,0,0,0,0,0,0,0,0,0,0,0,0,0,0,0,0,0,0,0,0,0,0,0,0,0,0,0,0,0,0,0,0,0,0,0,0,0,0,0,0,0,0,0,0,0,0,0,0,0,0,0,0,0,0,0,0,0,0,0,0,0,0,{"$f":"SUM(EQU28:EQU36)","v":0},0,0,0,0,0,0,0,0,0,0,0,0,0,0,0,0,0,0,0,0,0,0,0,0,0,0,0,0,0,0,0,0,0,0,0,0,0,0,0,0,0,0,0,0,0,0,0,0,0,0,0,0,0,0,0,0,0,0,0,0,0,0,0,{"$f":"SUM(ETG28:ETG36)","v":0},0,0,0,0,0,0,0,0,0,0,0,0,0,0,0,0,0,0,0,0,0,0,0,0,0,0,0,0,0,0,0,0,0,0,0,0,0,0,0,0,0,0,0,0,0,0,0,0,0,0,0,0,0,0,0,0,0,0,0,0,0,0,0,{"$f":"SUM(EVS28:EVS36)","v":0},0,0,0,0,0,0,0,0,0,0,0,0,0,0,0,0,0,0,0,0,0,0,0,0,0,0,0,0,0,0,0,0,0,0,0,0,0,0,0,0,0,0,0,0,0,0,0,0,0,0,0,0,0,0,0,0,0,0,0,0,0,0,0,{"$f":"SUM(EYE28:EYE36)","v":0},0,0,0,0,0,0,0,0,0,0,0,0,0,0,0,0,0,0,0,0,0,0,0,0,0,0,0,0,0,0,0,0,0,0,0,0,0,0,0,0,0,0,0,0,0,0,0,0,0,0,0,0,0,0,0,0,0,0,0,0,0,0,0,{"$f":"SUM(FAQ28:FAQ36)","v":0},0,0,0,0,0,0,0,0,0,0,0,0,0,0,0,0,0,0,0,0,0,0,0,0,0,0,0,0,0,0,0,0,0,0,0,0,0,0,0,0,0,0,0,0,0,0,0,0,0,0,0,0,0,0,0,0,0,0,0,0,0,0,0,{"$f":"SUM(FDC28:FDC36)","v":0},0,0,0,0,0,0,0,0,0,0,0,0,0,0,0,0,0,0,0,0,0,0,0,0,0,0,0,0,0,0,0,0,0,0,0,0,0,0,0,0,0,0,0,0,0,0,0,0,0,0,0,0,0,0,0,0,0,0,0,0,0,0,0,{"$f":"SUM(FFO28:FFO36)","v":0},0,0,0,0,0,0,0,0,0,0,0,0,0,0,0,0,0,0,0,0,0,0,0,0,0,0,0,0,0,0,0,0,0,0,0,0,0,0,0,0,0,0,0,0,0,0,0,0,0,0,0,0,0,0,0,0,0,0,0,0,0,0,0,{"$f":"SUM(FIA28:FIA36)","v":0},0,0,0,0,0,0,0,0,0,0,0,0,0,0,0,0,0,0,0,0,0,0,0,0,0,0,0,0,0,0,0,0,0,0,0,0,0,0,0,0,0,0,0,0,0,0,0,0,0,0,0,0,0,0,0,0,0,0,0,0,0,0,0,{"$f":"SUM(FKM28:FKM36)","v":0},0,0,0,0,0,0,0,0,0,0,0,0,0,0,0,0,0,0,0,0,0,0,0,0,0,0,0,0,0,0,0,0,0,0,0,0,0,0,0,0,0,0,0,0,0,0,0,0,0,0,0,0,0,0,0,0,0,0,0,0,0,0,0,{"$f":"SUM(FMY28:FMY36)","v":0},0,0,0,0,0,0,0,0,0,0,0,0,0,0,0,0,0,0,0,0,0,0,0,0,0,0,0,0,0,0,0,0,0,0,0,0,0,0,0,0,0,0,0,0,0,0,0,0,0,0,0,0,0,0,0,0,0,0,0,0,0,0,0,{"$f":"SUM(FPK28:FPK36)","v":0},0,0,0,0,0,0,0,0,0,0,0,0,0,0,0,0,0,0,0,0,0,0,0,0,0,0,0,0,0,0,0,0,0,0,0,0,0,0,0,0,0,0,0,0,0,0,0,0,0,0,0,0,0,0,0,0,0,0,0,0,0,0,0,{"$f":"SUM(FRW28:FRW36)","v":0},0,0,0,0,0,0,0,0,0,0,0,0,0,0,0,0,0,0,0,0,0,0,0,0,0,0,0,0,0,0,0,0,0,0,0,0,0,0,0,0,0,0,0,0,0,0,0,0,0,0,0,0,0,0,0,0,0,0,0,0,0,0,0,{"$f":"SUM(FUI28:FUI36)","v":0},0,0,0,0,0,0,0,0,0,0,0,0,0,0,0,0,0,0,0,0,0,0,0,0,0,0,0,0,0,0,0,0,0,0,0,0,0,0,0,0,0,0,0,0,0,0,0,0,0,0,0,0,0,0,0,0,0,0,0,0,0,0,0,{"$f":"SUM(FWU28:FWU36)","v":0},0,0,0,0,0,0,0,0,0,0,0,0,0,0,0,0,0,0,0,0,0,0,0,0,0,0,0,0,0,0,0,0,0,0,0,0,0,0,0,0,0,0,0,0,0,0,0,0,0,0,0,0,0,0,0,0,0,0,0,0,0,0,0,{"$f":"SUM(FZG28:FZG36)","v":0},0,0,0,0,0,0,0,0,0,0,0,0,0,0,0,0,0,0,0,0,0,0,0,0,0,0,0,0,0,0,0,0,0,0,0,0,0,0,0,0,0,0,0,0,0,0,0,0,0,0,0,0,0,0,0,0,0,0,0,0,0,0,0,{"$f":"SUM(GBS28:GBS36)","v":0},0,0,0,0,0,0,0,0,0,0,0,0,0,0,0,0,0,0,0,0,0,0,0,0,0,0,0,0,0,0,0,0,0,0,0,0,0,0,0,0,0,0,0,0,0,0,0,0,0,0,0,0,0,0,0,0,0,0,0,0,0,0,0,{"$f":"SUM(GEE28:GEE36)","v":0},0,0,0,0,0,0,0,0,0,0,0,0,0,0,0,0,0,0,0,0,0,0,0,0,0,0,0,0,0,0,0,0,0,0,0,0,0,0,0,0,0,0,0,0,0,0,0,0,0,0,0,0,0,0,0,0,0,0,0,0,0,0,0,{"$f":"SUM(GGQ28:GGQ36)","v":0},0,0,0,0,0,0,0,0,0,0,0,0,0,0,0,0,0,0,0,0,0,0,0,0,0,0,0,0,0,0,0,0,0,0,0,0,0,0,0,0,0,0,0,0,0,0,0,0,0,0,0,0,0,0,0,0,0,0,0,0,0,0,0,{"$f":"SUM(GJC28:GJC36)","v":0},0,0,0,0,0,0,0,0,0,0,0,0,0,0,0,0,0,0,0,0,0,0,0,0,0,0,0,0,0,0,0,0,0,0,0,0,0,0,0,0,0,0,0,0,0,0,0,0,0,0,0,0,0,0,0,0,0,0,0,0,0,0,0,{"$f":"SUM(GLO28:GLO36)","v":0},0,0,0,0,0,0,0,0,0,0,0,0,0,0,0,0,0,0,0,0,0,0,0,0,0,0,0,0,0,0,0,0,0,0,0,0,0,0,0,0,0,0,0,0,0,0,0,0,0,0,0,0,0,0,0,0,0,0,0,0,0,0,0,{"$f":"SUM(GOA28:GOA36)","v":0},0,0,0,0,0,0,0,0,0,0,0,0,0,0,0,0,0,0,0,0,0,0,0,0,0,0,0,0,0,0,0,0,0,0,0,0,0,0,0,0,0,0,0,0,0,0,0,0,0,0,0,0,0,0,0,0,0,0,0,0,0,0,0,{"$f":"SUM(GQM28:GQM36)","v":0},0,0,0,0,0,0,0,0,0,0,0,0,0,0,0,0,0,0,0,0,0,0,0,0,0,0,0,0,0,0,0,0,0,0,0,0,0,0,0,0,0,0,0,0,0,0,0,0,0,0,0,0,0,0,0,0,0,0,0,0,0,0,0,{"$f":"SUM(GSY28:GSY36)","v":0},0,0,0,0,0,0,0,0,0,0,0,0,0,0,0,0,0,0,0,0,0,0,0,0,0,0,0,0,0,0,0,0,0,0,0,0,0,0,0,0,0,0,0,0,0,0,0,0,0,0,0,0,0,0,0,0,0,0,0,0,0,0,0,{"$f":"SUM(GVK28:GVK36)","v":0},0,0,0,0,0,0,0,0,0,0,0,0,0,0,0,0,0,0,0,0,0,0,0,0,0,0,0,0,0,0,0,0,0,0,0,0,0,0,0,0,0,0,0,0,0,0,0,0,0,0,0,0,0,0,0,0,0,0,0,0,0,0,0,{"$f":"SUM(GXW28:GXW36)","v":0},0,0,0,0,0,0,0,0,0,0,0,0,0,0,0,0,0,0,0,0,0,0,0,0,0,0,0,0,0,0,0,0,0,0,0,0,0,0,0,0,0,0,0,0,0,0,0,0,0,0,0,0,0,0,0,0,0,0,0,0,0,0,0,{"$f":"SUM(HAI28:HAI36)","v":0},0,0,0,0,0,0,0,0,0,0,0,0,0,0,0,0,0,0,0,0,0,0,0,0,0,0,0,0,0,0,0,0,0,0,0,0,0,0,0,0,0,0,0,0,0,0,0,0,0,0,0,0,0,0,0,0,0,0,0,0,0,0,0,{"$f":"SUM(HCU28:HCU36)","v":0},0,0,0,0,0,0,0,0,0,0,0,0,0,0,0,0,0,0,0,0,0,0,0,0,0,0,0,0,0,0,0,0,0,0,0,0,0,0,0,0,0,0,0,0,0,0,0,0,0,0,0,0,0,0,0,0,0,0,0,0,0,0,0,{"$f":"SUM(HFG28:HFG36)","v":0},0,0,0,0,0,0,0,0,0,0,0,0,0,0,0,0,0,0,0,0,0,0,0,0,0,0,0,0,0,0,0,0,0,0,0,0,0,0,0,0,0,0,0,0,0,0,0,0,0,0,0,0,0,0,0,0,0,0,0,0,0,0,0,{"$f":"SUM(HHS28:HHS36)","v":0},0,0,0,0,0,0,0,0,0,0,0,0,0,0,0,0,0,0,0,0,0,0,0,0,0,0,0,0,0,0,0,0,0,0,0,0,0,0,0,0,0,0,0,0,0,0,0,0,0,0,0,0,0,0,0,0,0,0,0,0,0,0,0,{"$f":"SUM(HKE28:HKE36)","v":0},0,0,0,0,0,0,0,0,0,0,0,0,0,0,0,0,0,0,0,0,0,0,0,0,0,0,0,0,0,0,0,0,0,0,0,0,0,0,0,0,0,0,0,0,0,0,0,0,0,0,0,0,0,0,0,0,0,0,0,0,0,0,0,{"$f":"SUM(HMQ28:HMQ36)","v":0},0,0,0,0,0,0,0,0,0,0,0,0,0,0,0,0,0,0,0,0,0,0,0,0,0,0,0,0,0,0,0,0,0,0,0,0,0,0,0,0,0,0,0,0,0,0,0,0,0,0,0,0,0,0,0,0,0,0,0,0,0,0,0,{"$f":"SUM(HPC28:HPC36)","v":0},0,0,0,0,0,0,0,0,0,0,0,0,0,0,0,0,0,0,0,0,0,0,0,0,0,0,0,0,0,0,0,0,0,0,0,0,0,0,0,0,0,0,0,0,0,0,0,0,0,0,0,0,0,0,0,0,0,0,0,0,0,0,0,{"$f":"SUM(HRO28:HRO36)","v":0},0,0,0,0,0,0,0,0,0,0,0,0,0,0,0,0,0,0,0,0,0,0,0,0,0,0,0,0,0,0,0,0,0,0,0,0,0,0,0,0,0,0,0,0,0,0,0,0,0,0,0,0,0,0,0,0,0,0,0,0,0,0,0,{"$f":"SUM(HUA28:HUA36)","v":0},0,0,0,0,0,0,0,0,0,0,0,0,0,0,0,0,0,0,0,0,0,0,0,0,0,0,0,0,0,0,0,0,0,0,0,0,0,0,0,0,0,0,0,0,0,0,0,0,0,0,0,0,0,0,0,0,0,0,0,0,0,0,0,{"$f":"SUM(HWM28:HWM36)","v":0},0,0,0,0,0,0,0,0,0,0,0,0,0,0,0,0,0,0,0,0,0,0,0,0,0,0,0,0,0,0,0,0,0,0,0,0,0,0,0,0,0,0,0,0,0,0,0,0,0,0,0,0,0,0,0,0,0,0,0,0,0,0,0,{"$f":"SUM(HYY28:HYY36)","v":0},0,0,0,0,0,0,0,0,0,0,0,0,0,0,0,0,0,0,0,0,0,0,0,0,0,0,0,0,0,0,0,0,0,0,0,0,0,0,0,0,0,0,0,0,0,0,0,0,0,0,0,0,0,0,0,0,0,0,0,0,0,0,0,{"$f":"SUM(IBK28:IBK36)","v":0},0,0,0,0,0,0,0,0,0,0,0,0,0,0,0,0,0,0,0,0,0,0,0,0,0,0,0,0,0,0,0,0,0,0,0,0,0,0,0,0,0,0,0,0,0,0,0,0,0,0,0,0,0,0,0,0,0,0,0,0,0,0,0,{"$f":"SUM(IDW28:IDW36)","v":0},0,0,0,0,0,0,0,0,0,0,0,0,0,0,0,0,0,0,0,0,0,0,0,0,0,0,0,0,0,0,0,0,0,0,0,0,0,0,0,0,0,0,0,0,0,0,0,0,0,0,0,0,0,0,0,0,0,0,0,0,0,0,0,{"$f":"SUM(IGI28:IGI36)","v":0},0,0,0,0,0,0,0,0,0,0,0,0,0,0,0,0,0,0,0,0,0,0,0,0,0,0,0,0,0,0,0,0,0,0,0,0,0,0,0,0,0,0,0,0,0,0,0,0,0,0,0,0,0,0,0,0,0,0,0,0,0,0,0,{"$f":"SUM(IIU28:IIU36)","v":0},0,0,0,0,0,0,0,0,0,0,0,0,0,0,0,0,0,0,0,0,0,0,0,0,0,0,0,0,0,0,0,0,0,0,0,0,0,0,0,0,0,0,0,0,0,0,0,0,0,0,0,0,0,0,0,0,0,0,0,0,0,0,0,{"$f":"SUM(ILG28:ILG36)","v":0},0,0,0,0,0,0,0,0,0,0,0,0,0,0,0,0,0,0,0,0,0,0,0,0,0,0,0,0,0,0,0,0,0,0,0,0,0,0,0,0,0,0,0,0,0,0,0,0,0,0,0,0,0,0,0,0,0,0,0,0,0,0,0,{"$f":"SUM(INS28:INS36)","v":0},0,0,0,0,0,0,0,0,0,0,0,0,0,0,0,0,0,0,0,0,0,0,0,0,0,0,0,0,0,0,0,0,0,0,0,0,0,0,0,0,0,0,0,0,0,0,0,0,0,0,0,0,0,0,0,0,0,0,0,0,0,0,0,{"$f":"SUM(IQE28:IQE36)","v":0},0,0,0,0,0,0,0,0,0,0,0,0,0,0,0,0,0,0,0,0,0,0,0,0,0,0,0,0,0,0,0,0,0,0,0,0,0,0,0,0,0,0,0,0,0,0,0,0,0,0,0,0,0,0,0,0,0,0,0,0,0,0,0,{"$f":"SUM(ISQ28:ISQ36)","v":0},0,0,0,0,0,0,0,0,0,0,0,0,0,0,0,0,0,0,0,0,0,0,0,0,0,0,0,0,0,0,0,0,0,0,0,0,0,0,0,0,0,0,0,0,0,0,0,0,0,0,0,0,0,0,0,0,0,0,0,0,0,0,0,{"$f":"SUM(IVC28:IVC36)","v":0},0,0,0,0,0,0,0,0,0,0,0,0,0,0,0,0,0,0,0,0,0,0,0,0,0,0,0,0,0,0,0,0,0,0,0,0,0,0,0,0,0,0,0,0,0,0,0,0,0,0,0,0,0,0,0,0,0,0,0,0,0,0,0,{"$f":"SUM(IXO28:IXO36)","v":0},0,0,0,0,0,0,0,0,0,0,0,0,0,0,0,0,0,0,0,0,0,0,0,0,0,0,0,0,0,0,0,0,0,0,0,0,0,0,0,0,0,0,0,0,0,0,0,0,0,0,0,0,0,0,0,0,0,0,0,0,0,0,0,{"$f":"SUM(JAA28:JAA36)","v":0},0,0,0,0,0,0,0,0,0,0,0,0,0,0,0,0,0,0,0,0,0,0,0,0,0,0,0,0,0,0,0,0,0,0,0,0,0,0,0,0,0,0,0,0,0,0,0,0,0,0,0,0,0,0,0,0,0,0,0,0,0,0,0,{"$f":"SUM(JCM28:JCM36)","v":0},0,0,0,0,0,0,0,0,0,0,0,0,0,0,0,0,0,0,0,0,0,0,0,0,0,0,0,0,0,0,0,0,0,0,0,0,0,0,0,0,0,0,0,0,0,0,0,0,0,0,0,0,0,0,0,0,0,0,0,0,0,0,0,{"$f":"SUM(JEY28:JEY36)","v":0},0,0,0,0,0,0,0,0,0,0,0,0,0,0,0,0,0,0,0,0,0,0,0,0,0,0,0,0,0,0,0,0,0,0,0,0,0,0,0,0,0,0,0,0,0,0,0,0,0,0,0,0,0,0,0,0,0,0,0,0,0,0,0,{"$f":"SUM(JHK28:JHK36)","v":0},0,0,0,0,0,0,0,0,0,0,0,0,0,0,0,0,0,0,0,0,0,0,0,0,0,0,0,0,0,0,0,0,0,0,0,0,0,0,0,0,0,0,0,0,0,0,0,0,0,0,0,0,0,0,0,0,0,0,0,0,0,0,0,{"$f":"SUM(JJW28:JJW36)","v":0},0,0,0,0,0,0,0,0,0,0,0,0,0,0,0,0,0,0,0,0,0,0,0,0,0,0,0,0,0,0,0,0,0,0,0,0,0,0,0,0,0,0,0,0,0,0,0,0,0,0,0,0,0,0,0,0,0,0,0,0,0,0,0,{"$f":"SUM(JMI28:JMI36)","v":0},0,0,0,0,0,0,0,0,0,0,0,0,0,0,0,0,0,0,0,0,0,0,0,0,0,0,0,0,0,0,0,0,0,0,0,0,0,0,0,0,0,0,0,0,0,0,0,0,0,0,0,0,0,0,0,0,0,0,0,0,0,0,0,{"$f":"SUM(JOU28:JOU36)","v":0},0,0,0,0,0,0,0,0,0,0,0,0,0,0,0,0,0,0,0,0,0,0,0,0,0,0,0,0,0,0,0,0,0,0,0,0,0,0,0,0,0,0,0,0,0,0,0,0,0,0,0,0,0,0,0,0,0,0,0,0,0,0,0,{"$f":"SUM(JRG28:JRG36)","v":0},0,0,0,0,0,0,0,0,0,0,0,0,0,0,0,0,0,0,0,0,0,0,0,0,0,0,0,0,0,0,0,0,0,0,0,0,0,0,0,0,0,0,0,0,0,0,0,0,0,0,0,0,0,0,0,0,0,0,0,0,0,0,0,{"$f":"SUM(JTS28:JTS36)","v":0},0,0,0,0,0,0,0,0,0,0,0,0,0,0,0,0,0,0,0,0,0,0,0,0,0,0,0,0,0,0,0,0,0,0,0,0,0,0,0,0,0,0,0,0,0,0,0,0,0,0,0,0,0,0,0,0,0,0,0,0,0,0,0,{"$f":"SUM(JWE28:JWE36)","v":0},0,0,0,0,0,0,0,0,0,0,0,0,0,0,0,0,0,0,0,0,0,0,0,0,0,0,0,0,0,0,0,0,0,0,0,0,0,0,0,0,0,0,0,0,0,0,0,0,0,0,0,0,0,0,0,0,0,0,0,0,0,0,0,{"$f":"SUM(JYQ28:JYQ36)","v":0},0,0,0,0,0,0,0,0,0,0,0,0,0,0,0,0,0,0,0,0,0,0,0,0,0,0,0,0,0,0,0,0,0,0,0,0,0,0,0,0,0,0,0,0,0,0,0,0,0,0,0,0,0,0,0,0,0,0,0,0,0,0,0,{"$f":"SUM(KBC28:KBC36)","v":0},0,0,0,0,0,0,0,0,0,0,0,0,0,0,0,0,0,0,0,0,0,0,0,0,0,0,0,0,0,0,0,0,0,0,0,0,0,0,0,0,0,0,0,0,0,0,0,0,0,0,0,0,0,0,0,0,0,0,0,0,0,0,0,{"$f":"SUM(KDO28:KDO36)","v":0},0,0,0,0,0,0,0,0,0,0,0,0,0,0,0,0,0,0,0,0,0,0,0,0,0,0,0,0,0,0,0,0,0,0,0,0,0,0,0,0,0,0,0,0,0,0,0,0,0,0,0,0,0,0,0,0,0,0,0,0,0,0,0,{"$f":"SUM(KGA28:KGA36)","v":0},0,0,0,0,0,0,0,0,0,0,0,0,0,0,0,0,0,0,0,0,0,0,0,0,0,0,0,0,0,0,0,0,0,0,0,0,0,0,0,0,0,0,0,0,0,0,0,0,0,0,0,0,0,0,0,0,0,0,0,0,0,0,0,{"$f":"SUM(KIM28:KIM36)","v":0},0,0,0,0,0,0,0,0,0,0,0,0,0,0,0,0,0,0,0,0,0,0,0,0,0,0,0,0,0,0,0,0,0,0,0,0,0,0,0,0,0,0,0,0,0,0,0,0,0,0,0,0,0,0,0,0,0,0,0,0,0,0,0,{"$f":"SUM(KKY28:KKY36)","v":0},0,0,0,0,0,0,0,0,0,0,0,0,0,0,0,0,0,0,0,0,0,0,0,0,0,0,0,0,0,0,0,0,0,0,0,0,0,0,0,0,0,0,0,0,0,0,0,0,0,0,0,0,0,0,0,0,0,0,0,0,0,0,0,{"$f":"SUM(KNK28:KNK36)","v":0},0,0,0,0,0,0,0,0,0,0,0,0,0,0,0,0,0,0,0,0,0,0,0,0,0,0,0,0,0,0,0,0,0,0,0,0,0,0,0,0,0,0,0,0,0,0,0,0,0,0,0,0,0,0,0,0,0,0,0,0,0,0,0,{"$f":"SUM(KPW28:KPW36)","v":0},0,0,0,0,0,0,0,0,0,0,0,0,0,0,0,0,0,0,0,0,0,0,0,0,0,0,0,0,0,0,0,0,0,0,0,0,0,0,0,0,0,0,0,0,0,0,0,0,0,0,0,0,0,0,0,0,0,0,0,0,0,0,0,{"$f":"SUM(KSI28:KSI36)","v":0},0,0,0,0,0,0,0,0,0,0,0,0,0,0,0,0,0,0,0,0,0,0,0,0,0,0,0,0,0,0,0,0,0,0,0,0,0,0,0,0,0,0,0,0,0,0,0,0,0,0,0,0,0,0,0,0,0,0,0,0,0,0,0,{"$f":"SUM(KUU28:KUU36)","v":0},0,0,0,0,0,0,0,0,0,0,0,0,0,0,0,0,0,0,0,0,0,0,0,0,0,0,0,0,0,0,0,0,0,0,0,0,0,0,0,0,0,0,0,0,0,0,0,0,0,0,0,0,0,0,0,0,0,0,0,0,0,0,0,{"$f":"SUM(KXG28:KXG36)","v":0},0,0,0,0,0,0,0,0,0,0,0,0,0,0,0,0,0,0,0,0,0,0,0,0,0,0,0,0,0,0,0,0,0,0,0,0,0,0,0,0,0,0,0,0,0,0,0,0,0,0,0,0,0,0,0,0,0,0,0,0,0,0,0,{"$f":"SUM(KZS28:KZS36)","v":0},0,0,0,0,0,0,0,0,0,0,0,0,0,0,0,0,0,0,0,0,0,0,0,0,0,0,0,0,0,0,0,0,0,0,0,0,0,0,0,0,0,0,0,0,0,0,0,0,0,0,0,0,0,0,0,0,0,0,0,0,0,0,0,{"$f":"SUM(LCE28:LCE36)","v":0},0,0,0,0,0,0,0,0,0,0,0,0,0,0,0,0,0,0,0,0,0,0,0,0,0,0,0,0,0,0,0,0,0,0,0,0,0,0,0,0,0,0,0,0,0,0,0,0,0,0,0,0,0,0,0,0,0,0,0,0,0,0,0,{"$f":"SUM(LEQ28:LEQ36)","v":0},0,0,0,0,0,0,0,0,0,0,0,0,0,0,0,0,0,0,0,0,0,0,0,0,0,0,0,0,0,0,0,0,0,0,0,0,0,0,0,0,0,0,0,0,0,0,0,0,0,0,0,0,0,0,0,0,0,0,0,0,0,0,0,{"$f":"SUM(LHC28:LHC36)","v":0},0,0,0,0,0,0,0,0,0,0,0,0,0,0,0,0,0,0,0,0,0,0,0,0,0,0,0,0,0,0,0,0,0,0,0,0,0,0,0,0,0,0,0,0,0,0,0,0,0,0,0,0,0,0,0,0,0,0,0,0,0,0,0,{"$f":"SUM(LJO28:LJO36)","v":0},0,0,0,0,0,0,0,0,0,0,0,0,0,0,0,0,0,0,0,0,0,0,0,0,0,0,0,0,0,0,0,0,0,0,0,0,0,0,0,0,0,0,0,0,0,0,0,0,0,0,0,0,0,0,0,0,0,0,0,0,0,0,0,{"$f":"SUM(LMA28:LMA36)","v":0},0,0,0,0,0,0,0,0,0,0,0,0,0,0,0,0,0,0,0,0,0,0,0,0,0,0,0,0,0,0,0,0,0,0,0,0,0,0,0,0,0,0,0,0,0,0,0,0,0,0,0,0,0,0,0,0,0,0,0,0,0,0,0,{"$f":"SUM(LOM28:LOM36)","v":0},0,0,0,0,0,0,0,0,0,0,0,0,0,0,0,0,0,0,0,0,0,0,0,0,0,0,0,0,0,0,0,0,0,0,0,0,0,0,0,0,0,0,0,0,0,0,0,0,0,0,0,0,0,0,0,0,0,0,0,0,0,0,0,{"$f":"SUM(LQY28:LQY36)","v":0},0,0,0,0,0,0,0,0,0,0,0,0,0,0,0,0,0,0,0,0,0,0,0,0,0,0,0,0,0,0,0,0,0,0,0,0,0,0,0,0,0,0,0,0,0,0,0,0,0,0,0,0,0,0,0,0,0,0,0,0,0,0,0,{"$f":"SUM(LTK28:LTK36)","v":0},0,0,0,0,0,0,0,0,0,0,0,0,0,0,0,0,0,0,0,0,0,0,0,0,0,0,0,0,0,0,0,0,0,0,0,0,0,0,0,0,0,0,0,0,0,0,0,0,0,0,0,0,0,0,0,0,0,0,0,0,0,0,0,{"$f":"SUM(LVW28:LVW36)","v":0},0,0,0,0,0,0,0,0,0,0,0,0,0,0,0,0,0,0,0,0,0,0,0,0,0,0,0,0,0,0,0,0,0,0,0,0,0,0,0,0,0,0,0,0,0,0,0,0,0,0,0,0,0,0,0,0,0,0,0,0,0,0,0,{"$f":"SUM(LYI28:LYI36)","v":0},0,0,0,0,0,0,0,0,0,0,0,0,0,0,0,0,0,0,0,0,0,0,0,0,0,0,0,0,0,0,0,0,0,0,0,0,0,0,0,0,0,0,0,0,0,0,0,0,0,0,0,0,0,0,0,0,0,0,0,0,0,0,0,{"$f":"SUM(MAU28:MAU36)","v":0},0,0,0,0,0,0,0,0,0,0,0,0,0,0,0,0,0,0,0,0,0,0,0,0,0,0,0,0,0,0,0,0,0,0,0,0,0,0,0,0,0,0,0,0,0,0,0,0,0,0,0,0,0,0,0,0,0,0,0,0,0,0,0,{"$f":"SUM(MDG28:MDG36)","v":0},0,0,0,0,0,0,0,0,0,0,0,0,0,0,0,0,0,0,0,0,0,0,0,0,0,0,0,0,0,0,0,0,0,0,0,0,0,0,0,0,0,0,0,0,0,0,0,0,0,0,0,0,0,0,0,0,0,0,0,0,0,0,0,{"$f":"SUM(MFS28:MFS36)","v":0},0,0,0,0,0,0,0,0,0,0,0,0,0,0,0,0,0,0,0,0,0,0,0,0,0,0,0,0,0,0,0,0,0,0,0,0,0,0,0,0,0,0,0,0,0,0,0,0,0,0,0,0,0,0,0,0,0,0,0,0,0,0,0,{"$f":"SUM(MIE28:MIE36)","v":0},0,0,0,0,0,0,0,0,0,0,0,0,0,0,0,0,0,0,0,0,0,0,0,0,0,0,0,0,0,0,0,0,0,0,0,0,0,0,0,0,0,0,0,0,0,0,0,0,0,0,0,0,0,0,0,0,0,0,0,0,0,0,0,{"$f":"SUM(MKQ28:MKQ36)","v":0},0,0,0,0,0,0,0,0,0,0,0,0,0,0,0,0,0,0,0,0,0,0,0,0,0,0,0,0,0,0,0,0,0,0,0,0,0,0,0,0,0,0,0,0,0,0,0,0,0,0,0,0,0,0,0,0,0,0,0,0,0,0,0,{"$f":"SUM(MNC28:MNC36)","v":0},0,0,0,0,0,0,0,0,0,0,0,0,0,0,0,0,0,0,0,0,0,0,0,0,0,0,0,0,0,0,0,0,0,0,0,0,0,0,0,0,0,0,0,0,0,0,0,0,0,0,0,0,0,0,0,0,0,0,0,0,0,0,0,{"$f":"SUM(MPO28:MPO36)","v":0},0,0,0,0,0,0,0,0,0,0,0,0,0,0,0,0,0,0,0,0,0,0,0,0,0,0,0,0,0,0,0,0,0,0,0,0,0,0,0,0,0,0,0,0,0,0,0,0,0,0,0,0,0,0,0,0,0,0,0,0,0,0,0,{"$f":"SUM(MSA28:MSA36)","v":0},0,0,0,0,0,0,0,0,0,0,0,0,0,0,0,0,0,0,0,0,0,0,0,0,0,0,0,0,0,0,0,0,0,0,0,0,0,0,0,0,0,0,0,0,0,0,0,0,0,0,0,0,0,0,0,0,0,0,0,0,0,0,0,{"$f":"SUM(MUM28:MUM36)","v":0},0,0,0,0,0,0,0,0,0,0,0,0,0,0,0,0,0,0,0,0,0,0,0,0,0,0,0,0,0,0,0,0,0,0,0,0,0,0,0,0,0,0,0,0,0,0,0,0,0,0,0,0,0,0,0,0,0,0,0,0,0,0,0,{"$f":"SUM(MWY28:MWY36)","v":0},0,0,0,0,0,0,0,0,0,0,0,0,0,0,0,0,0,0,0,0,0,0,0,0,0,0,0,0,0,0,0,0,0,0,0,0,0,0,0,0,0,0,0,0,0,0,0,0,0,0,0,0,0,0,0,0,0,0,0,0,0,0,0,{"$f":"SUM(MZK28:MZK36)","v":0},0,0,0,0,0,0,0,0,0,0,0,0,0,0,0,0,0,0,0,0,0,0,0,0,0,0,0,0,0,0,0,0,0,0,0,0,0,0,0,0,0,0,0,0,0,0,0,0,0,0,0,0,0,0,0,0,0,0,0,0,0,0,0,{"$f":"SUM(NBW28:NBW36)","v":0},0,0,0,0,0,0,0,0,0,0,0,0,0,0,0,0,0,0,0,0,0,0,0,0,0,0,0,0,0,0,0,0,0,0,0,0,0,0,0,0,0,0,0,0,0,0,0,0,0,0,0,0,0,0,0,0,0,0,0,0,0,0,0,{"$f":"SUM(NEI28:NEI36)","v":0},0,0,0,0,0,0,0,0,0,0,0,0,0,0,0,0,0,0,0,0,0,0,0,0,0,0,0,0,0,0,0,0,0,0,0,0,0,0,0,0,0,0,0,0,0,0,0,0,0,0,0,0,0,0,0,0,0,0,0,0,0,0,0,{"$f":"SUM(NGU28:NGU36)","v":0},0,0,0,0,0,0,0,0,0,0,0,0,0,0,0,0,0,0,0,0,0,0,0,0,0,0,0,0,0,0,0,0,0,0,0,0,0,0,0,0,0,0,0,0,0,0,0,0,0,0,0,0,0,0,0,0,0,0,0,0,0,0,0,{"$f":"SUM(NJG28:NJG36)","v":0},0,0,0,0,0,0,0,0,0,0,0,0,0,0,0,0,0,0,0,0,0,0,0,0,0,0,0,0,0,0,0,0,0,0,0,0,0,0,0,0,0,0,0,0,0,0,0,0,0,0,0,0,0,0,0,0,0,0,0,0,0,0,0,{"$f":"SUM(NLS28:NLS36)","v":0},0,0,0,0,0,0,0,0,0,0,0,0,0,0,0,0,0,0,0,0,0,0,0,0,0,0,0,0,0,0,0,0,0,0,0,0,0,0,0,0,0,0,0,0,0,0,0,0,0,0,0,0,0,0,0,0,0,0,0,0,0,0,0,{"$f":"SUM(NOE28:NOE36)","v":0},0,0,0,0,0,0,0,0,0,0,0,0,0,0,0,0,0,0,0,0,0,0,0,0,0,0,0,0,0,0,0,0,0,0,0,0,0,0,0,0,0,0,0,0,0,0,0,0,0,0,0,0,0,0,0,0,0,0,0,0,0,0,0,{"$f":"SUM(NQQ28:NQQ36)","v":0},0,0,0,0,0,0,0,0,0,0,0,0,0,0,0,0,0,0,0,0,0,0,0,0,0,0,0,0,0,0,0,0,0,0,0,0,0,0,0,0,0,0,0,0,0,0,0,0,0,0,0,0,0,0,0,0,0,0,0,0,0,0,0,{"$f":"SUM(NTC28:NTC36)","v":0},0,0,0,0,0,0,0,0,0,0,0,0,0,0,0,0,0,0,0,0,0,0,0,0,0,0,0,0,0,0,0,0,0,0,0,0,0,0,0,0,0,0,0,0,0,0,0,0,0,0,0,0,0,0,0,0,0,0,0,0,0,0,0,{"$f":"SUM(NVO28:NVO36)","v":0},0,0,0,0,0,0,0,0,0,0,0,0,0,0,0,0,0,0,0,0,0,0,0,0,0,0,0,0,0,0,0,0,0,0,0,0,0,0,0,0,0,0,0,0,0,0,0,0,0,0,0,0,0,0,0,0,0,0,0,0,0,0,0,{"$f":"SUM(NYA28:NYA36)","v":0},0,0,0,0,0,0,0,0,0,0,0,0,0,0,0,0,0,0,0,0,0,0,0,0,0,0,0,0,0,0,0,0,0,0,0,0,0,0,0,0,0,0,0,0,0,0,0,0,0,0,0,0,0,0,0,0,0,0,0,0,0,0,0,{"$f":"SUM(OAM28:OAM36)","v":0},0,0,0,0,0,0,0,0,0,0,0,0,0,0,0,0,0,0,0,0,0,0,0,0,0,0,0,0,0,0,0,0,0,0,0,0,0,0,0,0,0,0,0,0,0,0,0,0,0,0,0,0,0,0,0,0,0,0,0,0,0,0,0,{"$f":"SUM(OCY28:OCY36)","v":0},0,0,0,0,0,0,0,0,0,0,0,0,0,0,0,0,0,0,0,0,0,0,0,0,0,0,0,0,0,0,0,0,0,0,0,0,0,0,0,0,0,0,0,0,0,0,0,0,0,0,0,0,0,0,0,0,0,0,0,0,0,0,0,{"$f":"SUM(OFK28:OFK36)","v":0},0,0,0,0,0,0,0,0,0,0,0,0,0,0,0,0,0,0,0,0,0,0,0,0,0,0,0,0,0,0,0,0,0,0,0,0,0,0,0,0,0,0,0,0,0,0,0,0,0,0,0,0,0,0,0,0,0,0,0,0,0,0,0,{"$f":"SUM(OHW28:OHW36)","v":0},0,0,0,0,0,0,0,0,0,0,0,0,0,0,0,0,0,0,0,0,0,0,0,0,0,0,0,0,0,0,0,0,0,0,0,0,0,0,0,0,0,0,0,0,0,0,0,0,0,0,0,0,0,0,0,0,0,0,0,0,0,0,0,{"$f":"SUM(OKI28:OKI36)","v":0},0,0,0,0,0,0,0,0,0,0,0,0,0,0,0,0,0,0,0,0,0,0,0,0,0,0,0,0,0,0,0,0,0,0,0,0,0,0,0,0,0,0,0,0,0,0,0,0,0,0,0,0,0,0,0,0,0,0,0,0,0,0,0,{"$f":"SUM(OMU28:OMU36)","v":0},0,0,0,0,0,0,0,0,0,0,0,0,0,0,0,0,0,0,0,0,0,0,0,0,0,0,0,0,0,0,0,0,0,0,0,0,0,0,0,0,0,0,0,0,0,0,0,0,0,0,0,0,0,0,0,0,0,0,0,0,0,0,0,{"$f":"SUM(OPG28:OPG36)","v":0},0,0,0,0,0,0,0,0,0,0,0,0,0,0,0,0,0,0,0,0,0,0,0,0,0,0,0,0,0,0,0,0,0,0,0,0,0,0,0,0,0,0,0,0,0,0,0,0,0,0,0,0,0,0,0,0,0,0,0,0,0,0,0,{"$f":"SUM(ORS28:ORS36)","v":0},0,0,0,0,0,0,0,0,0,0,0,0,0,0,0,0,0,0,0,0,0,0,0,0,0,0,0,0,0,0,0,0,0,0,0,0,0,0,0,0,0,0,0,0,0,0,0,0,0,0,0,0,0,0,0,0,0,0,0,0,0,0,0,{"$f":"SUM(OUE28:OUE36)","v":0},0,0,0,0,0,0,0,0,0,0,0,0,0,0,0,0,0,0,0,0,0,0,0,0,0,0,0,0,0,0,0,0,0,0,0,0,0,0,0,0,0,0,0,0,0,0,0,0,0,0,0,0,0,0,0,0,0,0,0,0,0,0,0,{"$f":"SUM(OWQ28:OWQ36)","v":0},0,0,0,0,0,0,0,0,0,0,0,0,0,0,0,0,0,0,0,0,0,0,0,0,0,0,0,0,0,0,0,0,0,0,0,0,0,0,0,0,0,0,0,0,0,0,0,0,0,0,0,0,0,0,0,0,0,0,0,0,0,0,0,{"$f":"SUM(OZC28:OZC36)","v":0},0,0,0,0,0,0,0,0,0,0,0,0,0,0,0,0,0,0,0,0,0,0,0,0,0,0,0,0,0,0,0,0,0,0,0,0,0,0,0,0,0,0,0,0,0,0,0,0,0,0,0,0,0,0,0,0,0,0,0,0,0,0,0,{"$f":"SUM(PBO28:PBO36)","v":0},0,0,0,0,0,0,0,0,0,0,0,0,0,0,0,0,0,0,0,0,0,0,0,0,0,0,0,0,0,0,0,0,0,0,0,0,0,0,0,0,0,0,0,0,0,0,0,0,0,0,0,0,0,0,0,0,0,0,0,0,0,0,0,{"$f":"SUM(PEA28:PEA36)","v":0},0,0,0,0,0,0,0,0,0,0,0,0,0,0,0,0,0,0,0,0,0,0,0,0,0,0,0,0,0,0,0,0,0,0,0,0,0,0,0,0,0,0,0,0,0,0,0,0,0,0,0,0,0,0,0,0,0,0,0,0,0,0,0,{"$f":"SUM(PGM28:PGM36)","v":0},0,0,0,0,0,0,0,0,0,0,0,0,0,0,0,0,0,0,0,0,0,0,0,0,0,0,0,0,0,0,0,0,0,0,0,0,0,0,0,0,0,0,0,0,0,0,0,0,0,0,0,0,0,0,0,0,0,0,0,0,0,0,0,{"$f":"SUM(PIY28:PIY36)","v":0},0,0,0,0,0,0,0,0,0,0,0,0,0,0,0,0,0,0,0,0,0,0,0,0,0,0,0,0,0,0,0,0,0,0,0,0,0,0,0,0,0,0,0,0,0,0,0,0,0,0,0,0,0,0,0,0,0,0,0,0,0,0,0,{"$f":"SUM(PLK28:PLK36)","v":0},0,0,0,0,0,0,0,0,0,0,0,0,0,0,0,0,0,0,0,0,0,0,0,0,0,0,0,0,0,0,0,0,0,0,0,0,0,0,0,0,0,0,0,0,0,0,0,0,0,0,0,0,0,0,0,0,0,0,0,0,0,0,0,{"$f":"SUM(PNW28:PNW36)","v":0},0,0,0,0,0,0,0,0,0,0,0,0,0,0,0,0,0,0,0,0,0,0,0,0,0,0,0,0,0,0,0,0,0,0,0,0,0,0,0,0,0,0,0,0,0,0,0,0,0,0,0,0,0,0,0,0,0,0,0,0,0,0,0,{"$f":"SUM(PQI28:PQI36)","v":0},0,0,0,0,0,0,0,0,0,0,0,0,0,0,0,0,0,0,0,0,0,0,0,0,0,0,0,0,0,0,0,0,0,0,0,0,0,0,0,0,0,0,0,0,0,0,0,0,0,0,0,0,0,0,0,0,0,0,0,0,0,0,0,{"$f":"SUM(PSU28:PSU36)","v":0},0,0,0,0,0,0,0,0,0,0,0,0,0,0,0,0,0,0,0,0,0,0,0,0,0,0,0,0,0,0,0,0,0,0,0,0,0,0,0,0,0,0,0,0,0,0,0,0,0,0,0,0,0,0,0,0,0,0,0,0,0,0,0,{"$f":"SUM(PVG28:PVG36)","v":0},0,0,0,0,0,0,0,0,0,0,0,0,0,0,0,0,0,0,0,0,0,0,0,0,0,0,0,0,0,0,0,0,0,0,0,0,0,0,0,0,0,0,0,0,0,0,0,0,0,0,0,0,0,0,0,0,0,0,0,0,0,0,0,{"$f":"SUM(PXS28:PXS36)","v":0},0,0,0,0,0,0,0,0,0,0,0,0,0,0,0,0,0,0,0,0,0,0,0,0,0,0,0,0,0,0,0,0,0,0,0,0,0,0,0,0,0,0,0,0,0,0,0,0,0,0,0,0,0,0,0,0,0,0,0,0,0,0,0,{"$f":"SUM(QAE28:QAE36)","v":0},0,0,0,0,0,0,0,0,0,0,0,0,0,0,0,0,0,0,0,0,0,0,0,0,0,0,0,0,0,0,0,0,0,0,0,0,0,0,0,0,0,0,0,0,0,0,0,0,0,0,0,0,0,0,0,0,0,0,0,0,0,0,0,{"$f":"SUM(QCQ28:QCQ36)","v":0},0,0,0,0,0,0,0,0,0,0,0,0,0,0,0,0,0,0,0,0,0,0,0,0,0,0,0,0,0,0,0,0,0,0,0,0,0,0,0,0,0,0,0,0,0,0,0,0,0,0,0,0,0,0,0,0,0,0,0,0,0,0,0,{"$f":"SUM(QFC28:QFC36)","v":0},0,0,0,0,0,0,0,0,0,0,0,0,0,0,0,0,0,0,0,0,0,0,0,0,0,0,0,0,0,0,0,0,0,0,0,0,0,0,0,0,0,0,0,0,0,0,0,0,0,0,0,0,0,0,0,0,0,0,0,0,0,0,0,{"$f":"SUM(QHO28:QHO36)","v":0},0,0,0,0,0,0,0,0,0,0,0,0,0,0,0,0,0,0,0,0,0,0,0,0,0,0,0,0,0,0,0,0,0,0,0,0,0,0,0,0,0,0,0,0,0,0,0,0,0,0,0,0,0,0,0,0,0,0,0,0,0,0,0,{"$f":"SUM(QKA28:QKA36)","v":0},0,0,0,0,0,0,0,0,0,0,0,0,0,0,0,0,0,0,0,0,0,0,0,0,0,0,0,0,0,0,0,0,0,0,0,0,0,0,0,0,0,0,0,0,0,0,0,0,0,0,0,0,0,0,0,0,0,0,0,0,0,0,0,{"$f":"SUM(QMM28:QMM36)","v":0},0,0,0,0,0,0,0,0,0,0,0,0,0,0,0,0,0,0,0,0,0,0,0,0,0,0,0,0,0,0,0,0,0,0,0,0,0,0,0,0,0,0,0,0,0,0,0,0,0,0,0,0,0,0,0,0,0,0,0,0,0,0,0,{"$f":"SUM(QOY28:QOY36)","v":0},0,0,0,0,0,0,0,0,0,0,0,0,0,0,0,0,0,0,0,0,0,0,0,0,0,0,0,0,0,0,0,0,0,0,0,0,0,0,0,0,0,0,0,0,0,0,0,0,0,0,0,0,0,0,0,0,0,0,0,0,0,0,0,{"$f":"SUM(QRK28:QRK36)","v":0},0,0,0,0,0,0,0,0,0,0,0,0,0,0,0,0,0,0,0,0,0,0,0,0,0,0,0,0,0,0,0,0,0,0,0,0,0,0,0,0,0,0,0,0,0,0,0,0,0,0,0,0,0,0,0,0,0,0,0,0,0,0,0,{"$f":"SUM(QTW28:QTW36)","v":0},0,0,0,0,0,0,0,0,0,0,0,0,0,0,0,0,0,0,0,0,0,0,0,0,0,0,0,0,0,0,0,0,0,0,0,0,0,0,0,0,0,0,0,0,0,0,0,0,0,0,0,0,0,0,0,0,0,0,0,0,0,0,0,{"$f":"SUM(QWI28:QWI36)","v":0},0,0,0,0,0,0,0,0,0,0,0,0,0,0,0,0,0,0,0,0,0,0,0,0,0,0,0,0,0,0,0,0,0,0,0,0,0,0,0,0,0,0,0,0,0,0,0,0,0,0,0,0,0,0,0,0,0,0,0,0,0,0,0,{"$f":"SUM(QYU28:QYU36)","v":0},0,0,0,0,0,0,0,0,0,0,0,0,0,0,0,0,0,0,0,0,0,0,0,0,0,0,0,0,0,0,0,0,0,0,0,0,0,0,0,0,0,0,0,0,0,0,0,0,0,0,0,0,0,0,0,0,0,0,0,0,0,0,0,{"$f":"SUM(RBG28:RBG36)","v":0},0,0,0,0,0,0,0,0,0,0,0,0,0,0,0,0,0,0,0,0,0,0,0,0,0,0,0,0,0,0,0,0,0,0,0,0,0,0,0,0,0,0,0,0,0,0,0,0,0,0,0,0,0,0,0,0,0,0,0,0,0,0,0,{"$f":"SUM(RDS28:RDS36)","v":0},0,0,0,0,0,0,0,0,0,0,0,0,0,0,0,0,0,0,0,0,0,0,0,0,0,0,0,0,0,0,0,0,0,0,0,0,0,0,0,0,0,0,0,0,0,0,0,0,0,0,0,0,0,0,0,0,0,0,0,0,0,0,0,{"$f":"SUM(RGE28:RGE36)","v":0},0,0,0,0,0,0,0,0,0,0,0,0,0,0,0,0,0,0,0,0,0,0,0,0,0,0,0,0,0,0,0,0,0,0,0,0,0,0,0,0,0,0,0,0,0,0,0,0,0,0,0,0,0,0,0,0,0,0,0,0,0,0,0,{"$f":"SUM(RIQ28:RIQ36)","v":0},0,0,0,0,0,0,0,0,0,0,0,0,0,0,0,0,0,0,0,0,0,0,0,0,0,0,0,0,0,0,0,0,0,0,0,0,0,0,0,0,0,0,0,0,0,0,0,0,0,0,0,0,0,0,0,0,0,0,0,0,0,0,0,{"$f":"SUM(RLC28:RLC36)","v":0},0,0,0,0,0,0,0,0,0,0,0,0,0,0,0,0,0,0,0,0,0,0,0,0,0,0,0,0,0,0,0,0,0,0,0,0,0,0,0,0,0,0,0,0,0,0,0,0,0,0,0,0,0,0,0,0,0,0,0,0,0,0,0,{"$f":"SUM(RNO28:RNO36)","v":0},0,0,0,0,0,0,0,0,0,0,0,0,0,0,0,0,0,0,0,0,0,0,0,0,0,0,0,0,0,0,0,0,0,0,0,0,0,0,0,0,0,0,0,0,0,0,0,0,0,0,0,0,0,0,0,0,0,0,0,0,0,0,0,{"$f":"SUM(RQA28:RQA36)","v":0},0,0,0,0,0,0,0,0,0,0,0,0,0,0,0,0,0,0,0,0,0,0,0,0,0,0,0,0,0,0,0,0,0,0,0,0,0,0,0,0,0,0,0,0,0,0,0,0,0,0,0,0,0,0,0,0,0,0,0,0,0,0,0,{"$f":"SUM(RSM28:RSM36)","v":0},0,0,0,0,0,0,0,0,0,0,0,0,0,0,0,0,0,0,0,0,0,0,0,0,0,0,0,0,0,0,0,0,0,0,0,0,0,0,0,0,0,0,0,0,0,0,0,0,0,0,0,0,0,0,0,0,0,0,0,0,0,0,0,{"$f":"SUM(RUY28:RUY36)","v":0},0,0,0,0,0,0,0,0,0,0,0,0,0,0,0,0,0,0,0,0,0,0,0,0,0,0,0,0,0,0,0,0,0,0,0,0,0,0,0,0,0,0,0,0,0,0,0,0,0,0,0,0,0,0,0,0,0,0,0,0,0,0,0,{"$f":"SUM(RXK28:RXK36)","v":0},0,0,0,0,0,0,0,0,0,0,0,0,0,0,0,0,0,0,0,0,0,0,0,0,0,0,0,0,0,0,0,0,0,0,0,0,0,0,0,0,0,0,0,0,0,0,0,0,0,0,0,0,0,0,0,0,0,0,0,0,0,0,0,{"$f":"SUM(RZW28:RZW36)","v":0},0,0,0,0,0,0,0,0,0,0,0,0,0,0,0,0,0,0,0,0,0,0,0,0,0,0,0,0,0,0,0,0,0,0,0,0,0,0,0,0,0,0,0,0,0,0,0,0,0,0,0,0,0,0,0,0,0,0,0,0,0,0,0,{"$f":"SUM(SCI28:SCI36)","v":0},0,0,0,0,0,0,0,0,0,0,0,0,0,0,0,0,0,0,0,0,0,0,0,0,0,0,0,0,0,0,0,0,0,0,0,0,0,0,0,0,0,0,0,0,0,0,0,0,0,0,0,0,0,0,0,0,0,0,0,0,0,0,0,{"$f":"SUM(SEU28:SEU36)","v":0},0,0,0,0,0,0,0,0,0,0,0,0,0,0,0,0,0,0,0,0,0,0,0,0,0,0,0,0,0,0,0,0,0,0,0,0,0,0,0,0,0,0,0,0,0,0,0,0,0,0,0,0,0,0,0,0,0,0,0,0,0,0,0,{"$f":"SUM(SHG28:SHG36)","v":0},0,0,0,0,0,0,0,0,0,0,0,0,0,0,0,0,0,0,0,0,0,0,0,0,0,0,0,0,0,0,0,0,0,0,0,0,0,0,0,0,0,0,0,0,0,0,0,0,0,0,0,0,0,0,0,0,0,0,0,0,0,0,0,{"$f":"SUM(SJS28:SJS36)","v":0},0,0,0,0,0,0,0,0,0,0,0,0,0,0,0,0,0,0,0,0,0,0,0,0,0,0,0,0,0,0,0,0,0,0,0,0,0,0,0,0,0,0,0,0,0,0,0,0,0,0,0,0,0,0,0,0,0,0,0,0,0,0,0,{"$f":"SUM(SME28:SME36)","v":0},0,0,0,0,0,0,0,0,0,0,0,0,0,0,0,0,0,0,0,0,0,0,0,0,0,0,0,0,0,0,0,0,0,0,0,0,0,0,0,0,0,0,0,0,0,0,0,0,0,0,0,0,0,0,0,0,0,0,0,0,0,0,0,{"$f":"SUM(SOQ28:SOQ36)","v":0},0,0,0,0,0,0,0,0,0,0,0,0,0,0,0,0,0,0,0,0,0,0,0,0,0,0,0,0,0,0,0,0,0,0,0,0,0,0,0,0,0,0,0,0,0,0,0,0,0,0,0,0,0,0,0,0,0,0,0,0,0,0,0,{"$f":"SUM(SRC28:SRC36)","v":0},0,0,0,0,0,0,0,0,0,0,0,0,0,0,0,0,0,0,0,0,0,0,0,0,0,0,0,0,0,0,0,0,0,0,0,0,0,0,0,0,0,0,0,0,0,0,0,0,0,0,0,0,0,0,0,0,0,0,0,0,0,0,0,{"$f":"SUM(STO28:STO36)","v":0},0,0,0,0,0,0,0,0,0,0,0,0,0,0,0,0,0,0,0,0,0,0,0,0,0,0,0,0,0,0,0,0,0,0,0,0,0,0,0,0,0,0,0,0,0,0,0,0,0,0,0,0,0,0,0,0,0,0,0,0,0,0,0,{"$f":"SUM(SWA28:SWA36)","v":0},0,0,0,0,0,0,0,0,0,0,0,0,0,0,0,0,0,0,0,0,0,0,0,0,0,0,0,0,0,0,0,0,0,0,0,0,0,0,0,0,0,0,0,0,0,0,0,0,0,0,0,0,0,0,0,0,0,0,0,0,0,0,0,{"$f":"SUM(SYM28:SYM36)","v":0},0,0,0,0,0,0,0,0,0,0,0,0,0,0,0,0,0,0,0,0,0,0,0,0,0,0,0,0,0,0,0,0,0,0,0,0,0,0,0,0,0,0,0,0,0,0,0,0,0,0,0,0,0,0,0,0,0,0,0,0,0,0,0,{"$f":"SUM(TAY28:TAY36)","v":0},0,0,0,0,0,0,0,0,0,0,0,0,0,0,0,0,0,0,0,0,0,0,0,0,0,0,0,0,0,0,0,0,0,0,0,0,0,0,0,0,0,0,0,0,0,0,0,0,0,0,0,0,0,0,0,0,0,0,0,0,0,0,0,{"$f":"SUM(TDK28:TDK36)","v":0},0,0,0,0,0,0,0,0,0,0,0,0,0,0,0,0,0,0,0,0,0,0,0,0,0,0,0,0,0,0,0,0,0,0,0,0,0,0,0,0,0,0,0,0,0,0,0,0,0,0,0,0,0,0,0,0,0,0,0,0,0,0,0,{"$f":"SUM(TFW28:TFW36)","v":0},0,0,0,0,0,0,0,0,0,0,0,0,0,0,0,0,0,0,0,0,0,0,0,0,0,0,0,0,0,0,0,0,0,0,0,0,0,0,0,0,0,0,0,0,0,0,0,0,0,0,0,0,0,0,0,0,0,0,0,0,0,0,0,{"$f":"SUM(TII28:TII36)","v":0},0,0,0,0,0,0,0,0,0,0,0,0,0,0,0,0,0,0,0,0,0,0,0,0,0,0,0,0,0,0,0,0,0,0,0,0,0,0,0,0,0,0,0,0,0,0,0,0,0,0,0,0,0,0,0,0,0,0,0,0,0,0,0,{"$f":"SUM(TKU28:TKU36)","v":0},0,0,0,0,0,0,0,0,0,0,0,0,0,0,0,0,0,0,0,0,0,0,0,0,0,0,0,0,0,0,0,0,0,0,0,0,0,0,0,0,0,0,0,0,0,0,0,0,0,0,0,0,0,0,0,0,0,0,0,0,0,0,0,{"$f":"SUM(TNG28:TNG36)","v":0},0,0,0,0,0,0,0,0,0,0,0,0,0,0,0,0,0,0,0,0,0,0,0,0,0,0,0,0,0,0,0,0,0,0,0,0,0,0,0,0,0,0,0,0,0,0,0,0,0,0,0,0,0,0,0,0,0,0,0,0,0,0,0,{"$f":"SUM(TPS28:TPS36)","v":0},0,0,0,0,0,0,0,0,0,0,0,0,0,0,0,0,0,0,0,0,0,0,0,0,0,0,0,0,0,0,0,0,0,0,0,0,0,0,0,0,0,0,0,0,0,0,0,0,0,0,0,0,0,0,0,0,0,0,0,0,0,0,0,{"$f":"SUM(TSE28:TSE36)","v":0},0,0,0,0,0,0,0,0,0,0,0,0,0,0,0,0,0,0,0,0,0,0,0,0,0,0,0,0,0,0,0,0,0,0,0,0,0,0,0,0,0,0,0,0,0,0,0,0,0,0,0,0,0,0,0,0,0,0,0,0,0,0,0,{"$f":"SUM(TUQ28:TUQ36)","v":0},0,0,0,0,0,0,0,0,0,0,0,0,0,0,0,0,0,0,0,0,0,0,0,0,0,0,0,0,0,0,0,0,0,0,0,0,0,0,0,0,0,0,0,0,0,0,0,0,0,0,0,0,0,0,0,0,0,0,0,0,0,0,0,{"$f":"SUM(TXC28:TXC36)","v":0},0,0,0,0,0,0,0,0,0,0,0,0,0,0,0,0,0,0,0,0,0,0,0,0,0,0,0,0,0,0,0,0,0,0,0,0,0,0,0,0,0,0,0,0,0,0,0,0,0,0,0,0,0,0,0,0,0,0,0,0,0,0,0,{"$f":"SUM(TZO28:TZO36)","v":0},0,0,0,0,0,0,0,0,0,0,0,0,0,0,0,0,0,0,0,0,0,0,0,0,0,0,0,0,0,0,0,0,0,0,0,0,0,0,0,0,0,0,0,0,0,0,0,0,0,0,0,0,0,0,0,0,0,0,0,0,0,0,0,{"$f":"SUM(UCA28:UCA36)","v":0},0,0,0,0,0,0,0,0,0,0,0,0,0,0,0,0,0,0,0,0,0,0,0,0,0,0,0,0,0,0,0,0,0,0,0,0,0,0,0,0,0,0,0,0,0,0,0,0,0,0,0,0,0,0,0,0,0,0,0,0,0,0,0,{"$f":"SUM(UEM28:UEM36)","v":0},0,0,0,0,0,0,0,0,0,0,0,0,0,0,0,0,0,0,0,0,0,0,0,0,0,0,0,0,0,0,0,0,0,0,0,0,0,0,0,0,0,0,0,0,0,0,0,0,0,0,0,0,0,0,0,0,0,0,0,0,0,0,0,{"$f":"SUM(UGY28:UGY36)","v":0},0,0,0,0,0,0,0,0,0,0,0,0,0,0,0,0,0,0,0,0,0,0,0,0,0,0,0,0,0,0,0,0,0,0,0,0,0,0,0,0,0,0,0,0,0,0,0,0,0,0,0,0,0,0,0,0,0,0,0,0,0,0,0,{"$f":"SUM(UJK28:UJK36)","v":0},0,0,0,0,0,0,0,0,0,0,0,0,0,0,0,0,0,0,0,0,0,0,0,0,0,0,0,0,0,0,0,0,0,0,0,0,0,0,0,0,0,0,0,0,0,0,0,0,0,0,0,0,0,0,0,0,0,0,0,0,0,0,0,{"$f":"SUM(ULW28:ULW36)","v":0},0,0,0,0,0,0,0,0,0,0,0,0,0,0,0,0,0,0,0,0,0,0,0,0,0,0,0,0,0,0,0,0,0,0,0,0,0,0,0,0,0,0,0,0,0,0,0,0,0,0,0,0,0,0,0,0,0,0,0,0,0,0,0,{"$f":"SUM(UOI28:UOI36)","v":0},0,0,0,0,0,0,0,0,0,0,0,0,0,0,0,0,0,0,0,0,0,0,0,0,0,0,0,0,0,0,0,0,0,0,0,0,0,0,0,0,0,0,0,0,0,0,0,0,0,0,0,0,0,0,0,0,0,0,0,0,0,0,0,{"$f":"SUM(UQU28:UQU36)","v":0},0,0,0,0,0,0,0,0,0,0,0,0,0,0,0,0,0,0,0,0,0,0,0,0,0,0,0,0,0,0,0,0,0,0,0,0,0,0,0,0,0,0,0,0,0,0,0,0,0,0,0,0,0,0,0,0,0,0,0,0,0,0,0,{"$f":"SUM(UTG28:UTG36)","v":0},0,0,0,0,0,0,0,0,0,0,0,0,0,0,0,0,0,0,0,0,0,0,0,0,0,0,0,0,0,0,0,0,0,0,0,0,0,0,0,0,0,0,0,0,0,0,0,0,0,0,0,0,0,0,0,0,0,0,0,0,0,0,0,{"$f":"SUM(UVS28:UVS36)","v":0},0,0,0,0,0,0,0,0,0,0,0,0,0,0,0,0,0,0,0,0,0,0,0,0,0,0,0,0,0,0,0,0,0,0,0,0,0,0,0,0,0,0,0,0,0,0,0,0,0,0,0,0,0,0,0,0,0,0,0,0,0,0,0,{"$f":"SUM(UYE28:UYE36)","v":0},0,0,0,0,0,0,0,0,0,0,0,0,0,0,0,0,0,0,0,0,0,0,0,0,0,0,0,0,0,0,0,0,0,0,0,0,0,0,0,0,0,0,0,0,0,0,0,0,0,0,0,0,0,0,0,0,0,0,0,0,0,0,0,{"$f":"SUM(VAQ28:VAQ36)","v":0},0,0,0,0,0,0,0,0,0,0,0,0,0,0,0,0,0,0,0,0,0,0,0,0,0,0,0,0,0,0,0,0,0,0,0,0,0,0,0,0,0,0,0,0,0,0,0,0,0,0,0,0,0,0,0,0,0,0,0,0,0,0,0,{"$f":"SUM(VDC28:VDC36)","v":0},0,0,0,0,0,0,0,0,0,0,0,0,0,0,0,0,0,0,0,0,0,0,0,0,0,0,0,0,0,0,0,0,0,0,0,0,0,0,0,0,0,0,0,0,0,0,0,0,0,0,0,0,0,0,0,0,0,0,0,0,0,0,0,{"$f":"SUM(VFO28:VFO36)","v":0},0,0,0,0,0,0,0,0,0,0,0,0,0,0,0,0,0,0,0,0,0,0,0,0,0,0,0,0,0,0,0,0,0,0,0,0,0,0,0,0,0,0,0,0,0,0,0,0,0,0,0,0,0,0,0,0,0,0,0,0,0,0,0,{"$f":"SUM(VIA28:VIA36)","v":0},0,0,0,0,0,0,0,0,0,0,0,0,0,0,0,0,0,0,0,0,0,0,0,0,0,0,0,0,0,0,0,0,0,0,0,0,0,0,0,0,0,0,0,0,0,0,0,0,0,0,0,0,0,0,0,0,0,0,0,0,0,0,0,{"$f":"SUM(VKM28:VKM36)","v":0},0,0,0,0,0,0,0,0,0,0,0,0,0,0,0,0,0,0,0,0,0,0,0,0,0,0,0,0,0,0,0,0,0,0,0,0,0,0,0,0,0,0,0,0,0,0,0,0,0,0,0,0,0,0,0,0,0,0,0,0,0,0,0,{"$f":"SUM(VMY28:VMY36)","v":0},0,0,0,0,0,0,0,0,0,0,0,0,0,0,0,0,0,0,0,0,0,0,0,0,0,0,0,0,0,0,0,0,0,0,0,0,0,0,0,0,0,0,0,0,0,0,0,0,0,0,0,0,0,0,0,0,0,0,0,0,0,0,0,{"$f":"SUM(VPK28:VPK36)","v":0},0,0,0,0,0,0,0,0,0,0,0,0,0,0,0,0,0,0,0,0,0,0,0,0,0,0,0,0,0,0,0,0,0,0,0,0,0,0,0,0,0,0,0,0,0,0,0,0,0,0,0,0,0,0,0,0,0,0,0,0,0,0,0,{"$f":"SUM(VRW28:VRW36)","v":0},0,0,0,0,0,0,0,0,0,0,0,0,0,0,0,0,0,0,0,0,0,0,0,0,0,0,0,0,0,0,0,0,0,0,0,0,0,0,0,0,0,0,0,0,0,0,0,0,0,0,0,0,0,0,0,0,0,0,0,0,0,0,0,{"$f":"SUM(VUI28:VUI36)","v":0},0,0,0,0,0,0,0,0,0,0,0,0,0,0,0,0,0,0,0,0,0,0,0,0,0,0,0,0,0,0,0,0,0,0,0,0,0,0,0,0,0,0,0,0,0,0,0,0,0,0,0,0,0,0,0,0,0,0,0,0,0,0,0,{"$f":"SUM(VWU28:VWU36)","v":0},0,0,0,0,0,0,0,0,0,0,0,0,0,0,0,0,0,0,0,0,0,0,0,0,0,0,0,0,0,0,0,0,0,0,0,0,0,0,0,0,0,0,0,0,0,0,0,0,0,0,0,0,0,0,0,0,0,0,0,0,0,0,0,{"$f":"SUM(VZG28:VZG36)","v":0},0,0,0,0,0,0,0,0,0,0,0,0,0,0,0,0,0,0,0,0,0,0,0,0,0,0,0,0,0,0,0,0,0,0,0,0,0,0,0,0,0,0,0,0,0,0,0,0,0,0,0,0,0,0,0,0,0,0,0,0,0,0,0,{"$f":"SUM(WBS28:WBS36)","v":0},0,0,0,0,0,0,0,0,0,0,0,0,0,0,0,0,0,0,0,0,0,0,0,0,0,0,0,0,0,0,0,0,0,0,0,0,0,0,0,0,0,0,0,0,0,0,0,0,0,0,0,0,0,0,0,0,0,0,0,0,0,0,0,{"$f":"SUM(WEE28:WEE36)","v":0},0,0,0,0,0,0,0,0,0,0,0,0,0,0,0,0,0,0,0,0,0,0,0,0,0,0,0,0,0,0,0,0,0,0,0,0,0,0,0,0,0,0,0,0,0,0,0,0,0,0,0,0,0,0,0,0,0,0,0,0,0,0,0,{"$f":"SUM(WGQ28:WGQ36)","v":0},0,0,0,0,0,0,0,0,0,0,0,0,0,0,0,0,0,0,0,0,0,0,0,0,0,0,0,0,0,0,0,0,0,0,0,0,0,0,0,0,0,0,0,0,0,0,0,0,0,0,0,0,0,0,0,0,0,0,0,0,0,0,0,{"$f":"SUM(WJC28:WJC36)","v":0},0,0,0,0,0,0,0,0,0,0,0,0,0,0,0,0,0,0,0,0,0,0,0,0,0,0,0,0,0,0,0,0,0,0,0,0,0,0,0,0,0,0,0,0,0,0,0,0,0,0,0,0,0,0,0,0,0,0,0,0,0,0,0,{"$f":"SUM(WLO28:WLO36)","v":0},0,0,0,0,0,0,0,0,0,0,0,0,0,0,0,0,0,0,0,0,0,0,0,0,0,0,0,0,0,0,0,0,0,0,0,0,0,0,0,0,0,0,0,0,0,0,0,0,0,0,0,0,0,0,0,0,0,0,0,0,0,0,0,{"$f":"SUM(WOA28:WOA36)","v":0},0,0,0,0,0,0,0,0,0,0,0,0,0,0,0,0,0,0,0,0,0,0,0,0,0,0,0,0,0,0,0,0,0,0,0,0,0,0,0,0,0,0,0,0,0,0,0,0,0,0,0,0,0,0,0,0,0,0,0,0,0,0,0,{"$f":"SUM(WQM28:WQM36)","v":0},0,0,0,0,0,0,0,0,0,0,0,0,0,0,0,0,0,0,0,0,0,0,0,0,0,0,0,0,0,0,0,0,0,0,0,0,0,0,0,0,0,0,0,0,0,0,0,0,0,0,0,0,0,0,0,0,0,0,0,0,0,0,0,{"$f":"SUM(WSY28:WSY36)","v":0},0,0,0,0,0,0,0,0,0,0,0,0,0,0,0,0,0,0,0,0,0,0,0,0,0,0,0,0,0,0,0,0,0,0,0,0,0,0,0,0,0,0,0,0,0,0,0,0,0,0,0,0,0,0,0,0,0,0,0,0,0,0,0,{"$f":"SUM(WVK28:WVK36)","v":0},0,0,0,0,0,0,0,0,0,0,0,0,0,0,0,0,0,0,0,0,0,0,0,0,0,0,0,0,0,0,0,0,0,0,0,0,0,0,0,0,0,0,0,0,0,0,0,0,0,0,0,0,0,0,0,0,0,0,0,0,0,0,0,{"$f":"SUM(WXW28:WXW36)","v":0},0,0,0,0,0,0,0,0,0,0,0,0,0,0,0,0,0,0,0,0,0,0,0,0,0,0,0,0,0,0,0,0,0,0,0,0,0,0,0,0,0,0,0,0,0,0,0,0,0,0,0,0,0,0,0,0,0,0,0,0,0,0,0,{"$f":"SUM(XAI28:XAI36)","v":0},0,0,0,0,0,0,0,0,0,0,0,0,0,0,0,0,0,0,0,0,0,0,0,0,0,0,0,0,0,0,0,0,0,0,0,0,0,0,0,0,0,0,0,0,0,0,0,0,0,0,0,0,0,0,0,0,0,0,0,0,0,0,0,{"$f":"SUM(XCU28:XCU36)","v":0},0,0,0,0,0,0,0,0,0,0,0,0,0,0,0,0,0,0,0,0,0,0,0,0,0,0,0,0,0,0,0,0,0,0,0,0,0,0,0,0,0,0,0,0,0,0,0,0,0,0,0,0,0,0,0,0,0,0,0,0,0]
["c1) Asuntos Económicos, Comerciales y Laborales en General",5780567,200000,5980567,1073870.72,1073870.72,4906696.28]
["c2) Agropecuaria, Silvicultura, Pesca y Caza",50000,2330844.1,2380844.1,0,0,2380844.1]
["c3) Combustibles y Energía ",0,0,0,0,0,0]
["c4) Minería, Manufacturas y Construcción",0,0,0,0,0,0]
["c5) Transporte",0,1886161.22,1886161.22,928951.21,705890.1,957210.01]
["c6) Comunicaciones",0,0,0,0,0,0]
["c7) Turismo",1217895,133000,1350895,168426.7,168426.7,1182468.3]
["c8) Ciencia, Tecnología e Innovación",0,0,0,0,0,0]
["c9) Otras Industrias y Otros Asuntos Económicos",0,0,0,0,0,0]
["D. Otras No Clasificadas en Funciones Anteriores\n(D=d1+d2+d3+d4)",{"$f":"SUM(B38:B41)","v":0},0,0,0,0,0,0,0,0,0,0,0,0,0,0,0,0,0,0,0,0,0,0,0,0,0,0,0,0,0,0,0,0,0,0,0,0,0,0,0,0,0,0,0,0,0,0,0,0,0,0,0,0,0,0,0,0,0,0,0,0,0,0,0,{"$f":"SUM(BN38:BN41)","v":0},0,0,0,0,0,0,0,0,0,0,0,0,0,0,0,0,0,0,0,0,0,0,0,0,0,0,0,0,0,0,0,0,0,0,0,0,0,0,0,0,0,0,0,0,0,0,0,0,0,0,0,0,0,0,0,0,0,0,0,0,0,0,0,{"$f":"SUM(DZ38:DZ41)","v":0},0,0,0,0,0,0,0,0,0,0,0,0,0,0,0,0,0,0,0,0,0,0,0,0,0,0,0,0,0,0,0,0,0,0,0,0,0,0,0,0,0,0,0,0,0,0,0,0,0,0,0,0,0,0,0,0,0,0,0,0,0,0,0,{"$f":"SUM(GL38:GL41)","v":0},0,0,0,0,0,0,0,0,0,0,0,0,0,0,0,0,0,0,0,0,0,0,0,0,0,0,0,0,0,0,0,0,0,0,0,0,0,0,0,0,0,0,0,0,0,0,0,0,0,0,0,0,0,0,0,0,0,0,0,0,0,0,0,{"$f":"SUM(IX38:IX41)","v":0},0,0,0,0,0,0,0,0,0,0,0,0,0,0,0,0,0,0,0,0,0,0,0,0,0,0,0,0,0,0,0,0,0,0,0,0,0,0,0,0,0,0,0,0,0,0,0,0,0,0,0,0,0,0,0,0,0,0,0,0,0,0,0,{"$f":"SUM(LJ38:LJ41)","v":0},0,0,0,0,0,0,0,0,0,0,0,0,0,0,0,0,0,0,0,0,0,0,0,0,0,0,0,0,0,0,0,0,0,0,0,0,0,0,0,0,0,0,0,0,0,0,0,0,0,0,0,0,0,0,0,0,0,0,0,0,0,0,0,{"$f":"SUM(NV38:NV41)","v":0},0,0,0,0,0,0,0,0,0,0,0,0,0,0,0,0,0,0,0,0,0,0,0,0,0,0,0,0,0,0,0,0,0,0,0,0,0,0,0,0,0,0,0,0,0,0,0,0,0,0,0,0,0,0,0,0,0,0,0,0,0,0,0,{"$f":"SUM(QH38:QH41)","v":0},0,0,0,0,0,0,0,0,0,0,0,0,0,0,0,0,0,0,0,0,0,0,0,0,0,0,0,0,0,0,0,0,0,0,0,0,0,0,0,0,0,0,0,0,0,0,0,0,0,0,0,0,0,0,0,0,0,0,0,0,0,0,0,{"$f":"SUM(ST38:ST41)","v":0},0,0,0,0,0,0,0,0,0,0,0,0,0,0,0,0,0,0,0,0,0,0,0,0,0,0,0,0,0,0,0,0,0,0,0,0,0,0,0,0,0,0,0,0,0,0,0,0,0,0,0,0,0,0,0,0,0,0,0,0,0,0,0,{"$f":"SUM(VF38:VF41)","v":0},0,0,0,0,0,0,0,0,0,0,0,0,0,0,0,0,0,0,0,0,0,0,0,0,0,0,0,0,0,0,0,0,0,0,0,0,0,0,0,0,0,0,0,0,0,0,0,0,0,0,0,0,0,0,0,0,0,0,0,0,0,0,0,{"$f":"SUM(XR38:XR41)","v":0},0,0,0,0,0,0,0,0,0,0,0,0,0,0,0,0,0,0,0,0,0,0,0,0,0,0,0,0,0,0,0,0,0,0,0,0,0,0,0,0,0,0,0,0,0,0,0,0,0,0,0,0,0,0,0,0,0,0,0,0,0,0,0,{"$f":"SUM(AAD38:AAD41)","v":0},0,0,0,0,0,0,0,0,0,0,0,0,0,0,0,0,0,0,0,0,0,0,0,0,0,0,0,0,0,0,0,0,0,0,0,0,0,0,0,0,0,0,0,0,0,0,0,0,0,0,0,0,0,0,0,0,0,0,0,0,0,0,0,{"$f":"SUM(ACP38:ACP41)","v":0},0,0,0,0,0,0,0,0,0,0,0,0,0,0,0,0,0,0,0,0,0,0,0,0,0,0,0,0,0,0,0,0,0,0,0,0,0,0,0,0,0,0,0,0,0,0,0,0,0,0,0,0,0,0,0,0,0,0,0,0,0,0,0,{"$f":"SUM(AFB38:AFB41)","v":0},0,0,0,0,0,0,0,0,0,0,0,0,0,0,0,0,0,0,0,0,0,0,0,0,0,0,0,0,0,0,0,0,0,0,0,0,0,0,0,0,0,0,0,0,0,0,0,0,0,0,0,0,0,0,0,0,0,0,0,0,0,0,0,{"$f":"SUM(AHN38:AHN41)","v":0},0,0,0,0,0,0,0,0,0,0,0,0,0,0,0,0,0,0,0,0,0,0,0,0,0,0,0,0,0,0,0,0,0,0,0,0,0,0,0,0,0,0,0,0,0,0,0,0,0,0,0,0,0,0,0,0,0,0,0,0,0,0,0,{"$f":"SUM(AJZ38:AJZ41)","v":0},0,0,0,0,0,0,0,0,0,0,0,0,0,0,0,0,0,0,0,0,0,0,0,0,0,0,0,0,0,0,0,0,0,0,0,0,0,0,0,0,0,0,0,0,0,0,0,0,0,0,0,0,0,0,0,0,0,0,0,0,0,0,0,{"$f":"SUM(AML38:AML41)","v":0},0,0,0,0,0,0,0,0,0,0,0,0,0,0,0,0,0,0,0,0,0,0,0,0,0,0,0,0,0,0,0,0,0,0,0,0,0,0,0,0,0,0,0,0,0,0,0,0,0,0,0,0,0,0,0,0,0,0,0,0,0,0,0,{"$f":"SUM(AOX38:AOX41)","v":0},0,0,0,0,0,0,0,0,0,0,0,0,0,0,0,0,0,0,0,0,0,0,0,0,0,0,0,0,0,0,0,0,0,0,0,0,0,0,0,0,0,0,0,0,0,0,0,0,0,0,0,0,0,0,0,0,0,0,0,0,0,0,0,{"$f":"SUM(ARJ38:ARJ41)","v":0},0,0,0,0,0,0,0,0,0,0,0,0,0,0,0,0,0,0,0,0,0,0,0,0,0,0,0,0,0,0,0,0,0,0,0,0,0,0,0,0,0,0,0,0,0,0,0,0,0,0,0,0,0,0,0,0,0,0,0,0,0,0,0,{"$f":"SUM(ATV38:ATV41)","v":0},0,0,0,0,0,0,0,0,0,0,0,0,0,0,0,0,0,0,0,0,0,0,0,0,0,0,0,0,0,0,0,0,0,0,0,0,0,0,0,0,0,0,0,0,0,0,0,0,0,0,0,0,0,0,0,0,0,0,0,0,0,0,0,{"$f":"SUM(AWH38:AWH41)","v":0},0,0,0,0,0,0,0,0,0,0,0,0,0,0,0,0,0,0,0,0,0,0,0,0,0,0,0,0,0,0,0,0,0,0,0,0,0,0,0,0,0,0,0,0,0,0,0,0,0,0,0,0,0,0,0,0,0,0,0,0,0,0,0,{"$f":"SUM(AYT38:AYT41)","v":0},0,0,0,0,0,0,0,0,0,0,0,0,0,0,0,0,0,0,0,0,0,0,0,0,0,0,0,0,0,0,0,0,0,0,0,0,0,0,0,0,0,0,0,0,0,0,0,0,0,0,0,0,0,0,0,0,0,0,0,0,0,0,0,{"$f":"SUM(BBF38:BBF41)","v":0},0,0,0,0,0,0,0,0,0,0,0,0,0,0,0,0,0,0,0,0,0,0,0,0,0,0,0,0,0,0,0,0,0,0,0,0,0,0,0,0,0,0,0,0,0,0,0,0,0,0,0,0,0,0,0,0,0,0,0,0,0,0,0,{"$f":"SUM(BDR38:BDR41)","v":0},0,0,0,0,0,0,0,0,0,0,0,0,0,0,0,0,0,0,0,0,0,0,0,0,0,0,0,0,0,0,0,0,0,0,0,0,0,0,0,0,0,0,0,0,0,0,0,0,0,0,0,0,0,0,0,0,0,0,0,0,0,0,0,{"$f":"SUM(BGD38:BGD41)","v":0},0,0,0,0,0,0,0,0,0,0,0,0,0,0,0,0,0,0,0,0,0,0,0,0,0,0,0,0,0,0,0,0,0,0,0,0,0,0,0,0,0,0,0,0,0,0,0,0,0,0,0,0,0,0,0,0,0,0,0,0,0,0,0,{"$f":"SUM(BIP38:BIP41)","v":0},0,0,0,0,0,0,0,0,0,0,0,0,0,0,0,0,0,0,0,0,0,0,0,0,0,0,0,0,0,0,0,0,0,0,0,0,0,0,0,0,0,0,0,0,0,0,0,0,0,0,0,0,0,0,0,0,0,0,0,0,0,0,0,{"$f":"SUM(BLB38:BLB41)","v":0},0,0,0,0,0,0,0,0,0,0,0,0,0,0,0,0,0,0,0,0,0,0,0,0,0,0,0,0,0,0,0,0,0,0,0,0,0,0,0,0,0,0,0,0,0,0,0,0,0,0,0,0,0,0,0,0,0,0,0,0,0,0,0,{"$f":"SUM(BNN38:BNN41)","v":0},0,0,0,0,0,0,0,0,0,0,0,0,0,0,0,0,0,0,0,0,0,0,0,0,0,0,0,0,0,0,0,0,0,0,0,0,0,0,0,0,0,0,0,0,0,0,0,0,0,0,0,0,0,0,0,0,0,0,0,0,0,0,0,{"$f":"SUM(BPZ38:BPZ41)","v":0},0,0,0,0,0,0,0,0,0,0,0,0,0,0,0,0,0,0,0,0,0,0,0,0,0,0,0,0,0,0,0,0,0,0,0,0,0,0,0,0,0,0,0,0,0,0,0,0,0,0,0,0,0,0,0,0,0,0,0,0,0,0,0,{"$f":"SUM(BSL38:BSL41)","v":0},0,0,0,0,0,0,0,0,0,0,0,0,0,0,0,0,0,0,0,0,0,0,0,0,0,0,0,0,0,0,0,0,0,0,0,0,0,0,0,0,0,0,0,0,0,0,0,0,0,0,0,0,0,0,0,0,0,0,0,0,0,0,0,{"$f":"SUM(BUX38:BUX41)","v":0},0,0,0,0,0,0,0,0,0,0,0,0,0,0,0,0,0,0,0,0,0,0,0,0,0,0,0,0,0,0,0,0,0,0,0,0,0,0,0,0,0,0,0,0,0,0,0,0,0,0,0,0,0,0,0,0,0,0,0,0,0,0,0,{"$f":"SUM(BXJ38:BXJ41)","v":0},0,0,0,0,0,0,0,0,0,0,0,0,0,0,0,0,0,0,0,0,0,0,0,0,0,0,0,0,0,0,0,0,0,0,0,0,0,0,0,0,0,0,0,0,0,0,0,0,0,0,0,0,0,0,0,0,0,0,0,0,0,0,0,{"$f":"SUM(BZV38:BZV41)","v":0},0,0,0,0,0,0,0,0,0,0,0,0,0,0,0,0,0,0,0,0,0,0,0,0,0,0,0,0,0,0,0,0,0,0,0,0,0,0,0,0,0,0,0,0,0,0,0,0,0,0,0,0,0,0,0,0,0,0,0,0,0,0,0,{"$f":"SUM(CCH38:CCH41)","v":0},0,0,0,0,0,0,0,0,0,0,0,0,0,0,0,0,0,0,0,0,0,0,0,0,0,0,0,0,0,0,0,0,0,0,0,0,0,0,0,0,0,0,0,0,0,0,0,0,0,0,0,0,0,0,0,0,0,0,0,0,0,0,0,{"$f":"SUM(CET38:CET41)","v":0},0,0,0,0,0,0,0,0,0,0,0,0,0,0,0,0,0,0,0,0,0,0,0,0,0,0,0,0,0,0,0,0,0,0,0,0,0,0,0,0,0,0,0,0,0,0,0,0,0,0,0,0,0,0,0,0,0,0,0,0,0,0,0,{"$f":"SUM(CHF38:CHF41)","v":0},0,0,0,0,0,0,0,0,0,0,0,0,0,0,0,0,0,0,0,0,0,0,0,0,0,0,0,0,0,0,0,0,0,0,0,0,0,0,0,0,0,0,0,0,0,0,0,0,0,0,0,0,0,0,0,0,0,0,0,0,0,0,0,{"$f":"SUM(CJR38:CJR41)","v":0},0,0,0,0,0,0,0,0,0,0,0,0,0,0,0,0,0,0,0,0,0,0,0,0,0,0,0,0,0,0,0,0,0,0,0,0,0,0,0,0,0,0,0,0,0,0,0,0,0,0,0,0,0,0,0,0,0,0,0,0,0,0,0,{"$f":"SUM(CMD38:CMD41)","v":0},0,0,0,0,0,0,0,0,0,0,0,0,0,0,0,0,0,0,0,0,0,0,0,0,0,0,0,0,0,0,0,0,0,0,0,0,0,0,0,0,0,0,0,0,0,0,0,0,0,0,0,0,0,0,0,0,0,0,0,0,0,0,0,{"$f":"SUM(COP38:COP41)","v":0},0,0,0,0,0,0,0,0,0,0,0,0,0,0,0,0,0,0,0,0,0,0,0,0,0,0,0,0,0,0,0,0,0,0,0,0,0,0,0,0,0,0,0,0,0,0,0,0,0,0,0,0,0,0,0,0,0,0,0,0,0,0,0,{"$f":"SUM(CRB38:CRB41)","v":0},0,0,0,0,0,0,0,0,0,0,0,0,0,0,0,0,0,0,0,0,0,0,0,0,0,0,0,0,0,0,0,0,0,0,0,0,0,0,0,0,0,0,0,0,0,0,0,0,0,0,0,0,0,0,0,0,0,0,0,0,0,0,0,{"$f":"SUM(CTN38:CTN41)","v":0},0,0,0,0,0,0,0,0,0,0,0,0,0,0,0,0,0,0,0,0,0,0,0,0,0,0,0,0,0,0,0,0,0,0,0,0,0,0,0,0,0,0,0,0,0,0,0,0,0,0,0,0,0,0,0,0,0,0,0,0,0,0,0,{"$f":"SUM(CVZ38:CVZ41)","v":0},0,0,0,0,0,0,0,0,0,0,0,0,0,0,0,0,0,0,0,0,0,0,0,0,0,0,0,0,0,0,0,0,0,0,0,0,0,0,0,0,0,0,0,0,0,0,0,0,0,0,0,0,0,0,0,0,0,0,0,0,0,0,0,{"$f":"SUM(CYL38:CYL41)","v":0},0,0,0,0,0,0,0,0,0,0,0,0,0,0,0,0,0,0,0,0,0,0,0,0,0,0,0,0,0,0,0,0,0,0,0,0,0,0,0,0,0,0,0,0,0,0,0,0,0,0,0,0,0,0,0,0,0,0,0,0,0,0,0,{"$f":"SUM(DAX38:DAX41)","v":0},0,0,0,0,0,0,0,0,0,0,0,0,0,0,0,0,0,0,0,0,0,0,0,0,0,0,0,0,0,0,0,0,0,0,0,0,0,0,0,0,0,0,0,0,0,0,0,0,0,0,0,0,0,0,0,0,0,0,0,0,0,0,0,{"$f":"SUM(DDJ38:DDJ41)","v":0},0,0,0,0,0,0,0,0,0,0,0,0,0,0,0,0,0,0,0,0,0,0,0,0,0,0,0,0,0,0,0,0,0,0,0,0,0,0,0,0,0,0,0,0,0,0,0,0,0,0,0,0,0,0,0,0,0,0,0,0,0,0,0,{"$f":"SUM(DFV38:DFV41)","v":0},0,0,0,0,0,0,0,0,0,0,0,0,0,0,0,0,0,0,0,0,0,0,0,0,0,0,0,0,0,0,0,0,0,0,0,0,0,0,0,0,0,0,0,0,0,0,0,0,0,0,0,0,0,0,0,0,0,0,0,0,0,0,0,{"$f":"SUM(DIH38:DIH41)","v":0},0,0,0,0,0,0,0,0,0,0,0,0,0,0,0,0,0,0,0,0,0,0,0,0,0,0,0,0,0,0,0,0,0,0,0,0,0,0,0,0,0,0,0,0,0,0,0,0,0,0,0,0,0,0,0,0,0,0,0,0,0,0,0,{"$f":"SUM(DKT38:DKT41)","v":0},0,0,0,0,0,0,0,0,0,0,0,0,0,0,0,0,0,0,0,0,0,0,0,0,0,0,0,0,0,0,0,0,0,0,0,0,0,0,0,0,0,0,0,0,0,0,0,0,0,0,0,0,0,0,0,0,0,0,0,0,0,0,0,{"$f":"SUM(DNF38:DNF41)","v":0},0,0,0,0,0,0,0,0,0,0,0,0,0,0,0,0,0,0,0,0,0,0,0,0,0,0,0,0,0,0,0,0,0,0,0,0,0,0,0,0,0,0,0,0,0,0,0,0,0,0,0,0,0,0,0,0,0,0,0,0,0,0,0,{"$f":"SUM(DPR38:DPR41)","v":0},0,0,0,0,0,0,0,0,0,0,0,0,0,0,0,0,0,0,0,0,0,0,0,0,0,0,0,0,0,0,0,0,0,0,0,0,0,0,0,0,0,0,0,0,0,0,0,0,0,0,0,0,0,0,0,0,0,0,0,0,0,0,0,{"$f":"SUM(DSD38:DSD41)","v":0},0,0,0,0,0,0,0,0,0,0,0,0,0,0,0,0,0,0,0,0,0,0,0,0,0,0,0,0,0,0,0,0,0,0,0,0,0,0,0,0,0,0,0,0,0,0,0,0,0,0,0,0,0,0,0,0,0,0,0,0,0,0,0,{"$f":"SUM(DUP38:DUP41)","v":0},0,0,0,0,0,0,0,0,0,0,0,0,0,0,0,0,0,0,0,0,0,0,0,0,0,0,0,0,0,0,0,0,0,0,0,0,0,0,0,0,0,0,0,0,0,0,0,0,0,0,0,0,0,0,0,0,0,0,0,0,0,0,0,{"$f":"SUM(DXB38:DXB41)","v":0},0,0,0,0,0,0,0,0,0,0,0,0,0,0,0,0,0,0,0,0,0,0,0,0,0,0,0,0,0,0,0,0,0,0,0,0,0,0,0,0,0,0,0,0,0,0,0,0,0,0,0,0,0,0,0,0,0,0,0,0,0,0,0,{"$f":"SUM(DZN38:DZN41)","v":0},0,0,0,0,0,0,0,0,0,0,0,0,0,0,0,0,0,0,0,0,0,0,0,0,0,0,0,0,0,0,0,0,0,0,0,0,0,0,0,0,0,0,0,0,0,0,0,0,0,0,0,0,0,0,0,0,0,0,0,0,0,0,0,{"$f":"SUM(EBZ38:EBZ41)","v":0},0,0,0,0,0,0,0,0,0,0,0,0,0,0,0,0,0,0,0,0,0,0,0,0,0,0,0,0,0,0,0,0,0,0,0,0,0,0,0,0,0,0,0,0,0,0,0,0,0,0,0,0,0,0,0,0,0,0,0,0,0,0,0,{"$f":"SUM(EEL38:EEL41)","v":0},0,0,0,0,0,0,0,0,0,0,0,0,0,0,0,0,0,0,0,0,0,0,0,0,0,0,0,0,0,0,0,0,0,0,0,0,0,0,0,0,0,0,0,0,0,0,0,0,0,0,0,0,0,0,0,0,0,0,0,0,0,0,0,{"$f":"SUM(EGX38:EGX41)","v":0},0,0,0,0,0,0,0,0,0,0,0,0,0,0,0,0,0,0,0,0,0,0,0,0,0,0,0,0,0,0,0,0,0,0,0,0,0,0,0,0,0,0,0,0,0,0,0,0,0,0,0,0,0,0,0,0,0,0,0,0,0,0,0,{"$f":"SUM(EJJ38:EJJ41)","v":0},0,0,0,0,0,0,0,0,0,0,0,0,0,0,0,0,0,0,0,0,0,0,0,0,0,0,0,0,0,0,0,0,0,0,0,0,0,0,0,0,0,0,0,0,0,0,0,0,0,0,0,0,0,0,0,0,0,0,0,0,0,0,0,{"$f":"SUM(ELV38:ELV41)","v":0},0,0,0,0,0,0,0,0,0,0,0,0,0,0,0,0,0,0,0,0,0,0,0,0,0,0,0,0,0,0,0,0,0,0,0,0,0,0,0,0,0,0,0,0,0,0,0,0,0,0,0,0,0,0,0,0,0,0,0,0,0,0,0,{"$f":"SUM(EOH38:EOH41)","v":0},0,0,0,0,0,0,0,0,0,0,0,0,0,0,0,0,0,0,0,0,0,0,0,0,0,0,0,0,0,0,0,0,0,0,0,0,0,0,0,0,0,0,0,0,0,0,0,0,0,0,0,0,0,0,0,0,0,0,0,0,0,0,0,{"$f":"SUM(EQT38:EQT41)","v":0},0,0,0,0,0,0,0,0,0,0,0,0,0,0,0,0,0,0,0,0,0,0,0,0,0,0,0,0,0,0,0,0,0,0,0,0,0,0,0,0,0,0,0,0,0,0,0,0,0,0,0,0,0,0,0,0,0,0,0,0,0,0,0,{"$f":"SUM(ETF38:ETF41)","v":0},0,0,0,0,0,0,0,0,0,0,0,0,0,0,0,0,0,0,0,0,0,0,0,0,0,0,0,0,0,0,0,0,0,0,0,0,0,0,0,0,0,0,0,0,0,0,0,0,0,0,0,0,0,0,0,0,0,0,0,0,0,0,0,{"$f":"SUM(EVR38:EVR41)","v":0},0,0,0,0,0,0,0,0,0,0,0,0,0,0,0,0,0,0,0,0,0,0,0,0,0,0,0,0,0,0,0,0,0,0,0,0,0,0,0,0,0,0,0,0,0,0,0,0,0,0,0,0,0,0,0,0,0,0,0,0,0,0,0,{"$f":"SUM(EYD38:EYD41)","v":0},0,0,0,0,0,0,0,0,0,0,0,0,0,0,0,0,0,0,0,0,0,0,0,0,0,0,0,0,0,0,0,0,0,0,0,0,0,0,0,0,0,0,0,0,0,0,0,0,0,0,0,0,0,0,0,0,0,0,0,0,0,0,0,{"$f":"SUM(FAP38:FAP41)","v":0},0,0,0,0,0,0,0,0,0,0,0,0,0,0,0,0,0,0,0,0,0,0,0,0,0,0,0,0,0,0,0,0,0,0,0,0,0,0,0,0,0,0,0,0,0,0,0,0,0,0,0,0,0,0,0,0,0,0,0,0,0,0,0,{"$f":"SUM(FDB38:FDB41)","v":0},0,0,0,0,0,0,0,0,0,0,0,0,0,0,0,0,0,0,0,0,0,0,0,0,0,0,0,0,0,0,0,0,0,0,0,0,0,0,0,0,0,0,0,0,0,0,0,0,0,0,0,0,0,0,0,0,0,0,0,0,0,0,0,{"$f":"SUM(FFN38:FFN41)","v":0},0,0,0,0,0,0,0,0,0,0,0,0,0,0,0,0,0,0,0,0,0,0,0,0,0,0,0,0,0,0,0,0,0,0,0,0,0,0,0,0,0,0,0,0,0,0,0,0,0,0,0,0,0,0,0,0,0,0,0,0,0,0,0,{"$f":"SUM(FHZ38:FHZ41)","v":0},0,0,0,0,0,0,0,0,0,0,0,0,0,0,0,0,0,0,0,0,0,0,0,0,0,0,0,0,0,0,0,0,0,0,0,0,0,0,0,0,0,0,0,0,0,0,0,0,0,0,0,0,0,0,0,0,0,0,0,0,0,0,0,{"$f":"SUM(FKL38:FKL41)","v":0},0,0,0,0,0,0,0,0,0,0,0,0,0,0,0,0,0,0,0,0,0,0,0,0,0,0,0,0,0,0,0,0,0,0,0,0,0,0,0,0,0,0,0,0,0,0,0,0,0,0,0,0,0,0,0,0,0,0,0,0,0,0,0,{"$f":"SUM(FMX38:FMX41)","v":0},0,0,0,0,0,0,0,0,0,0,0,0,0,0,0,0,0,0,0,0,0,0,0,0,0,0,0,0,0,0,0,0,0,0,0,0,0,0,0,0,0,0,0,0,0,0,0,0,0,0,0,0,0,0,0,0,0,0,0,0,0,0,0,{"$f":"SUM(FPJ38:FPJ41)","v":0},0,0,0,0,0,0,0,0,0,0,0,0,0,0,0,0,0,0,0,0,0,0,0,0,0,0,0,0,0,0,0,0,0,0,0,0,0,0,0,0,0,0,0,0,0,0,0,0,0,0,0,0,0,0,0,0,0,0,0,0,0,0,0,{"$f":"SUM(FRV38:FRV41)","v":0},0,0,0,0,0,0,0,0,0,0,0,0,0,0,0,0,0,0,0,0,0,0,0,0,0,0,0,0,0,0,0,0,0,0,0,0,0,0,0,0,0,0,0,0,0,0,0,0,0,0,0,0,0,0,0,0,0,0,0,0,0,0,0,{"$f":"SUM(FUH38:FUH41)","v":0},0,0,0,0,0,0,0,0,0,0,0,0,0,0,0,0,0,0,0,0,0,0,0,0,0,0,0,0,0,0,0,0,0,0,0,0,0,0,0,0,0,0,0,0,0,0,0,0,0,0,0,0,0,0,0,0,0,0,0,0,0,0,0,{"$f":"SUM(FWT38:FWT41)","v":0},0,0,0,0,0,0,0,0,0,0,0,0,0,0,0,0,0,0,0,0,0,0,0,0,0,0,0,0,0,0,0,0,0,0,0,0,0,0,0,0,0,0,0,0,0,0,0,0,0,0,0,0,0,0,0,0,0,0,0,0,0,0,0,{"$f":"SUM(FZF38:FZF41)","v":0},0,0,0,0,0,0,0,0,0,0,0,0,0,0,0,0,0,0,0,0,0,0,0,0,0,0,0,0,0,0,0,0,0,0,0,0,0,0,0,0,0,0,0,0,0,0,0,0,0,0,0,0,0,0,0,0,0,0,0,0,0,0,0,{"$f":"SUM(GBR38:GBR41)","v":0},0,0,0,0,0,0,0,0,0,0,0,0,0,0,0,0,0,0,0,0,0,0,0,0,0,0,0,0,0,0,0,0,0,0,0,0,0,0,0,0,0,0,0,0,0,0,0,0,0,0,0,0,0,0,0,0,0,0,0,0,0,0,0,{"$f":"SUM(GED38:GED41)","v":0},0,0,0,0,0,0,0,0,0,0,0,0,0,0,0,0,0,0,0,0,0,0,0,0,0,0,0,0,0,0,0,0,0,0,0,0,0,0,0,0,0,0,0,0,0,0,0,0,0,0,0,0,0,0,0,0,0,0,0,0,0,0,0,{"$f":"SUM(GGP38:GGP41)","v":0},0,0,0,0,0,0,0,0,0,0,0,0,0,0,0,0,0,0,0,0,0,0,0,0,0,0,0,0,0,0,0,0,0,0,0,0,0,0,0,0,0,0,0,0,0,0,0,0,0,0,0,0,0,0,0,0,0,0,0,0,0,0,0,{"$f":"SUM(GJB38:GJB41)","v":0},0,0,0,0,0,0,0,0,0,0,0,0,0,0,0,0,0,0,0,0,0,0,0,0,0,0,0,0,0,0,0,0,0,0,0,0,0,0,0,0,0,0,0,0,0,0,0,0,0,0,0,0,0,0,0,0,0,0,0,0,0,0,0,{"$f":"SUM(GLN38:GLN41)","v":0},0,0,0,0,0,0,0,0,0,0,0,0,0,0,0,0,0,0,0,0,0,0,0,0,0,0,0,0,0,0,0,0,0,0,0,0,0,0,0,0,0,0,0,0,0,0,0,0,0,0,0,0,0,0,0,0,0,0,0,0,0,0,0,{"$f":"SUM(GNZ38:GNZ41)","v":0},0,0,0,0,0,0,0,0,0,0,0,0,0,0,0,0,0,0,0,0,0,0,0,0,0,0,0,0,0,0,0,0,0,0,0,0,0,0,0,0,0,0,0,0,0,0,0,0,0,0,0,0,0,0,0,0,0,0,0,0,0,0,0,{"$f":"SUM(GQL38:GQL41)","v":0},0,0,0,0,0,0,0,0,0,0,0,0,0,0,0,0,0,0,0,0,0,0,0,0,0,0,0,0,0,0,0,0,0,0,0,0,0,0,0,0,0,0,0,0,0,0,0,0,0,0,0,0,0,0,0,0,0,0,0,0,0,0,0,{"$f":"SUM(GSX38:GSX41)","v":0},0,0,0,0,0,0,0,0,0,0,0,0,0,0,0,0,0,0,0,0,0,0,0,0,0,0,0,0,0,0,0,0,0,0,0,0,0,0,0,0,0,0,0,0,0,0,0,0,0,0,0,0,0,0,0,0,0,0,0,0,0,0,0,{"$f":"SUM(GVJ38:GVJ41)","v":0},0,0,0,0,0,0,0,0,0,0,0,0,0,0,0,0,0,0,0,0,0,0,0,0,0,0,0,0,0,0,0,0,0,0,0,0,0,0,0,0,0,0,0,0,0,0,0,0,0,0,0,0,0,0,0,0,0,0,0,0,0,0,0,{"$f":"SUM(GXV38:GXV41)","v":0},0,0,0,0,0,0,0,0,0,0,0,0,0,0,0,0,0,0,0,0,0,0,0,0,0,0,0,0,0,0,0,0,0,0,0,0,0,0,0,0,0,0,0,0,0,0,0,0,0,0,0,0,0,0,0,0,0,0,0,0,0,0,0,{"$f":"SUM(HAH38:HAH41)","v":0},0,0,0,0,0,0,0,0,0,0,0,0,0,0,0,0,0,0,0,0,0,0,0,0,0,0,0,0,0,0,0,0,0,0,0,0,0,0,0,0,0,0,0,0,0,0,0,0,0,0,0,0,0,0,0,0,0,0,0,0,0,0,0,{"$f":"SUM(HCT38:HCT41)","v":0},0,0,0,0,0,0,0,0,0,0,0,0,0,0,0,0,0,0,0,0,0,0,0,0,0,0,0,0,0,0,0,0,0,0,0,0,0,0,0,0,0,0,0,0,0,0,0,0,0,0,0,0,0,0,0,0,0,0,0,0,0,0,0,{"$f":"SUM(HFF38:HFF41)","v":0},0,0,0,0,0,0,0,0,0,0,0,0,0,0,0,0,0,0,0,0,0,0,0,0,0,0,0,0,0,0,0,0,0,0,0,0,0,0,0,0,0,0,0,0,0,0,0,0,0,0,0,0,0,0,0,0,0,0,0,0,0,0,0,{"$f":"SUM(HHR38:HHR41)","v":0},0,0,0,0,0,0,0,0,0,0,0,0,0,0,0,0,0,0,0,0,0,0,0,0,0,0,0,0,0,0,0,0,0,0,0,0,0,0,0,0,0,0,0,0,0,0,0,0,0,0,0,0,0,0,0,0,0,0,0,0,0,0,0,{"$f":"SUM(HKD38:HKD41)","v":0},0,0,0,0,0,0,0,0,0,0,0,0,0,0,0,0,0,0,0,0,0,0,0,0,0,0,0,0,0,0,0,0,0,0,0,0,0,0,0,0,0,0,0,0,0,0,0,0,0,0,0,0,0,0,0,0,0,0,0,0,0,0,0,{"$f":"SUM(HMP38:HMP41)","v":0},0,0,0,0,0,0,0,0,0,0,0,0,0,0,0,0,0,0,0,0,0,0,0,0,0,0,0,0,0,0,0,0,0,0,0,0,0,0,0,0,0,0,0,0,0,0,0,0,0,0,0,0,0,0,0,0,0,0,0,0,0,0,0,{"$f":"SUM(HPB38:HPB41)","v":0},0,0,0,0,0,0,0,0,0,0,0,0,0,0,0,0,0,0,0,0,0,0,0,0,0,0,0,0,0,0,0,0,0,0,0,0,0,0,0,0,0,0,0,0,0,0,0,0,0,0,0,0,0,0,0,0,0,0,0,0,0,0,0,{"$f":"SUM(HRN38:HRN41)","v":0},0,0,0,0,0,0,0,0,0,0,0,0,0,0,0,0,0,0,0,0,0,0,0,0,0,0,0,0,0,0,0,0,0,0,0,0,0,0,0,0,0,0,0,0,0,0,0,0,0,0,0,0,0,0,0,0,0,0,0,0,0,0,0,{"$f":"SUM(HTZ38:HTZ41)","v":0},0,0,0,0,0,0,0,0,0,0,0,0,0,0,0,0,0,0,0,0,0,0,0,0,0,0,0,0,0,0,0,0,0,0,0,0,0,0,0,0,0,0,0,0,0,0,0,0,0,0,0,0,0,0,0,0,0,0,0,0,0,0,0,{"$f":"SUM(HWL38:HWL41)","v":0},0,0,0,0,0,0,0,0,0,0,0,0,0,0,0,0,0,0,0,0,0,0,0,0,0,0,0,0,0,0,0,0,0,0,0,0,0,0,0,0,0,0,0,0,0,0,0,0,0,0,0,0,0,0,0,0,0,0,0,0,0,0,0,{"$f":"SUM(HYX38:HYX41)","v":0},0,0,0,0,0,0,0,0,0,0,0,0,0,0,0,0,0,0,0,0,0,0,0,0,0,0,0,0,0,0,0,0,0,0,0,0,0,0,0,0,0,0,0,0,0,0,0,0,0,0,0,0,0,0,0,0,0,0,0,0,0,0,0,{"$f":"SUM(IBJ38:IBJ41)","v":0},0,0,0,0,0,0,0,0,0,0,0,0,0,0,0,0,0,0,0,0,0,0,0,0,0,0,0,0,0,0,0,0,0,0,0,0,0,0,0,0,0,0,0,0,0,0,0,0,0,0,0,0,0,0,0,0,0,0,0,0,0,0,0,{"$f":"SUM(IDV38:IDV41)","v":0},0,0,0,0,0,0,0,0,0,0,0,0,0,0,0,0,0,0,0,0,0,0,0,0,0,0,0,0,0,0,0,0,0,0,0,0,0,0,0,0,0,0,0,0,0,0,0,0,0,0,0,0,0,0,0,0,0,0,0,0,0,0,0,{"$f":"SUM(IGH38:IGH41)","v":0},0,0,0,0,0,0,0,0,0,0,0,0,0,0,0,0,0,0,0,0,0,0,0,0,0,0,0,0,0,0,0,0,0,0,0,0,0,0,0,0,0,0,0,0,0,0,0,0,0,0,0,0,0,0,0,0,0,0,0,0,0,0,0,{"$f":"SUM(IIT38:IIT41)","v":0},0,0,0,0,0,0,0,0,0,0,0,0,0,0,0,0,0,0,0,0,0,0,0,0,0,0,0,0,0,0,0,0,0,0,0,0,0,0,0,0,0,0,0,0,0,0,0,0,0,0,0,0,0,0,0,0,0,0,0,0,0,0,0,{"$f":"SUM(ILF38:ILF41)","v":0},0,0,0,0,0,0,0,0,0,0,0,0,0,0,0,0,0,0,0,0,0,0,0,0,0,0,0,0,0,0,0,0,0,0,0,0,0,0,0,0,0,0,0,0,0,0,0,0,0,0,0,0,0,0,0,0,0,0,0,0,0,0,0,{"$f":"SUM(INR38:INR41)","v":0},0,0,0,0,0,0,0,0,0,0,0,0,0,0,0,0,0,0,0,0,0,0,0,0,0,0,0,0,0,0,0,0,0,0,0,0,0,0,0,0,0,0,0,0,0,0,0,0,0,0,0,0,0,0,0,0,0,0,0,0,0,0,0,{"$f":"SUM(IQD38:IQD41)","v":0},0,0,0,0,0,0,0,0,0,0,0,0,0,0,0,0,0,0,0,0,0,0,0,0,0,0,0,0,0,0,0,0,0,0,0,0,0,0,0,0,0,0,0,0,0,0,0,0,0,0,0,0,0,0,0,0,0,0,0,0,0,0,0,{"$f":"SUM(ISP38:ISP41)","v":0},0,0,0,0,0,0,0,0,0,0,0,0,0,0,0,0,0,0,0,0,0,0,0,0,0,0,0,0,0,0,0,0,0,0,0,0,0,0,0,0,0,0,0,0,0,0,0,0,0,0,0,0,0,0,0,0,0,0,0,0,0,0,0,{"$f":"SUM(IVB38:IVB41)","v":0},0,0,0,0,0,0,0,0,0,0,0,0,0,0,0,0,0,0,0,0,0,0,0,0,0,0,0,0,0,0,0,0,0,0,0,0,0,0,0,0,0,0,0,0,0,0,0,0,0,0,0,0,0,0,0,0,0,0,0,0,0,0,0,{"$f":"SUM(IXN38:IXN41)","v":0},0,0,0,0,0,0,0,0,0,0,0,0,0,0,0,0,0,0,0,0,0,0,0,0,0,0,0,0,0,0,0,0,0,0,0,0,0,0,0,0,0,0,0,0,0,0,0,0,0,0,0,0,0,0,0,0,0,0,0,0,0,0,0,{"$f":"SUM(IZZ38:IZZ41)","v":0},0,0,0,0,0,0,0,0,0,0,0,0,0,0,0,0,0,0,0,0,0,0,0,0,0,0,0,0,0,0,0,0,0,0,0,0,0,0,0,0,0,0,0,0,0,0,0,0,0,0,0,0,0,0,0,0,0,0,0,0,0,0,0,{"$f":"SUM(JCL38:JCL41)","v":0},0,0,0,0,0,0,0,0,0,0,0,0,0,0,0,0,0,0,0,0,0,0,0,0,0,0,0,0,0,0,0,0,0,0,0,0,0,0,0,0,0,0,0,0,0,0,0,0,0,0,0,0,0,0,0,0,0,0,0,0,0,0,0,{"$f":"SUM(JEX38:JEX41)","v":0},0,0,0,0,0,0,0,0,0,0,0,0,0,0,0,0,0,0,0,0,0,0,0,0,0,0,0,0,0,0,0,0,0,0,0,0,0,0,0,0,0,0,0,0,0,0,0,0,0,0,0,0,0,0,0,0,0,0,0,0,0,0,0,{"$f":"SUM(JHJ38:JHJ41)","v":0},0,0,0,0,0,0,0,0,0,0,0,0,0,0,0,0,0,0,0,0,0,0,0,0,0,0,0,0,0,0,0,0,0,0,0,0,0,0,0,0,0,0,0,0,0,0,0,0,0,0,0,0,0,0,0,0,0,0,0,0,0,0,0,{"$f":"SUM(JJV38:JJV41)","v":0},0,0,0,0,0,0,0,0,0,0,0,0,0,0,0,0,0,0,0,0,0,0,0,0,0,0,0,0,0,0,0,0,0,0,0,0,0,0,0,0,0,0,0,0,0,0,0,0,0,0,0,0,0,0,0,0,0,0,0,0,0,0,0,{"$f":"SUM(JMH38:JMH41)","v":0},0,0,0,0,0,0,0,0,0,0,0,0,0,0,0,0,0,0,0,0,0,0,0,0,0,0,0,0,0,0,0,0,0,0,0,0,0,0,0,0,0,0,0,0,0,0,0,0,0,0,0,0,0,0,0,0,0,0,0,0,0,0,0,{"$f":"SUM(JOT38:JOT41)","v":0},0,0,0,0,0,0,0,0,0,0,0,0,0,0,0,0,0,0,0,0,0,0,0,0,0,0,0,0,0,0,0,0,0,0,0,0,0,0,0,0,0,0,0,0,0,0,0,0,0,0,0,0,0,0,0,0,0,0,0,0,0,0,0,{"$f":"SUM(JRF38:JRF41)","v":0},0,0,0,0,0,0,0,0,0,0,0,0,0,0,0,0,0,0,0,0,0,0,0,0,0,0,0,0,0,0,0,0,0,0,0,0,0,0,0,0,0,0,0,0,0,0,0,0,0,0,0,0,0,0,0,0,0,0,0,0,0,0,0,{"$f":"SUM(JTR38:JTR41)","v":0},0,0,0,0,0,0,0,0,0,0,0,0,0,0,0,0,0,0,0,0,0,0,0,0,0,0,0,0,0,0,0,0,0,0,0,0,0,0,0,0,0,0,0,0,0,0,0,0,0,0,0,0,0,0,0,0,0,0,0,0,0,0,0,{"$f":"SUM(JWD38:JWD41)","v":0},0,0,0,0,0,0,0,0,0,0,0,0,0,0,0,0,0,0,0,0,0,0,0,0,0,0,0,0,0,0,0,0,0,0,0,0,0,0,0,0,0,0,0,0,0,0,0,0,0,0,0,0,0,0,0,0,0,0,0,0,0,0,0,{"$f":"SUM(JYP38:JYP41)","v":0},0,0,0,0,0,0,0,0,0,0,0,0,0,0,0,0,0,0,0,0,0,0,0,0,0,0,0,0,0,0,0,0,0,0,0,0,0,0,0,0,0,0,0,0,0,0,0,0,0,0,0,0,0,0,0,0,0,0,0,0,0,0,0,{"$f":"SUM(KBB38:KBB41)","v":0},0,0,0,0,0,0,0,0,0,0,0,0,0,0,0,0,0,0,0,0,0,0,0,0,0,0,0,0,0,0,0,0,0,0,0,0,0,0,0,0,0,0,0,0,0,0,0,0,0,0,0,0,0,0,0,0,0,0,0,0,0,0,0,{"$f":"SUM(KDN38:KDN41)","v":0},0,0,0,0,0,0,0,0,0,0,0,0,0,0,0,0,0,0,0,0,0,0,0,0,0,0,0,0,0,0,0,0,0,0,0,0,0,0,0,0,0,0,0,0,0,0,0,0,0,0,0,0,0,0,0,0,0,0,0,0,0,0,0,{"$f":"SUM(KFZ38:KFZ41)","v":0},0,0,0,0,0,0,0,0,0,0,0,0,0,0,0,0,0,0,0,0,0,0,0,0,0,0,0,0,0,0,0,0,0,0,0,0,0,0,0,0,0,0,0,0,0,0,0,0,0,0,0,0,0,0,0,0,0,0,0,0,0,0,0,{"$f":"SUM(KIL38:KIL41)","v":0},0,0,0,0,0,0,0,0,0,0,0,0,0,0,0,0,0,0,0,0,0,0,0,0,0,0,0,0,0,0,0,0,0,0,0,0,0,0,0,0,0,0,0,0,0,0,0,0,0,0,0,0,0,0,0,0,0,0,0,0,0,0,0,{"$f":"SUM(KKX38:KKX41)","v":0},0,0,0,0,0,0,0,0,0,0,0,0,0,0,0,0,0,0,0,0,0,0,0,0,0,0,0,0,0,0,0,0,0,0,0,0,0,0,0,0,0,0,0,0,0,0,0,0,0,0,0,0,0,0,0,0,0,0,0,0,0,0,0,{"$f":"SUM(KNJ38:KNJ41)","v":0},0,0,0,0,0,0,0,0,0,0,0,0,0,0,0,0,0,0,0,0,0,0,0,0,0,0,0,0,0,0,0,0,0,0,0,0,0,0,0,0,0,0,0,0,0,0,0,0,0,0,0,0,0,0,0,0,0,0,0,0,0,0,0,{"$f":"SUM(KPV38:KPV41)","v":0},0,0,0,0,0,0,0,0,0,0,0,0,0,0,0,0,0,0,0,0,0,0,0,0,0,0,0,0,0,0,0,0,0,0,0,0,0,0,0,0,0,0,0,0,0,0,0,0,0,0,0,0,0,0,0,0,0,0,0,0,0,0,0,{"$f":"SUM(KSH38:KSH41)","v":0},0,0,0,0,0,0,0,0,0,0,0,0,0,0,0,0,0,0,0,0,0,0,0,0,0,0,0,0,0,0,0,0,0,0,0,0,0,0,0,0,0,0,0,0,0,0,0,0,0,0,0,0,0,0,0,0,0,0,0,0,0,0,0,{"$f":"SUM(KUT38:KUT41)","v":0},0,0,0,0,0,0,0,0,0,0,0,0,0,0,0,0,0,0,0,0,0,0,0,0,0,0,0,0,0,0,0,0,0,0,0,0,0,0,0,0,0,0,0,0,0,0,0,0,0,0,0,0,0,0,0,0,0,0,0,0,0,0,0,{"$f":"SUM(KXF38:KXF41)","v":0},0,0,0,0,0,0,0,0,0,0,0,0,0,0,0,0,0,0,0,0,0,0,0,0,0,0,0,0,0,0,0,0,0,0,0,0,0,0,0,0,0,0,0,0,0,0,0,0,0,0,0,0,0,0,0,0,0,0,0,0,0,0,0,{"$f":"SUM(KZR38:KZR41)","v":0},0,0,0,0,0,0,0,0,0,0,0,0,0,0,0,0,0,0,0,0,0,0,0,0,0,0,0,0,0,0,0,0,0,0,0,0,0,0,0,0,0,0,0,0,0,0,0,0,0,0,0,0,0,0,0,0,0,0,0,0,0,0,0,{"$f":"SUM(LCD38:LCD41)","v":0},0,0,0,0,0,0,0,0,0,0,0,0,0,0,0,0,0,0,0,0,0,0,0,0,0,0,0,0,0,0,0,0,0,0,0,0,0,0,0,0,0,0,0,0,0,0,0,0,0,0,0,0,0,0,0,0,0,0,0,0,0,0,0,{"$f":"SUM(LEP38:LEP41)","v":0},0,0,0,0,0,0,0,0,0,0,0,0,0,0,0,0,0,0,0,0,0,0,0,0,0,0,0,0,0,0,0,0,0,0,0,0,0,0,0,0,0,0,0,0,0,0,0,0,0,0,0,0,0,0,0,0,0,0,0,0,0,0,0,{"$f":"SUM(LHB38:LHB41)","v":0},0,0,0,0,0,0,0,0,0,0,0,0,0,0,0,0,0,0,0,0,0,0,0,0,0,0,0,0,0,0,0,0,0,0,0,0,0,0,0,0,0,0,0,0,0,0,0,0,0,0,0,0,0,0,0,0,0,0,0,0,0,0,0,{"$f":"SUM(LJN38:LJN41)","v":0},0,0,0,0,0,0,0,0,0,0,0,0,0,0,0,0,0,0,0,0,0,0,0,0,0,0,0,0,0,0,0,0,0,0,0,0,0,0,0,0,0,0,0,0,0,0,0,0,0,0,0,0,0,0,0,0,0,0,0,0,0,0,0,{"$f":"SUM(LLZ38:LLZ41)","v":0},0,0,0,0,0,0,0,0,0,0,0,0,0,0,0,0,0,0,0,0,0,0,0,0,0,0,0,0,0,0,0,0,0,0,0,0,0,0,0,0,0,0,0,0,0,0,0,0,0,0,0,0,0,0,0,0,0,0,0,0,0,0,0,{"$f":"SUM(LOL38:LOL41)","v":0},0,0,0,0,0,0,0,0,0,0,0,0,0,0,0,0,0,0,0,0,0,0,0,0,0,0,0,0,0,0,0,0,0,0,0,0,0,0,0,0,0,0,0,0,0,0,0,0,0,0,0,0,0,0,0,0,0,0,0,0,0,0,0,{"$f":"SUM(LQX38:LQX41)","v":0},0,0,0,0,0,0,0,0,0,0,0,0,0,0,0,0,0,0,0,0,0,0,0,0,0,0,0,0,0,0,0,0,0,0,0,0,0,0,0,0,0,0,0,0,0,0,0,0,0,0,0,0,0,0,0,0,0,0,0,0,0,0,0,{"$f":"SUM(LTJ38:LTJ41)","v":0},0,0,0,0,0,0,0,0,0,0,0,0,0,0,0,0,0,0,0,0,0,0,0,0,0,0,0,0,0,0,0,0,0,0,0,0,0,0,0,0,0,0,0,0,0,0,0,0,0,0,0,0,0,0,0,0,0,0,0,0,0,0,0,{"$f":"SUM(LVV38:LVV41)","v":0},0,0,0,0,0,0,0,0,0,0,0,0,0,0,0,0,0,0,0,0,0,0,0,0,0,0,0,0,0,0,0,0,0,0,0,0,0,0,0,0,0,0,0,0,0,0,0,0,0,0,0,0,0,0,0,0,0,0,0,0,0,0,0,{"$f":"SUM(LYH38:LYH41)","v":0},0,0,0,0,0,0,0,0,0,0,0,0,0,0,0,0,0,0,0,0,0,0,0,0,0,0,0,0,0,0,0,0,0,0,0,0,0,0,0,0,0,0,0,0,0,0,0,0,0,0,0,0,0,0,0,0,0,0,0,0,0,0,0,{"$f":"SUM(MAT38:MAT41)","v":0},0,0,0,0,0,0,0,0,0,0,0,0,0,0,0,0,0,0,0,0,0,0,0,0,0,0,0,0,0,0,0,0,0,0,0,0,0,0,0,0,0,0,0,0,0,0,0,0,0,0,0,0,0,0,0,0,0,0,0,0,0,0,0,{"$f":"SUM(MDF38:MDF41)","v":0},0,0,0,0,0,0,0,0,0,0,0,0,0,0,0,0,0,0,0,0,0,0,0,0,0,0,0,0,0,0,0,0,0,0,0,0,0,0,0,0,0,0,0,0,0,0,0,0,0,0,0,0,0,0,0,0,0,0,0,0,0,0,0,{"$f":"SUM(MFR38:MFR41)","v":0},0,0,0,0,0,0,0,0,0,0,0,0,0,0,0,0,0,0,0,0,0,0,0,0,0,0,0,0,0,0,0,0,0,0,0,0,0,0,0,0,0,0,0,0,0,0,0,0,0,0,0,0,0,0,0,0,0,0,0,0,0,0,0,{"$f":"SUM(MID38:MID41)","v":0},0,0,0,0,0,0,0,0,0,0,0,0,0,0,0,0,0,0,0,0,0,0,0,0,0,0,0,0,0,0,0,0,0,0,0,0,0,0,0,0,0,0,0,0,0,0,0,0,0,0,0,0,0,0,0,0,0,0,0,0,0,0,0,{"$f":"SUM(MKP38:MKP41)","v":0},0,0,0,0,0,0,0,0,0,0,0,0,0,0,0,0,0,0,0,0,0,0,0,0,0,0,0,0,0,0,0,0,0,0,0,0,0,0,0,0,0,0,0,0,0,0,0,0,0,0,0,0,0,0,0,0,0,0,0,0,0,0,0,{"$f":"SUM(MNB38:MNB41)","v":0},0,0,0,0,0,0,0,0,0,0,0,0,0,0,0,0,0,0,0,0,0,0,0,0,0,0,0,0,0,0,0,0,0,0,0,0,0,0,0,0,0,0,0,0,0,0,0,0,0,0,0,0,0,0,0,0,0,0,0,0,0,0,0,{"$f":"SUM(MPN38:MPN41)","v":0},0,0,0,0,0,0,0,0,0,0,0,0,0,0,0,0,0,0,0,0,0,0,0,0,0,0,0,0,0,0,0,0,0,0,0,0,0,0,0,0,0,0,0,0,0,0,0,0,0,0,0,0,0,0,0,0,0,0,0,0,0,0,0,{"$f":"SUM(MRZ38:MRZ41)","v":0},0,0,0,0,0,0,0,0,0,0,0,0,0,0,0,0,0,0,0,0,0,0,0,0,0,0,0,0,0,0,0,0,0,0,0,0,0,0,0,0,0,0,0,0,0,0,0,0,0,0,0,0,0,0,0,0,0,0,0,0,0,0,0,{"$f":"SUM(MUL38:MUL41)","v":0},0,0,0,0,0,0,0,0,0,0,0,0,0,0,0,0,0,0,0,0,0,0,0,0,0,0,0,0,0,0,0,0,0,0,0,0,0,0,0,0,0,0,0,0,0,0,0,0,0,0,0,0,0,0,0,0,0,0,0,0,0,0,0,{"$f":"SUM(MWX38:MWX41)","v":0},0,0,0,0,0,0,0,0,0,0,0,0,0,0,0,0,0,0,0,0,0,0,0,0,0,0,0,0,0,0,0,0,0,0,0,0,0,0,0,0,0,0,0,0,0,0,0,0,0,0,0,0,0,0,0,0,0,0,0,0,0,0,0,{"$f":"SUM(MZJ38:MZJ41)","v":0},0,0,0,0,0,0,0,0,0,0,0,0,0,0,0,0,0,0,0,0,0,0,0,0,0,0,0,0,0,0,0,0,0,0,0,0,0,0,0,0,0,0,0,0,0,0,0,0,0,0,0,0,0,0,0,0,0,0,0,0,0,0,0,{"$f":"SUM(NBV38:NBV41)","v":0},0,0,0,0,0,0,0,0,0,0,0,0,0,0,0,0,0,0,0,0,0,0,0,0,0,0,0,0,0,0,0,0,0,0,0,0,0,0,0,0,0,0,0,0,0,0,0,0,0,0,0,0,0,0,0,0,0,0,0,0,0,0,0,{"$f":"SUM(NEH38:NEH41)","v":0},0,0,0,0,0,0,0,0,0,0,0,0,0,0,0,0,0,0,0,0,0,0,0,0,0,0,0,0,0,0,0,0,0,0,0,0,0,0,0,0,0,0,0,0,0,0,0,0,0,0,0,0,0,0,0,0,0,0,0,0,0,0,0,{"$f":"SUM(NGT38:NGT41)","v":0},0,0,0,0,0,0,0,0,0,0,0,0,0,0,0,0,0,0,0,0,0,0,0,0,0,0,0,0,0,0,0,0,0,0,0,0,0,0,0,0,0,0,0,0,0,0,0,0,0,0,0,0,0,0,0,0,0,0,0,0,0,0,0,{"$f":"SUM(NJF38:NJF41)","v":0},0,0,0,0,0,0,0,0,0,0,0,0,0,0,0,0,0,0,0,0,0,0,0,0,0,0,0,0,0,0,0,0,0,0,0,0,0,0,0,0,0,0,0,0,0,0,0,0,0,0,0,0,0,0,0,0,0,0,0,0,0,0,0,{"$f":"SUM(NLR38:NLR41)","v":0},0,0,0,0,0,0,0,0,0,0,0,0,0,0,0,0,0,0,0,0,0,0,0,0,0,0,0,0,0,0,0,0,0,0,0,0,0,0,0,0,0,0,0,0,0,0,0,0,0,0,0,0,0,0,0,0,0,0,0,0,0,0,0,{"$f":"SUM(NOD38:NOD41)","v":0},0,0,0,0,0,0,0,0,0,0,0,0,0,0,0,0,0,0,0,0,0,0,0,0,0,0,0,0,0,0,0,0,0,0,0,0,0,0,0,0,0,0,0,0,0,0,0,0,0,0,0,0,0,0,0,0,0,0,0,0,0,0,0,{"$f":"SUM(NQP38:NQP41)","v":0},0,0,0,0,0,0,0,0,0,0,0,0,0,0,0,0,0,0,0,0,0,0,0,0,0,0,0,0,0,0,0,0,0,0,0,0,0,0,0,0,0,0,0,0,0,0,0,0,0,0,0,0,0,0,0,0,0,0,0,0,0,0,0,{"$f":"SUM(NTB38:NTB41)","v":0},0,0,0,0,0,0,0,0,0,0,0,0,0,0,0,0,0,0,0,0,0,0,0,0,0,0,0,0,0,0,0,0,0,0,0,0,0,0,0,0,0,0,0,0,0,0,0,0,0,0,0,0,0,0,0,0,0,0,0,0,0,0,0,{"$f":"SUM(NVN38:NVN41)","v":0},0,0,0,0,0,0,0,0,0,0,0,0,0,0,0,0,0,0,0,0,0,0,0,0,0,0,0,0,0,0,0,0,0,0,0,0,0,0,0,0,0,0,0,0,0,0,0,0,0,0,0,0,0,0,0,0,0,0,0,0,0,0,0,{"$f":"SUM(NXZ38:NXZ41)","v":0},0,0,0,0,0,0,0,0,0,0,0,0,0,0,0,0,0,0,0,0,0,0,0,0,0,0,0,0,0,0,0,0,0,0,0,0,0,0,0,0,0,0,0,0,0,0,0,0,0,0,0,0,0,0,0,0,0,0,0,0,0,0,0,{"$f":"SUM(OAL38:OAL41)","v":0},0,0,0,0,0,0,0,0,0,0,0,0,0,0,0,0,0,0,0,0,0,0,0,0,0,0,0,0,0,0,0,0,0,0,0,0,0,0,0,0,0,0,0,0,0,0,0,0,0,0,0,0,0,0,0,0,0,0,0,0,0,0,0,{"$f":"SUM(OCX38:OCX41)","v":0},0,0,0,0,0,0,0,0,0,0,0,0,0,0,0,0,0,0,0,0,0,0,0,0,0,0,0,0,0,0,0,0,0,0,0,0,0,0,0,0,0,0,0,0,0,0,0,0,0,0,0,0,0,0,0,0,0,0,0,0,0,0,0,{"$f":"SUM(OFJ38:OFJ41)","v":0},0,0,0,0,0,0,0,0,0,0,0,0,0,0,0,0,0,0,0,0,0,0,0,0,0,0,0,0,0,0,0,0,0,0,0,0,0,0,0,0,0,0,0,0,0,0,0,0,0,0,0,0,0,0,0,0,0,0,0,0,0,0,0,{"$f":"SUM(OHV38:OHV41)","v":0},0,0,0,0,0,0,0,0,0,0,0,0,0,0,0,0,0,0,0,0,0,0,0,0,0,0,0,0,0,0,0,0,0,0,0,0,0,0,0,0,0,0,0,0,0,0,0,0,0,0,0,0,0,0,0,0,0,0,0,0,0,0,0,{"$f":"SUM(OKH38:OKH41)","v":0},0,0,0,0,0,0,0,0,0,0,0,0,0,0,0,0,0,0,0,0,0,0,0,0,0,0,0,0,0,0,0,0,0,0,0,0,0,0,0,0,0,0,0,0,0,0,0,0,0,0,0,0,0,0,0,0,0,0,0,0,0,0,0,{"$f":"SUM(OMT38:OMT41)","v":0},0,0,0,0,0,0,0,0,0,0,0,0,0,0,0,0,0,0,0,0,0,0,0,0,0,0,0,0,0,0,0,0,0,0,0,0,0,0,0,0,0,0,0,0,0,0,0,0,0,0,0,0,0,0,0,0,0,0,0,0,0,0,0,{"$f":"SUM(OPF38:OPF41)","v":0},0,0,0,0,0,0,0,0,0,0,0,0,0,0,0,0,0,0,0,0,0,0,0,0,0,0,0,0,0,0,0,0,0,0,0,0,0,0,0,0,0,0,0,0,0,0,0,0,0,0,0,0,0,0,0,0,0,0,0,0,0,0,0,{"$f":"SUM(ORR38:ORR41)","v":0},0,0,0,0,0,0,0,0,0,0,0,0,0,0,0,0,0,0,0,0,0,0,0,0,0,0,0,0,0,0,0,0,0,0,0,0,0,0,0,0,0,0,0,0,0,0,0,0,0,0,0,0,0,0,0,0,0,0,0,0,0,0,0,{"$f":"SUM(OUD38:OUD41)","v":0},0,0,0,0,0,0,0,0,0,0,0,0,0,0,0,0,0,0,0,0,0,0,0,0,0,0,0,0,0,0,0,0,0,0,0,0,0,0,0,0,0,0,0,0,0,0,0,0,0,0,0,0,0,0,0,0,0,0,0,0,0,0,0,{"$f":"SUM(OWP38:OWP41)","v":0},0,0,0,0,0,0,0,0,0,0,0,0,0,0,0,0,0,0,0,0,0,0,0,0,0,0,0,0,0,0,0,0,0,0,0,0,0,0,0,0,0,0,0,0,0,0,0,0,0,0,0,0,0,0,0,0,0,0,0,0,0,0,0,{"$f":"SUM(OZB38:OZB41)","v":0},0,0,0,0,0,0,0,0,0,0,0,0,0,0,0,0,0,0,0,0,0,0,0,0,0,0,0,0,0,0,0,0,0,0,0,0,0,0,0,0,0,0,0,0,0,0,0,0,0,0,0,0,0,0,0,0,0,0,0,0,0,0,0,{"$f":"SUM(PBN38:PBN41)","v":0},0,0,0,0,0,0,0,0,0,0,0,0,0,0,0,0,0,0,0,0,0,0,0,0,0,0,0,0,0,0,0,0,0,0,0,0,0,0,0,0,0,0,0,0,0,0,0,0,0,0,0,0,0,0,0,0,0,0,0,0,0,0,0,{"$f":"SUM(PDZ38:PDZ41)","v":0},0,0,0,0,0,0,0,0,0,0,0,0,0,0,0,0,0,0,0,0,0,0,0,0,0,0,0,0,0,0,0,0,0,0,0,0,0,0,0,0,0,0,0,0,0,0,0,0,0,0,0,0,0,0,0,0,0,0,0,0,0,0,0,{"$f":"SUM(PGL38:PGL41)","v":0},0,0,0,0,0,0,0,0,0,0,0,0,0,0,0,0,0,0,0,0,0,0,0,0,0,0,0,0,0,0,0,0,0,0,0,0,0,0,0,0,0,0,0,0,0,0,0,0,0,0,0,0,0,0,0,0,0,0,0,0,0,0,0,{"$f":"SUM(PIX38:PIX41)","v":0},0,0,0,0,0,0,0,0,0,0,0,0,0,0,0,0,0,0,0,0,0,0,0,0,0,0,0,0,0,0,0,0,0,0,0,0,0,0,0,0,0,0,0,0,0,0,0,0,0,0,0,0,0,0,0,0,0,0,0,0,0,0,0,{"$f":"SUM(PLJ38:PLJ41)","v":0},0,0,0,0,0,0,0,0,0,0,0,0,0,0,0,0,0,0,0,0,0,0,0,0,0,0,0,0,0,0,0,0,0,0,0,0,0,0,0,0,0,0,0,0,0,0,0,0,0,0,0,0,0,0,0,0,0,0,0,0,0,0,0,{"$f":"SUM(PNV38:PNV41)","v":0},0,0,0,0,0,0,0,0,0,0,0,0,0,0,0,0,0,0,0,0,0,0,0,0,0,0,0,0,0,0,0,0,0,0,0,0,0,0,0,0,0,0,0,0,0,0,0,0,0,0,0,0,0,0,0,0,0,0,0,0,0,0,0,{"$f":"SUM(PQH38:PQH41)","v":0},0,0,0,0,0,0,0,0,0,0,0,0,0,0,0,0,0,0,0,0,0,0,0,0,0,0,0,0,0,0,0,0,0,0,0,0,0,0,0,0,0,0,0,0,0,0,0,0,0,0,0,0,0,0,0,0,0,0,0,0,0,0,0,{"$f":"SUM(PST38:PST41)","v":0},0,0,0,0,0,0,0,0,0,0,0,0,0,0,0,0,0,0,0,0,0,0,0,0,0,0,0,0,0,0,0,0,0,0,0,0,0,0,0,0,0,0,0,0,0,0,0,0,0,0,0,0,0,0,0,0,0,0,0,0,0,0,0,{"$f":"SUM(PVF38:PVF41)","v":0},0,0,0,0,0,0,0,0,0,0,0,0,0,0,0,0,0,0,0,0,0,0,0,0,0,0,0,0,0,0,0,0,0,0,0,0,0,0,0,0,0,0,0,0,0,0,0,0,0,0,0,0,0,0,0,0,0,0,0,0,0,0,0,{"$f":"SUM(PXR38:PXR41)","v":0},0,0,0,0,0,0,0,0,0,0,0,0,0,0,0,0,0,0,0,0,0,0,0,0,0,0,0,0,0,0,0,0,0,0,0,0,0,0,0,0,0,0,0,0,0,0,0,0,0,0,0,0,0,0,0,0,0,0,0,0,0,0,0,{"$f":"SUM(QAD38:QAD41)","v":0},0,0,0,0,0,0,0,0,0,0,0,0,0,0,0,0,0,0,0,0,0,0,0,0,0,0,0,0,0,0,0,0,0,0,0,0,0,0,0,0,0,0,0,0,0,0,0,0,0,0,0,0,0,0,0,0,0,0,0,0,0,0,0,{"$f":"SUM(QCP38:QCP41)","v":0},0,0,0,0,0,0,0,0,0,0,0,0,0,0,0,0,0,0,0,0,0,0,0,0,0,0,0,0,0,0,0,0,0,0,0,0,0,0,0,0,0,0,0,0,0,0,0,0,0,0,0,0,0,0,0,0,0,0,0,0,0,0,0,{"$f":"SUM(QFB38:QFB41)","v":0},0,0,0,0,0,0,0,0,0,0,0,0,0,0,0,0,0,0,0,0,0,0,0,0,0,0,0,0,0,0,0,0,0,0,0,0,0,0,0,0,0,0,0,0,0,0,0,0,0,0,0,0,0,0,0,0,0,0,0,0,0,0,0,{"$f":"SUM(QHN38:QHN41)","v":0},0,0,0,0,0,0,0,0,0,0,0,0,0,0,0,0,0,0,0,0,0,0,0,0,0,0,0,0,0,0,0,0,0,0,0,0,0,0,0,0,0,0,0,0,0,0,0,0,0,0,0,0,0,0,0,0,0,0,0,0,0,0,0,{"$f":"SUM(QJZ38:QJZ41)","v":0},0,0,0,0,0,0,0,0,0,0,0,0,0,0,0,0,0,0,0,0,0,0,0,0,0,0,0,0,0,0,0,0,0,0,0,0,0,0,0,0,0,0,0,0,0,0,0,0,0,0,0,0,0,0,0,0,0,0,0,0,0,0,0,{"$f":"SUM(QML38:QML41)","v":0},0,0,0,0,0,0,0,0,0,0,0,0,0,0,0,0,0,0,0,0,0,0,0,0,0,0,0,0,0,0,0,0,0,0,0,0,0,0,0,0,0,0,0,0,0,0,0,0,0,0,0,0,0,0,0,0,0,0,0,0,0,0,0,{"$f":"SUM(QOX38:QOX41)","v":0},0,0,0,0,0,0,0,0,0,0,0,0,0,0,0,0,0,0,0,0,0,0,0,0,0,0,0,0,0,0,0,0,0,0,0,0,0,0,0,0,0,0,0,0,0,0,0,0,0,0,0,0,0,0,0,0,0,0,0,0,0,0,0,{"$f":"SUM(QRJ38:QRJ41)","v":0},0,0,0,0,0,0,0,0,0,0,0,0,0,0,0,0,0,0,0,0,0,0,0,0,0,0,0,0,0,0,0,0,0,0,0,0,0,0,0,0,0,0,0,0,0,0,0,0,0,0,0,0,0,0,0,0,0,0,0,0,0,0,0,{"$f":"SUM(QTV38:QTV41)","v":0},0,0,0,0,0,0,0,0,0,0,0,0,0,0,0,0,0,0,0,0,0,0,0,0,0,0,0,0,0,0,0,0,0,0,0,0,0,0,0,0,0,0,0,0,0,0,0,0,0,0,0,0,0,0,0,0,0,0,0,0,0,0,0,{"$f":"SUM(QWH38:QWH41)","v":0},0,0,0,0,0,0,0,0,0,0,0,0,0,0,0,0,0,0,0,0,0,0,0,0,0,0,0,0,0,0,0,0,0,0,0,0,0,0,0,0,0,0,0,0,0,0,0,0,0,0,0,0,0,0,0,0,0,0,0,0,0,0,0,{"$f":"SUM(QYT38:QYT41)","v":0},0,0,0,0,0,0,0,0,0,0,0,0,0,0,0,0,0,0,0,0,0,0,0,0,0,0,0,0,0,0,0,0,0,0,0,0,0,0,0,0,0,0,0,0,0,0,0,0,0,0,0,0,0,0,0,0,0,0,0,0,0,0,0,{"$f":"SUM(RBF38:RBF41)","v":0},0,0,0,0,0,0,0,0,0,0,0,0,0,0,0,0,0,0,0,0,0,0,0,0,0,0,0,0,0,0,0,0,0,0,0,0,0,0,0,0,0,0,0,0,0,0,0,0,0,0,0,0,0,0,0,0,0,0,0,0,0,0,0,{"$f":"SUM(RDR38:RDR41)","v":0},0,0,0,0,0,0,0,0,0,0,0,0,0,0,0,0,0,0,0,0,0,0,0,0,0,0,0,0,0,0,0,0,0,0,0,0,0,0,0,0,0,0,0,0,0,0,0,0,0,0,0,0,0,0,0,0,0,0,0,0,0,0,0,{"$f":"SUM(RGD38:RGD41)","v":0},0,0,0,0,0,0,0,0,0,0,0,0,0,0,0,0,0,0,0,0,0,0,0,0,0,0,0,0,0,0,0,0,0,0,0,0,0,0,0,0,0,0,0,0,0,0,0,0,0,0,0,0,0,0,0,0,0,0,0,0,0,0,0,{"$f":"SUM(RIP38:RIP41)","v":0},0,0,0,0,0,0,0,0,0,0,0,0,0,0,0,0,0,0,0,0,0,0,0,0,0,0,0,0,0,0,0,0,0,0,0,0,0,0,0,0,0,0,0,0,0,0,0,0,0,0,0,0,0,0,0,0,0,0,0,0,0,0,0,{"$f":"SUM(RLB38:RLB41)","v":0},0,0,0,0,0,0,0,0,0,0,0,0,0,0,0,0,0,0,0,0,0,0,0,0,0,0,0,0,0,0,0,0,0,0,0,0,0,0,0,0,0,0,0,0,0,0,0,0,0,0,0,0,0,0,0,0,0,0,0,0,0,0,0,{"$f":"SUM(RNN38:RNN41)","v":0},0,0,0,0,0,0,0,0,0,0,0,0,0,0,0,0,0,0,0,0,0,0,0,0,0,0,0,0,0,0,0,0,0,0,0,0,0,0,0,0,0,0,0,0,0,0,0,0,0,0,0,0,0,0,0,0,0,0,0,0,0,0,0,{"$f":"SUM(RPZ38:RPZ41)","v":0},0,0,0,0,0,0,0,0,0,0,0,0,0,0,0,0,0,0,0,0,0,0,0,0,0,0,0,0,0,0,0,0,0,0,0,0,0,0,0,0,0,0,0,0,0,0,0,0,0,0,0,0,0,0,0,0,0,0,0,0,0,0,0,{"$f":"SUM(RSL38:RSL41)","v":0},0,0,0,0,0,0,0,0,0,0,0,0,0,0,0,0,0,0,0,0,0,0,0,0,0,0,0,0,0,0,0,0,0,0,0,0,0,0,0,0,0,0,0,0,0,0,0,0,0,0,0,0,0,0,0,0,0,0,0,0,0,0,0,{"$f":"SUM(RUX38:RUX41)","v":0},0,0,0,0,0,0,0,0,0,0,0,0,0,0,0,0,0,0,0,0,0,0,0,0,0,0,0,0,0,0,0,0,0,0,0,0,0,0,0,0,0,0,0,0,0,0,0,0,0,0,0,0,0,0,0,0,0,0,0,0,0,0,0,{"$f":"SUM(RXJ38:RXJ41)","v":0},0,0,0,0,0,0,0,0,0,0,0,0,0,0,0,0,0,0,0,0,0,0,0,0,0,0,0,0,0,0,0,0,0,0,0,0,0,0,0,0,0,0,0,0,0,0,0,0,0,0,0,0,0,0,0,0,0,0,0,0,0,0,0,{"$f":"SUM(RZV38:RZV41)","v":0},0,0,0,0,0,0,0,0,0,0,0,0,0,0,0,0,0,0,0,0,0,0,0,0,0,0,0,0,0,0,0,0,0,0,0,0,0,0,0,0,0,0,0,0,0,0,0,0,0,0,0,0,0,0,0,0,0,0,0,0,0,0,0,{"$f":"SUM(SCH38:SCH41)","v":0},0,0,0,0,0,0,0,0,0,0,0,0,0,0,0,0,0,0,0,0,0,0,0,0,0,0,0,0,0,0,0,0,0,0,0,0,0,0,0,0,0,0,0,0,0,0,0,0,0,0,0,0,0,0,0,0,0,0,0,0,0,0,0,{"$f":"SUM(SET38:SET41)","v":0},0,0,0,0,0,0,0,0,0,0,0,0,0,0,0,0,0,0,0,0,0,0,0,0,0,0,0,0,0,0,0,0,0,0,0,0,0,0,0,0,0,0,0,0,0,0,0,0,0,0,0,0,0,0,0,0,0,0,0,0,0,0,0,{"$f":"SUM(SHF38:SHF41)","v":0},0,0,0,0,0,0,0,0,0,0,0,0,0,0,0,0,0,0,0,0,0,0,0,0,0,0,0,0,0,0,0,0,0,0,0,0,0,0,0,0,0,0,0,0,0,0,0,0,0,0,0,0,0,0,0,0,0,0,0,0,0,0,0,{"$f":"SUM(SJR38:SJR41)","v":0},0,0,0,0,0,0,0,0,0,0,0,0,0,0,0,0,0,0,0,0,0,0,0,0,0,0,0,0,0,0,0,0,0,0,0,0,0,0,0,0,0,0,0,0,0,0,0,0,0,0,0,0,0,0,0,0,0,0,0,0,0,0,0,{"$f":"SUM(SMD38:SMD41)","v":0},0,0,0,0,0,0,0,0,0,0,0,0,0,0,0,0,0,0,0,0,0,0,0,0,0,0,0,0,0,0,0,0,0,0,0,0,0,0,0,0,0,0,0,0,0,0,0,0,0,0,0,0,0,0,0,0,0,0,0,0,0,0,0,{"$f":"SUM(SOP38:SOP41)","v":0},0,0,0,0,0,0,0,0,0,0,0,0,0,0,0,0,0,0,0,0,0,0,0,0,0,0,0,0,0,0,0,0,0,0,0,0,0,0,0,0,0,0,0,0,0,0,0,0,0,0,0,0,0,0,0,0,0,0,0,0,0,0,0,{"$f":"SUM(SRB38:SRB41)","v":0},0,0,0,0,0,0,0,0,0,0,0,0,0,0,0,0,0,0,0,0,0,0,0,0,0,0,0,0,0,0,0,0,0,0,0,0,0,0,0,0,0,0,0,0,0,0,0,0,0,0,0,0,0,0,0,0,0,0,0,0,0,0,0,{"$f":"SUM(STN38:STN41)","v":0},0,0,0,0,0,0,0,0,0,0,0,0,0,0,0,0,0,0,0,0,0,0,0,0,0,0,0,0,0,0,0,0,0,0,0,0,0,0,0,0,0,0,0,0,0,0,0,0,0,0,0,0,0,0,0,0,0,0,0,0,0,0,0,{"$f":"SUM(SVZ38:SVZ41)","v":0},0,0,0,0,0,0,0,0,0,0,0,0,0,0,0,0,0,0,0,0,0,0,0,0,0,0,0,0,0,0,0,0,0,0,0,0,0,0,0,0,0,0,0,0,0,0,0,0,0,0,0,0,0,0,0,0,0,0,0,0,0,0,0,{"$f":"SUM(SYL38:SYL41)","v":0},0,0,0,0,0,0,0,0,0,0,0,0,0,0,0,0,0,0,0,0,0,0,0,0,0,0,0,0,0,0,0,0,0,0,0,0,0,0,0,0,0,0,0,0,0,0,0,0,0,0,0,0,0,0,0,0,0,0,0,0,0,0,0,{"$f":"SUM(TAX38:TAX41)","v":0},0,0,0,0,0,0,0,0,0,0,0,0,0,0,0,0,0,0,0,0,0,0,0,0,0,0,0,0,0,0,0,0,0,0,0,0,0,0,0,0,0,0,0,0,0,0,0,0,0,0,0,0,0,0,0,0,0,0,0,0,0,0,0,{"$f":"SUM(TDJ38:TDJ41)","v":0},0,0,0,0,0,0,0,0,0,0,0,0,0,0,0,0,0,0,0,0,0,0,0,0,0,0,0,0,0,0,0,0,0,0,0,0,0,0,0,0,0,0,0,0,0,0,0,0,0,0,0,0,0,0,0,0,0,0,0,0,0,0,0,{"$f":"SUM(TFV38:TFV41)","v":0},0,0,0,0,0,0,0,0,0,0,0,0,0,0,0,0,0,0,0,0,0,0,0,0,0,0,0,0,0,0,0,0,0,0,0,0,0,0,0,0,0,0,0,0,0,0,0,0,0,0,0,0,0,0,0,0,0,0,0,0,0,0,0,{"$f":"SUM(TIH38:TIH41)","v":0},0,0,0,0,0,0,0,0,0,0,0,0,0,0,0,0,0,0,0,0,0,0,0,0,0,0,0,0,0,0,0,0,0,0,0,0,0,0,0,0,0,0,0,0,0,0,0,0,0,0,0,0,0,0,0,0,0,0,0,0,0,0,0,{"$f":"SUM(TKT38:TKT41)","v":0},0,0,0,0,0,0,0,0,0,0,0,0,0,0,0,0,0,0,0,0,0,0,0,0,0,0,0,0,0,0,0,0,0,0,0,0,0,0,0,0,0,0,0,0,0,0,0,0,0,0,0,0,0,0,0,0,0,0,0,0,0,0,0,{"$f":"SUM(TNF38:TNF41)","v":0},0,0,0,0,0,0,0,0,0,0,0,0,0,0,0,0,0,0,0,0,0,0,0,0,0,0,0,0,0,0,0,0,0,0,0,0,0,0,0,0,0,0,0,0,0,0,0,0,0,0,0,0,0,0,0,0,0,0,0,0,0,0,0,{"$f":"SUM(TPR38:TPR41)","v":0},0,0,0,0,0,0,0,0,0,0,0,0,0,0,0,0,0,0,0,0,0,0,0,0,0,0,0,0,0,0,0,0,0,0,0,0,0,0,0,0,0,0,0,0,0,0,0,0,0,0,0,0,0,0,0,0,0,0,0,0,0,0,0,{"$f":"SUM(TSD38:TSD41)","v":0},0,0,0,0,0,0,0,0,0,0,0,0,0,0,0,0,0,0,0,0,0,0,0,0,0,0,0,0,0,0,0,0,0,0,0,0,0,0,0,0,0,0,0,0,0,0,0,0,0,0,0,0,0,0,0,0,0,0,0,0,0,0,0,{"$f":"SUM(TUP38:TUP41)","v":0},0,0,0,0,0,0,0,0,0,0,0,0,0,0,0,0,0,0,0,0,0,0,0,0,0,0,0,0,0,0,0,0,0,0,0,0,0,0,0,0,0,0,0,0,0,0,0,0,0,0,0,0,0,0,0,0,0,0,0,0,0,0,0,{"$f":"SUM(TXB38:TXB41)","v":0},0,0,0,0,0,0,0,0,0,0,0,0,0,0,0,0,0,0,0,0,0,0,0,0,0,0,0,0,0,0,0,0,0,0,0,0,0,0,0,0,0,0,0,0,0,0,0,0,0,0,0,0,0,0,0,0,0,0,0,0,0,0,0,{"$f":"SUM(TZN38:TZN41)","v":0},0,0,0,0,0,0,0,0,0,0,0,0,0,0,0,0,0,0,0,0,0,0,0,0,0,0,0,0,0,0,0,0,0,0,0,0,0,0,0,0,0,0,0,0,0,0,0,0,0,0,0,0,0,0,0,0,0,0,0,0,0,0,0,{"$f":"SUM(UBZ38:UBZ41)","v":0},0,0,0,0,0,0,0,0,0,0,0,0,0,0,0,0,0,0,0,0,0,0,0,0,0,0,0,0,0,0,0,0,0,0,0,0,0,0,0,0,0,0,0,0,0,0,0,0,0,0,0,0,0,0,0,0,0,0,0,0,0,0,0,{"$f":"SUM(UEL38:UEL41)","v":0},0,0,0,0,0,0,0,0,0,0,0,0,0,0,0,0,0,0,0,0,0,0,0,0,0,0,0,0,0,0,0,0,0,0,0,0,0,0,0,0,0,0,0,0,0,0,0,0,0,0,0,0,0,0,0,0,0,0,0,0,0,0,0,{"$f":"SUM(UGX38:UGX41)","v":0},0,0,0,0,0,0,0,0,0,0,0,0,0,0,0,0,0,0,0,0,0,0,0,0,0,0,0,0,0,0,0,0,0,0,0,0,0,0,0,0,0,0,0,0,0,0,0,0,0,0,0,0,0,0,0,0,0,0,0,0,0,0,0,{"$f":"SUM(UJJ38:UJJ41)","v":0},0,0,0,0,0,0,0,0,0,0,0,0,0,0,0,0,0,0,0,0,0,0,0,0,0,0,0,0,0,0,0,0,0,0,0,0,0,0,0,0,0,0,0,0,0,0,0,0,0,0,0,0,0,0,0,0,0,0,0,0,0,0,0,{"$f":"SUM(ULV38:ULV41)","v":0},0,0,0,0,0,0,0,0,0,0,0,0,0,0,0,0,0,0,0,0,0,0,0,0,0,0,0,0,0,0,0,0,0,0,0,0,0,0,0,0,0,0,0,0,0,0,0,0,0,0,0,0,0,0,0,0,0,0,0,0,0,0,0,{"$f":"SUM(UOH38:UOH41)","v":0},0,0,0,0,0,0,0,0,0,0,0,0,0,0,0,0,0,0,0,0,0,0,0,0,0,0,0,0,0,0,0,0,0,0,0,0,0,0,0,0,0,0,0,0,0,0,0,0,0,0,0,0,0,0,0,0,0,0,0,0,0,0,0,{"$f":"SUM(UQT38:UQT41)","v":0},0,0,0,0,0,0,0,0,0,0,0,0,0,0,0,0,0,0,0,0,0,0,0,0,0,0,0,0,0,0,0,0,0,0,0,0,0,0,0,0,0,0,0,0,0,0,0,0,0,0,0,0,0,0,0,0,0,0,0,0,0,0,0,{"$f":"SUM(UTF38:UTF41)","v":0},0,0,0,0,0,0,0,0,0,0,0,0,0,0,0,0,0,0,0,0,0,0,0,0,0,0,0,0,0,0,0,0,0,0,0,0,0,0,0,0,0,0,0,0,0,0,0,0,0,0,0,0,0,0,0,0,0,0,0,0,0,0,0,{"$f":"SUM(UVR38:UVR41)","v":0},0,0,0,0,0,0,0,0,0,0,0,0,0,0,0,0,0,0,0,0,0,0,0,0,0,0,0,0,0,0,0,0,0,0,0,0,0,0,0,0,0,0,0,0,0,0,0,0,0,0,0,0,0,0,0,0,0,0,0,0,0,0,0,{"$f":"SUM(UYD38:UYD41)","v":0},0,0,0,0,0,0,0,0,0,0,0,0,0,0,0,0,0,0,0,0,0,0,0,0,0,0,0,0,0,0,0,0,0,0,0,0,0,0,0,0,0,0,0,0,0,0,0,0,0,0,0,0,0,0,0,0,0,0,0,0,0,0,0,{"$f":"SUM(VAP38:VAP41)","v":0},0,0,0,0,0,0,0,0,0,0,0,0,0,0,0,0,0,0,0,0,0,0,0,0,0,0,0,0,0,0,0,0,0,0,0,0,0,0,0,0,0,0,0,0,0,0,0,0,0,0,0,0,0,0,0,0,0,0,0,0,0,0,0,{"$f":"SUM(VDB38:VDB41)","v":0},0,0,0,0,0,0,0,0,0,0,0,0,0,0,0,0,0,0,0,0,0,0,0,0,0,0,0,0,0,0,0,0,0,0,0,0,0,0,0,0,0,0,0,0,0,0,0,0,0,0,0,0,0,0,0,0,0,0,0,0,0,0,0,{"$f":"SUM(VFN38:VFN41)","v":0},0,0,0,0,0,0,0,0,0,0,0,0,0,0,0,0,0,0,0,0,0,0,0,0,0,0,0,0,0,0,0,0,0,0,0,0,0,0,0,0,0,0,0,0,0,0,0,0,0,0,0,0,0,0,0,0,0,0,0,0,0,0,0,{"$f":"SUM(VHZ38:VHZ41)","v":0},0,0,0,0,0,0,0,0,0,0,0,0,0,0,0,0,0,0,0,0,0,0,0,0,0,0,0,0,0,0,0,0,0,0,0,0,0,0,0,0,0,0,0,0,0,0,0,0,0,0,0,0,0,0,0,0,0,0,0,0,0,0,0,{"$f":"SUM(VKL38:VKL41)","v":0},0,0,0,0,0,0,0,0,0,0,0,0,0,0,0,0,0,0,0,0,0,0,0,0,0,0,0,0,0,0,0,0,0,0,0,0,0,0,0,0,0,0,0,0,0,0,0,0,0,0,0,0,0,0,0,0,0,0,0,0,0,0,0,{"$f":"SUM(VMX38:VMX41)","v":0},0,0,0,0,0,0,0,0,0,0,0,0,0,0,0,0,0,0,0,0,0,0,0,0,0,0,0,0,0,0,0,0,0,0,0,0,0,0,0,0,0,0,0,0,0,0,0,0,0,0,0,0,0,0,0,0,0,0,0,0,0,0,0,{"$f":"SUM(VPJ38:VPJ41)","v":0},0,0,0,0,0,0,0,0,0,0,0,0,0,0,0,0,0,0,0,0,0,0,0,0,0,0,0,0,0,0,0,0,0,0,0,0,0,0,0,0,0,0,0,0,0,0,0,0,0,0,0,0,0,0,0,0,0,0,0,0,0,0,0,{"$f":"SUM(VRV38:VRV41)","v":0},0,0,0,0,0,0,0,0,0,0,0,0,0,0,0,0,0,0,0,0,0,0,0,0,0,0,0,0,0,0,0,0,0,0,0,0,0,0,0,0,0,0,0,0,0,0,0,0,0,0,0,0,0,0,0,0,0,0,0,0,0,0,0,{"$f":"SUM(VUH38:VUH41)","v":0},0,0,0,0,0,0,0,0,0,0,0,0,0,0,0,0,0,0,0,0,0,0,0,0,0,0,0,0,0,0,0,0,0,0,0,0,0,0,0,0,0,0,0,0,0,0,0,0,0,0,0,0,0,0,0,0,0,0,0,0,0,0,0,{"$f":"SUM(VWT38:VWT41)","v":0},0,0,0,0,0,0,0,0,0,0,0,0,0,0,0,0,0,0,0,0,0,0,0,0,0,0,0,0,0,0,0,0,0,0,0,0,0,0,0,0,0,0,0,0,0,0,0,0,0,0,0,0,0,0,0,0,0,0,0,0,0,0,0,{"$f":"SUM(VZF38:VZF41)","v":0},0,0,0,0,0,0,0,0,0,0,0,0,0,0,0,0,0,0,0,0,0,0,0,0,0,0,0,0,0,0,0,0,0,0,0,0,0,0,0,0,0,0,0,0,0,0,0,0,0,0,0,0,0,0,0,0,0,0,0,0,0,0,0,{"$f":"SUM(WBR38:WBR41)","v":0},0,0,0,0,0,0,0,0,0,0,0,0,0,0,0,0,0,0,0,0,0,0,0,0,0,0,0,0,0,0,0,0,0,0,0,0,0,0,0,0,0,0,0,0,0,0,0,0,0,0,0,0,0,0,0,0,0,0,0,0,0,0,0,{"$f":"SUM(WED38:WED41)","v":0},0,0,0,0,0,0,0,0,0,0,0,0,0,0,0,0,0,0,0,0,0,0,0,0,0,0,0,0,0,0,0,0,0,0,0,0,0,0,0,0,0,0,0,0,0,0,0,0,0,0,0,0,0,0,0,0,0,0,0,0,0,0,0,{"$f":"SUM(WGP38:WGP41)","v":0},0,0,0,0,0,0,0,0,0,0,0,0,0,0,0,0,0,0,0,0,0,0,0,0,0,0,0,0,0,0,0,0,0,0,0,0,0,0,0,0,0,0,0,0,0,0,0,0,0,0,0,0,0,0,0,0,0,0,0,0,0,0,0,{"$f":"SUM(WJB38:WJB41)","v":0},0,0,0,0,0,0,0,0,0,0,0,0,0,0,0,0,0,0,0,0,0,0,0,0,0,0,0,0,0,0,0,0,0,0,0,0,0,0,0,0,0,0,0,0,0,0,0,0,0,0,0,0,0,0,0,0,0,0,0,0,0,0,0,{"$f":"SUM(WLN38:WLN41)","v":0},0,0,0,0,0,0,0,0,0,0,0,0,0,0,0,0,0,0,0,0,0,0,0,0,0,0,0,0,0,0,0,0,0,0,0,0,0,0,0,0,0,0,0,0,0,0,0,0,0,0,0,0,0,0,0,0,0,0,0,0,0,0,0,{"$f":"SUM(WNZ38:WNZ41)","v":0},0,0,0,0,0,0,0,0,0,0,0,0,0,0,0,0,0,0,0,0,0,0,0,0,0,0,0,0,0,0,0,0,0,0,0,0,0,0,0,0,0,0,0,0,0,0,0,0,0,0,0,0,0,0,0,0,0,0,0,0,0,0,0,{"$f":"SUM(WQL38:WQL41)","v":0},0,0,0,0,0,0,0,0,0,0,0,0,0,0,0,0,0,0,0,0,0,0,0,0,0,0,0,0,0,0,0,0,0,0,0,0,0,0,0,0,0,0,0,0,0,0,0,0,0,0,0,0,0,0,0,0,0,0,0,0,0,0,0,{"$f":"SUM(WSX38:WSX41)","v":0},0,0,0,0,0,0,0,0,0,0,0,0,0,0,0,0,0,0,0,0,0,0,0,0,0,0,0,0,0,0,0,0,0,0,0,0,0,0,0,0,0,0,0,0,0,0,0,0,0,0,0,0,0,0,0,0,0,0,0,0,0,0,0,{"$f":"SUM(WVJ38:WVJ41)","v":0},0,0,0,0,0,0,0,0,0,0,0,0,0,0,0,0,0,0,0,0,0,0,0,0,0,0,0,0,0,0,0,0,0,0,0,0,0,0,0,0,0,0,0,0,0,0,0,0,0,0,0,0,0,0,0,0,0,0,0,0,0,0,0,{"$f":"SUM(WXV38:WXV41)","v":0},0,0,0,0,0,0,0,0,0,0,0,0,0,0,0,0,0,0,0,0,0,0,0,0,0,0,0,0,0,0,0,0,0,0,0,0,0,0,0,0,0,0,0,0,0,0,0,0,0,0,0,0,0,0,0,0,0,0,0,0,0,0,0,{"$f":"SUM(XAH38:XAH41)","v":0},0,0,0,0,0,0,0,0,0,0,0,0,0,0,0,0,0,0,0,0,0,0,0,0,0,0,0,0,0,0,0,0,0,0,0,0,0,0,0,0,0,0,0,0,0,0,0,0,0,0,0,0,0,0,0,0,0,0,0,0,0,0,0,{"$f":"SUM(XCT38:XCT41)","v":0},0,0,0,0,0,0,0,0,0,0,0,0,0,0,0,0,0,0,0,0,0,0,0,0,0,0,0,0,0,0,0,0,0,0,0,0,0,0,0,0,0,0,0,0,0,0,0,0,0,0,0,0,0,0,0,0,0,0,0,0,0,0]
["d1) Transacciones de la Deuda Pública / Costo Financiero de la Deuda",0,0,0,0,0,0]
["d2) Transferencias, Participaciones y Aportaciones Entre Diferentes Niveles y Órdenes de Gobierno",0,0,0,0,0,0]
["d3) Saneamiento del Sistema Financiero",0,0,0,0,0,0]
["d4) Adeudos de Ejercicios Fiscales Anteriores",0,0,0,0,0,0]
[]
["II: Gasto Etiquetado (II=A+B+C+D)",{"$f":"SUM(B44,B53,B61,B71)","v":268000000},{"$f":"SUM(C44,C53,C61,C71)","v":36536249.969999984},304536249.96999997,44268606.899999999,38171179.790000007,260267643.06999999]
["A. Gobierno (A=a1+a2+a3+a4+a5+a6+a7a+a8)",{"$f":"SUM(B45:B52)","v":80792857.159999996},{"$f":"SUM(C45:C52)","v":10885499.999999993},91678357.159999996,18713706.870000001,18228753.030000001,72964650.289999992]
["a1) Legislación",0,{"$f":"D45-B45","v":0},0,0,0,{"$f":"D45-E45","v":0}]
["a2) Justicia",0,0,0,0,0,0]
["a3) Coordinación de la Política de Gobierno",14450000,185500,14635500,4539919.59,4539919.59,10095580.41]
["a4) Relaciones Exteriores",0,0,0,0,0,0]
["a5) Asuntos Financieros y Hacendarios",719988.28,8317999.9999999991,9037988.2799999993,168458.37,142226.37,8869529.9100000001]
["a6) Seguridad Nacional",0,0,0,0,0,0]
["a7) Asuntos de Orden Público y de Seguridad Interior",65622868.880000003,2381999.9999999925,68004868.879999995,14005328.91,13546607.07,53999539.969999999]
["a8) Otros Servicios Generales",0,0,0,0,0,0]
["B. Desarrollo Social (B=b1+b2+b3+b4+b5+b6+b7)",{"$f":"SUM(B54:B60)","v":185000000},{"$f":"SUM(C54:C60)","v":17476386.959999993},{"$f":"SUM(D54:D60)","v":202476386.95999998},{"$f":"SUM(E54:E60)","v":21448557.66},{"$f":"SUM(F54:F60)","v":17425143.199999999},181027829.29999998]
["b1) Protección Ambiental ",0,2473836.39,2473836.39,0,0,2473836.39]
["b2) Vivienda y Servicios a la Comunidad",185000000,12988785.039999992,197988785.03999999,20139198.600000001,16523630.5,177849586.44]
["b3) Salud",0,0,0,0,0,0]
["b4) Recreación, Cultura y Otras Manifestaciones Sociales",0,1464326.53,1464326.53,799030.95,391184.59,665295.58000000007]
["b5) Educación ",0,0,0,0,0,0]
["b6) Protección Social",0,549439,549439,510328.11,510328.11,39110.890000000014]
["b7) Otros Asuntos Sociales",0,0,0,0,0,0]
["C. Desarrollo Económico (C=c1+c2+c3+c4+c5+c6+c7+c8+c9)",{"$f":"SUM(B62:B70)","v":0},{"$f":"SUM(C62:C70)","v":8174363.0099999998},{"$f":"SUM(D62:D70)","v":8174363.0099999998},3534735.4,1945676.59,4639627.6099999994,0,0,0,0,0,0,0,0,0,0,0,0,0,0,0,0,0,0,0,0,0,0,0,0,0,0,0,0,0,0,0,0,0,0,0,0,0,0,0,0,0,0,0,0,0,0,0,0,0,0,0,0,0,0,0,0,0,0,0,{"$f":"SUM(BO62:BO70)","v":0},0,0,0,0,0,0,0,0,0,0,0,0,0,0,0,0,0,0,0,0,0,0,0,0,0,0,0,0,0,0,0,0,0,0,0,0,0,0,0,0,0,0,0,0,0,0,0,0,0,0,0,0,0,0,0,0,0,0,0,0,0,0,0,{"$f":"SUM(EA62:EA70)","v":0},0,0,0,0,0,0,0,0,0,0,0,0,0,0,0,0,0,0,0,0,0,0,0,0,0,0,0,0,0,0,0,0,0,0,0,0,0,0,0,0,0,0,0,0,0,0,0,0,0,0,0,0,0,0,0,0,0,0,0,0,0,0,0,{"$f":"SUM(GM62:GM70)","v":0},0,0,0,0,0,0,0,0,0,0,0,0,0,0,0,0,0,0,0,0,0,0,0,0,0,0,0,0,0,0,0,0,0,0,0,0,0,0,0,0,0,0,0,0,0,0,0,0,0,0,0,0,0,0,0,0,0,0,0,0,0,0,0,{"$f":"SUM(IY62:IY70)","v":0},0,0,0,0,0,0,0,0,0,0,0,0,0,0,0,0,0,0,0,0,0,0,0,0,0,0,0,0,0,0,0,0,0,0,0,0,0,0,0,0,0,0,0,0,0,0,0,0,0,0,0,0,0,0,0,0,0,0,0,0,0,0,0,{"$f":"SUM(LK62:LK70)","v":0},0,0,0,0,0,0,0,0,0,0,0,0,0,0,0,0,0,0,0,0,0,0,0,0,0,0,0,0,0,0,0,0,0,0,0,0,0,0,0,0,0,0,0,0,0,0,0,0,0,0,0,0,0,0,0,0,0,0,0,0,0,0,0,{"$f":"SUM(NW62:NW70)","v":0},0,0,0,0,0,0,0,0,0,0,0,0,0,0,0,0,0,0,0,0,0,0,0,0,0,0,0,0,0,0,0,0,0,0,0,0,0,0,0,0,0,0,0,0,0,0,0,0,0,0,0,0,0,0,0,0,0,0,0,0,0,0,0,{"$f":"SUM(QI62:QI70)","v":0},0,0,0,0,0,0,0,0,0,0,0,0,0,0,0,0,0,0,0,0,0,0,0,0,0,0,0,0,0,0,0,0,0,0,0,0,0,0,0,0,0,0,0,0,0,0,0,0,0,0,0,0,0,0,0,0,0,0,0,0,0,0,0,{"$f":"SUM(SU62:SU70)","v":0},0,0,0,0,0,0,0,0,0,0,0,0,0,0,0,0,0,0,0,0,0,0,0,0,0,0,0,0,0,0,0,0,0,0,0,0,0,0,0,0,0,0,0,0,0,0,0,0,0,0,0,0,0,0,0,0,0,0,0,0,0,0,0,{"$f":"SUM(VG62:VG70)","v":0},0,0,0,0,0,0,0,0,0,0,0,0,0,0,0,0,0,0,0,0,0,0,0,0,0,0,0,0,0,0,0,0,0,0,0,0,0,0,0,0,0,0,0,0,0,0,0,0,0,0,0,0,0,0,0,0,0,0,0,0,0,0,0,{"$f":"SUM(XS62:XS70)","v":0},0,0,0,0,0,0,0,0,0,0,0,0,0,0,0,0,0,0,0,0,0,0,0,0,0,0,0,0,0,0,0,0,0,0,0,0,0,0,0,0,0,0,0,0,0,0,0,0,0,0,0,0,0,0,0,0,0,0,0,0,0,0,0,{"$f":"SUM(AAE62:AAE70)","v":0},0,0,0,0,0,0,0,0,0,0,0,0,0,0,0,0,0,0,0,0,0,0,0,0,0,0,0,0,0,0,0,0,0,0,0,0,0,0,0,0,0,0,0,0,0,0,0,0,0,0,0,0,0,0,0,0,0,0,0,0,0,0,0,{"$f":"SUM(ACQ62:ACQ70)","v":0},0,0,0,0,0,0,0,0,0,0,0,0,0,0,0,0,0,0,0,0,0,0,0,0,0,0,0,0,0,0,0,0,0,0,0,0,0,0,0,0,0,0,0,0,0,0,0,0,0,0,0,0,0,0,0,0,0,0,0,0,0,0,0,{"$f":"SUM(AFC62:AFC70)","v":0},0,0,0,0,0,0,0,0,0,0,0,0,0,0,0,0,0,0,0,0,0,0,0,0,0,0,0,0,0,0,0,0,0,0,0,0,0,0,0,0,0,0,0,0,0,0,0,0,0,0,0,0,0,0,0,0,0,0,0,0,0,0,0,{"$f":"SUM(AHO62:AHO70)","v":0},0,0,0,0,0,0,0,0,0,0,0,0,0,0,0,0,0,0,0,0,0,0,0,0,0,0,0,0,0,0,0,0,0,0,0,0,0,0,0,0,0,0,0,0,0,0,0,0,0,0,0,0,0,0,0,0,0,0,0,0,0,0,0,{"$f":"SUM(AKA62:AKA70)","v":0},0,0,0,0,0,0,0,0,0,0,0,0,0,0,0,0,0,0,0,0,0,0,0,0,0,0,0,0,0,0,0,0,0,0,0,0,0,0,0,0,0,0,0,0,0,0,0,0,0,0,0,0,0,0,0,0,0,0,0,0,0,0,0,{"$f":"SUM(AMM62:AMM70)","v":0},0,0,0,0,0,0,0,0,0,0,0,0,0,0,0,0,0,0,0,0,0,0,0,0,0,0,0,0,0,0,0,0,0,0,0,0,0,0,0,0,0,0,0,0,0,0,0,0,0,0,0,0,0,0,0,0,0,0,0,0,0,0,0,{"$f":"SUM(AOY62:AOY70)","v":0},0,0,0,0,0,0,0,0,0,0,0,0,0,0,0,0,0,0,0,0,0,0,0,0,0,0,0,0,0,0,0,0,0,0,0,0,0,0,0,0,0,0,0,0,0,0,0,0,0,0,0,0,0,0,0,0,0,0,0,0,0,0,0,{"$f":"SUM(ARK62:ARK70)","v":0},0,0,0,0,0,0,0,0,0,0,0,0,0,0,0,0,0,0,0,0,0,0,0,0,0,0,0,0,0,0,0,0,0,0,0,0,0,0,0,0,0,0,0,0,0,0,0,0,0,0,0,0,0,0,0,0,0,0,0,0,0,0,0,{"$f":"SUM(ATW62:ATW70)","v":0},0,0,0,0,0,0,0,0,0,0,0,0,0,0,0,0,0,0,0,0,0,0,0,0,0,0,0,0,0,0,0,0,0,0,0,0,0,0,0,0,0,0,0,0,0,0,0,0,0,0,0,0,0,0,0,0,0,0,0,0,0,0,0,{"$f":"SUM(AWI62:AWI70)","v":0},0,0,0,0,0,0,0,0,0,0,0,0,0,0,0,0,0,0,0,0,0,0,0,0,0,0,0,0,0,0,0,0,0,0,0,0,0,0,0,0,0,0,0,0,0,0,0,0,0,0,0,0,0,0,0,0,0,0,0,0,0,0,0,{"$f":"SUM(AYU62:AYU70)","v":0},0,0,0,0,0,0,0,0,0,0,0,0,0,0,0,0,0,0,0,0,0,0,0,0,0,0,0,0,0,0,0,0,0,0,0,0,0,0,0,0,0,0,0,0,0,0,0,0,0,0,0,0,0,0,0,0,0,0,0,0,0,0,0,{"$f":"SUM(BBG62:BBG70)","v":0},0,0,0,0,0,0,0,0,0,0,0,0,0,0,0,0,0,0,0,0,0,0,0,0,0,0,0,0,0,0,0,0,0,0,0,0,0,0,0,0,0,0,0,0,0,0,0,0,0,0,0,0,0,0,0,0,0,0,0,0,0,0,0,{"$f":"SUM(BDS62:BDS70)","v":0},0,0,0,0,0,0,0,0,0,0,0,0,0,0,0,0,0,0,0,0,0,0,0,0,0,0,0,0,0,0,0,0,0,0,0,0,0,0,0,0,0,0,0,0,0,0,0,0,0,0,0,0,0,0,0,0,0,0,0,0,0,0,0,{"$f":"SUM(BGE62:BGE70)","v":0},0,0,0,0,0,0,0,0,0,0,0,0,0,0,0,0,0,0,0,0,0,0,0,0,0,0,0,0,0,0,0,0,0,0,0,0,0,0,0,0,0,0,0,0,0,0,0,0,0,0,0,0,0,0,0,0,0,0,0,0,0,0,0,{"$f":"SUM(BIQ62:BIQ70)","v":0},0,0,0,0,0,0,0,0,0,0,0,0,0,0,0,0,0,0,0,0,0,0,0,0,0,0,0,0,0,0,0,0,0,0,0,0,0,0,0,0,0,0,0,0,0,0,0,0,0,0,0,0,0,0,0,0,0,0,0,0,0,0,0,{"$f":"SUM(BLC62:BLC70)","v":0},0,0,0,0,0,0,0,0,0,0,0,0,0,0,0,0,0,0,0,0,0,0,0,0,0,0,0,0,0,0,0,0,0,0,0,0,0,0,0,0,0,0,0,0,0,0,0,0,0,0,0,0,0,0,0,0,0,0,0,0,0,0,0,{"$f":"SUM(BNO62:BNO70)","v":0},0,0,0,0,0,0,0,0,0,0,0,0,0,0,0,0,0,0,0,0,0,0,0,0,0,0,0,0,0,0,0,0,0,0,0,0,0,0,0,0,0,0,0,0,0,0,0,0,0,0,0,0,0,0,0,0,0,0,0,0,0,0,0,{"$f":"SUM(BQA62:BQA70)","v":0},0,0,0,0,0,0,0,0,0,0,0,0,0,0,0,0,0,0,0,0,0,0,0,0,0,0,0,0,0,0,0,0,0,0,0,0,0,0,0,0,0,0,0,0,0,0,0,0,0,0,0,0,0,0,0,0,0,0,0,0,0,0,0,{"$f":"SUM(BSM62:BSM70)","v":0},0,0,0,0,0,0,0,0,0,0,0,0,0,0,0,0,0,0,0,0,0,0,0,0,0,0,0,0,0,0,0,0,0,0,0,0,0,0,0,0,0,0,0,0,0,0,0,0,0,0,0,0,0,0,0,0,0,0,0,0,0,0,0,{"$f":"SUM(BUY62:BUY70)","v":0},0,0,0,0,0,0,0,0,0,0,0,0,0,0,0,0,0,0,0,0,0,0,0,0,0,0,0,0,0,0,0,0,0,0,0,0,0,0,0,0,0,0,0,0,0,0,0,0,0,0,0,0,0,0,0,0,0,0,0,0,0,0,0,{"$f":"SUM(BXK62:BXK70)","v":0},0,0,0,0,0,0,0,0,0,0,0,0,0,0,0,0,0,0,0,0,0,0,0,0,0,0,0,0,0,0,0,0,0,0,0,0,0,0,0,0,0,0,0,0,0,0,0,0,0,0,0,0,0,0,0,0,0,0,0,0,0,0,0,{"$f":"SUM(BZW62:BZW70)","v":0},0,0,0,0,0,0,0,0,0,0,0,0,0,0,0,0,0,0,0,0,0,0,0,0,0,0,0,0,0,0,0,0,0,0,0,0,0,0,0,0,0,0,0,0,0,0,0,0,0,0,0,0,0,0,0,0,0,0,0,0,0,0,0,{"$f":"SUM(CCI62:CCI70)","v":0},0,0,0,0,0,0,0,0,0,0,0,0,0,0,0,0,0,0,0,0,0,0,0,0,0,0,0,0,0,0,0,0,0,0,0,0,0,0,0,0,0,0,0,0,0,0,0,0,0,0,0,0,0,0,0,0,0,0,0,0,0,0,0,{"$f":"SUM(CEU62:CEU70)","v":0},0,0,0,0,0,0,0,0,0,0,0,0,0,0,0,0,0,0,0,0,0,0,0,0,0,0,0,0,0,0,0,0,0,0,0,0,0,0,0,0,0,0,0,0,0,0,0,0,0,0,0,0,0,0,0,0,0,0,0,0,0,0,0,{"$f":"SUM(CHG62:CHG70)","v":0},0,0,0,0,0,0,0,0,0,0,0,0,0,0,0,0,0,0,0,0,0,0,0,0,0,0,0,0,0,0,0,0,0,0,0,0,0,0,0,0,0,0,0,0,0,0,0,0,0,0,0,0,0,0,0,0,0,0,0,0,0,0,0,{"$f":"SUM(CJS62:CJS70)","v":0},0,0,0,0,0,0,0,0,0,0,0,0,0,0,0,0,0,0,0,0,0,0,0,0,0,0,0,0,0,0,0,0,0,0,0,0,0,0,0,0,0,0,0,0,0,0,0,0,0,0,0,0,0,0,0,0,0,0,0,0,0,0,0,{"$f":"SUM(CME62:CME70)","v":0},0,0,0,0,0,0,0,0,0,0,0,0,0,0,0,0,0,0,0,0,0,0,0,0,0,0,0,0,0,0,0,0,0,0,0,0,0,0,0,0,0,0,0,0,0,0,0,0,0,0,0,0,0,0,0,0,0,0,0,0,0,0,0,{"$f":"SUM(COQ62:COQ70)","v":0},0,0,0,0,0,0,0,0,0,0,0,0,0,0,0,0,0,0,0,0,0,0,0,0,0,0,0,0,0,0,0,0,0,0,0,0,0,0,0,0,0,0,0,0,0,0,0,0,0,0,0,0,0,0,0,0,0,0,0,0,0,0,0,{"$f":"SUM(CRC62:CRC70)","v":0},0,0,0,0,0,0,0,0,0,0,0,0,0,0,0,0,0,0,0,0,0,0,0,0,0,0,0,0,0,0,0,0,0,0,0,0,0,0,0,0,0,0,0,0,0,0,0,0,0,0,0,0,0,0,0,0,0,0,0,0,0,0,0,{"$f":"SUM(CTO62:CTO70)","v":0},0,0,0,0,0,0,0,0,0,0,0,0,0,0,0,0,0,0,0,0,0,0,0,0,0,0,0,0,0,0,0,0,0,0,0,0,0,0,0,0,0,0,0,0,0,0,0,0,0,0,0,0,0,0,0,0,0,0,0,0,0,0,0,{"$f":"SUM(CWA62:CWA70)","v":0},0,0,0,0,0,0,0,0,0,0,0,0,0,0,0,0,0,0,0,0,0,0,0,0,0,0,0,0,0,0,0,0,0,0,0,0,0,0,0,0,0,0,0,0,0,0,0,0,0,0,0,0,0,0,0,0,0,0,0,0,0,0,0,{"$f":"SUM(CYM62:CYM70)","v":0},0,0,0,0,0,0,0,0,0,0,0,0,0,0,0,0,0,0,0,0,0,0,0,0,0,0,0,0,0,0,0,0,0,0,0,0,0,0,0,0,0,0,0,0,0,0,0,0,0,0,0,0,0,0,0,0,0,0,0,0,0,0,0,{"$f":"SUM(DAY62:DAY70)","v":0},0,0,0,0,0,0,0,0,0,0,0,0,0,0,0,0,0,0,0,0,0,0,0,0,0,0,0,0,0,0,0,0,0,0,0,0,0,0,0,0,0,0,0,0,0,0,0,0,0,0,0,0,0,0,0,0,0,0,0,0,0,0,0,{"$f":"SUM(DDK62:DDK70)","v":0},0,0,0,0,0,0,0,0,0,0,0,0,0,0,0,0,0,0,0,0,0,0,0,0,0,0,0,0,0,0,0,0,0,0,0,0,0,0,0,0,0,0,0,0,0,0,0,0,0,0,0,0,0,0,0,0,0,0,0,0,0,0,0,{"$f":"SUM(DFW62:DFW70)","v":0},0,0,0,0,0,0,0,0,0,0,0,0,0,0,0,0,0,0,0,0,0,0,0,0,0,0,0,0,0,0,0,0,0,0,0,0,0,0,0,0,0,0,0,0,0,0,0,0,0,0,0,0,0,0,0,0,0,0,0,0,0,0,0,{"$f":"SUM(DII62:DII70)","v":0},0,0,0,0,0,0,0,0,0,0,0,0,0,0,0,0,0,0,0,0,0,0,0,0,0,0,0,0,0,0,0,0,0,0,0,0,0,0,0,0,0,0,0,0,0,0,0,0,0,0,0,0,0,0,0,0,0,0,0,0,0,0,0,{"$f":"SUM(DKU62:DKU70)","v":0},0,0,0,0,0,0,0,0,0,0,0,0,0,0,0,0,0,0,0,0,0,0,0,0,0,0,0,0,0,0,0,0,0,0,0,0,0,0,0,0,0,0,0,0,0,0,0,0,0,0,0,0,0,0,0,0,0,0,0,0,0,0,0,{"$f":"SUM(DNG62:DNG70)","v":0},0,0,0,0,0,0,0,0,0,0,0,0,0,0,0,0,0,0,0,0,0,0,0,0,0,0,0,0,0,0,0,0,0,0,0,0,0,0,0,0,0,0,0,0,0,0,0,0,0,0,0,0,0,0,0,0,0,0,0,0,0,0,0,{"$f":"SUM(DPS62:DPS70)","v":0},0,0,0,0,0,0,0,0,0,0,0,0,0,0,0,0,0,0,0,0,0,0,0,0,0,0,0,0,0,0,0,0,0,0,0,0,0,0,0,0,0,0,0,0,0,0,0,0,0,0,0,0,0,0,0,0,0,0,0,0,0,0,0,{"$f":"SUM(DSE62:DSE70)","v":0},0,0,0,0,0,0,0,0,0,0,0,0,0,0,0,0,0,0,0,0,0,0,0,0,0,0,0,0,0,0,0,0,0,0,0,0,0,0,0,0,0,0,0,0,0,0,0,0,0,0,0,0,0,0,0,0,0,0,0,0,0,0,0,{"$f":"SUM(DUQ62:DUQ70)","v":0},0,0,0,0,0,0,0,0,0,0,0,0,0,0,0,0,0,0,0,0,0,0,0,0,0,0,0,0,0,0,0,0,0,0,0,0,0,0,0,0,0,0,0,0,0,0,0,0,0,0,0,0,0,0,0,0,0,0,0,0,0,0,0,{"$f":"SUM(DXC62:DXC70)","v":0},0,0,0,0,0,0,0,0,0,0,0,0,0,0,0,0,0,0,0,0,0,0,0,0,0,0,0,0,0,0,0,0,0,0,0,0,0,0,0,0,0,0,0,0,0,0,0,0,0,0,0,0,0,0,0,0,0,0,0,0,0,0,0,{"$f":"SUM(DZO62:DZO70)","v":0},0,0,0,0,0,0,0,0,0,0,0,0,0,0,0,0,0,0,0,0,0,0,0,0,0,0,0,0,0,0,0,0,0,0,0,0,0,0,0,0,0,0,0,0,0,0,0,0,0,0,0,0,0,0,0,0,0,0,0,0,0,0,0,{"$f":"SUM(ECA62:ECA70)","v":0},0,0,0,0,0,0,0,0,0,0,0,0,0,0,0,0,0,0,0,0,0,0,0,0,0,0,0,0,0,0,0,0,0,0,0,0,0,0,0,0,0,0,0,0,0,0,0,0,0,0,0,0,0,0,0,0,0,0,0,0,0,0,0,{"$f":"SUM(EEM62:EEM70)","v":0},0,0,0,0,0,0,0,0,0,0,0,0,0,0,0,0,0,0,0,0,0,0,0,0,0,0,0,0,0,0,0,0,0,0,0,0,0,0,0,0,0,0,0,0,0,0,0,0,0,0,0,0,0,0,0,0,0,0,0,0,0,0,0,{"$f":"SUM(EGY62:EGY70)","v":0},0,0,0,0,0,0,0,0,0,0,0,0,0,0,0,0,0,0,0,0,0,0,0,0,0,0,0,0,0,0,0,0,0,0,0,0,0,0,0,0,0,0,0,0,0,0,0,0,0,0,0,0,0,0,0,0,0,0,0,0,0,0,0,{"$f":"SUM(EJK62:EJK70)","v":0},0,0,0,0,0,0,0,0,0,0,0,0,0,0,0,0,0,0,0,0,0,0,0,0,0,0,0,0,0,0,0,0,0,0,0,0,0,0,0,0,0,0,0,0,0,0,0,0,0,0,0,0,0,0,0,0,0,0,0,0,0,0,0,{"$f":"SUM(ELW62:ELW70)","v":0},0,0,0,0,0,0,0,0,0,0,0,0,0,0,0,0,0,0,0,0,0,0,0,0,0,0,0,0,0,0,0,0,0,0,0,0,0,0,0,0,0,0,0,0,0,0,0,0,0,0,0,0,0,0,0,0,0,0,0,0,0,0,0,{"$f":"SUM(EOI62:EOI70)","v":0},0,0,0,0,0,0,0,0,0,0,0,0,0,0,0,0,0,0,0,0,0,0,0,0,0,0,0,0,0,0,0,0,0,0,0,0,0,0,0,0,0,0,0,0,0,0,0,0,0,0,0,0,0,0,0,0,0,0,0,0,0,0,0,{"$f":"SUM(EQU62:EQU70)","v":0},0,0,0,0,0,0,0,0,0,0,0,0,0,0,0,0,0,0,0,0,0,0,0,0,0,0,0,0,0,0,0,0,0,0,0,0,0,0,0,0,0,0,0,0,0,0,0,0,0,0,0,0,0,0,0,0,0,0,0,0,0,0,0,{"$f":"SUM(ETG62:ETG70)","v":0},0,0,0,0,0,0,0,0,0,0,0,0,0,0,0,0,0,0,0,0,0,0,0,0,0,0,0,0,0,0,0,0,0,0,0,0,0,0,0,0,0,0,0,0,0,0,0,0,0,0,0,0,0,0,0,0,0,0,0,0,0,0,0,{"$f":"SUM(EVS62:EVS70)","v":0},0,0,0,0,0,0,0,0,0,0,0,0,0,0,0,0,0,0,0,0,0,0,0,0,0,0,0,0,0,0,0,0,0,0,0,0,0,0,0,0,0,0,0,0,0,0,0,0,0,0,0,0,0,0,0,0,0,0,0,0,0,0,0,{"$f":"SUM(EYE62:EYE70)","v":0},0,0,0,0,0,0,0,0,0,0,0,0,0,0,0,0,0,0,0,0,0,0,0,0,0,0,0,0,0,0,0,0,0,0,0,0,0,0,0,0,0,0,0,0,0,0,0,0,0,0,0,0,0,0,0,0,0,0,0,0,0,0,0,{"$f":"SUM(FAQ62:FAQ70)","v":0},0,0,0,0,0,0,0,0,0,0,0,0,0,0,0,0,0,0,0,0,0,0,0,0,0,0,0,0,0,0,0,0,0,0,0,0,0,0,0,0,0,0,0,0,0,0,0,0,0,0,0,0,0,0,0,0,0,0,0,0,0,0,0,{"$f":"SUM(FDC62:FDC70)","v":0},0,0,0,0,0,0,0,0,0,0,0,0,0,0,0,0,0,0,0,0,0,0,0,0,0,0,0,0,0,0,0,0,0,0,0,0,0,0,0,0,0,0,0,0,0,0,0,0,0,0,0,0,0,0,0,0,0,0,0,0,0,0,0,{"$f":"SUM(FFO62:FFO70)","v":0},0,0,0,0,0,0,0,0,0,0,0,0,0,0,0,0,0,0,0,0,0,0,0,0,0,0,0,0,0,0,0,0,0,0,0,0,0,0,0,0,0,0,0,0,0,0,0,0,0,0,0,0,0,0,0,0,0,0,0,0,0,0,0,{"$f":"SUM(FIA62:FIA70)","v":0},0,0,0,0,0,0,0,0,0,0,0,0,0,0,0,0,0,0,0,0,0,0,0,0,0,0,0,0,0,0,0,0,0,0,0,0,0,0,0,0,0,0,0,0,0,0,0,0,0,0,0,0,0,0,0,0,0,0,0,0,0,0,0,{"$f":"SUM(FKM62:FKM70)","v":0},0,0,0,0,0,0,0,0,0,0,0,0,0,0,0,0,0,0,0,0,0,0,0,0,0,0,0,0,0,0,0,0,0,0,0,0,0,0,0,0,0,0,0,0,0,0,0,0,0,0,0,0,0,0,0,0,0,0,0,0,0,0,0,{"$f":"SUM(FMY62:FMY70)","v":0},0,0,0,0,0,0,0,0,0,0,0,0,0,0,0,0,0,0,0,0,0,0,0,0,0,0,0,0,0,0,0,0,0,0,0,0,0,0,0,0,0,0,0,0,0,0,0,0,0,0,0,0,0,0,0,0,0,0,0,0,0,0,0,{"$f":"SUM(FPK62:FPK70)","v":0},0,0,0,0,0,0,0,0,0,0,0,0,0,0,0,0,0,0,0,0,0,0,0,0,0,0,0,0,0,0,0,0,0,0,0,0,0,0,0,0,0,0,0,0,0,0,0,0,0,0,0,0,0,0,0,0,0,0,0,0,0,0,0,{"$f":"SUM(FRW62:FRW70)","v":0},0,0,0,0,0,0,0,0,0,0,0,0,0,0,0,0,0,0,0,0,0,0,0,0,0,0,0,0,0,0,0,0,0,0,0,0,0,0,0,0,0,0,0,0,0,0,0,0,0,0,0,0,0,0,0,0,0,0,0,0,0,0,0,{"$f":"SUM(FUI62:FUI70)","v":0},0,0,0,0,0,0,0,0,0,0,0,0,0,0,0,0,0,0,0,0,0,0,0,0,0,0,0,0,0,0,0,0,0,0,0,0,0,0,0,0,0,0,0,0,0,0,0,0,0,0,0,0,0,0,0,0,0,0,0,0,0,0,0,{"$f":"SUM(FWU62:FWU70)","v":0},0,0,0,0,0,0,0,0,0,0,0,0,0,0,0,0,0,0,0,0,0,0,0,0,0,0,0,0,0,0,0,0,0,0,0,0,0,0,0,0,0,0,0,0,0,0,0,0,0,0,0,0,0,0,0,0,0,0,0,0,0,0,0,{"$f":"SUM(FZG62:FZG70)","v":0},0,0,0,0,0,0,0,0,0,0,0,0,0,0,0,0,0,0,0,0,0,0,0,0,0,0,0,0,0,0,0,0,0,0,0,0,0,0,0,0,0,0,0,0,0,0,0,0,0,0,0,0,0,0,0,0,0,0,0,0,0,0,0,{"$f":"SUM(GBS62:GBS70)","v":0},0,0,0,0,0,0,0,0,0,0,0,0,0,0,0,0,0,0,0,0,0,0,0,0,0,0,0,0,0,0,0,0,0,0,0,0,0,0,0,0,0,0,0,0,0,0,0,0,0,0,0,0,0,0,0,0,0,0,0,0,0,0,0,{"$f":"SUM(GEE62:GEE70)","v":0},0,0,0,0,0,0,0,0,0,0,0,0,0,0,0,0,0,0,0,0,0,0,0,0,0,0,0,0,0,0,0,0,0,0,0,0,0,0,0,0,0,0,0,0,0,0,0,0,0,0,0,0,0,0,0,0,0,0,0,0,0,0,0,{"$f":"SUM(GGQ62:GGQ70)","v":0},0,0,0,0,0,0,0,0,0,0,0,0,0,0,0,0,0,0,0,0,0,0,0,0,0,0,0,0,0,0,0,0,0,0,0,0,0,0,0,0,0,0,0,0,0,0,0,0,0,0,0,0,0,0,0,0,0,0,0,0,0,0,0,{"$f":"SUM(GJC62:GJC70)","v":0},0,0,0,0,0,0,0,0,0,0,0,0,0,0,0,0,0,0,0,0,0,0,0,0,0,0,0,0,0,0,0,0,0,0,0,0,0,0,0,0,0,0,0,0,0,0,0,0,0,0,0,0,0,0,0,0,0,0,0,0,0,0,0,{"$f":"SUM(GLO62:GLO70)","v":0},0,0,0,0,0,0,0,0,0,0,0,0,0,0,0,0,0,0,0,0,0,0,0,0,0,0,0,0,0,0,0,0,0,0,0,0,0,0,0,0,0,0,0,0,0,0,0,0,0,0,0,0,0,0,0,0,0,0,0,0,0,0,0,{"$f":"SUM(GOA62:GOA70)","v":0},0,0,0,0,0,0,0,0,0,0,0,0,0,0,0,0,0,0,0,0,0,0,0,0,0,0,0,0,0,0,0,0,0,0,0,0,0,0,0,0,0,0,0,0,0,0,0,0,0,0,0,0,0,0,0,0,0,0,0,0,0,0,0,{"$f":"SUM(GQM62:GQM70)","v":0},0,0,0,0,0,0,0,0,0,0,0,0,0,0,0,0,0,0,0,0,0,0,0,0,0,0,0,0,0,0,0,0,0,0,0,0,0,0,0,0,0,0,0,0,0,0,0,0,0,0,0,0,0,0,0,0,0,0,0,0,0,0,0,{"$f":"SUM(GSY62:GSY70)","v":0},0,0,0,0,0,0,0,0,0,0,0,0,0,0,0,0,0,0,0,0,0,0,0,0,0,0,0,0,0,0,0,0,0,0,0,0,0,0,0,0,0,0,0,0,0,0,0,0,0,0,0,0,0,0,0,0,0,0,0,0,0,0,0,{"$f":"SUM(GVK62:GVK70)","v":0},0,0,0,0,0,0,0,0,0,0,0,0,0,0,0,0,0,0,0,0,0,0,0,0,0,0,0,0,0,0,0,0,0,0,0,0,0,0,0,0,0,0,0,0,0,0,0,0,0,0,0,0,0,0,0,0,0,0,0,0,0,0,0,{"$f":"SUM(GXW62:GXW70)","v":0},0,0,0,0,0,0,0,0,0,0,0,0,0,0,0,0,0,0,0,0,0,0,0,0,0,0,0,0,0,0,0,0,0,0,0,0,0,0,0,0,0,0,0,0,0,0,0,0,0,0,0,0,0,0,0,0,0,0,0,0,0,0,0,{"$f":"SUM(HAI62:HAI70)","v":0},0,0,0,0,0,0,0,0,0,0,0,0,0,0,0,0,0,0,0,0,0,0,0,0,0,0,0,0,0,0,0,0,0,0,0,0,0,0,0,0,0,0,0,0,0,0,0,0,0,0,0,0,0,0,0,0,0,0,0,0,0,0,0,{"$f":"SUM(HCU62:HCU70)","v":0},0,0,0,0,0,0,0,0,0,0,0,0,0,0,0,0,0,0,0,0,0,0,0,0,0,0,0,0,0,0,0,0,0,0,0,0,0,0,0,0,0,0,0,0,0,0,0,0,0,0,0,0,0,0,0,0,0,0,0,0,0,0,0,{"$f":"SUM(HFG62:HFG70)","v":0},0,0,0,0,0,0,0,0,0,0,0,0,0,0,0,0,0,0,0,0,0,0,0,0,0,0,0,0,0,0,0,0,0,0,0,0,0,0,0,0,0,0,0,0,0,0,0,0,0,0,0,0,0,0,0,0,0,0,0,0,0,0,0,{"$f":"SUM(HHS62:HHS70)","v":0},0,0,0,0,0,0,0,0,0,0,0,0,0,0,0,0,0,0,0,0,0,0,0,0,0,0,0,0,0,0,0,0,0,0,0,0,0,0,0,0,0,0,0,0,0,0,0,0,0,0,0,0,0,0,0,0,0,0,0,0,0,0,0,{"$f":"SUM(HKE62:HKE70)","v":0},0,0,0,0,0,0,0,0,0,0,0,0,0,0,0,0,0,0,0,0,0,0,0,0,0,0,0,0,0,0,0,0,0,0,0,0,0,0,0,0,0,0,0,0,0,0,0,0,0,0,0,0,0,0,0,0,0,0,0,0,0,0,0,{"$f":"SUM(HMQ62:HMQ70)","v":0},0,0,0,0,0,0,0,0,0,0,0,0,0,0,0,0,0,0,0,0,0,0,0,0,0,0,0,0,0,0,0,0,0,0,0,0,0,0,0,0,0,0,0,0,0,0,0,0,0,0,0,0,0,0,0,0,0,0,0,0,0,0,0,{"$f":"SUM(HPC62:HPC70)","v":0},0,0,0,0,0,0,0,0,0,0,0,0,0,0,0,0,0,0,0,0,0,0,0,0,0,0,0,0,0,0,0,0,0,0,0,0,0,0,0,0,0,0,0,0,0,0,0,0,0,0,0,0,0,0,0,0,0,0,0,0,0,0,0,{"$f":"SUM(HRO62:HRO70)","v":0},0,0,0,0,0,0,0,0,0,0,0,0,0,0,0,0,0,0,0,0,0,0,0,0,0,0,0,0,0,0,0,0,0,0,0,0,0,0,0,0,0,0,0,0,0,0,0,0,0,0,0,0,0,0,0,0,0,0,0,0,0,0,0,{"$f":"SUM(HUA62:HUA70)","v":0},0,0,0,0,0,0,0,0,0,0,0,0,0,0,0,0,0,0,0,0,0,0,0,0,0,0,0,0,0,0,0,0,0,0,0,0,0,0,0,0,0,0,0,0,0,0,0,0,0,0,0,0,0,0,0,0,0,0,0,0,0,0,0,{"$f":"SUM(HWM62:HWM70)","v":0},0,0,0,0,0,0,0,0,0,0,0,0,0,0,0,0,0,0,0,0,0,0,0,0,0,0,0,0,0,0,0,0,0,0,0,0,0,0,0,0,0,0,0,0,0,0,0,0,0,0,0,0,0,0,0,0,0,0,0,0,0,0,0,{"$f":"SUM(HYY62:HYY70)","v":0},0,0,0,0,0,0,0,0,0,0,0,0,0,0,0,0,0,0,0,0,0,0,0,0,0,0,0,0,0,0,0,0,0,0,0,0,0,0,0,0,0,0,0,0,0,0,0,0,0,0,0,0,0,0,0,0,0,0,0,0,0,0,0,{"$f":"SUM(IBK62:IBK70)","v":0},0,0,0,0,0,0,0,0,0,0,0,0,0,0,0,0,0,0,0,0,0,0,0,0,0,0,0,0,0,0,0,0,0,0,0,0,0,0,0,0,0,0,0,0,0,0,0,0,0,0,0,0,0,0,0,0,0,0,0,0,0,0,0,{"$f":"SUM(IDW62:IDW70)","v":0},0,0,0,0,0,0,0,0,0,0,0,0,0,0,0,0,0,0,0,0,0,0,0,0,0,0,0,0,0,0,0,0,0,0,0,0,0,0,0,0,0,0,0,0,0,0,0,0,0,0,0,0,0,0,0,0,0,0,0,0,0,0,0,{"$f":"SUM(IGI62:IGI70)","v":0},0,0,0,0,0,0,0,0,0,0,0,0,0,0,0,0,0,0,0,0,0,0,0,0,0,0,0,0,0,0,0,0,0,0,0,0,0,0,0,0,0,0,0,0,0,0,0,0,0,0,0,0,0,0,0,0,0,0,0,0,0,0,0,{"$f":"SUM(IIU62:IIU70)","v":0},0,0,0,0,0,0,0,0,0,0,0,0,0,0,0,0,0,0,0,0,0,0,0,0,0,0,0,0,0,0,0,0,0,0,0,0,0,0,0,0,0,0,0,0,0,0,0,0,0,0,0,0,0,0,0,0,0,0,0,0,0,0,0,{"$f":"SUM(ILG62:ILG70)","v":0},0,0,0,0,0,0,0,0,0,0,0,0,0,0,0,0,0,0,0,0,0,0,0,0,0,0,0,0,0,0,0,0,0,0,0,0,0,0,0,0,0,0,0,0,0,0,0,0,0,0,0,0,0,0,0,0,0,0,0,0,0,0,0,{"$f":"SUM(INS62:INS70)","v":0},0,0,0,0,0,0,0,0,0,0,0,0,0,0,0,0,0,0,0,0,0,0,0,0,0,0,0,0,0,0,0,0,0,0,0,0,0,0,0,0,0,0,0,0,0,0,0,0,0,0,0,0,0,0,0,0,0,0,0,0,0,0,0,{"$f":"SUM(IQE62:IQE70)","v":0},0,0,0,0,0,0,0,0,0,0,0,0,0,0,0,0,0,0,0,0,0,0,0,0,0,0,0,0,0,0,0,0,0,0,0,0,0,0,0,0,0,0,0,0,0,0,0,0,0,0,0,0,0,0,0,0,0,0,0,0,0,0,0,{"$f":"SUM(ISQ62:ISQ70)","v":0},0,0,0,0,0,0,0,0,0,0,0,0,0,0,0,0,0,0,0,0,0,0,0,0,0,0,0,0,0,0,0,0,0,0,0,0,0,0,0,0,0,0,0,0,0,0,0,0,0,0,0,0,0,0,0,0,0,0,0,0,0,0,0,{"$f":"SUM(IVC62:IVC70)","v":0},0,0,0,0,0,0,0,0,0,0,0,0,0,0,0,0,0,0,0,0,0,0,0,0,0,0,0,0,0,0,0,0,0,0,0,0,0,0,0,0,0,0,0,0,0,0,0,0,0,0,0,0,0,0,0,0,0,0,0,0,0,0,0,{"$f":"SUM(IXO62:IXO70)","v":0},0,0,0,0,0,0,0,0,0,0,0,0,0,0,0,0,0,0,0,0,0,0,0,0,0,0,0,0,0,0,0,0,0,0,0,0,0,0,0,0,0,0,0,0,0,0,0,0,0,0,0,0,0,0,0,0,0,0,0,0,0,0,0,{"$f":"SUM(JAA62:JAA70)","v":0},0,0,0,0,0,0,0,0,0,0,0,0,0,0,0,0,0,0,0,0,0,0,0,0,0,0,0,0,0,0,0,0,0,0,0,0,0,0,0,0,0,0,0,0,0,0,0,0,0,0,0,0,0,0,0,0,0,0,0,0,0,0,0,{"$f":"SUM(JCM62:JCM70)","v":0},0,0,0,0,0,0,0,0,0,0,0,0,0,0,0,0,0,0,0,0,0,0,0,0,0,0,0,0,0,0,0,0,0,0,0,0,0,0,0,0,0,0,0,0,0,0,0,0,0,0,0,0,0,0,0,0,0,0,0,0,0,0,0,{"$f":"SUM(JEY62:JEY70)","v":0},0,0,0,0,0,0,0,0,0,0,0,0,0,0,0,0,0,0,0,0,0,0,0,0,0,0,0,0,0,0,0,0,0,0,0,0,0,0,0,0,0,0,0,0,0,0,0,0,0,0,0,0,0,0,0,0,0,0,0,0,0,0,0,{"$f":"SUM(JHK62:JHK70)","v":0},0,0,0,0,0,0,0,0,0,0,0,0,0,0,0,0,0,0,0,0,0,0,0,0,0,0,0,0,0,0,0,0,0,0,0,0,0,0,0,0,0,0,0,0,0,0,0,0,0,0,0,0,0,0,0,0,0,0,0,0,0,0,0,{"$f":"SUM(JJW62:JJW70)","v":0},0,0,0,0,0,0,0,0,0,0,0,0,0,0,0,0,0,0,0,0,0,0,0,0,0,0,0,0,0,0,0,0,0,0,0,0,0,0,0,0,0,0,0,0,0,0,0,0,0,0,0,0,0,0,0,0,0,0,0,0,0,0,0,{"$f":"SUM(JMI62:JMI70)","v":0},0,0,0,0,0,0,0,0,0,0,0,0,0,0,0,0,0,0,0,0,0,0,0,0,0,0,0,0,0,0,0,0,0,0,0,0,0,0,0,0,0,0,0,0,0,0,0,0,0,0,0,0,0,0,0,0,0,0,0,0,0,0,0,{"$f":"SUM(JOU62:JOU70)","v":0},0,0,0,0,0,0,0,0,0,0,0,0,0,0,0,0,0,0,0,0,0,0,0,0,0,0,0,0,0,0,0,0,0,0,0,0,0,0,0,0,0,0,0,0,0,0,0,0,0,0,0,0,0,0,0,0,0,0,0,0,0,0,0,{"$f":"SUM(JRG62:JRG70)","v":0},0,0,0,0,0,0,0,0,0,0,0,0,0,0,0,0,0,0,0,0,0,0,0,0,0,0,0,0,0,0,0,0,0,0,0,0,0,0,0,0,0,0,0,0,0,0,0,0,0,0,0,0,0,0,0,0,0,0,0,0,0,0,0,{"$f":"SUM(JTS62:JTS70)","v":0},0,0,0,0,0,0,0,0,0,0,0,0,0,0,0,0,0,0,0,0,0,0,0,0,0,0,0,0,0,0,0,0,0,0,0,0,0,0,0,0,0,0,0,0,0,0,0,0,0,0,0,0,0,0,0,0,0,0,0,0,0,0,0,{"$f":"SUM(JWE62:JWE70)","v":0},0,0,0,0,0,0,0,0,0,0,0,0,0,0,0,0,0,0,0,0,0,0,0,0,0,0,0,0,0,0,0,0,0,0,0,0,0,0,0,0,0,0,0,0,0,0,0,0,0,0,0,0,0,0,0,0,0,0,0,0,0,0,0,{"$f":"SUM(JYQ62:JYQ70)","v":0},0,0,0,0,0,0,0,0,0,0,0,0,0,0,0,0,0,0,0,0,0,0,0,0,0,0,0,0,0,0,0,0,0,0,0,0,0,0,0,0,0,0,0,0,0,0,0,0,0,0,0,0,0,0,0,0,0,0,0,0,0,0,0,{"$f":"SUM(KBC62:KBC70)","v":0},0,0,0,0,0,0,0,0,0,0,0,0,0,0,0,0,0,0,0,0,0,0,0,0,0,0,0,0,0,0,0,0,0,0,0,0,0,0,0,0,0,0,0,0,0,0,0,0,0,0,0,0,0,0,0,0,0,0,0,0,0,0,0,{"$f":"SUM(KDO62:KDO70)","v":0},0,0,0,0,0,0,0,0,0,0,0,0,0,0,0,0,0,0,0,0,0,0,0,0,0,0,0,0,0,0,0,0,0,0,0,0,0,0,0,0,0,0,0,0,0,0,0,0,0,0,0,0,0,0,0,0,0,0,0,0,0,0,0,{"$f":"SUM(KGA62:KGA70)","v":0},0,0,0,0,0,0,0,0,0,0,0,0,0,0,0,0,0,0,0,0,0,0,0,0,0,0,0,0,0,0,0,0,0,0,0,0,0,0,0,0,0,0,0,0,0,0,0,0,0,0,0,0,0,0,0,0,0,0,0,0,0,0,0,{"$f":"SUM(KIM62:KIM70)","v":0},0,0,0,0,0,0,0,0,0,0,0,0,0,0,0,0,0,0,0,0,0,0,0,0,0,0,0,0,0,0,0,0,0,0,0,0,0,0,0,0,0,0,0,0,0,0,0,0,0,0,0,0,0,0,0,0,0,0,0,0,0,0,0,{"$f":"SUM(KKY62:KKY70)","v":0},0,0,0,0,0,0,0,0,0,0,0,0,0,0,0,0,0,0,0,0,0,0,0,0,0,0,0,0,0,0,0,0,0,0,0,0,0,0,0,0,0,0,0,0,0,0,0,0,0,0,0,0,0,0,0,0,0,0,0,0,0,0,0,{"$f":"SUM(KNK62:KNK70)","v":0},0,0,0,0,0,0,0,0,0,0,0,0,0,0,0,0,0,0,0,0,0,0,0,0,0,0,0,0,0,0,0,0,0,0,0,0,0,0,0,0,0,0,0,0,0,0,0,0,0,0,0,0,0,0,0,0,0,0,0,0,0,0,0,{"$f":"SUM(KPW62:KPW70)","v":0},0,0,0,0,0,0,0,0,0,0,0,0,0,0,0,0,0,0,0,0,0,0,0,0,0,0,0,0,0,0,0,0,0,0,0,0,0,0,0,0,0,0,0,0,0,0,0,0,0,0,0,0,0,0,0,0,0,0,0,0,0,0,0,{"$f":"SUM(KSI62:KSI70)","v":0},0,0,0,0,0,0,0,0,0,0,0,0,0,0,0,0,0,0,0,0,0,0,0,0,0,0,0,0,0,0,0,0,0,0,0,0,0,0,0,0,0,0,0,0,0,0,0,0,0,0,0,0,0,0,0,0,0,0,0,0,0,0,0,{"$f":"SUM(KUU62:KUU70)","v":0},0,0,0,0,0,0,0,0,0,0,0,0,0,0,0,0,0,0,0,0,0,0,0,0,0,0,0,0,0,0,0,0,0,0,0,0,0,0,0,0,0,0,0,0,0,0,0,0,0,0,0,0,0,0,0,0,0,0,0,0,0,0,0,{"$f":"SUM(KXG62:KXG70)","v":0},0,0,0,0,0,0,0,0,0,0,0,0,0,0,0,0,0,0,0,0,0,0,0,0,0,0,0,0,0,0,0,0,0,0,0,0,0,0,0,0,0,0,0,0,0,0,0,0,0,0,0,0,0,0,0,0,0,0,0,0,0,0,0,{"$f":"SUM(KZS62:KZS70)","v":0},0,0,0,0,0,0,0,0,0,0,0,0,0,0,0,0,0,0,0,0,0,0,0,0,0,0,0,0,0,0,0,0,0,0,0,0,0,0,0,0,0,0,0,0,0,0,0,0,0,0,0,0,0,0,0,0,0,0,0,0,0,0,0,{"$f":"SUM(LCE62:LCE70)","v":0},0,0,0,0,0,0,0,0,0,0,0,0,0,0,0,0,0,0,0,0,0,0,0,0,0,0,0,0,0,0,0,0,0,0,0,0,0,0,0,0,0,0,0,0,0,0,0,0,0,0,0,0,0,0,0,0,0,0,0,0,0,0,0,{"$f":"SUM(LEQ62:LEQ70)","v":0},0,0,0,0,0,0,0,0,0,0,0,0,0,0,0,0,0,0,0,0,0,0,0,0,0,0,0,0,0,0,0,0,0,0,0,0,0,0,0,0,0,0,0,0,0,0,0,0,0,0,0,0,0,0,0,0,0,0,0,0,0,0,0,{"$f":"SUM(LHC62:LHC70)","v":0},0,0,0,0,0,0,0,0,0,0,0,0,0,0,0,0,0,0,0,0,0,0,0,0,0,0,0,0,0,0,0,0,0,0,0,0,0,0,0,0,0,0,0,0,0,0,0,0,0,0,0,0,0,0,0,0,0,0,0,0,0,0,0,{"$f":"SUM(LJO62:LJO70)","v":0},0,0,0,0,0,0,0,0,0,0,0,0,0,0,0,0,0,0,0,0,0,0,0,0,0,0,0,0,0,0,0,0,0,0,0,0,0,0,0,0,0,0,0,0,0,0,0,0,0,0,0,0,0,0,0,0,0,0,0,0,0,0,0,{"$f":"SUM(LMA62:LMA70)","v":0},0,0,0,0,0,0,0,0,0,0,0,0,0,0,0,0,0,0,0,0,0,0,0,0,0,0,0,0,0,0,0,0,0,0,0,0,0,0,0,0,0,0,0,0,0,0,0,0,0,0,0,0,0,0,0,0,0,0,0,0,0,0,0,{"$f":"SUM(LOM62:LOM70)","v":0},0,0,0,0,0,0,0,0,0,0,0,0,0,0,0,0,0,0,0,0,0,0,0,0,0,0,0,0,0,0,0,0,0,0,0,0,0,0,0,0,0,0,0,0,0,0,0,0,0,0,0,0,0,0,0,0,0,0,0,0,0,0,0,{"$f":"SUM(LQY62:LQY70)","v":0},0,0,0,0,0,0,0,0,0,0,0,0,0,0,0,0,0,0,0,0,0,0,0,0,0,0,0,0,0,0,0,0,0,0,0,0,0,0,0,0,0,0,0,0,0,0,0,0,0,0,0,0,0,0,0,0,0,0,0,0,0,0,0,{"$f":"SUM(LTK62:LTK70)","v":0},0,0,0,0,0,0,0,0,0,0,0,0,0,0,0,0,0,0,0,0,0,0,0,0,0,0,0,0,0,0,0,0,0,0,0,0,0,0,0,0,0,0,0,0,0,0,0,0,0,0,0,0,0,0,0,0,0,0,0,0,0,0,0,{"$f":"SUM(LVW62:LVW70)","v":0},0,0,0,0,0,0,0,0,0,0,0,0,0,0,0,0,0,0,0,0,0,0,0,0,0,0,0,0,0,0,0,0,0,0,0,0,0,0,0,0,0,0,0,0,0,0,0,0,0,0,0,0,0,0,0,0,0,0,0,0,0,0,0,{"$f":"SUM(LYI62:LYI70)","v":0},0,0,0,0,0,0,0,0,0,0,0,0,0,0,0,0,0,0,0,0,0,0,0,0,0,0,0,0,0,0,0,0,0,0,0,0,0,0,0,0,0,0,0,0,0,0,0,0,0,0,0,0,0,0,0,0,0,0,0,0,0,0,0,{"$f":"SUM(MAU62:MAU70)","v":0},0,0,0,0,0,0,0,0,0,0,0,0,0,0,0,0,0,0,0,0,0,0,0,0,0,0,0,0,0,0,0,0,0,0,0,0,0,0,0,0,0,0,0,0,0,0,0,0,0,0,0,0,0,0,0,0,0,0,0,0,0,0,0,{"$f":"SUM(MDG62:MDG70)","v":0},0,0,0,0,0,0,0,0,0,0,0,0,0,0,0,0,0,0,0,0,0,0,0,0,0,0,0,0,0,0,0,0,0,0,0,0,0,0,0,0,0,0,0,0,0,0,0,0,0,0,0,0,0,0,0,0,0,0,0,0,0,0,0,{"$f":"SUM(MFS62:MFS70)","v":0},0,0,0,0,0,0,0,0,0,0,0,0,0,0,0,0,0,0,0,0,0,0,0,0,0,0,0,0,0,0,0,0,0,0,0,0,0,0,0,0,0,0,0,0,0,0,0,0,0,0,0,0,0,0,0,0,0,0,0,0,0,0,0,{"$f":"SUM(MIE62:MIE70)","v":0},0,0,0,0,0,0,0,0,0,0,0,0,0,0,0,0,0,0,0,0,0,0,0,0,0,0,0,0,0,0,0,0,0,0,0,0,0,0,0,0,0,0,0,0,0,0,0,0,0,0,0,0,0,0,0,0,0,0,0,0,0,0,0,{"$f":"SUM(MKQ62:MKQ70)","v":0},0,0,0,0,0,0,0,0,0,0,0,0,0,0,0,0,0,0,0,0,0,0,0,0,0,0,0,0,0,0,0,0,0,0,0,0,0,0,0,0,0,0,0,0,0,0,0,0,0,0,0,0,0,0,0,0,0,0,0,0,0,0,0,{"$f":"SUM(MNC62:MNC70)","v":0},0,0,0,0,0,0,0,0,0,0,0,0,0,0,0,0,0,0,0,0,0,0,0,0,0,0,0,0,0,0,0,0,0,0,0,0,0,0,0,0,0,0,0,0,0,0,0,0,0,0,0,0,0,0,0,0,0,0,0,0,0,0,0,{"$f":"SUM(MPO62:MPO70)","v":0},0,0,0,0,0,0,0,0,0,0,0,0,0,0,0,0,0,0,0,0,0,0,0,0,0,0,0,0,0,0,0,0,0,0,0,0,0,0,0,0,0,0,0,0,0,0,0,0,0,0,0,0,0,0,0,0,0,0,0,0,0,0,0,{"$f":"SUM(MSA62:MSA70)","v":0},0,0,0,0,0,0,0,0,0,0,0,0,0,0,0,0,0,0,0,0,0,0,0,0,0,0,0,0,0,0,0,0,0,0,0,0,0,0,0,0,0,0,0,0,0,0,0,0,0,0,0,0,0,0,0,0,0,0,0,0,0,0,0,{"$f":"SUM(MUM62:MUM70)","v":0},0,0,0,0,0,0,0,0,0,0,0,0,0,0,0,0,0,0,0,0,0,0,0,0,0,0,0,0,0,0,0,0,0,0,0,0,0,0,0,0,0,0,0,0,0,0,0,0,0,0,0,0,0,0,0,0,0,0,0,0,0,0,0,{"$f":"SUM(MWY62:MWY70)","v":0},0,0,0,0,0,0,0,0,0,0,0,0,0,0,0,0,0,0,0,0,0,0,0,0,0,0,0,0,0,0,0,0,0,0,0,0,0,0,0,0,0,0,0,0,0,0,0,0,0,0,0,0,0,0,0,0,0,0,0,0,0,0,0,{"$f":"SUM(MZK62:MZK70)","v":0},0,0,0,0,0,0,0,0,0,0,0,0,0,0,0,0,0,0,0,0,0,0,0,0,0,0,0,0,0,0,0,0,0,0,0,0,0,0,0,0,0,0,0,0,0,0,0,0,0,0,0,0,0,0,0,0,0,0,0,0,0,0,0,{"$f":"SUM(NBW62:NBW70)","v":0},0,0,0,0,0,0,0,0,0,0,0,0,0,0,0,0,0,0,0,0,0,0,0,0,0,0,0,0,0,0,0,0,0,0,0,0,0,0,0,0,0,0,0,0,0,0,0,0,0,0,0,0,0,0,0,0,0,0,0,0,0,0,0,{"$f":"SUM(NEI62:NEI70)","v":0},0,0,0,0,0,0,0,0,0,0,0,0,0,0,0,0,0,0,0,0,0,0,0,0,0,0,0,0,0,0,0,0,0,0,0,0,0,0,0,0,0,0,0,0,0,0,0,0,0,0,0,0,0,0,0,0,0,0,0,0,0,0,0,{"$f":"SUM(NGU62:NGU70)","v":0},0,0,0,0,0,0,0,0,0,0,0,0,0,0,0,0,0,0,0,0,0,0,0,0,0,0,0,0,0,0,0,0,0,0,0,0,0,0,0,0,0,0,0,0,0,0,0,0,0,0,0,0,0,0,0,0,0,0,0,0,0,0,0,{"$f":"SUM(NJG62:NJG70)","v":0},0,0,0,0,0,0,0,0,0,0,0,0,0,0,0,0,0,0,0,0,0,0,0,0,0,0,0,0,0,0,0,0,0,0,0,0,0,0,0,0,0,0,0,0,0,0,0,0,0,0,0,0,0,0,0,0,0,0,0,0,0,0,0,{"$f":"SUM(NLS62:NLS70)","v":0},0,0,0,0,0,0,0,0,0,0,0,0,0,0,0,0,0,0,0,0,0,0,0,0,0,0,0,0,0,0,0,0,0,0,0,0,0,0,0,0,0,0,0,0,0,0,0,0,0,0,0,0,0,0,0,0,0,0,0,0,0,0,0,{"$f":"SUM(NOE62:NOE70)","v":0},0,0,0,0,0,0,0,0,0,0,0,0,0,0,0,0,0,0,0,0,0,0,0,0,0,0,0,0,0,0,0,0,0,0,0,0,0,0,0,0,0,0,0,0,0,0,0,0,0,0,0,0,0,0,0,0,0,0,0,0,0,0,0,{"$f":"SUM(NQQ62:NQQ70)","v":0},0,0,0,0,0,0,0,0,0,0,0,0,0,0,0,0,0,0,0,0,0,0,0,0,0,0,0,0,0,0,0,0,0,0,0,0,0,0,0,0,0,0,0,0,0,0,0,0,0,0,0,0,0,0,0,0,0,0,0,0,0,0,0,{"$f":"SUM(NTC62:NTC70)","v":0},0,0,0,0,0,0,0,0,0,0,0,0,0,0,0,0,0,0,0,0,0,0,0,0,0,0,0,0,0,0,0,0,0,0,0,0,0,0,0,0,0,0,0,0,0,0,0,0,0,0,0,0,0,0,0,0,0,0,0,0,0,0,0,{"$f":"SUM(NVO62:NVO70)","v":0},0,0,0,0,0,0,0,0,0,0,0,0,0,0,0,0,0,0,0,0,0,0,0,0,0,0,0,0,0,0,0,0,0,0,0,0,0,0,0,0,0,0,0,0,0,0,0,0,0,0,0,0,0,0,0,0,0,0,0,0,0,0,0,{"$f":"SUM(NYA62:NYA70)","v":0},0,0,0,0,0,0,0,0,0,0,0,0,0,0,0,0,0,0,0,0,0,0,0,0,0,0,0,0,0,0,0,0,0,0,0,0,0,0,0,0,0,0,0,0,0,0,0,0,0,0,0,0,0,0,0,0,0,0,0,0,0,0,0,{"$f":"SUM(OAM62:OAM70)","v":0},0,0,0,0,0,0,0,0,0,0,0,0,0,0,0,0,0,0,0,0,0,0,0,0,0,0,0,0,0,0,0,0,0,0,0,0,0,0,0,0,0,0,0,0,0,0,0,0,0,0,0,0,0,0,0,0,0,0,0,0,0,0,0,{"$f":"SUM(OCY62:OCY70)","v":0},0,0,0,0,0,0,0,0,0,0,0,0,0,0,0,0,0,0,0,0,0,0,0,0,0,0,0,0,0,0,0,0,0,0,0,0,0,0,0,0,0,0,0,0,0,0,0,0,0,0,0,0,0,0,0,0,0,0,0,0,0,0,0,{"$f":"SUM(OFK62:OFK70)","v":0},0,0,0,0,0,0,0,0,0,0,0,0,0,0,0,0,0,0,0,0,0,0,0,0,0,0,0,0,0,0,0,0,0,0,0,0,0,0,0,0,0,0,0,0,0,0,0,0,0,0,0,0,0,0,0,0,0,0,0,0,0,0,0,{"$f":"SUM(OHW62:OHW70)","v":0},0,0,0,0,0,0,0,0,0,0,0,0,0,0,0,0,0,0,0,0,0,0,0,0,0,0,0,0,0,0,0,0,0,0,0,0,0,0,0,0,0,0,0,0,0,0,0,0,0,0,0,0,0,0,0,0,0,0,0,0,0,0,0,{"$f":"SUM(OKI62:OKI70)","v":0},0,0,0,0,0,0,0,0,0,0,0,0,0,0,0,0,0,0,0,0,0,0,0,0,0,0,0,0,0,0,0,0,0,0,0,0,0,0,0,0,0,0,0,0,0,0,0,0,0,0,0,0,0,0,0,0,0,0,0,0,0,0,0,{"$f":"SUM(OMU62:OMU70)","v":0},0,0,0,0,0,0,0,0,0,0,0,0,0,0,0,0,0,0,0,0,0,0,0,0,0,0,0,0,0,0,0,0,0,0,0,0,0,0,0,0,0,0,0,0,0,0,0,0,0,0,0,0,0,0,0,0,0,0,0,0,0,0,0,{"$f":"SUM(OPG62:OPG70)","v":0},0,0,0,0,0,0,0,0,0,0,0,0,0,0,0,0,0,0,0,0,0,0,0,0,0,0,0,0,0,0,0,0,0,0,0,0,0,0,0,0,0,0,0,0,0,0,0,0,0,0,0,0,0,0,0,0,0,0,0,0,0,0,0,{"$f":"SUM(ORS62:ORS70)","v":0},0,0,0,0,0,0,0,0,0,0,0,0,0,0,0,0,0,0,0,0,0,0,0,0,0,0,0,0,0,0,0,0,0,0,0,0,0,0,0,0,0,0,0,0,0,0,0,0,0,0,0,0,0,0,0,0,0,0,0,0,0,0,0,{"$f":"SUM(OUE62:OUE70)","v":0},0,0,0,0,0,0,0,0,0,0,0,0,0,0,0,0,0,0,0,0,0,0,0,0,0,0,0,0,0,0,0,0,0,0,0,0,0,0,0,0,0,0,0,0,0,0,0,0,0,0,0,0,0,0,0,0,0,0,0,0,0,0,0,{"$f":"SUM(OWQ62:OWQ70)","v":0},0,0,0,0,0,0,0,0,0,0,0,0,0,0,0,0,0,0,0,0,0,0,0,0,0,0,0,0,0,0,0,0,0,0,0,0,0,0,0,0,0,0,0,0,0,0,0,0,0,0,0,0,0,0,0,0,0,0,0,0,0,0,0,{"$f":"SUM(OZC62:OZC70)","v":0},0,0,0,0,0,0,0,0,0,0,0,0,0,0,0,0,0,0,0,0,0,0,0,0,0,0,0,0,0,0,0,0,0,0,0,0,0,0,0,0,0,0,0,0,0,0,0,0,0,0,0,0,0,0,0,0,0,0,0,0,0,0,0,{"$f":"SUM(PBO62:PBO70)","v":0},0,0,0,0,0,0,0,0,0,0,0,0,0,0,0,0,0,0,0,0,0,0,0,0,0,0,0,0,0,0,0,0,0,0,0,0,0,0,0,0,0,0,0,0,0,0,0,0,0,0,0,0,0,0,0,0,0,0,0,0,0,0,0,{"$f":"SUM(PEA62:PEA70)","v":0},0,0,0,0,0,0,0,0,0,0,0,0,0,0,0,0,0,0,0,0,0,0,0,0,0,0,0,0,0,0,0,0,0,0,0,0,0,0,0,0,0,0,0,0,0,0,0,0,0,0,0,0,0,0,0,0,0,0,0,0,0,0,0,{"$f":"SUM(PGM62:PGM70)","v":0},0,0,0,0,0,0,0,0,0,0,0,0,0,0,0,0,0,0,0,0,0,0,0,0,0,0,0,0,0,0,0,0,0,0,0,0,0,0,0,0,0,0,0,0,0,0,0,0,0,0,0,0,0,0,0,0,0,0,0,0,0,0,0,{"$f":"SUM(PIY62:PIY70)","v":0},0,0,0,0,0,0,0,0,0,0,0,0,0,0,0,0,0,0,0,0,0,0,0,0,0,0,0,0,0,0,0,0,0,0,0,0,0,0,0,0,0,0,0,0,0,0,0,0,0,0,0,0,0,0,0,0,0,0,0,0,0,0,0,{"$f":"SUM(PLK62:PLK70)","v":0},0,0,0,0,0,0,0,0,0,0,0,0,0,0,0,0,0,0,0,0,0,0,0,0,0,0,0,0,0,0,0,0,0,0,0,0,0,0,0,0,0,0,0,0,0,0,0,0,0,0,0,0,0,0,0,0,0,0,0,0,0,0,0,{"$f":"SUM(PNW62:PNW70)","v":0},0,0,0,0,0,0,0,0,0,0,0,0,0,0,0,0,0,0,0,0,0,0,0,0,0,0,0,0,0,0,0,0,0,0,0,0,0,0,0,0,0,0,0,0,0,0,0,0,0,0,0,0,0,0,0,0,0,0,0,0,0,0,0,{"$f":"SUM(PQI62:PQI70)","v":0},0,0,0,0,0,0,0,0,0,0,0,0,0,0,0,0,0,0,0,0,0,0,0,0,0,0,0,0,0,0,0,0,0,0,0,0,0,0,0,0,0,0,0,0,0,0,0,0,0,0,0,0,0,0,0,0,0,0,0,0,0,0,0,{"$f":"SUM(PSU62:PSU70)","v":0},0,0,0,0,0,0,0,0,0,0,0,0,0,0,0,0,0,0,0,0,0,0,0,0,0,0,0,0,0,0,0,0,0,0,0,0,0,0,0,0,0,0,0,0,0,0,0,0,0,0,0,0,0,0,0,0,0,0,0,0,0,0,0,{"$f":"SUM(PVG62:PVG70)","v":0},0,0,0,0,0,0,0,0,0,0,0,0,0,0,0,0,0,0,0,0,0,0,0,0,0,0,0,0,0,0,0,0,0,0,0,0,0,0,0,0,0,0,0,0,0,0,0,0,0,0,0,0,0,0,0,0,0,0,0,0,0,0,0,{"$f":"SUM(PXS62:PXS70)","v":0},0,0,0,0,0,0,0,0,0,0,0,0,0,0,0,0,0,0,0,0,0,0,0,0,0,0,0,0,0,0,0,0,0,0,0,0,0,0,0,0,0,0,0,0,0,0,0,0,0,0,0,0,0,0,0,0,0,0,0,0,0,0,0,{"$f":"SUM(QAE62:QAE70)","v":0},0,0,0,0,0,0,0,0,0,0,0,0,0,0,0,0,0,0,0,0,0,0,0,0,0,0,0,0,0,0,0,0,0,0,0,0,0,0,0,0,0,0,0,0,0,0,0,0,0,0,0,0,0,0,0,0,0,0,0,0,0,0,0,{"$f":"SUM(QCQ62:QCQ70)","v":0},0,0,0,0,0,0,0,0,0,0,0,0,0,0,0,0,0,0,0,0,0,0,0,0,0,0,0,0,0,0,0,0,0,0,0,0,0,0,0,0,0,0,0,0,0,0,0,0,0,0,0,0,0,0,0,0,0,0,0,0,0,0,0,{"$f":"SUM(QFC62:QFC70)","v":0},0,0,0,0,0,0,0,0,0,0,0,0,0,0,0,0,0,0,0,0,0,0,0,0,0,0,0,0,0,0,0,0,0,0,0,0,0,0,0,0,0,0,0,0,0,0,0,0,0,0,0,0,0,0,0,0,0,0,0,0,0,0,0,{"$f":"SUM(QHO62:QHO70)","v":0},0,0,0,0,0,0,0,0,0,0,0,0,0,0,0,0,0,0,0,0,0,0,0,0,0,0,0,0,0,0,0,0,0,0,0,0,0,0,0,0,0,0,0,0,0,0,0,0,0,0,0,0,0,0,0,0,0,0,0,0,0,0,0,{"$f":"SUM(QKA62:QKA70)","v":0},0,0,0,0,0,0,0,0,0,0,0,0,0,0,0,0,0,0,0,0,0,0,0,0,0,0,0,0,0,0,0,0,0,0,0,0,0,0,0,0,0,0,0,0,0,0,0,0,0,0,0,0,0,0,0,0,0,0,0,0,0,0,0,{"$f":"SUM(QMM62:QMM70)","v":0},0,0,0,0,0,0,0,0,0,0,0,0,0,0,0,0,0,0,0,0,0,0,0,0,0,0,0,0,0,0,0,0,0,0,0,0,0,0,0,0,0,0,0,0,0,0,0,0,0,0,0,0,0,0,0,0,0,0,0,0,0,0,0,{"$f":"SUM(QOY62:QOY70)","v":0},0,0,0,0,0,0,0,0,0,0,0,0,0,0,0,0,0,0,0,0,0,0,0,0,0,0,0,0,0,0,0,0,0,0,0,0,0,0,0,0,0,0,0,0,0,0,0,0,0,0,0,0,0,0,0,0,0,0,0,0,0,0,0,{"$f":"SUM(QRK62:QRK70)","v":0},0,0,0,0,0,0,0,0,0,0,0,0,0,0,0,0,0,0,0,0,0,0,0,0,0,0,0,0,0,0,0,0,0,0,0,0,0,0,0,0,0,0,0,0,0,0,0,0,0,0,0,0,0,0,0,0,0,0,0,0,0,0,0,{"$f":"SUM(QTW62:QTW70)","v":0},0,0,0,0,0,0,0,0,0,0,0,0,0,0,0,0,0,0,0,0,0,0,0,0,0,0,0,0,0,0,0,0,0,0,0,0,0,0,0,0,0,0,0,0,0,0,0,0,0,0,0,0,0,0,0,0,0,0,0,0,0,0,0,{"$f":"SUM(QWI62:QWI70)","v":0},0,0,0,0,0,0,0,0,0,0,0,0,0,0,0,0,0,0,0,0,0,0,0,0,0,0,0,0,0,0,0,0,0,0,0,0,0,0,0,0,0,0,0,0,0,0,0,0,0,0,0,0,0,0,0,0,0,0,0,0,0,0,0,{"$f":"SUM(QYU62:QYU70)","v":0},0,0,0,0,0,0,0,0,0,0,0,0,0,0,0,0,0,0,0,0,0,0,0,0,0,0,0,0,0,0,0,0,0,0,0,0,0,0,0,0,0,0,0,0,0,0,0,0,0,0,0,0,0,0,0,0,0,0,0,0,0,0,0,{"$f":"SUM(RBG62:RBG70)","v":0},0,0,0,0,0,0,0,0,0,0,0,0,0,0,0,0,0,0,0,0,0,0,0,0,0,0,0,0,0,0,0,0,0,0,0,0,0,0,0,0,0,0,0,0,0,0,0,0,0,0,0,0,0,0,0,0,0,0,0,0,0,0,0,{"$f":"SUM(RDS62:RDS70)","v":0},0,0,0,0,0,0,0,0,0,0,0,0,0,0,0,0,0,0,0,0,0,0,0,0,0,0,0,0,0,0,0,0,0,0,0,0,0,0,0,0,0,0,0,0,0,0,0,0,0,0,0,0,0,0,0,0,0,0,0,0,0,0,0,{"$f":"SUM(RGE62:RGE70)","v":0},0,0,0,0,0,0,0,0,0,0,0,0,0,0,0,0,0,0,0,0,0,0,0,0,0,0,0,0,0,0,0,0,0,0,0,0,0,0,0,0,0,0,0,0,0,0,0,0,0,0,0,0,0,0,0,0,0,0,0,0,0,0,0,{"$f":"SUM(RIQ62:RIQ70)","v":0},0,0,0,0,0,0,0,0,0,0,0,0,0,0,0,0,0,0,0,0,0,0,0,0,0,0,0,0,0,0,0,0,0,0,0,0,0,0,0,0,0,0,0,0,0,0,0,0,0,0,0,0,0,0,0,0,0,0,0,0,0,0,0,{"$f":"SUM(RLC62:RLC70)","v":0},0,0,0,0,0,0,0,0,0,0,0,0,0,0,0,0,0,0,0,0,0,0,0,0,0,0,0,0,0,0,0,0,0,0,0,0,0,0,0,0,0,0,0,0,0,0,0,0,0,0,0,0,0,0,0,0,0,0,0,0,0,0,0,{"$f":"SUM(RNO62:RNO70)","v":0},0,0,0,0,0,0,0,0,0,0,0,0,0,0,0,0,0,0,0,0,0,0,0,0,0,0,0,0,0,0,0,0,0,0,0,0,0,0,0,0,0,0,0,0,0,0,0,0,0,0,0,0,0,0,0,0,0,0,0,0,0,0,0,{"$f":"SUM(RQA62:RQA70)","v":0},0,0,0,0,0,0,0,0,0,0,0,0,0,0,0,0,0,0,0,0,0,0,0,0,0,0,0,0,0,0,0,0,0,0,0,0,0,0,0,0,0,0,0,0,0,0,0,0,0,0,0,0,0,0,0,0,0,0,0,0,0,0,0,{"$f":"SUM(RSM62:RSM70)","v":0},0,0,0,0,0,0,0,0,0,0,0,0,0,0,0,0,0,0,0,0,0,0,0,0,0,0,0,0,0,0,0,0,0,0,0,0,0,0,0,0,0,0,0,0,0,0,0,0,0,0,0,0,0,0,0,0,0,0,0,0,0,0,0,{"$f":"SUM(RUY62:RUY70)","v":0},0,0,0,0,0,0,0,0,0,0,0,0,0,0,0,0,0,0,0,0,0,0,0,0,0,0,0,0,0,0,0,0,0,0,0,0,0,0,0,0,0,0,0,0,0,0,0,0,0,0,0,0,0,0,0,0,0,0,0,0,0,0,0,{"$f":"SUM(RXK62:RXK70)","v":0},0,0,0,0,0,0,0,0,0,0,0,0,0,0,0,0,0,0,0,0,0,0,0,0,0,0,0,0,0,0,0,0,0,0,0,0,0,0,0,0,0,0,0,0,0,0,0,0,0,0,0,0,0,0,0,0,0,0,0,0,0,0,0,{"$f":"SUM(RZW62:RZW70)","v":0},0,0,0,0,0,0,0,0,0,0,0,0,0,0,0,0,0,0,0,0,0,0,0,0,0,0,0,0,0,0,0,0,0,0,0,0,0,0,0,0,0,0,0,0,0,0,0,0,0,0,0,0,0,0,0,0,0,0,0,0,0,0,0,{"$f":"SUM(SCI62:SCI70)","v":0},0,0,0,0,0,0,0,0,0,0,0,0,0,0,0,0,0,0,0,0,0,0,0,0,0,0,0,0,0,0,0,0,0,0,0,0,0,0,0,0,0,0,0,0,0,0,0,0,0,0,0,0,0,0,0,0,0,0,0,0,0,0,0,{"$f":"SUM(SEU62:SEU70)","v":0},0,0,0,0,0,0,0,0,0,0,0,0,0,0,0,0,0,0,0,0,0,0,0,0,0,0,0,0,0,0,0,0,0,0,0,0,0,0,0,0,0,0,0,0,0,0,0,0,0,0,0,0,0,0,0,0,0,0,0,0,0,0,0,{"$f":"SUM(SHG62:SHG70)","v":0},0,0,0,0,0,0,0,0,0,0,0,0,0,0,0,0,0,0,0,0,0,0,0,0,0,0,0,0,0,0,0,0,0,0,0,0,0,0,0,0,0,0,0,0,0,0,0,0,0,0,0,0,0,0,0,0,0,0,0,0,0,0,0,{"$f":"SUM(SJS62:SJS70)","v":0},0,0,0,0,0,0,0,0,0,0,0,0,0,0,0,0,0,0,0,0,0,0,0,0,0,0,0,0,0,0,0,0,0,0,0,0,0,0,0,0,0,0,0,0,0,0,0,0,0,0,0,0,0,0,0,0,0,0,0,0,0,0,0,{"$f":"SUM(SME62:SME70)","v":0},0,0,0,0,0,0,0,0,0,0,0,0,0,0,0,0,0,0,0,0,0,0,0,0,0,0,0,0,0,0,0,0,0,0,0,0,0,0,0,0,0,0,0,0,0,0,0,0,0,0,0,0,0,0,0,0,0,0,0,0,0,0,0,{"$f":"SUM(SOQ62:SOQ70)","v":0},0,0,0,0,0,0,0,0,0,0,0,0,0,0,0,0,0,0,0,0,0,0,0,0,0,0,0,0,0,0,0,0,0,0,0,0,0,0,0,0,0,0,0,0,0,0,0,0,0,0,0,0,0,0,0,0,0,0,0,0,0,0,0,{"$f":"SUM(SRC62:SRC70)","v":0},0,0,0,0,0,0,0,0,0,0,0,0,0,0,0,0,0,0,0,0,0,0,0,0,0,0,0,0,0,0,0,0,0,0,0,0,0,0,0,0,0,0,0,0,0,0,0,0,0,0,0,0,0,0,0,0,0,0,0,0,0,0,0,{"$f":"SUM(STO62:STO70)","v":0},0,0,0,0,0,0,0,0,0,0,0,0,0,0,0,0,0,0,0,0,0,0,0,0,0,0,0,0,0,0,0,0,0,0,0,0,0,0,0,0,0,0,0,0,0,0,0,0,0,0,0,0,0,0,0,0,0,0,0,0,0,0,0,{"$f":"SUM(SWA62:SWA70)","v":0},0,0,0,0,0,0,0,0,0,0,0,0,0,0,0,0,0,0,0,0,0,0,0,0,0,0,0,0,0,0,0,0,0,0,0,0,0,0,0,0,0,0,0,0,0,0,0,0,0,0,0,0,0,0,0,0,0,0,0,0,0,0,0,{"$f":"SUM(SYM62:SYM70)","v":0},0,0,0,0,0,0,0,0,0,0,0,0,0,0,0,0,0,0,0,0,0,0,0,0,0,0,0,0,0,0,0,0,0,0,0,0,0,0,0,0,0,0,0,0,0,0,0,0,0,0,0,0,0,0,0,0,0,0,0,0,0,0,0,{"$f":"SUM(TAY62:TAY70)","v":0},0,0,0,0,0,0,0,0,0,0,0,0,0,0,0,0,0,0,0,0,0,0,0,0,0,0,0,0,0,0,0,0,0,0,0,0,0,0,0,0,0,0,0,0,0,0,0,0,0,0,0,0,0,0,0,0,0,0,0,0,0,0,0,{"$f":"SUM(TDK62:TDK70)","v":0},0,0,0,0,0,0,0,0,0,0,0,0,0,0,0,0,0,0,0,0,0,0,0,0,0,0,0,0,0,0,0,0,0,0,0,0,0,0,0,0,0,0,0,0,0,0,0,0,0,0,0,0,0,0,0,0,0,0,0,0,0,0,0,{"$f":"SUM(TFW62:TFW70)","v":0},0,0,0,0,0,0,0,0,0,0,0,0,0,0,0,0,0,0,0,0,0,0,0,0,0,0,0,0,0,0,0,0,0,0,0,0,0,0,0,0,0,0,0,0,0,0,0,0,0,0,0,0,0,0,0,0,0,0,0,0,0,0,0,{"$f":"SUM(TII62:TII70)","v":0},0,0,0,0,0,0,0,0,0,0,0,0,0,0,0,0,0,0,0,0,0,0,0,0,0,0,0,0,0,0,0,0,0,0,0,0,0,0,0,0,0,0,0,0,0,0,0,0,0,0,0,0,0,0,0,0,0,0,0,0,0,0,0,{"$f":"SUM(TKU62:TKU70)","v":0},0,0,0,0,0,0,0,0,0,0,0,0,0,0,0,0,0,0,0,0,0,0,0,0,0,0,0,0,0,0,0,0,0,0,0,0,0,0,0,0,0,0,0,0,0,0,0,0,0,0,0,0,0,0,0,0,0,0,0,0,0,0,0,{"$f":"SUM(TNG62:TNG70)","v":0},0,0,0,0,0,0,0,0,0,0,0,0,0,0,0,0,0,0,0,0,0,0,0,0,0,0,0,0,0,0,0,0,0,0,0,0,0,0,0,0,0,0,0,0,0,0,0,0,0,0,0,0,0,0,0,0,0,0,0,0,0,0,0,{"$f":"SUM(TPS62:TPS70)","v":0},0,0,0,0,0,0,0,0,0,0,0,0,0,0,0,0,0,0,0,0,0,0,0,0,0,0,0,0,0,0,0,0,0,0,0,0,0,0,0,0,0,0,0,0,0,0,0,0,0,0,0,0,0,0,0,0,0,0,0,0,0,0,0,{"$f":"SUM(TSE62:TSE70)","v":0},0,0,0,0,0,0,0,0,0,0,0,0,0,0,0,0,0,0,0,0,0,0,0,0,0,0,0,0,0,0,0,0,0,0,0,0,0,0,0,0,0,0,0,0,0,0,0,0,0,0,0,0,0,0,0,0,0,0,0,0,0,0,0,{"$f":"SUM(TUQ62:TUQ70)","v":0},0,0,0,0,0,0,0,0,0,0,0,0,0,0,0,0,0,0,0,0,0,0,0,0,0,0,0,0,0,0,0,0,0,0,0,0,0,0,0,0,0,0,0,0,0,0,0,0,0,0,0,0,0,0,0,0,0,0,0,0,0,0,0,{"$f":"SUM(TXC62:TXC70)","v":0},0,0,0,0,0,0,0,0,0,0,0,0,0,0,0,0,0,0,0,0,0,0,0,0,0,0,0,0,0,0,0,0,0,0,0,0,0,0,0,0,0,0,0,0,0,0,0,0,0,0,0,0,0,0,0,0,0,0,0,0,0,0,0,{"$f":"SUM(TZO62:TZO70)","v":0},0,0,0,0,0,0,0,0,0,0,0,0,0,0,0,0,0,0,0,0,0,0,0,0,0,0,0,0,0,0,0,0,0,0,0,0,0,0,0,0,0,0,0,0,0,0,0,0,0,0,0,0,0,0,0,0,0,0,0,0,0,0,0,{"$f":"SUM(UCA62:UCA70)","v":0},0,0,0,0,0,0,0,0,0,0,0,0,0,0,0,0,0,0,0,0,0,0,0,0,0,0,0,0,0,0,0,0,0,0,0,0,0,0,0,0,0,0,0,0,0,0,0,0,0,0,0,0,0,0,0,0,0,0,0,0,0,0,0,{"$f":"SUM(UEM62:UEM70)","v":0},0,0,0,0,0,0,0,0,0,0,0,0,0,0,0,0,0,0,0,0,0,0,0,0,0,0,0,0,0,0,0,0,0,0,0,0,0,0,0,0,0,0,0,0,0,0,0,0,0,0,0,0,0,0,0,0,0,0,0,0,0,0,0,{"$f":"SUM(UGY62:UGY70)","v":0},0,0,0,0,0,0,0,0,0,0,0,0,0,0,0,0,0,0,0,0,0,0,0,0,0,0,0,0,0,0,0,0,0,0,0,0,0,0,0,0,0,0,0,0,0,0,0,0,0,0,0,0,0,0,0,0,0,0,0,0,0,0,0,{"$f":"SUM(UJK62:UJK70)","v":0},0,0,0,0,0,0,0,0,0,0,0,0,0,0,0,0,0,0,0,0,0,0,0,0,0,0,0,0,0,0,0,0,0,0,0,0,0,0,0,0,0,0,0,0,0,0,0,0,0,0,0,0,0,0,0,0,0,0,0,0,0,0,0,{"$f":"SUM(ULW62:ULW70)","v":0},0,0,0,0,0,0,0,0,0,0,0,0,0,0,0,0,0,0,0,0,0,0,0,0,0,0,0,0,0,0,0,0,0,0,0,0,0,0,0,0,0,0,0,0,0,0,0,0,0,0,0,0,0,0,0,0,0,0,0,0,0,0,0,{"$f":"SUM(UOI62:UOI70)","v":0},0,0,0,0,0,0,0,0,0,0,0,0,0,0,0,0,0,0,0,0,0,0,0,0,0,0,0,0,0,0,0,0,0,0,0,0,0,0,0,0,0,0,0,0,0,0,0,0,0,0,0,0,0,0,0,0,0,0,0,0,0,0,0,{"$f":"SUM(UQU62:UQU70)","v":0},0,0,0,0,0,0,0,0,0,0,0,0,0,0,0,0,0,0,0,0,0,0,0,0,0,0,0,0,0,0,0,0,0,0,0,0,0,0,0,0,0,0,0,0,0,0,0,0,0,0,0,0,0,0,0,0,0,0,0,0,0,0,0,{"$f":"SUM(UTG62:UTG70)","v":0},0,0,0,0,0,0,0,0,0,0,0,0,0,0,0,0,0,0,0,0,0,0,0,0,0,0,0,0,0,0,0,0,0,0,0,0,0,0,0,0,0,0,0,0,0,0,0,0,0,0,0,0,0,0,0,0,0,0,0,0,0,0,0,{"$f":"SUM(UVS62:UVS70)","v":0},0,0,0,0,0,0,0,0,0,0,0,0,0,0,0,0,0,0,0,0,0,0,0,0,0,0,0,0,0,0,0,0,0,0,0,0,0,0,0,0,0,0,0,0,0,0,0,0,0,0,0,0,0,0,0,0,0,0,0,0,0,0,0,{"$f":"SUM(UYE62:UYE70)","v":0},0,0,0,0,0,0,0,0,0,0,0,0,0,0,0,0,0,0,0,0,0,0,0,0,0,0,0,0,0,0,0,0,0,0,0,0,0,0,0,0,0,0,0,0,0,0,0,0,0,0,0,0,0,0,0,0,0,0,0,0,0,0,0,{"$f":"SUM(VAQ62:VAQ70)","v":0},0,0,0,0,0,0,0,0,0,0,0,0,0,0,0,0,0,0,0,0,0,0,0,0,0,0,0,0,0,0,0,0,0,0,0,0,0,0,0,0,0,0,0,0,0,0,0,0,0,0,0,0,0,0,0,0,0,0,0,0,0,0,0,{"$f":"SUM(VDC62:VDC70)","v":0},0,0,0,0,0,0,0,0,0,0,0,0,0,0,0,0,0,0,0,0,0,0,0,0,0,0,0,0,0,0,0,0,0,0,0,0,0,0,0,0,0,0,0,0,0,0,0,0,0,0,0,0,0,0,0,0,0,0,0,0,0,0,0,{"$f":"SUM(VFO62:VFO70)","v":0},0,0,0,0,0,0,0,0,0,0,0,0,0,0,0,0,0,0,0,0,0,0,0,0,0,0,0,0,0,0,0,0,0,0,0,0,0,0,0,0,0,0,0,0,0,0,0,0,0,0,0,0,0,0,0,0,0,0,0,0,0,0,0,{"$f":"SUM(VIA62:VIA70)","v":0},0,0,0,0,0,0,0,0,0,0,0,0,0,0,0,0,0,0,0,0,0,0,0,0,0,0,0,0,0,0,0,0,0,0,0,0,0,0,0,0,0,0,0,0,0,0,0,0,0,0,0,0,0,0,0,0,0,0,0,0,0,0,0,{"$f":"SUM(VKM62:VKM70)","v":0},0,0,0,0,0,0,0,0,0,0,0,0,0,0,0,0,0,0,0,0,0,0,0,0,0,0,0,0,0,0,0,0,0,0,0,0,0,0,0,0,0,0,0,0,0,0,0,0,0,0,0,0,0,0,0,0,0,0,0,0,0,0,0,{"$f":"SUM(VMY62:VMY70)","v":0},0,0,0,0,0,0,0,0,0,0,0,0,0,0,0,0,0,0,0,0,0,0,0,0,0,0,0,0,0,0,0,0,0,0,0,0,0,0,0,0,0,0,0,0,0,0,0,0,0,0,0,0,0,0,0,0,0,0,0,0,0,0,0,{"$f":"SUM(VPK62:VPK70)","v":0},0,0,0,0,0,0,0,0,0,0,0,0,0,0,0,0,0,0,0,0,0,0,0,0,0,0,0,0,0,0,0,0,0,0,0,0,0,0,0,0,0,0,0,0,0,0,0,0,0,0,0,0,0,0,0,0,0,0,0,0,0,0,0,{"$f":"SUM(VRW62:VRW70)","v":0},0,0,0,0,0,0,0,0,0,0,0,0,0,0,0,0,0,0,0,0,0,0,0,0,0,0,0,0,0,0,0,0,0,0,0,0,0,0,0,0,0,0,0,0,0,0,0,0,0,0,0,0,0,0,0,0,0,0,0,0,0,0,0,{"$f":"SUM(VUI62:VUI70)","v":0},0,0,0,0,0,0,0,0,0,0,0,0,0,0,0,0,0,0,0,0,0,0,0,0,0,0,0,0,0,0,0,0,0,0,0,0,0,0,0,0,0,0,0,0,0,0,0,0,0,0,0,0,0,0,0,0,0,0,0,0,0,0,0,{"$f":"SUM(VWU62:VWU70)","v":0},0,0,0,0,0,0,0,0,0,0,0,0,0,0,0,0,0,0,0,0,0,0,0,0,0,0,0,0,0,0,0,0,0,0,0,0,0,0,0,0,0,0,0,0,0,0,0,0,0,0,0,0,0,0,0,0,0,0,0,0,0,0,0,{"$f":"SUM(VZG62:VZG70)","v":0},0,0,0,0,0,0,0,0,0,0,0,0,0,0,0,0,0,0,0,0,0,0,0,0,0,0,0,0,0,0,0,0,0,0,0,0,0,0,0,0,0,0,0,0,0,0,0,0,0,0,0,0,0,0,0,0,0,0,0,0,0,0,0,{"$f":"SUM(WBS62:WBS70)","v":0},0,0,0,0,0,0,0,0,0,0,0,0,0,0,0,0,0,0,0,0,0,0,0,0,0,0,0,0,0,0,0,0,0,0,0,0,0,0,0,0,0,0,0,0,0,0,0,0,0,0,0,0,0,0,0,0,0,0,0,0,0,0,0,{"$f":"SUM(WEE62:WEE70)","v":0},0,0,0,0,0,0,0,0,0,0,0,0,0,0,0,0,0,0,0,0,0,0,0,0,0,0,0,0,0,0,0,0,0,0,0,0,0,0,0,0,0,0,0,0,0,0,0,0,0,0,0,0,0,0,0,0,0,0,0,0,0,0,0,{"$f":"SUM(WGQ62:WGQ70)","v":0},0,0,0,0,0,0,0,0,0,0,0,0,0,0,0,0,0,0,0,0,0,0,0,0,0,0,0,0,0,0,0,0,0,0,0,0,0,0,0,0,0,0,0,0,0,0,0,0,0,0,0,0,0,0,0,0,0,0,0,0,0,0,0,{"$f":"SUM(WJC62:WJC70)","v":0},0,0,0,0,0,0,0,0,0,0,0,0,0,0,0,0,0,0,0,0,0,0,0,0,0,0,0,0,0,0,0,0,0,0,0,0,0,0,0,0,0,0,0,0,0,0,0,0,0,0,0,0,0,0,0,0,0,0,0,0,0,0,0,{"$f":"SUM(WLO62:WLO70)","v":0},0,0,0,0,0,0,0,0,0,0,0,0,0,0,0,0,0,0,0,0,0,0,0,0,0,0,0,0,0,0,0,0,0,0,0,0,0,0,0,0,0,0,0,0,0,0,0,0,0,0,0,0,0,0,0,0,0,0,0,0,0,0,0,{"$f":"SUM(WOA62:WOA70)","v":0},0,0,0,0,0,0,0,0,0,0,0,0,0,0,0,0,0,0,0,0,0,0,0,0,0,0,0,0,0,0,0,0,0,0,0,0,0,0,0,0,0,0,0,0,0,0,0,0,0,0,0,0,0,0,0,0,0,0,0,0,0,0,0,{"$f":"SUM(WQM62:WQM70)","v":0},0,0,0,0,0,0,0,0,0,0,0,0,0,0,0,0,0,0,0,0,0,0,0,0,0,0,0,0,0,0,0,0,0,0,0,0,0,0,0,0,0,0,0,0,0,0,0,0,0,0,0,0,0,0,0,0,0,0,0,0,0,0,0,{"$f":"SUM(WSY62:WSY70)","v":0},0,0,0,0,0,0,0,0,0,0,0,0,0,0,0,0,0,0,0,0,0,0,0,0,0,0,0,0,0,0,0,0,0,0,0,0,0,0,0,0,0,0,0,0,0,0,0,0,0,0,0,0,0,0,0,0,0,0,0,0,0,0,0,{"$f":"SUM(WVK62:WVK70)","v":0},0,0,0,0,0,0,0,0,0,0,0,0,0,0,0,0,0,0,0,0,0,0,0,0,0,0,0,0,0,0,0,0,0,0,0,0,0,0,0,0,0,0,0,0,0,0,0,0,0,0,0,0,0,0,0,0,0,0,0,0,0,0,0,{"$f":"SUM(WXW62:WXW70)","v":0},0,0,0,0,0,0,0,0,0,0,0,0,0,0,0,0,0,0,0,0,0,0,0,0,0,0,0,0,0,0,0,0,0,0,0,0,0,0,0,0,0,0,0,0,0,0,0,0,0,0,0,0,0,0,0,0,0,0,0,0,0,0,0,{"$f":"SUM(XAI62:XAI70)","v":0},0,0,0,0,0,0,0,0,0,0,0,0,0,0,0,0,0,0,0,0,0,0,0,0,0,0,0,0,0,0,0,0,0,0,0,0,0,0,0,0,0,0,0,0,0,0,0,0,0,0,0,0,0,0,0,0,0,0,0,0,0,0,0,{"$f":"SUM(XCU62:XCU70)","v":0},0,0,0,0,0,0,0,0,0,0,0,0,0,0,0,0,0,0,0,0,0,0,0,0,0,0,0,0,0,0,0,0,0,0,0,0,0,0,0,0,0,0,0,0,0,0,0,0,0,0,0,0,0,0,0,0,0,0,0,0,0]
["c1) Asuntos Económicos, Comerciales y Laborales en General",0,0,0,0,0,0]
["c2) Agropecuaria, Silvicultura, Pesca y Caza",0,4062705.26,4062705.26,0,0,4062705.26]
["c3) Combustibles y Energía ",0,0,0,0,0,0]
["c4) Minería, Manufacturas y Construcción",0,0,0,0,0,0]
["c5) Transporte",0,4111657.75,4111657.75,3534735.4,1945676.59,576922.35000000009]
["c6) Comunicaciones",0,0,0,0,0,0]
["c7) Turismo",0,0,0,0,0,0]
["c8) Ciencia, Tecnología e Innovación",0,0,0,0,0,0]
["c9) Otras Industrias y Otros Asuntos Económicos",0,0,0,0,0,0]
["D. Otras No Clasificadas en Funciones Anteriores (D=d1+d2+d3+d4)",{"$f":"SUM(B72:B75)","v":2207142.84},{"$f":"SUM(C72:C75)","v":0},{"$f":"SUM(D72:D75)","v":2207142.84},571606.97,571606.97,1635535.8699999999,0,0,0,0,0,0,0,0,0,0,0,0,0,0,0,0,0,0,0,0,0,0,0,0,0,0,0,0,0,0,0,0,0,0,0,0,0,0,0,0,0,0,0,0,0,0,0,0,0,0,0,0,0,0,0,0,0,0,0,{"$f":"SUM(BO72:BO75)","v":0},0,0,0,0,0,0,0,0,0,0,0,0,0,0,0,0,0,0,0,0,0,0,0,0,0,0,0,0,0,0,0,0,0,0,0,0,0,0,0,0,0,0,0,0,0,0,0,0,0,0,0,0,0,0,0,0,0,0,0,0,0,0,0,{"$f":"SUM(EA72:EA75)","v":0},0,0,0,0,0,0,0,0,0,0,0,0,0,0,0,0,0,0,0,0,0,0,0,0,0,0,0,0,0,0,0,0,0,0,0,0,0,0,0,0,0,0,0,0,0,0,0,0,0,0,0,0,0,0,0,0,0,0,0,0,0,0,0,{"$f":"SUM(GM72:GM75)","v":0},0,0,0,0,0,0,0,0,0,0,0,0,0,0,0,0,0,0,0,0,0,0,0,0,0,0,0,0,0,0,0,0,0,0,0,0,0,0,0,0,0,0,0,0,0,0,0,0,0,0,0,0,0,0,0,0,0,0,0,0,0,0,0,{"$f":"SUM(IY72:IY75)","v":0},0,0,0,0,0,0,0,0,0,0,0,0,0,0,0,0,0,0,0,0,0,0,0,0,0,0,0,0,0,0,0,0,0,0,0,0,0,0,0,0,0,0,0,0,0,0,0,0,0,0,0,0,0,0,0,0,0,0,0,0,0,0,0,{"$f":"SUM(LK72:LK75)","v":0},0,0,0,0,0,0,0,0,0,0,0,0,0,0,0,0,0,0,0,0,0,0,0,0,0,0,0,0,0,0,0,0,0,0,0,0,0,0,0,0,0,0,0,0,0,0,0,0,0,0,0,0,0,0,0,0,0,0,0,0,0,0,0,{"$f":"SUM(NW72:NW75)","v":0},0,0,0,0,0,0,0,0,0,0,0,0,0,0,0,0,0,0,0,0,0,0,0,0,0,0,0,0,0,0,0,0,0,0,0,0,0,0,0,0,0,0,0,0,0,0,0,0,0,0,0,0,0,0,0,0,0,0,0,0,0,0,0,{"$f":"SUM(QI72:QI75)","v":0},0,0,0,0,0,0,0,0,0,0,0,0,0,0,0,0,0,0,0,0,0,0,0,0,0,0,0,0,0,0,0,0,0,0,0,0,0,0,0,0,0,0,0,0,0,0,0,0,0,0,0,0,0,0,0,0,0,0,0,0,0,0,0,{"$f":"SUM(SU72:SU75)","v":0},0,0,0,0,0,0,0,0,0,0,0,0,0,0,0,0,0,0,0,0,0,0,0,0,0,0,0,0,0,0,0,0,0,0,0,0,0,0,0,0,0,0,0,0,0,0,0,0,0,0,0,0,0,0,0,0,0,0,0,0,0,0,0,{"$f":"SUM(VG72:VG75)","v":0},0,0,0,0,0,0,0,0,0,0,0,0,0,0,0,0,0,0,0,0,0,0,0,0,0,0,0,0,0,0,0,0,0,0,0,0,0,0,0,0,0,0,0,0,0,0,0,0,0,0,0,0,0,0,0,0,0,0,0,0,0,0,0,{"$f":"SUM(XS72:XS75)","v":0},0,0,0,0,0,0,0,0,0,0,0,0,0,0,0,0,0,0,0,0,0,0,0,0,0,0,0,0,0,0,0,0,0,0,0,0,0,0,0,0,0,0,0,0,0,0,0,0,0,0,0,0,0,0,0,0,0,0,0,0,0,0,0,{"$f":"SUM(AAE72:AAE75)","v":0},0,0,0,0,0,0,0,0,0,0,0,0,0,0,0,0,0,0,0,0,0,0,0,0,0,0,0,0,0,0,0,0,0,0,0,0,0,0,0,0,0,0,0,0,0,0,0,0,0,0,0,0,0,0,0,0,0,0,0,0,0,0,0,{"$f":"SUM(ACQ72:ACQ75)","v":0},0,0,0,0,0,0,0,0,0,0,0,0,0,0,0,0,0,0,0,0,0,0,0,0,0,0,0,0,0,0,0,0,0,0,0,0,0,0,0,0,0,0,0,0,0,0,0,0,0,0,0,0,0,0,0,0,0,0,0,0,0,0,0,{"$f":"SUM(AFC72:AFC75)","v":0},0,0,0,0,0,0,0,0,0,0,0,0,0,0,0,0,0,0,0,0,0,0,0,0,0,0,0,0,0,0,0,0,0,0,0,0,0,0,0,0,0,0,0,0,0,0,0,0,0,0,0,0,0,0,0,0,0,0,0,0,0,0,0,{"$f":"SUM(AHO72:AHO75)","v":0},0,0,0,0,0,0,0,0,0,0,0,0,0,0,0,0,0,0,0,0,0,0,0,0,0,0,0,0,0,0,0,0,0,0,0,0,0,0,0,0,0,0,0,0,0,0,0,0,0,0,0,0,0,0,0,0,0,0,0,0,0,0,0,{"$f":"SUM(AKA72:AKA75)","v":0},0,0,0,0,0,0,0,0,0,0,0,0,0,0,0,0,0,0,0,0,0,0,0,0,0,0,0,0,0,0,0,0,0,0,0,0,0,0,0,0,0,0,0,0,0,0,0,0,0,0,0,0,0,0,0,0,0,0,0,0,0,0,0,{"$f":"SUM(AMM72:AMM75)","v":0},0,0,0,0,0,0,0,0,0,0,0,0,0,0,0,0,0,0,0,0,0,0,0,0,0,0,0,0,0,0,0,0,0,0,0,0,0,0,0,0,0,0,0,0,0,0,0,0,0,0,0,0,0,0,0,0,0,0,0,0,0,0,0,{"$f":"SUM(AOY72:AOY75)","v":0},0,0,0,0,0,0,0,0,0,0,0,0,0,0,0,0,0,0,0,0,0,0,0,0,0,0,0,0,0,0,0,0,0,0,0,0,0,0,0,0,0,0,0,0,0,0,0,0,0,0,0,0,0,0,0,0,0,0,0,0,0,0,0,{"$f":"SUM(ARK72:ARK75)","v":0},0,0,0,0,0,0,0,0,0,0,0,0,0,0,0,0,0,0,0,0,0,0,0,0,0,0,0,0,0,0,0,0,0,0,0,0,0,0,0,0,0,0,0,0,0,0,0,0,0,0,0,0,0,0,0,0,0,0,0,0,0,0,0,{"$f":"SUM(ATW72:ATW75)","v":0},0,0,0,0,0,0,0,0,0,0,0,0,0,0,0,0,0,0,0,0,0,0,0,0,0,0,0,0,0,0,0,0,0,0,0,0,0,0,0,0,0,0,0,0,0,0,0,0,0,0,0,0,0,0,0,0,0,0,0,0,0,0,0,{"$f":"SUM(AWI72:AWI75)","v":0},0,0,0,0,0,0,0,0,0,0,0,0,0,0,0,0,0,0,0,0,0,0,0,0,0,0,0,0,0,0,0,0,0,0,0,0,0,0,0,0,0,0,0,0,0,0,0,0,0,0,0,0,0,0,0,0,0,0,0,0,0,0,0,{"$f":"SUM(AYU72:AYU75)","v":0},0,0,0,0,0,0,0,0,0,0,0,0,0,0,0,0,0,0,0,0,0,0,0,0,0,0,0,0,0,0,0,0,0,0,0,0,0,0,0,0,0,0,0,0,0,0,0,0,0,0,0,0,0,0,0,0,0,0,0,0,0,0,0,{"$f":"SUM(BBG72:BBG75)","v":0},0,0,0,0,0,0,0,0,0,0,0,0,0,0,0,0,0,0,0,0,0,0,0,0,0,0,0,0,0,0,0,0,0,0,0,0,0,0,0,0,0,0,0,0,0,0,0,0,0,0,0,0,0,0,0,0,0,0,0,0,0,0,0,{"$f":"SUM(BDS72:BDS75)","v":0},0,0,0,0,0,0,0,0,0,0,0,0,0,0,0,0,0,0,0,0,0,0,0,0,0,0,0,0,0,0,0,0,0,0,0,0,0,0,0,0,0,0,0,0,0,0,0,0,0,0,0,0,0,0,0,0,0,0,0,0,0,0,0,{"$f":"SUM(BGE72:BGE75)","v":0},0,0,0,0,0,0,0,0,0,0,0,0,0,0,0,0,0,0,0,0,0,0,0,0,0,0,0,0,0,0,0,0,0,0,0,0,0,0,0,0,0,0,0,0,0,0,0,0,0,0,0,0,0,0,0,0,0,0,0,0,0,0,0,{"$f":"SUM(BIQ72:BIQ75)","v":0},0,0,0,0,0,0,0,0,0,0,0,0,0,0,0,0,0,0,0,0,0,0,0,0,0,0,0,0,0,0,0,0,0,0,0,0,0,0,0,0,0,0,0,0,0,0,0,0,0,0,0,0,0,0,0,0,0,0,0,0,0,0,0,{"$f":"SUM(BLC72:BLC75)","v":0},0,0,0,0,0,0,0,0,0,0,0,0,0,0,0,0,0,0,0,0,0,0,0,0,0,0,0,0,0,0,0,0,0,0,0,0,0,0,0,0,0,0,0,0,0,0,0,0,0,0,0,0,0,0,0,0,0,0,0,0,0,0,0,{"$f":"SUM(BNO72:BNO75)","v":0},0,0,0,0,0,0,0,0,0,0,0,0,0,0,0,0,0,0,0,0,0,0,0,0,0,0,0,0,0,0,0,0,0,0,0,0,0,0,0,0,0,0,0,0,0,0,0,0,0,0,0,0,0,0,0,0,0,0,0,0,0,0,0,{"$f":"SUM(BQA72:BQA75)","v":0},0,0,0,0,0,0,0,0,0,0,0,0,0,0,0,0,0,0,0,0,0,0,0,0,0,0,0,0,0,0,0,0,0,0,0,0,0,0,0,0,0,0,0,0,0,0,0,0,0,0,0,0,0,0,0,0,0,0,0,0,0,0,0,{"$f":"SUM(BSM72:BSM75)","v":0},0,0,0,0,0,0,0,0,0,0,0,0,0,0,0,0,0,0,0,0,0,0,0,0,0,0,0,0,0,0,0,0,0,0,0,0,0,0,0,0,0,0,0,0,0,0,0,0,0,0,0,0,0,0,0,0,0,0,0,0,0,0,0,{"$f":"SUM(BUY72:BUY75)","v":0},0,0,0,0,0,0,0,0,0,0,0,0,0,0,0,0,0,0,0,0,0,0,0,0,0,0,0,0,0,0,0,0,0,0,0,0,0,0,0,0,0,0,0,0,0,0,0,0,0,0,0,0,0,0,0,0,0,0,0,0,0,0,0,{"$f":"SUM(BXK72:BXK75)","v":0},0,0,0,0,0,0,0,0,0,0,0,0,0,0,0,0,0,0,0,0,0,0,0,0,0,0,0,0,0,0,0,0,0,0,0,0,0,0,0,0,0,0,0,0,0,0,0,0,0,0,0,0,0,0,0,0,0,0,0,0,0,0,0,{"$f":"SUM(BZW72:BZW75)","v":0},0,0,0,0,0,0,0,0,0,0,0,0,0,0,0,0,0,0,0,0,0,0,0,0,0,0,0,0,0,0,0,0,0,0,0,0,0,0,0,0,0,0,0,0,0,0,0,0,0,0,0,0,0,0,0,0,0,0,0,0,0,0,0,{"$f":"SUM(CCI72:CCI75)","v":0},0,0,0,0,0,0,0,0,0,0,0,0,0,0,0,0,0,0,0,0,0,0,0,0,0,0,0,0,0,0,0,0,0,0,0,0,0,0,0,0,0,0,0,0,0,0,0,0,0,0,0,0,0,0,0,0,0,0,0,0,0,0,0,{"$f":"SUM(CEU72:CEU75)","v":0},0,0,0,0,0,0,0,0,0,0,0,0,0,0,0,0,0,0,0,0,0,0,0,0,0,0,0,0,0,0,0,0,0,0,0,0,0,0,0,0,0,0,0,0,0,0,0,0,0,0,0,0,0,0,0,0,0,0,0,0,0,0,0,{"$f":"SUM(CHG72:CHG75)","v":0},0,0,0,0,0,0,0,0,0,0,0,0,0,0,0,0,0,0,0,0,0,0,0,0,0,0,0,0,0,0,0,0,0,0,0,0,0,0,0,0,0,0,0,0,0,0,0,0,0,0,0,0,0,0,0,0,0,0,0,0,0,0,0,{"$f":"SUM(CJS72:CJS75)","v":0},0,0,0,0,0,0,0,0,0,0,0,0,0,0,0,0,0,0,0,0,0,0,0,0,0,0,0,0,0,0,0,0,0,0,0,0,0,0,0,0,0,0,0,0,0,0,0,0,0,0,0,0,0,0,0,0,0,0,0,0,0,0,0,{"$f":"SUM(CME72:CME75)","v":0},0,0,0,0,0,0,0,0,0,0,0,0,0,0,0,0,0,0,0,0,0,0,0,0,0,0,0,0,0,0,0,0,0,0,0,0,0,0,0,0,0,0,0,0,0,0,0,0,0,0,0,0,0,0,0,0,0,0,0,0,0,0,0,{"$f":"SUM(COQ72:COQ75)","v":0},0,0,0,0,0,0,0,0,0,0,0,0,0,0,0,0,0,0,0,0,0,0,0,0,0,0,0,0,0,0,0,0,0,0,0,0,0,0,0,0,0,0,0,0,0,0,0,0,0,0,0,0,0,0,0,0,0,0,0,0,0,0,0,{"$f":"SUM(CRC72:CRC75)","v":0},0,0,0,0,0,0,0,0,0,0,0,0,0,0,0,0,0,0,0,0,0,0,0,0,0,0,0,0,0,0,0,0,0,0,0,0,0,0,0,0,0,0,0,0,0,0,0,0,0,0,0,0,0,0,0,0,0,0,0,0,0,0,0,{"$f":"SUM(CTO72:CTO75)","v":0},0,0,0,0,0,0,0,0,0,0,0,0,0,0,0,0,0,0,0,0,0,0,0,0,0,0,0,0,0,0,0,0,0,0,0,0,0,0,0,0,0,0,0,0,0,0,0,0,0,0,0,0,0,0,0,0,0,0,0,0,0,0,0,{"$f":"SUM(CWA72:CWA75)","v":0},0,0,0,0,0,0,0,0,0,0,0,0,0,0,0,0,0,0,0,0,0,0,0,0,0,0,0,0,0,0,0,0,0,0,0,0,0,0,0,0,0,0,0,0,0,0,0,0,0,0,0,0,0,0,0,0,0,0,0,0,0,0,0,{"$f":"SUM(CYM72:CYM75)","v":0},0,0,0,0,0,0,0,0,0,0,0,0,0,0,0,0,0,0,0,0,0,0,0,0,0,0,0,0,0,0,0,0,0,0,0,0,0,0,0,0,0,0,0,0,0,0,0,0,0,0,0,0,0,0,0,0,0,0,0,0,0,0,0,{"$f":"SUM(DAY72:DAY75)","v":0},0,0,0,0,0,0,0,0,0,0,0,0,0,0,0,0,0,0,0,0,0,0,0,0,0,0,0,0,0,0,0,0,0,0,0,0,0,0,0,0,0,0,0,0,0,0,0,0,0,0,0,0,0,0,0,0,0,0,0,0,0,0,0,{"$f":"SUM(DDK72:DDK75)","v":0},0,0,0,0,0,0,0,0,0,0,0,0,0,0,0,0,0,0,0,0,0,0,0,0,0,0,0,0,0,0,0,0,0,0,0,0,0,0,0,0,0,0,0,0,0,0,0,0,0,0,0,0,0,0,0,0,0,0,0,0,0,0,0,{"$f":"SUM(DFW72:DFW75)","v":0},0,0,0,0,0,0,0,0,0,0,0,0,0,0,0,0,0,0,0,0,0,0,0,0,0,0,0,0,0,0,0,0,0,0,0,0,0,0,0,0,0,0,0,0,0,0,0,0,0,0,0,0,0,0,0,0,0,0,0,0,0,0,0,{"$f":"SUM(DII72:DII75)","v":0},0,0,0,0,0,0,0,0,0,0,0,0,0,0,0,0,0,0,0,0,0,0,0,0,0,0,0,0,0,0,0,0,0,0,0,0,0,0,0,0,0,0,0,0,0,0,0,0,0,0,0,0,0,0,0,0,0,0,0,0,0,0,0,{"$f":"SUM(DKU72:DKU75)","v":0},0,0,0,0,0,0,0,0,0,0,0,0,0,0,0,0,0,0,0,0,0,0,0,0,0,0,0,0,0,0,0,0,0,0,0,0,0,0,0,0,0,0,0,0,0,0,0,0,0,0,0,0,0,0,0,0,0,0,0,0,0,0,0,{"$f":"SUM(DNG72:DNG75)","v":0},0,0,0,0,0,0,0,0,0,0,0,0,0,0,0,0,0,0,0,0,0,0,0,0,0,0,0,0,0,0,0,0,0,0,0,0,0,0,0,0,0,0,0,0,0,0,0,0,0,0,0,0,0,0,0,0,0,0,0,0,0,0,0,{"$f":"SUM(DPS72:DPS75)","v":0},0,0,0,0,0,0,0,0,0,0,0,0,0,0,0,0,0,0,0,0,0,0,0,0,0,0,0,0,0,0,0,0,0,0,0,0,0,0,0,0,0,0,0,0,0,0,0,0,0,0,0,0,0,0,0,0,0,0,0,0,0,0,0,{"$f":"SUM(DSE72:DSE75)","v":0},0,0,0,0,0,0,0,0,0,0,0,0,0,0,0,0,0,0,0,0,0,0,0,0,0,0,0,0,0,0,0,0,0,0,0,0,0,0,0,0,0,0,0,0,0,0,0,0,0,0,0,0,0,0,0,0,0,0,0,0,0,0,0,{"$f":"SUM(DUQ72:DUQ75)","v":0},0,0,0,0,0,0,0,0,0,0,0,0,0,0,0,0,0,0,0,0,0,0,0,0,0,0,0,0,0,0,0,0,0,0,0,0,0,0,0,0,0,0,0,0,0,0,0,0,0,0,0,0,0,0,0,0,0,0,0,0,0,0,0,{"$f":"SUM(DXC72:DXC75)","v":0},0,0,0,0,0,0,0,0,0,0,0,0,0,0,0,0,0,0,0,0,0,0,0,0,0,0,0,0,0,0,0,0,0,0,0,0,0,0,0,0,0,0,0,0,0,0,0,0,0,0,0,0,0,0,0,0,0,0,0,0,0,0,0,{"$f":"SUM(DZO72:DZO75)","v":0},0,0,0,0,0,0,0,0,0,0,0,0,0,0,0,0,0,0,0,0,0,0,0,0,0,0,0,0,0,0,0,0,0,0,0,0,0,0,0,0,0,0,0,0,0,0,0,0,0,0,0,0,0,0,0,0,0,0,0,0,0,0,0,{"$f":"SUM(ECA72:ECA75)","v":0},0,0,0,0,0,0,0,0,0,0,0,0,0,0,0,0,0,0,0,0,0,0,0,0,0,0,0,0,0,0,0,0,0,0,0,0,0,0,0,0,0,0,0,0,0,0,0,0,0,0,0,0,0,0,0,0,0,0,0,0,0,0,0,{"$f":"SUM(EEM72:EEM75)","v":0},0,0,0,0,0,0,0,0,0,0,0,0,0,0,0,0,0,0,0,0,0,0,0,0,0,0,0,0,0,0,0,0,0,0,0,0,0,0,0,0,0,0,0,0,0,0,0,0,0,0,0,0,0,0,0,0,0,0,0,0,0,0,0,{"$f":"SUM(EGY72:EGY75)","v":0},0,0,0,0,0,0,0,0,0,0,0,0,0,0,0,0,0,0,0,0,0,0,0,0,0,0,0,0,0,0,0,0,0,0,0,0,0,0,0,0,0,0,0,0,0,0,0,0,0,0,0,0,0,0,0,0,0,0,0,0,0,0,0,{"$f":"SUM(EJK72:EJK75)","v":0},0,0,0,0,0,0,0,0,0,0,0,0,0,0,0,0,0,0,0,0,0,0,0,0,0,0,0,0,0,0,0,0,0,0,0,0,0,0,0,0,0,0,0,0,0,0,0,0,0,0,0,0,0,0,0,0,0,0,0,0,0,0,0,{"$f":"SUM(ELW72:ELW75)","v":0},0,0,0,0,0,0,0,0,0,0,0,0,0,0,0,0,0,0,0,0,0,0,0,0,0,0,0,0,0,0,0,0,0,0,0,0,0,0,0,0,0,0,0,0,0,0,0,0,0,0,0,0,0,0,0,0,0,0,0,0,0,0,0,{"$f":"SUM(EOI72:EOI75)","v":0},0,0,0,0,0,0,0,0,0,0,0,0,0,0,0,0,0,0,0,0,0,0,0,0,0,0,0,0,0,0,0,0,0,0,0,0,0,0,0,0,0,0,0,0,0,0,0,0,0,0,0,0,0,0,0,0,0,0,0,0,0,0,0,{"$f":"SUM(EQU72:EQU75)","v":0},0,0,0,0,0,0,0,0,0,0,0,0,0,0,0,0,0,0,0,0,0,0,0,0,0,0,0,0,0,0,0,0,0,0,0,0,0,0,0,0,0,0,0,0,0,0,0,0,0,0,0,0,0,0,0,0,0,0,0,0,0,0,0,{"$f":"SUM(ETG72:ETG75)","v":0},0,0,0,0,0,0,0,0,0,0,0,0,0,0,0,0,0,0,0,0,0,0,0,0,0,0,0,0,0,0,0,0,0,0,0,0,0,0,0,0,0,0,0,0,0,0,0,0,0,0,0,0,0,0,0,0,0,0,0,0,0,0,0,{"$f":"SUM(EVS72:EVS75)","v":0},0,0,0,0,0,0,0,0,0,0,0,0,0,0,0,0,0,0,0,0,0,0,0,0,0,0,0,0,0,0,0,0,0,0,0,0,0,0,0,0,0,0,0,0,0,0,0,0,0,0,0,0,0,0,0,0,0,0,0,0,0,0,0,{"$f":"SUM(EYE72:EYE75)","v":0},0,0,0,0,0,0,0,0,0,0,0,0,0,0,0,0,0,0,0,0,0,0,0,0,0,0,0,0,0,0,0,0,0,0,0,0,0,0,0,0,0,0,0,0,0,0,0,0,0,0,0,0,0,0,0,0,0,0,0,0,0,0,0,{"$f":"SUM(FAQ72:FAQ75)","v":0},0,0,0,0,0,0,0,0,0,0,0,0,0,0,0,0,0,0,0,0,0,0,0,0,0,0,0,0,0,0,0,0,0,0,0,0,0,0,0,0,0,0,0,0,0,0,0,0,0,0,0,0,0,0,0,0,0,0,0,0,0,0,0,{"$f":"SUM(FDC72:FDC75)","v":0},0,0,0,0,0,0,0,0,0,0,0,0,0,0,0,0,0,0,0,0,0,0,0,0,0,0,0,0,0,0,0,0,0,0,0,0,0,0,0,0,0,0,0,0,0,0,0,0,0,0,0,0,0,0,0,0,0,0,0,0,0,0,0,{"$f":"SUM(FFO72:FFO75)","v":0},0,0,0,0,0,0,0,0,0,0,0,0,0,0,0,0,0,0,0,0,0,0,0,0,0,0,0,0,0,0,0,0,0,0,0,0,0,0,0,0,0,0,0,0,0,0,0,0,0,0,0,0,0,0,0,0,0,0,0,0,0,0,0,{"$f":"SUM(FIA72:FIA75)","v":0},0,0,0,0,0,0,0,0,0,0,0,0,0,0,0,0,0,0,0,0,0,0,0,0,0,0,0,0,0,0,0,0,0,0,0,0,0,0,0,0,0,0,0,0,0,0,0,0,0,0,0,0,0,0,0,0,0,0,0,0,0,0,0,{"$f":"SUM(FKM72:FKM75)","v":0},0,0,0,0,0,0,0,0,0,0,0,0,0,0,0,0,0,0,0,0,0,0,0,0,0,0,0,0,0,0,0,0,0,0,0,0,0,0,0,0,0,0,0,0,0,0,0,0,0,0,0,0,0,0,0,0,0,0,0,0,0,0,0,{"$f":"SUM(FMY72:FMY75)","v":0},0,0,0,0,0,0,0,0,0,0,0,0,0,0,0,0,0,0,0,0,0,0,0,0,0,0,0,0,0,0,0,0,0,0,0,0,0,0,0,0,0,0,0,0,0,0,0,0,0,0,0,0,0,0,0,0,0,0,0,0,0,0,0,{"$f":"SUM(FPK72:FPK75)","v":0},0,0,0,0,0,0,0,0,0,0,0,0,0,0,0,0,0,0,0,0,0,0,0,0,0,0,0,0,0,0,0,0,0,0,0,0,0,0,0,0,0,0,0,0,0,0,0,0,0,0,0,0,0,0,0,0,0,0,0,0,0,0,0,{"$f":"SUM(FRW72:FRW75)","v":0},0,0,0,0,0,0,0,0,0,0,0,0,0,0,0,0,0,0,0,0,0,0,0,0,0,0,0,0,0,0,0,0,0,0,0,0,0,0,0,0,0,0,0,0,0,0,0,0,0,0,0,0,0,0,0,0,0,0,0,0,0,0,0,{"$f":"SUM(FUI72:FUI75)","v":0},0,0,0,0,0,0,0,0,0,0,0,0,0,0,0,0,0,0,0,0,0,0,0,0,0,0,0,0,0,0,0,0,0,0,0,0,0,0,0,0,0,0,0,0,0,0,0,0,0,0,0,0,0,0,0,0,0,0,0,0,0,0,0,{"$f":"SUM(FWU72:FWU75)","v":0},0,0,0,0,0,0,0,0,0,0,0,0,0,0,0,0,0,0,0,0,0,0,0,0,0,0,0,0,0,0,0,0,0,0,0,0,0,0,0,0,0,0,0,0,0,0,0,0,0,0,0,0,0,0,0,0,0,0,0,0,0,0,0,{"$f":"SUM(FZG72:FZG75)","v":0},0,0,0,0,0,0,0,0,0,0,0,0,0,0,0,0,0,0,0,0,0,0,0,0,0,0,0,0,0,0,0,0,0,0,0,0,0,0,0,0,0,0,0,0,0,0,0,0,0,0,0,0,0,0,0,0,0,0,0,0,0,0,0,{"$f":"SUM(GBS72:GBS75)","v":0},0,0,0,0,0,0,0,0,0,0,0,0,0,0,0,0,0,0,0,0,0,0,0,0,0,0,0,0,0,0,0,0,0,0,0,0,0,0,0,0,0,0,0,0,0,0,0,0,0,0,0,0,0,0,0,0,0,0,0,0,0,0,0,{"$f":"SUM(GEE72:GEE75)","v":0},0,0,0,0,0,0,0,0,0,0,0,0,0,0,0,0,0,0,0,0,0,0,0,0,0,0,0,0,0,0,0,0,0,0,0,0,0,0,0,0,0,0,0,0,0,0,0,0,0,0,0,0,0,0,0,0,0,0,0,0,0,0,0,{"$f":"SUM(GGQ72:GGQ75)","v":0},0,0,0,0,0,0,0,0,0,0,0,0,0,0,0,0,0,0,0,0,0,0,0,0,0,0,0,0,0,0,0,0,0,0,0,0,0,0,0,0,0,0,0,0,0,0,0,0,0,0,0,0,0,0,0,0,0,0,0,0,0,0,0,{"$f":"SUM(GJC72:GJC75)","v":0},0,0,0,0,0,0,0,0,0,0,0,0,0,0,0,0,0,0,0,0,0,0,0,0,0,0,0,0,0,0,0,0,0,0,0,0,0,0,0,0,0,0,0,0,0,0,0,0,0,0,0,0,0,0,0,0,0,0,0,0,0,0,0,{"$f":"SUM(GLO72:GLO75)","v":0},0,0,0,0,0,0,0,0,0,0,0,0,0,0,0,0,0,0,0,0,0,0,0,0,0,0,0,0,0,0,0,0,0,0,0,0,0,0,0,0,0,0,0,0,0,0,0,0,0,0,0,0,0,0,0,0,0,0,0,0,0,0,0,{"$f":"SUM(GOA72:GOA75)","v":0},0,0,0,0,0,0,0,0,0,0,0,0,0,0,0,0,0,0,0,0,0,0,0,0,0,0,0,0,0,0,0,0,0,0,0,0,0,0,0,0,0,0,0,0,0,0,0,0,0,0,0,0,0,0,0,0,0,0,0,0,0,0,0,{"$f":"SUM(GQM72:GQM75)","v":0},0,0,0,0,0,0,0,0,0,0,0,0,0,0,0,0,0,0,0,0,0,0,0,0,0,0,0,0,0,0,0,0,0,0,0,0,0,0,0,0,0,0,0,0,0,0,0,0,0,0,0,0,0,0,0,0,0,0,0,0,0,0,0,{"$f":"SUM(GSY72:GSY75)","v":0},0,0,0,0,0,0,0,0,0,0,0,0,0,0,0,0,0,0,0,0,0,0,0,0,0,0,0,0,0,0,0,0,0,0,0,0,0,0,0,0,0,0,0,0,0,0,0,0,0,0,0,0,0,0,0,0,0,0,0,0,0,0,0,{"$f":"SUM(GVK72:GVK75)","v":0},0,0,0,0,0,0,0,0,0,0,0,0,0,0,0,0,0,0,0,0,0,0,0,0,0,0,0,0,0,0,0,0,0,0,0,0,0,0,0,0,0,0,0,0,0,0,0,0,0,0,0,0,0,0,0,0,0,0,0,0,0,0,0,{"$f":"SUM(GXW72:GXW75)","v":0},0,0,0,0,0,0,0,0,0,0,0,0,0,0,0,0,0,0,0,0,0,0,0,0,0,0,0,0,0,0,0,0,0,0,0,0,0,0,0,0,0,0,0,0,0,0,0,0,0,0,0,0,0,0,0,0,0,0,0,0,0,0,0,{"$f":"SUM(HAI72:HAI75)","v":0},0,0,0,0,0,0,0,0,0,0,0,0,0,0,0,0,0,0,0,0,0,0,0,0,0,0,0,0,0,0,0,0,0,0,0,0,0,0,0,0,0,0,0,0,0,0,0,0,0,0,0,0,0,0,0,0,0,0,0,0,0,0,0,{"$f":"SUM(HCU72:HCU75)","v":0},0,0,0,0,0,0,0,0,0,0,0,0,0,0,0,0,0,0,0,0,0,0,0,0,0,0,0,0,0,0,0,0,0,0,0,0,0,0,0,0,0,0,0,0,0,0,0,0,0,0,0,0,0,0,0,0,0,0,0,0,0,0,0,{"$f":"SUM(HFG72:HFG75)","v":0},0,0,0,0,0,0,0,0,0,0,0,0,0,0,0,0,0,0,0,0,0,0,0,0,0,0,0,0,0,0,0,0,0,0,0,0,0,0,0,0,0,0,0,0,0,0,0,0,0,0,0,0,0,0,0,0,0,0,0,0,0,0,0,{"$f":"SUM(HHS72:HHS75)","v":0},0,0,0,0,0,0,0,0,0,0,0,0,0,0,0,0,0,0,0,0,0,0,0,0,0,0,0,0,0,0,0,0,0,0,0,0,0,0,0,0,0,0,0,0,0,0,0,0,0,0,0,0,0,0,0,0,0,0,0,0,0,0,0,{"$f":"SUM(HKE72:HKE75)","v":0},0,0,0,0,0,0,0,0,0,0,0,0,0,0,0,0,0,0,0,0,0,0,0,0,0,0,0,0,0,0,0,0,0,0,0,0,0,0,0,0,0,0,0,0,0,0,0,0,0,0,0,0,0,0,0,0,0,0,0,0,0,0,0,{"$f":"SUM(HMQ72:HMQ75)","v":0},0,0,0,0,0,0,0,0,0,0,0,0,0,0,0,0,0,0,0,0,0,0,0,0,0,0,0,0,0,0,0,0,0,0,0,0,0,0,0,0,0,0,0,0,0,0,0,0,0,0,0,0,0,0,0,0,0,0,0,0,0,0,0,{"$f":"SUM(HPC72:HPC75)","v":0},0,0,0,0,0,0,0,0,0,0,0,0,0,0,0,0,0,0,0,0,0,0,0,0,0,0,0,0,0,0,0,0,0,0,0,0,0,0,0,0,0,0,0,0,0,0,0,0,0,0,0,0,0,0,0,0,0,0,0,0,0,0,0,{"$f":"SUM(HRO72:HRO75)","v":0},0,0,0,0,0,0,0,0,0,0,0,0,0,0,0,0,0,0,0,0,0,0,0,0,0,0,0,0,0,0,0,0,0,0,0,0,0,0,0,0,0,0,0,0,0,0,0,0,0,0,0,0,0,0,0,0,0,0,0,0,0,0,0,{"$f":"SUM(HUA72:HUA75)","v":0},0,0,0,0,0,0,0,0,0,0,0,0,0,0,0,0,0,0,0,0,0,0,0,0,0,0,0,0,0,0,0,0,0,0,0,0,0,0,0,0,0,0,0,0,0,0,0,0,0,0,0,0,0,0,0,0,0,0,0,0,0,0,0,{"$f":"SUM(HWM72:HWM75)","v":0},0,0,0,0,0,0,0,0,0,0,0,0,0,0,0,0,0,0,0,0,0,0,0,0,0,0,0,0,0,0,0,0,0,0,0,0,0,0,0,0,0,0,0,0,0,0,0,0,0,0,0,0,0,0,0,0,0,0,0,0,0,0,0,{"$f":"SUM(HYY72:HYY75)","v":0},0,0,0,0,0,0,0,0,0,0,0,0,0,0,0,0,0,0,0,0,0,0,0,0,0,0,0,0,0,0,0,0,0,0,0,0,0,0,0,0,0,0,0,0,0,0,0,0,0,0,0,0,0,0,0,0,0,0,0,0,0,0,0,{"$f":"SUM(IBK72:IBK75)","v":0},0,0,0,0,0,0,0,0,0,0,0,0,0,0,0,0,0,0,0,0,0,0,0,0,0,0,0,0,0,0,0,0,0,0,0,0,0,0,0,0,0,0,0,0,0,0,0,0,0,0,0,0,0,0,0,0,0,0,0,0,0,0,0,{"$f":"SUM(IDW72:IDW75)","v":0},0,0,0,0,0,0,0,0,0,0,0,0,0,0,0,0,0,0,0,0,0,0,0,0,0,0,0,0,0,0,0,0,0,0,0,0,0,0,0,0,0,0,0,0,0,0,0,0,0,0,0,0,0,0,0,0,0,0,0,0,0,0,0,{"$f":"SUM(IGI72:IGI75)","v":0},0,0,0,0,0,0,0,0,0,0,0,0,0,0,0,0,0,0,0,0,0,0,0,0,0,0,0,0,0,0,0,0,0,0,0,0,0,0,0,0,0,0,0,0,0,0,0,0,0,0,0,0,0,0,0,0,0,0,0,0,0,0,0,{"$f":"SUM(IIU72:IIU75)","v":0},0,0,0,0,0,0,0,0,0,0,0,0,0,0,0,0,0,0,0,0,0,0,0,0,0,0,0,0,0,0,0,0,0,0,0,0,0,0,0,0,0,0,0,0,0,0,0,0,0,0,0,0,0,0,0,0,0,0,0,0,0,0,0,{"$f":"SUM(ILG72:ILG75)","v":0},0,0,0,0,0,0,0,0,0,0,0,0,0,0,0,0,0,0,0,0,0,0,0,0,0,0,0,0,0,0,0,0,0,0,0,0,0,0,0,0,0,0,0,0,0,0,0,0,0,0,0,0,0,0,0,0,0,0,0,0,0,0,0,{"$f":"SUM(INS72:INS75)","v":0},0,0,0,0,0,0,0,0,0,0,0,0,0,0,0,0,0,0,0,0,0,0,0,0,0,0,0,0,0,0,0,0,0,0,0,0,0,0,0,0,0,0,0,0,0,0,0,0,0,0,0,0,0,0,0,0,0,0,0,0,0,0,0,{"$f":"SUM(IQE72:IQE75)","v":0},0,0,0,0,0,0,0,0,0,0,0,0,0,0,0,0,0,0,0,0,0,0,0,0,0,0,0,0,0,0,0,0,0,0,0,0,0,0,0,0,0,0,0,0,0,0,0,0,0,0,0,0,0,0,0,0,0,0,0,0,0,0,0,{"$f":"SUM(ISQ72:ISQ75)","v":0},0,0,0,0,0,0,0,0,0,0,0,0,0,0,0,0,0,0,0,0,0,0,0,0,0,0,0,0,0,0,0,0,0,0,0,0,0,0,0,0,0,0,0,0,0,0,0,0,0,0,0,0,0,0,0,0,0,0,0,0,0,0,0,{"$f":"SUM(IVC72:IVC75)","v":0},0,0,0,0,0,0,0,0,0,0,0,0,0,0,0,0,0,0,0,0,0,0,0,0,0,0,0,0,0,0,0,0,0,0,0,0,0,0,0,0,0,0,0,0,0,0,0,0,0,0,0,0,0,0,0,0,0,0,0,0,0,0,0,{"$f":"SUM(IXO72:IXO75)","v":0},0,0,0,0,0,0,0,0,0,0,0,0,0,0,0,0,0,0,0,0,0,0,0,0,0,0,0,0,0,0,0,0,0,0,0,0,0,0,0,0,0,0,0,0,0,0,0,0,0,0,0,0,0,0,0,0,0,0,0,0,0,0,0,{"$f":"SUM(JAA72:JAA75)","v":0},0,0,0,0,0,0,0,0,0,0,0,0,0,0,0,0,0,0,0,0,0,0,0,0,0,0,0,0,0,0,0,0,0,0,0,0,0,0,0,0,0,0,0,0,0,0,0,0,0,0,0,0,0,0,0,0,0,0,0,0,0,0,0,{"$f":"SUM(JCM72:JCM75)","v":0},0,0,0,0,0,0,0,0,0,0,0,0,0,0,0,0,0,0,0,0,0,0,0,0,0,0,0,0,0,0,0,0,0,0,0,0,0,0,0,0,0,0,0,0,0,0,0,0,0,0,0,0,0,0,0,0,0,0,0,0,0,0,0,{"$f":"SUM(JEY72:JEY75)","v":0},0,0,0,0,0,0,0,0,0,0,0,0,0,0,0,0,0,0,0,0,0,0,0,0,0,0,0,0,0,0,0,0,0,0,0,0,0,0,0,0,0,0,0,0,0,0,0,0,0,0,0,0,0,0,0,0,0,0,0,0,0,0,0,{"$f":"SUM(JHK72:JHK75)","v":0},0,0,0,0,0,0,0,0,0,0,0,0,0,0,0,0,0,0,0,0,0,0,0,0,0,0,0,0,0,0,0,0,0,0,0,0,0,0,0,0,0,0,0,0,0,0,0,0,0,0,0,0,0,0,0,0,0,0,0,0,0,0,0,{"$f":"SUM(JJW72:JJW75)","v":0},0,0,0,0,0,0,0,0,0,0,0,0,0,0,0,0,0,0,0,0,0,0,0,0,0,0,0,0,0,0,0,0,0,0,0,0,0,0,0,0,0,0,0,0,0,0,0,0,0,0,0,0,0,0,0,0,0,0,0,0,0,0,0,{"$f":"SUM(JMI72:JMI75)","v":0},0,0,0,0,0,0,0,0,0,0,0,0,0,0,0,0,0,0,0,0,0,0,0,0,0,0,0,0,0,0,0,0,0,0,0,0,0,0,0,0,0,0,0,0,0,0,0,0,0,0,0,0,0,0,0,0,0,0,0,0,0,0,0,{"$f":"SUM(JOU72:JOU75)","v":0},0,0,0,0,0,0,0,0,0,0,0,0,0,0,0,0,0,0,0,0,0,0,0,0,0,0,0,0,0,0,0,0,0,0,0,0,0,0,0,0,0,0,0,0,0,0,0,0,0,0,0,0,0,0,0,0,0,0,0,0,0,0,0,{"$f":"SUM(JRG72:JRG75)","v":0},0,0,0,0,0,0,0,0,0,0,0,0,0,0,0,0,0,0,0,0,0,0,0,0,0,0,0,0,0,0,0,0,0,0,0,0,0,0,0,0,0,0,0,0,0,0,0,0,0,0,0,0,0,0,0,0,0,0,0,0,0,0,0,{"$f":"SUM(JTS72:JTS75)","v":0},0,0,0,0,0,0,0,0,0,0,0,0,0,0,0,0,0,0,0,0,0,0,0,0,0,0,0,0,0,0,0,0,0,0,0,0,0,0,0,0,0,0,0,0,0,0,0,0,0,0,0,0,0,0,0,0,0,0,0,0,0,0,0,{"$f":"SUM(JWE72:JWE75)","v":0},0,0,0,0,0,0,0,0,0,0,0,0,0,0,0,0,0,0,0,0,0,0,0,0,0,0,0,0,0,0,0,0,0,0,0,0,0,0,0,0,0,0,0,0,0,0,0,0,0,0,0,0,0,0,0,0,0,0,0,0,0,0,0,{"$f":"SUM(JYQ72:JYQ75)","v":0},0,0,0,0,0,0,0,0,0,0,0,0,0,0,0,0,0,0,0,0,0,0,0,0,0,0,0,0,0,0,0,0,0,0,0,0,0,0,0,0,0,0,0,0,0,0,0,0,0,0,0,0,0,0,0,0,0,0,0,0,0,0,0,{"$f":"SUM(KBC72:KBC75)","v":0},0,0,0,0,0,0,0,0,0,0,0,0,0,0,0,0,0,0,0,0,0,0,0,0,0,0,0,0,0,0,0,0,0,0,0,0,0,0,0,0,0,0,0,0,0,0,0,0,0,0,0,0,0,0,0,0,0,0,0,0,0,0,0,{"$f":"SUM(KDO72:KDO75)","v":0},0,0,0,0,0,0,0,0,0,0,0,0,0,0,0,0,0,0,0,0,0,0,0,0,0,0,0,0,0,0,0,0,0,0,0,0,0,0,0,0,0,0,0,0,0,0,0,0,0,0,0,0,0,0,0,0,0,0,0,0,0,0,0,{"$f":"SUM(KGA72:KGA75)","v":0},0,0,0,0,0,0,0,0,0,0,0,0,0,0,0,0,0,0,0,0,0,0,0,0,0,0,0,0,0,0,0,0,0,0,0,0,0,0,0,0,0,0,0,0,0,0,0,0,0,0,0,0,0,0,0,0,0,0,0,0,0,0,0,{"$f":"SUM(KIM72:KIM75)","v":0},0,0,0,0,0,0,0,0,0,0,0,0,0,0,0,0,0,0,0,0,0,0,0,0,0,0,0,0,0,0,0,0,0,0,0,0,0,0,0,0,0,0,0,0,0,0,0,0,0,0,0,0,0,0,0,0,0,0,0,0,0,0,0,{"$f":"SUM(KKY72:KKY75)","v":0},0,0,0,0,0,0,0,0,0,0,0,0,0,0,0,0,0,0,0,0,0,0,0,0,0,0,0,0,0,0,0,0,0,0,0,0,0,0,0,0,0,0,0,0,0,0,0,0,0,0,0,0,0,0,0,0,0,0,0,0,0,0,0,{"$f":"SUM(KNK72:KNK75)","v":0},0,0,0,0,0,0,0,0,0,0,0,0,0,0,0,0,0,0,0,0,0,0,0,0,0,0,0,0,0,0,0,0,0,0,0,0,0,0,0,0,0,0,0,0,0,0,0,0,0,0,0,0,0,0,0,0,0,0,0,0,0,0,0,{"$f":"SUM(KPW72:KPW75)","v":0},0,0,0,0,0,0,0,0,0,0,0,0,0,0,0,0,0,0,0,0,0,0,0,0,0,0,0,0,0,0,0,0,0,0,0,0,0,0,0,0,0,0,0,0,0,0,0,0,0,0,0,0,0,0,0,0,0,0,0,0,0,0,0,{"$f":"SUM(KSI72:KSI75)","v":0},0,0,0,0,0,0,0,0,0,0,0,0,0,0,0,0,0,0,0,0,0,0,0,0,0,0,0,0,0,0,0,0,0,0,0,0,0,0,0,0,0,0,0,0,0,0,0,0,0,0,0,0,0,0,0,0,0,0,0,0,0,0,0,{"$f":"SUM(KUU72:KUU75)","v":0},0,0,0,0,0,0,0,0,0,0,0,0,0,0,0,0,0,0,0,0,0,0,0,0,0,0,0,0,0,0,0,0,0,0,0,0,0,0,0,0,0,0,0,0,0,0,0,0,0,0,0,0,0,0,0,0,0,0,0,0,0,0,0,{"$f":"SUM(KXG72:KXG75)","v":0},0,0,0,0,0,0,0,0,0,0,0,0,0,0,0,0,0,0,0,0,0,0,0,0,0,0,0,0,0,0,0,0,0,0,0,0,0,0,0,0,0,0,0,0,0,0,0,0,0,0,0,0,0,0,0,0,0,0,0,0,0,0,0,{"$f":"SUM(KZS72:KZS75)","v":0},0,0,0,0,0,0,0,0,0,0,0,0,0,0,0,0,0,0,0,0,0,0,0,0,0,0,0,0,0,0,0,0,0,0,0,0,0,0,0,0,0,0,0,0,0,0,0,0,0,0,0,0,0,0,0,0,0,0,0,0,0,0,0,{"$f":"SUM(LCE72:LCE75)","v":0},0,0,0,0,0,0,0,0,0,0,0,0,0,0,0,0,0,0,0,0,0,0,0,0,0,0,0,0,0,0,0,0,0,0,0,0,0,0,0,0,0,0,0,0,0,0,0,0,0,0,0,0,0,0,0,0,0,0,0,0,0,0,0,{"$f":"SUM(LEQ72:LEQ75)","v":0},0,0,0,0,0,0,0,0,0,0,0,0,0,0,0,0,0,0,0,0,0,0,0,0,0,0,0,0,0,0,0,0,0,0,0,0,0,0,0,0,0,0,0,0,0,0,0,0,0,0,0,0,0,0,0,0,0,0,0,0,0,0,0,{"$f":"SUM(LHC72:LHC75)","v":0},0,0,0,0,0,0,0,0,0,0,0,0,0,0,0,0,0,0,0,0,0,0,0,0,0,0,0,0,0,0,0,0,0,0,0,0,0,0,0,0,0,0,0,0,0,0,0,0,0,0,0,0,0,0,0,0,0,0,0,0,0,0,0,{"$f":"SUM(LJO72:LJO75)","v":0},0,0,0,0,0,0,0,0,0,0,0,0,0,0,0,0,0,0,0,0,0,0,0,0,0,0,0,0,0,0,0,0,0,0,0,0,0,0,0,0,0,0,0,0,0,0,0,0,0,0,0,0,0,0,0,0,0,0,0,0,0,0,0,{"$f":"SUM(LMA72:LMA75)","v":0},0,0,0,0,0,0,0,0,0,0,0,0,0,0,0,0,0,0,0,0,0,0,0,0,0,0,0,0,0,0,0,0,0,0,0,0,0,0,0,0,0,0,0,0,0,0,0,0,0,0,0,0,0,0,0,0,0,0,0,0,0,0,0,{"$f":"SUM(LOM72:LOM75)","v":0},0,0,0,0,0,0,0,0,0,0,0,0,0,0,0,0,0,0,0,0,0,0,0,0,0,0,0,0,0,0,0,0,0,0,0,0,0,0,0,0,0,0,0,0,0,0,0,0,0,0,0,0,0,0,0,0,0,0,0,0,0,0,0,{"$f":"SUM(LQY72:LQY75)","v":0},0,0,0,0,0,0,0,0,0,0,0,0,0,0,0,0,0,0,0,0,0,0,0,0,0,0,0,0,0,0,0,0,0,0,0,0,0,0,0,0,0,0,0,0,0,0,0,0,0,0,0,0,0,0,0,0,0,0,0,0,0,0,0,{"$f":"SUM(LTK72:LTK75)","v":0},0,0,0,0,0,0,0,0,0,0,0,0,0,0,0,0,0,0,0,0,0,0,0,0,0,0,0,0,0,0,0,0,0,0,0,0,0,0,0,0,0,0,0,0,0,0,0,0,0,0,0,0,0,0,0,0,0,0,0,0,0,0,0,{"$f":"SUM(LVW72:LVW75)","v":0},0,0,0,0,0,0,0,0,0,0,0,0,0,0,0,0,0,0,0,0,0,0,0,0,0,0,0,0,0,0,0,0,0,0,0,0,0,0,0,0,0,0,0,0,0,0,0,0,0,0,0,0,0,0,0,0,0,0,0,0,0,0,0,{"$f":"SUM(LYI72:LYI75)","v":0},0,0,0,0,0,0,0,0,0,0,0,0,0,0,0,0,0,0,0,0,0,0,0,0,0,0,0,0,0,0,0,0,0,0,0,0,0,0,0,0,0,0,0,0,0,0,0,0,0,0,0,0,0,0,0,0,0,0,0,0,0,0,0,{"$f":"SUM(MAU72:MAU75)","v":0},0,0,0,0,0,0,0,0,0,0,0,0,0,0,0,0,0,0,0,0,0,0,0,0,0,0,0,0,0,0,0,0,0,0,0,0,0,0,0,0,0,0,0,0,0,0,0,0,0,0,0,0,0,0,0,0,0,0,0,0,0,0,0,{"$f":"SUM(MDG72:MDG75)","v":0},0,0,0,0,0,0,0,0,0,0,0,0,0,0,0,0,0,0,0,0,0,0,0,0,0,0,0,0,0,0,0,0,0,0,0,0,0,0,0,0,0,0,0,0,0,0,0,0,0,0,0,0,0,0,0,0,0,0,0,0,0,0,0,{"$f":"SUM(MFS72:MFS75)","v":0},0,0,0,0,0,0,0,0,0,0,0,0,0,0,0,0,0,0,0,0,0,0,0,0,0,0,0,0,0,0,0,0,0,0,0,0,0,0,0,0,0,0,0,0,0,0,0,0,0,0,0,0,0,0,0,0,0,0,0,0,0,0,0,{"$f":"SUM(MIE72:MIE75)","v":0},0,0,0,0,0,0,0,0,0,0,0,0,0,0,0,0,0,0,0,0,0,0,0,0,0,0,0,0,0,0,0,0,0,0,0,0,0,0,0,0,0,0,0,0,0,0,0,0,0,0,0,0,0,0,0,0,0,0,0,0,0,0,0,{"$f":"SUM(MKQ72:MKQ75)","v":0},0,0,0,0,0,0,0,0,0,0,0,0,0,0,0,0,0,0,0,0,0,0,0,0,0,0,0,0,0,0,0,0,0,0,0,0,0,0,0,0,0,0,0,0,0,0,0,0,0,0,0,0,0,0,0,0,0,0,0,0,0,0,0,{"$f":"SUM(MNC72:MNC75)","v":0},0,0,0,0,0,0,0,0,0,0,0,0,0,0,0,0,0,0,0,0,0,0,0,0,0,0,0,0,0,0,0,0,0,0,0,0,0,0,0,0,0,0,0,0,0,0,0,0,0,0,0,0,0,0,0,0,0,0,0,0,0,0,0,{"$f":"SUM(MPO72:MPO75)","v":0},0,0,0,0,0,0,0,0,0,0,0,0,0,0,0,0,0,0,0,0,0,0,0,0,0,0,0,0,0,0,0,0,0,0,0,0,0,0,0,0,0,0,0,0,0,0,0,0,0,0,0,0,0,0,0,0,0,0,0,0,0,0,0,{"$f":"SUM(MSA72:MSA75)","v":0},0,0,0,0,0,0,0,0,0,0,0,0,0,0,0,0,0,0,0,0,0,0,0,0,0,0,0,0,0,0,0,0,0,0,0,0,0,0,0,0,0,0,0,0,0,0,0,0,0,0,0,0,0,0,0,0,0,0,0,0,0,0,0,{"$f":"SUM(MUM72:MUM75)","v":0},0,0,0,0,0,0,0,0,0,0,0,0,0,0,0,0,0,0,0,0,0,0,0,0,0,0,0,0,0,0,0,0,0,0,0,0,0,0,0,0,0,0,0,0,0,0,0,0,0,0,0,0,0,0,0,0,0,0,0,0,0,0,0,{"$f":"SUM(MWY72:MWY75)","v":0},0,0,0,0,0,0,0,0,0,0,0,0,0,0,0,0,0,0,0,0,0,0,0,0,0,0,0,0,0,0,0,0,0,0,0,0,0,0,0,0,0,0,0,0,0,0,0,0,0,0,0,0,0,0,0,0,0,0,0,0,0,0,0,{"$f":"SUM(MZK72:MZK75)","v":0},0,0,0,0,0,0,0,0,0,0,0,0,0,0,0,0,0,0,0,0,0,0,0,0,0,0,0,0,0,0,0,0,0,0,0,0,0,0,0,0,0,0,0,0,0,0,0,0,0,0,0,0,0,0,0,0,0,0,0,0,0,0,0,{"$f":"SUM(NBW72:NBW75)","v":0},0,0,0,0,0,0,0,0,0,0,0,0,0,0,0,0,0,0,0,0,0,0,0,0,0,0,0,0,0,0,0,0,0,0,0,0,0,0,0,0,0,0,0,0,0,0,0,0,0,0,0,0,0,0,0,0,0,0,0,0,0,0,0,{"$f":"SUM(NEI72:NEI75)","v":0},0,0,0,0,0,0,0,0,0,0,0,0,0,0,0,0,0,0,0,0,0,0,0,0,0,0,0,0,0,0,0,0,0,0,0,0,0,0,0,0,0,0,0,0,0,0,0,0,0,0,0,0,0,0,0,0,0,0,0,0,0,0,0,{"$f":"SUM(NGU72:NGU75)","v":0},0,0,0,0,0,0,0,0,0,0,0,0,0,0,0,0,0,0,0,0,0,0,0,0,0,0,0,0,0,0,0,0,0,0,0,0,0,0,0,0,0,0,0,0,0,0,0,0,0,0,0,0,0,0,0,0,0,0,0,0,0,0,0,{"$f":"SUM(NJG72:NJG75)","v":0},0,0,0,0,0,0,0,0,0,0,0,0,0,0,0,0,0,0,0,0,0,0,0,0,0,0,0,0,0,0,0,0,0,0,0,0,0,0,0,0,0,0,0,0,0,0,0,0,0,0,0,0,0,0,0,0,0,0,0,0,0,0,0,{"$f":"SUM(NLS72:NLS75)","v":0},0,0,0,0,0,0,0,0,0,0,0,0,0,0,0,0,0,0,0,0,0,0,0,0,0,0,0,0,0,0,0,0,0,0,0,0,0,0,0,0,0,0,0,0,0,0,0,0,0,0,0,0,0,0,0,0,0,0,0,0,0,0,0,{"$f":"SUM(NOE72:NOE75)","v":0},0,0,0,0,0,0,0,0,0,0,0,0,0,0,0,0,0,0,0,0,0,0,0,0,0,0,0,0,0,0,0,0,0,0,0,0,0,0,0,0,0,0,0,0,0,0,0,0,0,0,0,0,0,0,0,0,0,0,0,0,0,0,0,{"$f":"SUM(NQQ72:NQQ75)","v":0},0,0,0,0,0,0,0,0,0,0,0,0,0,0,0,0,0,0,0,0,0,0,0,0,0,0,0,0,0,0,0,0,0,0,0,0,0,0,0,0,0,0,0,0,0,0,0,0,0,0,0,0,0,0,0,0,0,0,0,0,0,0,0,{"$f":"SUM(NTC72:NTC75)","v":0},0,0,0,0,0,0,0,0,0,0,0,0,0,0,0,0,0,0,0,0,0,0,0,0,0,0,0,0,0,0,0,0,0,0,0,0,0,0,0,0,0,0,0,0,0,0,0,0,0,0,0,0,0,0,0,0,0,0,0,0,0,0,0,{"$f":"SUM(NVO72:NVO75)","v":0},0,0,0,0,0,0,0,0,0,0,0,0,0,0,0,0,0,0,0,0,0,0,0,0,0,0,0,0,0,0,0,0,0,0,0,0,0,0,0,0,0,0,0,0,0,0,0,0,0,0,0,0,0,0,0,0,0,0,0,0,0,0,0,{"$f":"SUM(NYA72:NYA75)","v":0},0,0,0,0,0,0,0,0,0,0,0,0,0,0,0,0,0,0,0,0,0,0,0,0,0,0,0,0,0,0,0,0,0,0,0,0,0,0,0,0,0,0,0,0,0,0,0,0,0,0,0,0,0,0,0,0,0,0,0,0,0,0,0,{"$f":"SUM(OAM72:OAM75)","v":0},0,0,0,0,0,0,0,0,0,0,0,0,0,0,0,0,0,0,0,0,0,0,0,0,0,0,0,0,0,0,0,0,0,0,0,0,0,0,0,0,0,0,0,0,0,0,0,0,0,0,0,0,0,0,0,0,0,0,0,0,0,0,0,{"$f":"SUM(OCY72:OCY75)","v":0},0,0,0,0,0,0,0,0,0,0,0,0,0,0,0,0,0,0,0,0,0,0,0,0,0,0,0,0,0,0,0,0,0,0,0,0,0,0,0,0,0,0,0,0,0,0,0,0,0,0,0,0,0,0,0,0,0,0,0,0,0,0,0,{"$f":"SUM(OFK72:OFK75)","v":0},0,0,0,0,0,0,0,0,0,0,0,0,0,0,0,0,0,0,0,0,0,0,0,0,0,0,0,0,0,0,0,0,0,0,0,0,0,0,0,0,0,0,0,0,0,0,0,0,0,0,0,0,0,0,0,0,0,0,0,0,0,0,0,{"$f":"SUM(OHW72:OHW75)","v":0},0,0,0,0,0,0,0,0,0,0,0,0,0,0,0,0,0,0,0,0,0,0,0,0,0,0,0,0,0,0,0,0,0,0,0,0,0,0,0,0,0,0,0,0,0,0,0,0,0,0,0,0,0,0,0,0,0,0,0,0,0,0,0,{"$f":"SUM(OKI72:OKI75)","v":0},0,0,0,0,0,0,0,0,0,0,0,0,0,0,0,0,0,0,0,0,0,0,0,0,0,0,0,0,0,0,0,0,0,0,0,0,0,0,0,0,0,0,0,0,0,0,0,0,0,0,0,0,0,0,0,0,0,0,0,0,0,0,0,{"$f":"SUM(OMU72:OMU75)","v":0},0,0,0,0,0,0,0,0,0,0,0,0,0,0,0,0,0,0,0,0,0,0,0,0,0,0,0,0,0,0,0,0,0,0,0,0,0,0,0,0,0,0,0,0,0,0,0,0,0,0,0,0,0,0,0,0,0,0,0,0,0,0,0,{"$f":"SUM(OPG72:OPG75)","v":0},0,0,0,0,0,0,0,0,0,0,0,0,0,0,0,0,0,0,0,0,0,0,0,0,0,0,0,0,0,0,0,0,0,0,0,0,0,0,0,0,0,0,0,0,0,0,0,0,0,0,0,0,0,0,0,0,0,0,0,0,0,0,0,{"$f":"SUM(ORS72:ORS75)","v":0},0,0,0,0,0,0,0,0,0,0,0,0,0,0,0,0,0,0,0,0,0,0,0,0,0,0,0,0,0,0,0,0,0,0,0,0,0,0,0,0,0,0,0,0,0,0,0,0,0,0,0,0,0,0,0,0,0,0,0,0,0,0,0,{"$f":"SUM(OUE72:OUE75)","v":0},0,0,0,0,0,0,0,0,0,0,0,0,0,0,0,0,0,0,0,0,0,0,0,0,0,0,0,0,0,0,0,0,0,0,0,0,0,0,0,0,0,0,0,0,0,0,0,0,0,0,0,0,0,0,0,0,0,0,0,0,0,0,0,{"$f":"SUM(OWQ72:OWQ75)","v":0},0,0,0,0,0,0,0,0,0,0,0,0,0,0,0,0,0,0,0,0,0,0,0,0,0,0,0,0,0,0,0,0,0,0,0,0,0,0,0,0,0,0,0,0,0,0,0,0,0,0,0,0,0,0,0,0,0,0,0,0,0,0,0,{"$f":"SUM(OZC72:OZC75)","v":0},0,0,0,0,0,0,0,0,0,0,0,0,0,0,0,0,0,0,0,0,0,0,0,0,0,0,0,0,0,0,0,0,0,0,0,0,0,0,0,0,0,0,0,0,0,0,0,0,0,0,0,0,0,0,0,0,0,0,0,0,0,0,0,{"$f":"SUM(PBO72:PBO75)","v":0},0,0,0,0,0,0,0,0,0,0,0,0,0,0,0,0,0,0,0,0,0,0,0,0,0,0,0,0,0,0,0,0,0,0,0,0,0,0,0,0,0,0,0,0,0,0,0,0,0,0,0,0,0,0,0,0,0,0,0,0,0,0,0,{"$f":"SUM(PEA72:PEA75)","v":0},0,0,0,0,0,0,0,0,0,0,0,0,0,0,0,0,0,0,0,0,0,0,0,0,0,0,0,0,0,0,0,0,0,0,0,0,0,0,0,0,0,0,0,0,0,0,0,0,0,0,0,0,0,0,0,0,0,0,0,0,0,0,0,{"$f":"SUM(PGM72:PGM75)","v":0},0,0,0,0,0,0,0,0,0,0,0,0,0,0,0,0,0,0,0,0,0,0,0,0,0,0,0,0,0,0,0,0,0,0,0,0,0,0,0,0,0,0,0,0,0,0,0,0,0,0,0,0,0,0,0,0,0,0,0,0,0,0,0,{"$f":"SUM(PIY72:PIY75)","v":0},0,0,0,0,0,0,0,0,0,0,0,0,0,0,0,0,0,0,0,0,0,0,0,0,0,0,0,0,0,0,0,0,0,0,0,0,0,0,0,0,0,0,0,0,0,0,0,0,0,0,0,0,0,0,0,0,0,0,0,0,0,0,0,{"$f":"SUM(PLK72:PLK75)","v":0},0,0,0,0,0,0,0,0,0,0,0,0,0,0,0,0,0,0,0,0,0,0,0,0,0,0,0,0,0,0,0,0,0,0,0,0,0,0,0,0,0,0,0,0,0,0,0,0,0,0,0,0,0,0,0,0,0,0,0,0,0,0,0,{"$f":"SUM(PNW72:PNW75)","v":0},0,0,0,0,0,0,0,0,0,0,0,0,0,0,0,0,0,0,0,0,0,0,0,0,0,0,0,0,0,0,0,0,0,0,0,0,0,0,0,0,0,0,0,0,0,0,0,0,0,0,0,0,0,0,0,0,0,0,0,0,0,0,0,{"$f":"SUM(PQI72:PQI75)","v":0},0,0,0,0,0,0,0,0,0,0,0,0,0,0,0,0,0,0,0,0,0,0,0,0,0,0,0,0,0,0,0,0,0,0,0,0,0,0,0,0,0,0,0,0,0,0,0,0,0,0,0,0,0,0,0,0,0,0,0,0,0,0,0,{"$f":"SUM(PSU72:PSU75)","v":0},0,0,0,0,0,0,0,0,0,0,0,0,0,0,0,0,0,0,0,0,0,0,0,0,0,0,0,0,0,0,0,0,0,0,0,0,0,0,0,0,0,0,0,0,0,0,0,0,0,0,0,0,0,0,0,0,0,0,0,0,0,0,0,{"$f":"SUM(PVG72:PVG75)","v":0},0,0,0,0,0,0,0,0,0,0,0,0,0,0,0,0,0,0,0,0,0,0,0,0,0,0,0,0,0,0,0,0,0,0,0,0,0,0,0,0,0,0,0,0,0,0,0,0,0,0,0,0,0,0,0,0,0,0,0,0,0,0,0,{"$f":"SUM(PXS72:PXS75)","v":0},0,0,0,0,0,0,0,0,0,0,0,0,0,0,0,0,0,0,0,0,0,0,0,0,0,0,0,0,0,0,0,0,0,0,0,0,0,0,0,0,0,0,0,0,0,0,0,0,0,0,0,0,0,0,0,0,0,0,0,0,0,0,0,{"$f":"SUM(QAE72:QAE75)","v":0},0,0,0,0,0,0,0,0,0,0,0,0,0,0,0,0,0,0,0,0,0,0,0,0,0,0,0,0,0,0,0,0,0,0,0,0,0,0,0,0,0,0,0,0,0,0,0,0,0,0,0,0,0,0,0,0,0,0,0,0,0,0,0,{"$f":"SUM(QCQ72:QCQ75)","v":0},0,0,0,0,0,0,0,0,0,0,0,0,0,0,0,0,0,0,0,0,0,0,0,0,0,0,0,0,0,0,0,0,0,0,0,0,0,0,0,0,0,0,0,0,0,0,0,0,0,0,0,0,0,0,0,0,0,0,0,0,0,0,0,{"$f":"SUM(QFC72:QFC75)","v":0},0,0,0,0,0,0,0,0,0,0,0,0,0,0,0,0,0,0,0,0,0,0,0,0,0,0,0,0,0,0,0,0,0,0,0,0,0,0,0,0,0,0,0,0,0,0,0,0,0,0,0,0,0,0,0,0,0,0,0,0,0,0,0,{"$f":"SUM(QHO72:QHO75)","v":0},0,0,0,0,0,0,0,0,0,0,0,0,0,0,0,0,0,0,0,0,0,0,0,0,0,0,0,0,0,0,0,0,0,0,0,0,0,0,0,0,0,0,0,0,0,0,0,0,0,0,0,0,0,0,0,0,0,0,0,0,0,0,0,{"$f":"SUM(QKA72:QKA75)","v":0},0,0,0,0,0,0,0,0,0,0,0,0,0,0,0,0,0,0,0,0,0,0,0,0,0,0,0,0,0,0,0,0,0,0,0,0,0,0,0,0,0,0,0,0,0,0,0,0,0,0,0,0,0,0,0,0,0,0,0,0,0,0,0,{"$f":"SUM(QMM72:QMM75)","v":0},0,0,0,0,0,0,0,0,0,0,0,0,0,0,0,0,0,0,0,0,0,0,0,0,0,0,0,0,0,0,0,0,0,0,0,0,0,0,0,0,0,0,0,0,0,0,0,0,0,0,0,0,0,0,0,0,0,0,0,0,0,0,0,{"$f":"SUM(QOY72:QOY75)","v":0},0,0,0,0,0,0,0,0,0,0,0,0,0,0,0,0,0,0,0,0,0,0,0,0,0,0,0,0,0,0,0,0,0,0,0,0,0,0,0,0,0,0,0,0,0,0,0,0,0,0,0,0,0,0,0,0,0,0,0,0,0,0,0,{"$f":"SUM(QRK72:QRK75)","v":0},0,0,0,0,0,0,0,0,0,0,0,0,0,0,0,0,0,0,0,0,0,0,0,0,0,0,0,0,0,0,0,0,0,0,0,0,0,0,0,0,0,0,0,0,0,0,0,0,0,0,0,0,0,0,0,0,0,0,0,0,0,0,0,{"$f":"SUM(QTW72:QTW75)","v":0},0,0,0,0,0,0,0,0,0,0,0,0,0,0,0,0,0,0,0,0,0,0,0,0,0,0,0,0,0,0,0,0,0,0,0,0,0,0,0,0,0,0,0,0,0,0,0,0,0,0,0,0,0,0,0,0,0,0,0,0,0,0,0,{"$f":"SUM(QWI72:QWI75)","v":0},0,0,0,0,0,0,0,0,0,0,0,0,0,0,0,0,0,0,0,0,0,0,0,0,0,0,0,0,0,0,0,0,0,0,0,0,0,0,0,0,0,0,0,0,0,0,0,0,0,0,0,0,0,0,0,0,0,0,0,0,0,0,0,{"$f":"SUM(QYU72:QYU75)","v":0},0,0,0,0,0,0,0,0,0,0,0,0,0,0,0,0,0,0,0,0,0,0,0,0,0,0,0,0,0,0,0,0,0,0,0,0,0,0,0,0,0,0,0,0,0,0,0,0,0,0,0,0,0,0,0,0,0,0,0,0,0,0,0,{"$f":"SUM(RBG72:RBG75)","v":0},0,0,0,0,0,0,0,0,0,0,0,0,0,0,0,0,0,0,0,0,0,0,0,0,0,0,0,0,0,0,0,0,0,0,0,0,0,0,0,0,0,0,0,0,0,0,0,0,0,0,0,0,0,0,0,0,0,0,0,0,0,0,0,{"$f":"SUM(RDS72:RDS75)","v":0},0,0,0,0,0,0,0,0,0,0,0,0,0,0,0,0,0,0,0,0,0,0,0,0,0,0,0,0,0,0,0,0,0,0,0,0,0,0,0,0,0,0,0,0,0,0,0,0,0,0,0,0,0,0,0,0,0,0,0,0,0,0,0,{"$f":"SUM(RGE72:RGE75)","v":0},0,0,0,0,0,0,0,0,0,0,0,0,0,0,0,0,0,0,0,0,0,0,0,0,0,0,0,0,0,0,0,0,0,0,0,0,0,0,0,0,0,0,0,0,0,0,0,0,0,0,0,0,0,0,0,0,0,0,0,0,0,0,0,{"$f":"SUM(RIQ72:RIQ75)","v":0},0,0,0,0,0,0,0,0,0,0,0,0,0,0,0,0,0,0,0,0,0,0,0,0,0,0,0,0,0,0,0,0,0,0,0,0,0,0,0,0,0,0,0,0,0,0,0,0,0,0,0,0,0,0,0,0,0,0,0,0,0,0,0,{"$f":"SUM(RLC72:RLC75)","v":0},0,0,0,0,0,0,0,0,0,0,0,0,0,0,0,0,0,0,0,0,0,0,0,0,0,0,0,0,0,0,0,0,0,0,0,0,0,0,0,0,0,0,0,0,0,0,0,0,0,0,0,0,0,0,0,0,0,0,0,0,0,0,0,{"$f":"SUM(RNO72:RNO75)","v":0},0,0,0,0,0,0,0,0,0,0,0,0,0,0,0,0,0,0,0,0,0,0,0,0,0,0,0,0,0,0,0,0,0,0,0,0,0,0,0,0,0,0,0,0,0,0,0,0,0,0,0,0,0,0,0,0,0,0,0,0,0,0,0,{"$f":"SUM(RQA72:RQA75)","v":0},0,0,0,0,0,0,0,0,0,0,0,0,0,0,0,0,0,0,0,0,0,0,0,0,0,0,0,0,0,0,0,0,0,0,0,0,0,0,0,0,0,0,0,0,0,0,0,0,0,0,0,0,0,0,0,0,0,0,0,0,0,0,0,{"$f":"SUM(RSM72:RSM75)","v":0},0,0,0,0,0,0,0,0,0,0,0,0,0,0,0,0,0,0,0,0,0,0,0,0,0,0,0,0,0,0,0,0,0,0,0,0,0,0,0,0,0,0,0,0,0,0,0,0,0,0,0,0,0,0,0,0,0,0,0,0,0,0,0,{"$f":"SUM(RUY72:RUY75)","v":0},0,0,0,0,0,0,0,0,0,0,0,0,0,0,0,0,0,0,0,0,0,0,0,0,0,0,0,0,0,0,0,0,0,0,0,0,0,0,0,0,0,0,0,0,0,0,0,0,0,0,0,0,0,0,0,0,0,0,0,0,0,0,0,{"$f":"SUM(RXK72:RXK75)","v":0},0,0,0,0,0,0,0,0,0,0,0,0,0,0,0,0,0,0,0,0,0,0,0,0,0,0,0,0,0,0,0,0,0,0,0,0,0,0,0,0,0,0,0,0,0,0,0,0,0,0,0,0,0,0,0,0,0,0,0,0,0,0,0,{"$f":"SUM(RZW72:RZW75)","v":0},0,0,0,0,0,0,0,0,0,0,0,0,0,0,0,0,0,0,0,0,0,0,0,0,0,0,0,0,0,0,0,0,0,0,0,0,0,0,0,0,0,0,0,0,0,0,0,0,0,0,0,0,0,0,0,0,0,0,0,0,0,0,0,{"$f":"SUM(SCI72:SCI75)","v":0},0,0,0,0,0,0,0,0,0,0,0,0,0,0,0,0,0,0,0,0,0,0,0,0,0,0,0,0,0,0,0,0,0,0,0,0,0,0,0,0,0,0,0,0,0,0,0,0,0,0,0,0,0,0,0,0,0,0,0,0,0,0,0,{"$f":"SUM(SEU72:SEU75)","v":0},0,0,0,0,0,0,0,0,0,0,0,0,0,0,0,0,0,0,0,0,0,0,0,0,0,0,0,0,0,0,0,0,0,0,0,0,0,0,0,0,0,0,0,0,0,0,0,0,0,0,0,0,0,0,0,0,0,0,0,0,0,0,0,{"$f":"SUM(SHG72:SHG75)","v":0},0,0,0,0,0,0,0,0,0,0,0,0,0,0,0,0,0,0,0,0,0,0,0,0,0,0,0,0,0,0,0,0,0,0,0,0,0,0,0,0,0,0,0,0,0,0,0,0,0,0,0,0,0,0,0,0,0,0,0,0,0,0,0,{"$f":"SUM(SJS72:SJS75)","v":0},0,0,0,0,0,0,0,0,0,0,0,0,0,0,0,0,0,0,0,0,0,0,0,0,0,0,0,0,0,0,0,0,0,0,0,0,0,0,0,0,0,0,0,0,0,0,0,0,0,0,0,0,0,0,0,0,0,0,0,0,0,0,0,{"$f":"SUM(SME72:SME75)","v":0},0,0,0,0,0,0,0,0,0,0,0,0,0,0,0,0,0,0,0,0,0,0,0,0,0,0,0,0,0,0,0,0,0,0,0,0,0,0,0,0,0,0,0,0,0,0,0,0,0,0,0,0,0,0,0,0,0,0,0,0,0,0,0,{"$f":"SUM(SOQ72:SOQ75)","v":0},0,0,0,0,0,0,0,0,0,0,0,0,0,0,0,0,0,0,0,0,0,0,0,0,0,0,0,0,0,0,0,0,0,0,0,0,0,0,0,0,0,0,0,0,0,0,0,0,0,0,0,0,0,0,0,0,0,0,0,0,0,0,0,{"$f":"SUM(SRC72:SRC75)","v":0},0,0,0,0,0,0,0,0,0,0,0,0,0,0,0,0,0,0,0,0,0,0,0,0,0,0,0,0,0,0,0,0,0,0,0,0,0,0,0,0,0,0,0,0,0,0,0,0,0,0,0,0,0,0,0,0,0,0,0,0,0,0,0,{"$f":"SUM(STO72:STO75)","v":0},0,0,0,0,0,0,0,0,0,0,0,0,0,0,0,0,0,0,0,0,0,0,0,0,0,0,0,0,0,0,0,0,0,0,0,0,0,0,0,0,0,0,0,0,0,0,0,0,0,0,0,0,0,0,0,0,0,0,0,0,0,0,0,{"$f":"SUM(SWA72:SWA75)","v":0},0,0,0,0,0,0,0,0,0,0,0,0,0,0,0,0,0,0,0,0,0,0,0,0,0,0,0,0,0,0,0,0,0,0,0,0,0,0,0,0,0,0,0,0,0,0,0,0,0,0,0,0,0,0,0,0,0,0,0,0,0,0,0,{"$f":"SUM(SYM72:SYM75)","v":0},0,0,0,0,0,0,0,0,0,0,0,0,0,0,0,0,0,0,0,0,0,0,0,0,0,0,0,0,0,0,0,0,0,0,0,0,0,0,0,0,0,0,0,0,0,0,0,0,0,0,0,0,0,0,0,0,0,0,0,0,0,0,0,{"$f":"SUM(TAY72:TAY75)","v":0},0,0,0,0,0,0,0,0,0,0,0,0,0,0,0,0,0,0,0,0,0,0,0,0,0,0,0,0,0,0,0,0,0,0,0,0,0,0,0,0,0,0,0,0,0,0,0,0,0,0,0,0,0,0,0,0,0,0,0,0,0,0,0,{"$f":"SUM(TDK72:TDK75)","v":0},0,0,0,0,0,0,0,0,0,0,0,0,0,0,0,0,0,0,0,0,0,0,0,0,0,0,0,0,0,0,0,0,0,0,0,0,0,0,0,0,0,0,0,0,0,0,0,0,0,0,0,0,0,0,0,0,0,0,0,0,0,0,0,{"$f":"SUM(TFW72:TFW75)","v":0},0,0,0,0,0,0,0,0,0,0,0,0,0,0,0,0,0,0,0,0,0,0,0,0,0,0,0,0,0,0,0,0,0,0,0,0,0,0,0,0,0,0,0,0,0,0,0,0,0,0,0,0,0,0,0,0,0,0,0,0,0,0,0,{"$f":"SUM(TII72:TII75)","v":0},0,0,0,0,0,0,0,0,0,0,0,0,0,0,0,0,0,0,0,0,0,0,0,0,0,0,0,0,0,0,0,0,0,0,0,0,0,0,0,0,0,0,0,0,0,0,0,0,0,0,0,0,0,0,0,0,0,0,0,0,0,0,0,{"$f":"SUM(TKU72:TKU75)","v":0},0,0,0,0,0,0,0,0,0,0,0,0,0,0,0,0,0,0,0,0,0,0,0,0,0,0,0,0,0,0,0,0,0,0,0,0,0,0,0,0,0,0,0,0,0,0,0,0,0,0,0,0,0,0,0,0,0,0,0,0,0,0,0,{"$f":"SUM(TNG72:TNG75)","v":0},0,0,0,0,0,0,0,0,0,0,0,0,0,0,0,0,0,0,0,0,0,0,0,0,0,0,0,0,0,0,0,0,0,0,0,0,0,0,0,0,0,0,0,0,0,0,0,0,0,0,0,0,0,0,0,0,0,0,0,0,0,0,0,{"$f":"SUM(TPS72:TPS75)","v":0},0,0,0,0,0,0,0,0,0,0,0,0,0,0,0,0,0,0,0,0,0,0,0,0,0,0,0,0,0,0,0,0,0,0,0,0,0,0,0,0,0,0,0,0,0,0,0,0,0,0,0,0,0,0,0,0,0,0,0,0,0,0,0,{"$f":"SUM(TSE72:TSE75)","v":0},0,0,0,0,0,0,0,0,0,0,0,0,0,0,0,0,0,0,0,0,0,0,0,0,0,0,0,0,0,0,0,0,0,0,0,0,0,0,0,0,0,0,0,0,0,0,0,0,0,0,0,0,0,0,0,0,0,0,0,0,0,0,0,{"$f":"SUM(TUQ72:TUQ75)","v":0},0,0,0,0,0,0,0,0,0,0,0,0,0,0,0,0,0,0,0,0,0,0,0,0,0,0,0,0,0,0,0,0,0,0,0,0,0,0,0,0,0,0,0,0,0,0,0,0,0,0,0,0,0,0,0,0,0,0,0,0,0,0,0,{"$f":"SUM(TXC72:TXC75)","v":0},0,0,0,0,0,0,0,0,0,0,0,0,0,0,0,0,0,0,0,0,0,0,0,0,0,0,0,0,0,0,0,0,0,0,0,0,0,0,0,0,0,0,0,0,0,0,0,0,0,0,0,0,0,0,0,0,0,0,0,0,0,0,0,{"$f":"SUM(TZO72:TZO75)","v":0},0,0,0,0,0,0,0,0,0,0,0,0,0,0,0,0,0,0,0,0,0,0,0,0,0,0,0,0,0,0,0,0,0,0,0,0,0,0,0,0,0,0,0,0,0,0,0,0,0,0,0,0,0,0,0,0,0,0,0,0,0,0,0,{"$f":"SUM(UCA72:UCA75)","v":0},0,0,0,0,0,0,0,0,0,0,0,0,0,0,0,0,0,0,0,0,0,0,0,0,0,0,0,0,0,0,0,0,0,0,0,0,0,0,0,0,0,0,0,0,0,0,0,0,0,0,0,0,0,0,0,0,0,0,0,0,0,0,0,{"$f":"SUM(UEM72:UEM75)","v":0},0,0,0,0,0,0,0,0,0,0,0,0,0,0,0,0,0,0,0,0,0,0,0,0,0,0,0,0,0,0,0,0,0,0,0,0,0,0,0,0,0,0,0,0,0,0,0,0,0,0,0,0,0,0,0,0,0,0,0,0,0,0,0,{"$f":"SUM(UGY72:UGY75)","v":0},0,0,0,0,0,0,0,0,0,0,0,0,0,0,0,0,0,0,0,0,0,0,0,0,0,0,0,0,0,0,0,0,0,0,0,0,0,0,0,0,0,0,0,0,0,0,0,0,0,0,0,0,0,0,0,0,0,0,0,0,0,0,0,{"$f":"SUM(UJK72:UJK75)","v":0},0,0,0,0,0,0,0,0,0,0,0,0,0,0,0,0,0,0,0,0,0,0,0,0,0,0,0,0,0,0,0,0,0,0,0,0,0,0,0,0,0,0,0,0,0,0,0,0,0,0,0,0,0,0,0,0,0,0,0,0,0,0,0,{"$f":"SUM(ULW72:ULW75)","v":0},0,0,0,0,0,0,0,0,0,0,0,0,0,0,0,0,0,0,0,0,0,0,0,0,0,0,0,0,0,0,0,0,0,0,0,0,0,0,0,0,0,0,0,0,0,0,0,0,0,0,0,0,0,0,0,0,0,0,0,0,0,0,0,{"$f":"SUM(UOI72:UOI75)","v":0},0,0,0,0,0,0,0,0,0,0,0,0,0,0,0,0,0,0,0,0,0,0,0,0,0,0,0,0,0,0,0,0,0,0,0,0,0,0,0,0,0,0,0,0,0,0,0,0,0,0,0,0,0,0,0,0,0,0,0,0,0,0,0,{"$f":"SUM(UQU72:UQU75)","v":0},0,0,0,0,0,0,0,0,0,0,0,0,0,0,0,0,0,0,0,0,0,0,0,0,0,0,0,0,0,0,0,0,0,0,0,0,0,0,0,0,0,0,0,0,0,0,0,0,0,0,0,0,0,0,0,0,0,0,0,0,0,0,0,{"$f":"SUM(UTG72:UTG75)","v":0},0,0,0,0,0,0,0,0,0,0,0,0,0,0,0,0,0,0,0,0,0,0,0,0,0,0,0,0,0,0,0,0,0,0,0,0,0,0,0,0,0,0,0,0,0,0,0,0,0,0,0,0,0,0,0,0,0,0,0,0,0,0,0,{"$f":"SUM(UVS72:UVS75)","v":0},0,0,0,0,0,0,0,0,0,0,0,0,0,0,0,0,0,0,0,0,0,0,0,0,0,0,0,0,0,0,0,0,0,0,0,0,0,0,0,0,0,0,0,0,0,0,0,0,0,0,0,0,0,0,0,0,0,0,0,0,0,0,0,{"$f":"SUM(UYE72:UYE75)","v":0},0,0,0,0,0,0,0,0,0,0,0,0,0,0,0,0,0,0,0,0,0,0,0,0,0,0,0,0,0,0,0,0,0,0,0,0,0,0,0,0,0,0,0,0,0,0,0,0,0,0,0,0,0,0,0,0,0,0,0,0,0,0,0,{"$f":"SUM(VAQ72:VAQ75)","v":0},0,0,0,0,0,0,0,0,0,0,0,0,0,0,0,0,0,0,0,0,0,0,0,0,0,0,0,0,0,0,0,0,0,0,0,0,0,0,0,0,0,0,0,0,0,0,0,0,0,0,0,0,0,0,0,0,0,0,0,0,0,0,0,{"$f":"SUM(VDC72:VDC75)","v":0},0,0,0,0,0,0,0,0,0,0,0,0,0,0,0,0,0,0,0,0,0,0,0,0,0,0,0,0,0,0,0,0,0,0,0,0,0,0,0,0,0,0,0,0,0,0,0,0,0,0,0,0,0,0,0,0,0,0,0,0,0,0,0,{"$f":"SUM(VFO72:VFO75)","v":0},0,0,0,0,0,0,0,0,0,0,0,0,0,0,0,0,0,0,0,0,0,0,0,0,0,0,0,0,0,0,0,0,0,0,0,0,0,0,0,0,0,0,0,0,0,0,0,0,0,0,0,0,0,0,0,0,0,0,0,0,0,0,0,{"$f":"SUM(VIA72:VIA75)","v":0},0,0,0,0,0,0,0,0,0,0,0,0,0,0,0,0,0,0,0,0,0,0,0,0,0,0,0,0,0,0,0,0,0,0,0,0,0,0,0,0,0,0,0,0,0,0,0,0,0,0,0,0,0,0,0,0,0,0,0,0,0,0,0,{"$f":"SUM(VKM72:VKM75)","v":0},0,0,0,0,0,0,0,0,0,0,0,0,0,0,0,0,0,0,0,0,0,0,0,0,0,0,0,0,0,0,0,0,0,0,0,0,0,0,0,0,0,0,0,0,0,0,0,0,0,0,0,0,0,0,0,0,0,0,0,0,0,0,0,{"$f":"SUM(VMY72:VMY75)","v":0},0,0,0,0,0,0,0,0,0,0,0,0,0,0,0,0,0,0,0,0,0,0,0,0,0,0,0,0,0,0,0,0,0,0,0,0,0,0,0,0,0,0,0,0,0,0,0,0,0,0,0,0,0,0,0,0,0,0,0,0,0,0,0,{"$f":"SUM(VPK72:VPK75)","v":0},0,0,0,0,0,0,0,0,0,0,0,0,0,0,0,0,0,0,0,0,0,0,0,0,0,0,0,0,0,0,0,0,0,0,0,0,0,0,0,0,0,0,0,0,0,0,0,0,0,0,0,0,0,0,0,0,0,0,0,0,0,0,0,{"$f":"SUM(VRW72:VRW75)","v":0},0,0,0,0,0,0,0,0,0,0,0,0,0,0,0,0,0,0,0,0,0,0,0,0,0,0,0,0,0,0,0,0,0,0,0,0,0,0,0,0,0,0,0,0,0,0,0,0,0,0,0,0,0,0,0,0,0,0,0,0,0,0,0,{"$f":"SUM(VUI72:VUI75)","v":0},0,0,0,0,0,0,0,0,0,0,0,0,0,0,0,0,0,0,0,0,0,0,0,0,0,0,0,0,0,0,0,0,0,0,0,0,0,0,0,0,0,0,0,0,0,0,0,0,0,0,0,0,0,0,0,0,0,0,0,0,0,0,0,{"$f":"SUM(VWU72:VWU75)","v":0},0,0,0,0,0,0,0,0,0,0,0,0,0,0,0,0,0,0,0,0,0,0,0,0,0,0,0,0,0,0,0,0,0,0,0,0,0,0,0,0,0,0,0,0,0,0,0,0,0,0,0,0,0,0,0,0,0,0,0,0,0,0,0,{"$f":"SUM(VZG72:VZG75)","v":0},0,0,0,0,0,0,0,0,0,0,0,0,0,0,0,0,0,0,0,0,0,0,0,0,0,0,0,0,0,0,0,0,0,0,0,0,0,0,0,0,0,0,0,0,0,0,0,0,0,0,0,0,0,0,0,0,0,0,0,0,0,0,0,{"$f":"SUM(WBS72:WBS75)","v":0},0,0,0,0,0,0,0,0,0,0,0,0,0,0,0,0,0,0,0,0,0,0,0,0,0,0,0,0,0,0,0,0,0,0,0,0,0,0,0,0,0,0,0,0,0,0,0,0,0,0,0,0,0,0,0,0,0,0,0,0,0,0,0,{"$f":"SUM(WEE72:WEE75)","v":0},0,0,0,0,0,0,0,0,0,0,0,0,0,0,0,0,0,0,0,0,0,0,0,0,0,0,0,0,0,0,0,0,0,0,0,0,0,0,0,0,0,0,0,0,0,0,0,0,0,0,0,0,0,0,0,0,0,0,0,0,0,0,0,{"$f":"SUM(WGQ72:WGQ75)","v":0},0,0,0,0,0,0,0,0,0,0,0,0,0,0,0,0,0,0,0,0,0,0,0,0,0,0,0,0,0,0,0,0,0,0,0,0,0,0,0,0,0,0,0,0,0,0,0,0,0,0,0,0,0,0,0,0,0,0,0,0,0,0,0,{"$f":"SUM(WJC72:WJC75)","v":0},0,0,0,0,0,0,0,0,0,0,0,0,0,0,0,0,0,0,0,0,0,0,0,0,0,0,0,0,0,0,0,0,0,0,0,0,0,0,0,0,0,0,0,0,0,0,0,0,0,0,0,0,0,0,0,0,0,0,0,0,0,0,0,{"$f":"SUM(WLO72:WLO75)","v":0},0,0,0,0,0,0,0,0,0,0,0,0,0,0,0,0,0,0,0,0,0,0,0,0,0,0,0,0,0,0,0,0,0,0,0,0,0,0,0,0,0,0,0,0,0,0,0,0,0,0,0,0,0,0,0,0,0,0,0,0,0,0,0,{"$f":"SUM(WOA72:WOA75)","v":0},0,0,0,0,0,0,0,0,0,0,0,0,0,0,0,0,0,0,0,0,0,0,0,0,0,0,0,0,0,0,0,0,0,0,0,0,0,0,0,0,0,0,0,0,0,0,0,0,0,0,0,0,0,0,0,0,0,0,0,0,0,0,0,{"$f":"SUM(WQM72:WQM75)","v":0},0,0,0,0,0,0,0,0,0,0,0,0,0,0,0,0,0,0,0,0,0,0,0,0,0,0,0,0,0,0,0,0,0,0,0,0,0,0,0,0,0,0,0,0,0,0,0,0,0,0,0,0,0,0,0,0,0,0,0,0,0,0,0,{"$f":"SUM(WSY72:WSY75)","v":0},0,0,0,0,0,0,0,0,0,0,0,0,0,0,0,0,0,0,0,0,0,0,0,0,0,0,0,0,0,0,0,0,0,0,0,0,0,0,0,0,0,0,0,0,0,0,0,0,0,0,0,0,0,0,0,0,0,0,0,0,0,0,0,{"$f":"SUM(WVK72:WVK75)","v":0},0,0,0,0,0,0,0,0,0,0,0,0,0,0,0,0,0,0,0,0,0,0,0,0,0,0,0,0,0,0,0,0,0,0,0,0,0,0,0,0,0,0,0,0,0,0,0,0,0,0,0,0,0,0,0,0,0,0,0,0,0,0,0,{"$f":"SUM(WXW72:WXW75)","v":0},0,0,0,0,0,0,0,0,0,0,0,0,0,0,0,0,0,0,0,0,0,0,0,0,0,0,0,0,0,0,0,0,0,0,0,0,0,0,0,0,0,0,0,0,0,0,0,0,0,0,0,0,0,0,0,0,0,0,0,0,0,0,0,{"$f":"SUM(XAI72:XAI75)","v":0},0,0,0,0,0,0,0,0,0,0,0,0,0,0,0,0,0,0,0,0,0,0,0,0,0,0,0,0,0,0,0,0,0,0,0,0,0,0,0,0,0,0,0,0,0,0,0,0,0,0,0,0,0,0,0,0,0,0,0,0,0,0,0,{"$f":"SUM(XCU72:XCU75)","v":0},0,0,0,0,0,0,0,0,0,0,0,0,0,0,0,0,0,0,0,0,0,0,0,0,0,0,0,0,0,0,0,0,0,0,0,0,0,0,0,0,0,0,0,0,0,0,0,0,0,0,0,0,0,0,0,0,0,0,0,0,0]
["d1) Transacciones de la Deuda Pública / Costo Financiero de la Deuda",2207142.84,0,2207142.84,571606.97,571606.97,1635535.8699999999]
["d2) Transferencias, Participaciones y Aportaciones Entre Diferentes Niveles y Órdenes de Gobierno",0,0,0,0,0,0]
["d3) Saneamiento del Sistema Financiero",0,0,0,0,0,0]
["d4) Adeudos de Ejercicios Fiscales Anteriores",0,0,0,0,0,0]
[]
["III. Total de Egresos (III = I + II)",{"$f":"B43+B9","v":500000000},55920715.869999975,555920715.87,88795873.25,81949853.730000019,467124842.62]

{"sheet":"F06c","index":18,"n_rows":68,"n_cols":21,"rows_kept":68,"cut":false,"hidden":true,"merged":[]}
["CLAVE","N1","N2","N3","N4","N5","N6","N7","C  O  N  C  E  P  T  O  S",null,null,null,null,null,null,"APROBADO","AMPLIACIONES","MODIFICADO","DEVENGADO","PAGADO","SUBEJERCICIO"]
[{"$f":"IF(LEN(CLEAN(B2))=0,\"0\",B2)&\",\"&IF(LEN(CLEAN(C2))=0,\"0\",C2)&\",\"&IF(LEN(CLEAN(D2))=0,\"0\",D2)&\",\"&IF(LEN(CLEAN(E2))=0,\"0\",E2)&\",\"&IF(LEN(CLEAN(F2))=0,\"0\",F2)&\",\"&IF(LEN(CLEAN(G2))=0,\"0\",G2)&\",\"&IF(LEN(CLEAN(H2))=0,\"0\",H2)","v":"6,3,1,0,0,0,0"},6,3,1,null,null,null,null,"Gasto No Etiquetado",null,null,null,null,null,null,{"$f":"'Formato 6 c)'!B9","v":232000000},{"$f":"'Formato 6 c)'!C9","v":19384465.899999991},{"$f":"'Formato 6 c)'!D9","v":251384465.90000001},{"$f":"'Formato 6 c)'!E9","v":44527266.350000009},{"$f":"'Formato 6 c)'!F9","v":43778673.940000005},{"$f":"'Formato 6 c)'!G9","v":206857199.54999998}]
[{"$f":"IF(LEN(CLEAN(B3))=0,\"0\",B3)&\",\"&IF(LEN(CLEAN(C3))=0,\"0\",C3)&\",\"&IF(LEN(CLEAN(D3))=0,\"0\",D3)&\",\"&IF(LEN(CLEAN(E3))=0,\"0\",E3)&\",\"&IF(LEN(CLEAN(F3))=0,\"0\",F3)&\",\"&IF(LEN(CLEAN(G3))=0,\"0\",G3)&\",\"&IF(LEN(CLEAN(H3))=0,\"0\",H3)","v":"6,3,1,1,0,0,0"},6,3,1,1,null,null,null,null,"Gobierno",null,null,null,null,null,{"$f":"'Formato 6 c)'!B10","v":125096369.19},{"$f":"'Formato 6 c)'!C10","v":3462759.049999997},{"$f":"'Formato 6 c)'!D10","v":128559128.23999999},{"$f":"'Formato 6 c)'!E10","v":20775053.310000002},{"$f":"'Formato 6 c)'!F10","v":20253056.950000003},{"$f":"'Formato 6 c)'!G10","v":107784074.92999999}]
["6,3,1,1,1,0,0",6,3,1,1,1,null,null,null,null,"Legislación",null,null,null,null,{"$f":"'Formato 6 c)'!B11","v":12608496},{"$f":"'Formato 6 c)'!C11","v":3000},{"$f":"'Formato 6 c)'!D11","v":12611496},{"$f":"'Formato 6 c)'!E11","v":2649376.4700000002},{"$f":"'Formato 6 c)'!F11","v":2649376.4700000002},{"$f":"'Formato 6 c)'!G11","v":9962119.5299999993}]
["6,3,1,1,2,0,0",6,3,1,1,2,null,null,null,null,"Justicia",null,null,null,null,{"$f":"'Formato 6 c)'!B12","v":595685},{"$f":"'Formato 6 c)'!C12","v":0},{"$f":"'Formato 6 c)'!D12","v":595685},{"$f":"'Formato 6 c)'!E12","v":83465},{"$f":"'Formato 6 c)'!F12","v":83465},{"$f":"'Formato 6 c)'!G12","v":512220}]
["6,3,1,1,3,0,0",6,3,1,1,3,null,null,null,null,"Coordinación de la Política de Gobierno",null,null,null,null,{"$f":"'Formato 6 c)'!B13","v":37834843},{"$f":"'Formato 6 c)'!C13","v":1690500},{"$f":"'Formato 6 c)'!D13","v":39525343},{"$f":"'Formato 6 c)'!E13","v":7288633.25},{"$f":"'Formato 6 c)'!F13","v":7171892.75},{"$f":"'Formato 6 c)'!G13","v":32236709.75}]
["6,3,1,1,4,0,0",6,3,1,1,4,null,null,null,null,"Relaciones Exteriores",null,null,null,null,{"$f":"'Formato 6 c)'!B14","v":0},{"$f":"'Formato 6 c)'!C14","v":0},{"$f":"'Formato 6 c)'!D14","v":0},{"$f":"'Formato 6 c)'!E14","v":0},{"$f":"'Formato 6 c)'!F14","v":0},{"$f":"'Formato 6 c)'!G14","v":0}]
["6,3,1,1,5,0,0",6,3,1,1,5,null,null,null,null,"Asuntos Financieros y Hacendarios",null,null,null,null,{"$f":"'Formato 6 c)'!B15","v":54908562.189999998},{"$f":"'Formato 6 c)'!C15","v":1598259.049999997},{"$f":"'Formato 6 c)'!D15","v":56506821.239999995},{"$f":"'Formato 6 c)'!E15","v":7234337.3099999996},{"$f":"'Formato 6 c)'!F15","v":6829081.4500000002},{"$f":"'Formato 6 c)'!G15","v":49272483.929999992}]
["6,3,1,1,6,0,0",6,3,1,1,6,null,null,null,null,"Seguridad Nacional",null,null,null,null,{"$f":"'Formato 6 c)'!B16","v":0},{"$f":"'Formato 6 c)'!C16","v":0},{"$f":"'Formato 6 c)'!D16","v":0},{"$f":"'Formato 6 c)'!E16","v":0},{"$f":"'Formato 6 c)'!F16","v":0},{"$f":"'Formato 6 c)'!G16","v":0}]
["6,3,1,1,7,0,0",6,3,1,1,7,null,null,null,null,"Asuntos de Orden Público y de Seguridad Interior",null,null,null,null,{"$f":"'Formato 6 c)'!B17","v":1035500},{"$f":"'Formato 6 c)'!C17","v":96000},{"$f":"'Formato 6 c)'!D17","v":1131500},{"$f":"'Formato 6 c)'!E17","v":76746.84},{"$f":"'Formato 6 c)'!F17","v":76746.84},{"$f":"'Formato 6 c)'!G17","v":1054753.1599999999}]
["6,3,1,1,8,0,0",6,3,1,1,8,null,null,null,null,"Otros Servicios Generales",null,null,null,null,{"$f":"'Formato 6 c)'!B18","v":18113283},{"$f":"'Formato 6 c)'!C18","v":75000},{"$f":"'Formato 6 c)'!D18","v":18188283},{"$f":"'Formato 6 c)'!E18","v":3442494.44},{"$f":"'Formato 6 c)'!F18","v":3442494.44},{"$f":"'Formato 6 c)'!G18","v":14745788.560000001}]
["6,3,1,2,0,0,0",6,3,1,2,null,null,null,null,"Desarrollo Social",null,null,null,null,null,{"$f":"'Formato 6 c)'!B19","v":99855168.810000002},{"$f":"'Formato 6 c)'!C19","v":11371701.529999994},{"$f":"'Formato 6 c)'!D19","v":111226870.34000002},{"$f":"'Formato 6 c)'!E19","v":21580964.410000004},{"$f":"'Formato 6 c)'!F19","v":21577429.470000003},{"$f":"'Formato 6 c)'!G19","v":89645905.929999992}]
["6,3,1,2,1,0,0",6,3,1,2,1,null,null,null,null,"Protección Ambiental ",null,null,null,null,{"$f":"'Formato 6 c)'!B20","v":10857201},{"$f":"'Formato 6 c)'!C20","v":83818.179999999702},{"$f":"'Formato 6 c)'!D20","v":10941019.18},{"$f":"'Formato 6 c)'!E20","v":1915686.86},{"$f":"'Formato 6 c)'!F20","v":1915686.86},{"$f":"'Formato 6 c)'!G20","v":9025332.3200000003}]
["6,3,1,2,2,0,0",6,3,1,2,2,null,null,null,null,"Vivienda y Servicios a la Comunidad",null,null,null,null,{"$f":"'Formato 6 c)'!B21","v":62004849},{"$f":"'Formato 6 c)'!C21","v":8329769.1299999952},{"$f":"'Formato 6 c)'!D21","v":70334618.129999995},{"$f":"'Formato 6 c)'!E21","v":15105987.6},{"$f":"'Formato 6 c)'!F21","v":15105987.6},{"$f":"'Formato 6 c)'!G21","v":55228630.529999994}]
["6,3,1,2,3,0,0",6,3,1,2,3,null,null,null,null,"Salud",null,null,null,null,{"$f":"'Formato 6 c)'!B22","v":739371.81},{"$f":"'Formato 6 c)'!C22","v":760000},{"$f":"'Formato 6 c)'!D22","v":1499371.81},{"$f":"'Formato 6 c)'!E22","v":119391.94},{"$f":"'Formato 6 c)'!F22","v":115857},{"$f":"'Formato 6 c)'!G22","v":1379979.87}]
["6,3,1,2,4,0,0",6,3,1,2,4,null,null,null,null,"Recreación, Cultura y Otras Manifestaciones Sociales",null,null,null,null,{"$f":"'Formato 6 c)'!B23","v":10699004},{"$f":"'Formato 6 c)'!C23","v":1919299.1799999997},{"$f":"'Formato 6 c)'!D23","v":12618303.18},{"$f":"'Formato 6 c)'!E23","v":2139942.7799999998},{"$f":"'Formato 6 c)'!F23","v":2139942.7799999998},{"$f":"'Formato 6 c)'!G23","v":10478360.4}]
["6,3,1,2,5,0,0",6,3,1,2,5,null,null,null,null,"Educación ",null,null,null,null,{"$f":"'Formato 6 c)'!B24","v":7549509},{"$f":"'Formato 6 c)'!C24","v":100000},{"$f":"'Formato 6 c)'!D24","v":7649509},{"$f":"'Formato 6 c)'!E24","v":374809},{"$f":"'Formato 6 c)'!F24","v":374809},{"$f":"'Formato 6 c)'!G24","v":7274700}]
["6,3,1,2,6,0,0",6,3,1,2,6,null,null,null,null,"Protección Social",null,null,null,null,{"$f":"'Formato 6 c)'!B25","v":8005234},{"$f":"'Formato 6 c)'!C25","v":178815.04000000004},{"$f":"'Formato 6 c)'!D25","v":8184049.04},{"$f":"'Formato 6 c)'!E25","v":1925146.23},{"$f":"'Formato 6 c)'!F25","v":1925146.23},{"$f":"'Formato 6 c)'!G25","v":6258902.8100000005}]
["6,3,1,2,7,0,0",6,3,1,2,7,null,null,null,null,"Otros Asuntos Sociales",null,null,null,null,{"$f":"'Formato 6 c)'!B26","v":0},{"$f":"'Formato 6 c)'!C26","v":0},{"$f":"'Formato 6 c)'!D26","v":0},{"$f":"'Formato 6 c)'!E26","v":0},{"$f":"'Formato 6 c)'!F26","v":0},{"$f":"'Formato 6 c)'!G26","v":0}]
["6,3,1,3,0,0,0",6,3,1,3,null,null,null,null,"Desarrollo Económico",null,null,null,null,null,{"$f":"'Formato 6 c)'!B27","v":7048462},{"$f":"'Formato 6 c)'!C27","v":4550005.32},{"$f":"'Formato 6 c)'!D27","v":11598467.32},{"$f":"'Formato 6 c)'!E27","v":2171248.63},{"$f":"'Formato 6 c)'!F27","v":1948187.5199999998},{"$f":"'Formato 6 c)'!G27","v":9427218.6900000013}]
["6,3,1,3,1,0,0",6,3,1,3,1,null,null,null,null,"Asuntos Económicos, Comerciales y Laborales en General",null,null,null,null,{"$f":"'Formato 6 c)'!B28","v":5780567},{"$f":"'Formato 6 c)'!C28","v":200000},{"$f":"'Formato 6 c)'!D28","v":5980567},{"$f":"'Formato 6 c)'!E28","v":1073870.72},{"$f":"'Formato 6 c)'!F28","v":1073870.72},{"$f":"'Formato 6 c)'!G28","v":4906696.28}]
["6,3,1,3,2,0,0",6,3,1,3,2,null,null,null,null,"Agropecuaria, Silvicultura, Pesca y Caza",null,null,null,null,{"$f":"'Formato 6 c)'!B29","v":50000},{"$f":"'Formato 6 c)'!C29","v":2330844.1},{"$f":"'Formato 6 c)'!D29","v":2380844.1},{"$f":"'Formato 6 c)'!E29","v":0},{"$f":"'Formato 6 c)'!F29","v":0},{"$f":"'Formato 6 c)'!G29","v":2380844.1}]
["6,3,1,3,3,0,0",6,3,1,3,3,null,null,null,null,"Combustibles y Energía ",null,null,null,null,{"$f":"'Formato 6 c)'!B30","v":0},{"$f":"'Formato 6 c)'!C30","v":0},{"$f":"'Formato 6 c)'!D30","v":0},{"$f":"'Formato 6 c)'!E30","v":0},{"$f":"'Formato 6 c)'!F30","v":0},{"$f":"'Formato 6 c)'!G30","v":0}]
["6,3,1,3,4,0,0",6,3,1,3,4,null,null,null,null,"Minería, Manufacturas y Construcción",null,null,null,null,{"$f":"'Formato 6 c)'!B31","v":0},{"$f":"'Formato 6 c)'!C31","v":0},{"$f":"'Formato 6 c)'!D31","v":0},{"$f":"'Formato 6 c)'!E31","v":0},{"$f":"'Formato 6 c)'!F31","v":0},{"$f":"'Formato 6 c)'!G31","v":0}]
["6,3,1,3,5,0,0",6,3,1,3,5,null,null,null,null,"Transporte",null,null,null,null,{"$f":"'Formato 6 c)'!B32","v":0},{"$f":"'Formato 6 c)'!C32","v":1886161.22},{"$f":"'Formato 6 c)'!D32","v":1886161.22},{"$f":"'Formato 6 c)'!E32","v":928951.21},{"$f":"'Formato 6 c)'!F32","v":705890.1},{"$f":"'Formato 6 c)'!G32","v":957210.01}]
["6,3,1,3,6,0,0",6,3,1,3,6,null,null,null,null,"Comunicaciones",null,null,null,null,{"$f":"'Formato 6 c)'!B33","v":0},{"$f":"'Formato 6 c)'!C33","v":0},{"$f":"'Formato 6 c)'!D33","v":0},{"$f":"'Formato 6 c)'!E33","v":0},{"$f":"'Formato 6 c)'!F33","v":0},{"$f":"'Formato 6 c)'!G33","v":0}]
["6,3,1,3,7,0,0",6,3,1,3,7,null,null,null,null,"Turismo",null,null,null,null,{"$f":"'Formato 6 c)'!B34","v":1217895},{"$f":"'Formato 6 c)'!C34","v":133000},{"$f":"'Formato 6 c)'!D34","v":1350895},{"$f":"'Formato 6 c)'!E34","v":168426.7},{"$f":"'Formato 6 c)'!F34","v":168426.7},{"$f":"'Formato 6 c)'!G34","v":1182468.3}]
["6,3,1,3,8,0,0",6,3,1,3,8,null,null,null,null,"Ciencia, Tecnología e Innovación",null,null,null,null,{"$f":"'Formato 6 c)'!B35","v":0},{"$f":"'Formato 6 c)'!C35","v":0},{"$f":"'Formato 6 c)'!D35","v":0},{"$f":"'Formato 6 c)'!E35","v":0},{"$f":"'Formato 6 c)'!F35","v":0},{"$f":"'Formato 6 c)'!G35","v":0}]
["6,3,1,3,9,0,0",6,3,1,3,9,null,null,null,null,"Otras Industrias y Otros Asuntos Económicos",null,null,null,null,{"$f":"'Formato 6 c)'!B36","v":0},{"$f":"'Formato 6 c)'!C36","v":0},{"$f":"'Formato 6 c)'!D36","v":0},{"$f":"'Formato 6 c)'!E36","v":0},{"$f":"'Formato 6 c)'!F36","v":0},{"$f":"'Formato 6 c)'!G36","v":0}]
["6,3,1,4,0,0,0",6,3,1,4,null,null,null,null,"Otras Nno Clasificadas en Funciones Anteriores",null,null,null,null,null,{"$f":"'Formato 6 c)'!B37","v":0},{"$f":"'Formato 6 c)'!C37","v":0},{"$f":"'Formato 6 c)'!D37","v":0},{"$f":"'Formato 6 c)'!E37","v":0},{"$f":"'Formato 6 c)'!F37","v":0},{"$f":"'Formato 6 c)'!G37","v":0}]
["6,3,1,4,1,0,0",6,3,1,4,1,null,null,null,null,"Transacciones de la Deuda Pública / Costo Financiero de la Deuda",null,null,null,null,{"$f":"'Formato 6 c)'!B38","v":0},{"$f":"'Formato 6 c)'!C38","v":0},{"$f":"'Formato 6 c)'!D38","v":0},{"$f":"'Formato 6 c)'!E38","v":0},{"$f":"'Formato 6 c)'!F38","v":0},{"$f":"'Formato 6 c)'!G38","v":0}]
["6,3,1,4,2,0,0",6,3,1,4,2,null,null,null,null,"Transferencias, Participaciones y Aportaciones Entre Diferentes Niveles y Órdenes de Gobierno",null,null,null,null,{"$f":"'Formato 6 c)'!B39","v":0},{"$f":"'Formato 6 c)'!C39","v":0},{"$f":"'Formato 6 c)'!D39","v":0},{"$f":"'Formato 6 c)'!E39","v":0},{"$f":"'Formato 6 c)'!F39","v":0},{"$f":"'Formato 6 c)'!G39","v":0}]
["6,3,1,4,3,0,0",6,3,1,4,3,null,null,null,null,"Saneamiento del Sistema Financiero",null,null,null,null,{"$f":"'Formato 6 c)'!B40","v":0},{"$f":"'Formato 6 c)'!C40","v":0},{"$f":"'Formato 6 c)'!D40","v":0},{"$f":"'Formato 6 c)'!E40","v":0},{"$f":"'Formato 6 c)'!F40","v":0},{"$f":"'Formato 6 c)'!G40","v":0}]
["6,3,1,4,4,0,0",6,3,1,4,4,null,null,null,null,"Adeudos de Ejercicios Fiscales Anteriores",null,null,null,null,{"$f":"'Formato 6 c)'!B41","v":0},{"$f":"'Formato 6 c)'!C41","v":0},{"$f":"'Formato 6 c)'!D41","v":0},{"$f":"'Formato 6 c)'!E41","v":0},{"$f":"'Formato 6 c)'!F41","v":0},{"$f":"'Formato 6 c)'!G41","v":0}]
["6,3,2,0,0,0,0",6,3,2,null,null,null,null,"Gasto Etiquetado",null,null,null,null,null,null,{"$f":"'Formato 6 c)'!B43","v":268000000},{"$f":"'Formato 6 c)'!C43","v":36536249.969999984},{"$f":"'Formato 6 c)'!D43","v":304536249.96999997},{"$f":"'Formato 6 c)'!E43","v":44268606.899999999},{"$f":"'Formato 6 c)'!F43","v":38171179.790000007},{"$f":"'Formato 6 c)'!G43","v":260267643.06999999}]
["6,3,2,1,0,0,0",6,3,2,1,null,null,null,null,"Gobierno",null,null,null,null,null,{"$f":"'Formato 6 c)'!B44","v":80792857.159999996},{"$f":"'Formato 6 c)'!C44","v":10885499.999999993},{"$f":"'Formato 6 c)'!D44","v":91678357.159999996},{"$f":"'Formato 6 c)'!E44","v":18713706.870000001},{"$f":"'Formato 6 c)'!F44","v":18228753.030000001},{"$f":"'Formato 6 c)'!G44","v":72964650.289999992}]
["6,3,2,1,1,0,0",6,3,2,1,1,null,null,null,null,"Legislación",null,null,null,null,{"$f":"'Formato 6 c)'!B45","v":0},{"$f":"'Formato 6 c)'!C45","v":0},{"$f":"'Formato 6 c)'!D45","v":0},{"$f":"'Formato 6 c)'!E45","v":0},{"$f":"'Formato 6 c)'!F45","v":0},{"$f":"'Formato 6 c)'!G45","v":0}]
["6,3,2,1,2,0,0",6,3,2,1,2,null,null,null,null,"Justicia",null,null,null,null,{"$f":"'Formato 6 c)'!B46","v":0},{"$f":"'Formato 6 c)'!C46","v":0},{"$f":"'Formato 6 c)'!D46","v":0},{"$f":"'Formato 6 c)'!E46","v":0},{"$f":"'Formato 6 c)'!F46","v":0},{"$f":"'Formato 6 c)'!G46","v":0}]
["6,3,2,1,3,0,0",6,3,2,1,3,null,null,null,null,"Coordinación de la Política de Gobierno",null,null,null,null,{"$f":"'Formato 6 c)'!B47","v":14450000},{"$f":"'Formato 6 c)'!C47","v":185500},{"$f":"'Formato 6 c)'!D47","v":14635500},{"$f":"'Formato 6 c)'!E47","v":4539919.59},{"$f":"'Formato 6 c)'!F47","v":4539919.59},{"$f":"'Formato 6 c)'!G47","v":10095580.41}]
["6,3,2,1,4,0,0",6,3,2,1,4,null,null,null,null,"Relaciones Exteriores",null,null,null,null,{"$f":"'Formato 6 c)'!B48","v":0},{"$f":"'Formato 6 c)'!C48","v":0},{"$f":"'Formato 6 c)'!D48","v":0},{"$f":"'Formato 6 c)'!E48","v":0},{"$f":"'Formato 6 c)'!F48","v":0},{"$f":"'Formato 6 c)'!G48","v":0}]
["6,3,2,1,5,0,0",6,3,2,1,5,null,null,null,null,"Asuntos Financieros y Hacendarios",null,null,null,null,{"$f":"'Formato 6 c)'!B49","v":719988.28},{"$f":"'Formato 6 c)'!C49","v":8317999.9999999991},{"$f":"'Formato 6 c)'!D49","v":9037988.2799999993},{"$f":"'Formato 6 c)'!E49","v":168458.37},{"$f":"'Formato 6 c)'!F49","v":142226.37},{"$f":"'Formato 6 c)'!G49","v":8869529.9100000001}]
["6,3,2,1,6,0,0",6,3,2,1,6,null,null,null,null,"Seguridad Nacional",null,null,null,null,{"$f":"'Formato 6 c)'!B50","v":0},{"$f":"'Formato 6 c)'!C50","v":0},{"$f":"'Formato 6 c)'!D50","v":0},{"$f":"'Formato 6 c)'!E50","v":0},{"$f":"'Formato 6 c)'!F50","v":0},{"$f":"'Formato 6 c)'!G50","v":0}]
["6,3,2,1,7,0,0",6,3,2,1,7,null,null,null,null,"Asuntos de Orden Público y de Seguridad Interior",null,null,null,null,{"$f":"'Formato 6 c)'!B51","v":65622868.880000003},{"$f":"'Formato 6 c)'!C51","v":2381999.9999999925},{"$f":"'Formato 6 c)'!D51","v":68004868.879999995},{"$f":"'Formato 6 c)'!E51","v":14005328.91},{"$f":"'Formato 6 c)'!F51","v":13546607.07},{"$f":"'Formato 6 c)'!G51","v":53999539.969999999}]
["6,3,2,1,8,0,0",6,3,2,1,8,null,null,null,null,"Otros Servicios Generales",null,null,null,null,{"$f":"'Formato 6 c)'!B52","v":0},{"$f":"'Formato 6 c)'!C52","v":0},{"$f":"'Formato 6 c)'!D52","v":0},{"$f":"'Formato 6 c)'!E52","v":0},{"$f":"'Formato 6 c)'!F52","v":0},{"$f":"'Formato 6 c)'!G52","v":0}]
["6,3,2,2,0,0,0",6,3,2,2,null,null,null,null,"Desarrollo Social",null,null,null,null,null,{"$f":"'Formato 6 c)'!B53","v":185000000},{"$f":"'Formato 6 c)'!C53","v":17476386.959999993},{"$f":"'Formato 6 c)'!D53","v":202476386.95999998},{"$f":"'Formato 6 c)'!E53","v":21448557.66},{"$f":"'Formato 6 c)'!F53","v":17425143.199999999},{"$f":"'Formato 6 c)'!G53","v":181027829.29999998}]
["6,3,2,2,1,0,0",6,3,2,2,1,null,null,null,null,"Protección Ambiental ",null,null,null,null,{"$f":"'Formato 6 c)'!B54","v":0},{"$f":"'Formato 6 c)'!C54","v":2473836.39},{"$f":"'Formato 6 c)'!D54","v":2473836.39},{"$f":"'Formato 6 c)'!E54","v":0},{"$f":"'Formato 6 c)'!F54","v":0},{"$f":"'Formato 6 c)'!G54","v":2473836.39}]
["6,3,2,2,2,0,0",6,3,2,2,2,null,null,null,null,"Vivienda y Servicios a la Comunidad",null,null,null,null,{"$f":"'Formato 6 c)'!B55","v":185000000},{"$f":"'Formato 6 c)'!C55","v":12988785.039999992},{"$f":"'Formato 6 c)'!D55","v":197988785.03999999},{"$f":"'Formato 6 c)'!E55","v":20139198.600000001},{"$f":"'Formato 6 c)'!F55","v":16523630.5},{"$f":"'Formato 6 c)'!G55","v":177849586.44}]
["6,3,2,2,3,0,0",6,3,2,2,3,null,null,null,null,"Salud",null,null,null,null,{"$f":"'Formato 6 c)'!B56","v":0},{"$f":"'Formato 6 c)'!C56","v":0},{"$f":"'Formato 6 c)'!D56","v":0},{"$f":"'Formato 6 c)'!E56","v":0},{"$f":"'Formato 6 c)'!F56","v":0},{"$f":"'Formato 6 c)'!G56","v":0}]
["6,3,2,2,4,0,0",6,3,2,2,4,null,null,null,null,"Recreación, Cultura y Otras Manifestaciones Sociales",null,null,null,null,{"$f":"'Formato 6 c)'!B57","v":0},{"$f":"'Formato 6 c)'!C57","v":1464326.53},{"$f":"'Formato 6 c)'!D57","v":1464326.53},{"$f":"'Formato 6 c)'!E57","v":799030.95},{"$f":"'Formato 6 c)'!F57","v":391184.59},{"$f":"'Formato 6 c)'!G57","v":665295.58000000007}]
["6,3,2,2,5,0,0",6,3,2,2,5,null,null,null,null,"Educación ",null,null,null,null,{"$f":"'Formato 6 c)'!B58","v":0},{"$f":"'Formato 6 c)'!C58","v":0},{"$f":"'Formato 6 c)'!D58","v":0},{"$f":"'Formato 6 c)'!E58","v":0},{"$f":"'Formato 6 c)'!F58","v":0},{"$f":"'Formato 6 c)'!G58","v":0}]
["6,3,2,2,6,0,0",6,3,2,2,6,null,null,null,null,"Protección Social",null,null,null,null,{"$f":"'Formato 6 c)'!B59","v":0},{"$f":"'Formato 6 c)'!C59","v":549439},{"$f":"'Formato 6 c)'!D59","v":549439},{"$f":"'Formato 6 c)'!E59","v":510328.11},{"$f":"'Formato 6 c)'!F59","v":510328.11},{"$f":"'Formato 6 c)'!G59","v":39110.890000000014}]
["6,3,2,2,7,0,0",6,3,2,2,7,null,null,null,null,"Otros Asuntos Sociales",null,null,null,null,{"$f":"'Formato 6 c)'!B60","v":0},{"$f":"'Formato 6 c)'!C60","v":0},{"$f":"'Formato 6 c)'!D60","v":0},{"$f":"'Formato 6 c)'!E60","v":0},{"$f":"'Formato 6 c)'!F60","v":0},{"$f":"'Formato 6 c)'!G60","v":0}]
["6,3,2,3,0,0,0",6,3,2,3,null,null,null,null,"Desarrollo Económico",null,null,null,null,null,{"$f":"'Formato 6 c)'!B61","v":0},{"$f":"'Formato 6 c)'!C61","v":8174363.0099999998},{"$f":"'Formato 6 c)'!D61","v":8174363.0099999998},{"$f":"'Formato 6 c)'!E61","v":3534735.4},{"$f":"'Formato 6 c)'!F61","v":1945676.59},{"$f":"'Formato 6 c)'!G61","v":4639627.6099999994}]
["6,3,2,3,1,0,0",6,3,2,3,1,null,null,null,null,"Asuntos Económicos, Comerciales y Laborales en General",null,null,null,null,{"$f":"'Formato 6 c)'!B62","v":0},{"$f":"'Formato 6 c)'!C62","v":0},{"$f":"'Formato 6 c)'!D62","v":0},{"$f":"'Formato 6 c)'!E62","v":0},{"$f":"'Formato 6 c)'!F62","v":0},{"$f":"'Formato 6 c)'!G62","v":0}]
["6,3,2,3,2,0,0",6,3,2,3,2,null,null,null,null,"Agropecuaria, Silvicultura, Pesca y Caza",null,null,null,null,{"$f":"'Formato 6 c)'!B63","v":0},{"$f":"'Formato 6 c)'!C63","v":4062705.26},{"$f":"'Formato 6 c)'!D63","v":4062705.26},{"$f":"'Formato 6 c)'!E63","v":0},{"$f":"'Formato 6 c)'!F63","v":0},{"$f":"'Formato 6 c)'!G63","v":4062705.26}]
["6,3,2,3,3,0,0",6,3,2,3,3,null,null,null,null,"Combustibles y Energía ",null,null,null,null,{"$f":"'Formato 6 c)'!B64","v":0},{"$f":"'Formato 6 c)'!C64","v":0},{"$f":"'Formato 6 c)'!D64","v":0},{"$f":"'Formato 6 c)'!E64","v":0},{"$f":"'Formato 6 c)'!F64","v":0},{"$f":"'Formato 6 c)'!G64","v":0}]
["6,3,2,3,4,0,0",6,3,2,3,4,null,null,null,null,"Minería, Manufacturas y Construcción",null,null,null,null,{"$f":"'Formato 6 c)'!B65","v":0},{"$f":"'Formato 6 c)'!C65","v":0},{"$f":"'Formato 6 c)'!D65","v":0},{"$f":"'Formato 6 c)'!E65","v":0},{"$f":"'Formato 6 c)'!F65","v":0},{"$f":"'Formato 6 c)'!G65","v":0}]
["6,3,2,3,5,0,0",6,3,2,3,5,null,null,null,null,"Transporte",null,null,null,null,{"$f":"'Formato 6 c)'!B66","v":0},{"$f":"'Formato 6 c)'!C66","v":4111657.75},{"$f":"'Formato 6 c)'!D66","v":4111657.75},{"$f":"'Formato 6 c)'!E66","v":3534735.4},{"$f":"'Formato 6 c)'!F66","v":1945676.59},{"$f":"'Formato 6 c)'!G66","v":576922.35000000009}]
["6,3,2,3,6,0,0",6,3,2,3,6,null,null,null,null,"Comunicaciones",null,null,null,null,{"$f":"'Formato 6 c)'!B67","v":0},{"$f":"'Formato 6 c)'!C67","v":0},{"$f":"'Formato 6 c)'!D67","v":0},{"$f":"'Formato 6 c)'!E67","v":0},{"$f":"'Formato 6 c)'!F67","v":0},{"$f":"'Formato 6 c)'!G67","v":0}]
["6,3,2,3,7,0,0",6,3,2,3,7,null,null,null,null,"Turismo",null,null,null,null,{"$f":"'Formato 6 c)'!B68","v":0},{"$f":"'Formato 6 c)'!C68","v":0},{"$f":"'Formato 6 c)'!D68","v":0},{"$f":"'Formato 6 c)'!E68","v":0},{"$f":"'Formato 6 c)'!F68","v":0},{"$f":"'Formato 6 c)'!G68","v":0}]
["6,3,2,3,8,0,0",6,3,2,3,8,null,null,null,null,"Ciencia, Tecnología e Innovación",null,null,null,null,{"$f":"'Formato 6 c)'!B69","v":0},{"$f":"'Formato 6 c)'!C69","v":0},{"$f":"'Formato 6 c)'!D69","v":0},{"$f":"'Formato 6 c)'!E69","v":0},{"$f":"'Formato 6 c)'!F69","v":0},{"$f":"'Formato 6 c)'!G69","v":0}]
["6,3,2,3,9,0,0",6,3,2,3,9,null,null,null,null,"Otras Industrias y Otros Asuntos Económicos",null,null,null,null,{"$f":"'Formato 6 c)'!B70","v":0},{"$f":"'Formato 6 c)'!C70","v":0},{"$f":"'Formato 6 c)'!D70","v":0},{"$f":"'Formato 6 c)'!E70","v":0},{"$f":"'Formato 6 c)'!F70","v":0},{"$f":"'Formato 6 c)'!G70","v":0}]
["6,3,2,4,0,0,0",6,3,2,4,null,null,null,null,"Otras No Clasificadas en Funciones Anteriores",null,null,null,null,null,{"$f":"'Formato 6 c)'!B71","v":2207142.84},{"$f":"'Formato 6 c)'!C71","v":0},{"$f":"'Formato 6 c)'!D71","v":2207142.84},{"$f":"'Formato 6 c)'!E71","v":571606.97},{"$f":"'Formato 6 c)'!F71","v":571606.97},{"$f":"'Formato 6 c)'!G71","v":1635535.8699999999}]
["6,3,2,4,1,0,0",6,3,2,4,1,null,null,null,null,"Transacciones de la Deuda Pública / Costo Financiero de la Deuda",null,null,null,null,{"$f":"'Formato 6 c)'!B72","v":2207142.84},{"$f":"'Formato 6 c)'!C72","v":0},{"$f":"'Formato 6 c)'!D72","v":2207142.84},{"$f":"'Formato 6 c)'!E72","v":571606.97},{"$f":"'Formato 6 c)'!F72","v":571606.97},{"$f":"'Formato 6 c)'!G72","v":1635535.8699999999}]
["6,3,2,4,2,0,0",6,3,2,4,2,null,null,null,null,"Transferencias, Participaciones y Aportaciones Entre Diferentes Niveles y Órdenes de Gobierno",null,null,null,null,{"$f":"'Formato 6 c)'!B73","v":0},{"$f":"'Formato 6 c)'!C73","v":0},{"$f":"'Formato 6 c)'!D73","v":0},{"$f":"'Formato 6 c)'!E73","v":0},{"$f":"'Formato 6 c)'!F73","v":0},{"$f":"'Formato 6 c)'!G73","v":0}]
["6,3,2,4,3,0,0",6,3,2,4,3,null,null,null,null,"Saneamiento del Sistema Financiero",null,null,null,null,{"$f":"'Formato 6 c)'!B74","v":0},{"$f":"'Formato 6 c)'!C74","v":0},{"$f":"'Formato 6 c)'!D74","v":0},{"$f":"'Formato 6 c)'!E74","v":0},{"$f":"'Formato 6 c)'!F74","v":0},{"$f":"'Formato 6 c)'!G74","v":0}]
[{"$f":"IF(LEN(CLEAN(B67))=0,\"0\",B67)&\",\"&IF(LEN(CLEAN(C67))=0,\"0\",C67)&\",\"&IF(LEN(CLEAN(D67))=0,\"0\",D67)&\",\"&IF(LEN(CLEAN(E67))=0,\"0\",E67)&\",\"&IF(LEN(CLEAN(F67))=0,\"0\",F67)&\",\"&IF(LEN(CLEAN(G67))=0,\"0\",G67)&\",\"&IF(LEN(CLEAN(H67))=0,\"0\",H67)","v":"6,3,2,4,4,0,0"},6,3,2,4,4,null,null,null,null,"Adeudos de Ejercicios Fiscales Anteriores",null,null,null,null,{"$f":"'Formato 6 c)'!B75","v":0},{"$f":"'Formato 6 c)'!C75","v":0},{"$f":"'Formato 6 c)'!D75","v":0},{"$f":"'Formato 6 c)'!E75","v":0},{"$f":"'Formato 6 c)'!F75","v":0},{"$f":"'Formato 6 c)'!G75","v":0}]
["6,3,3,0,0,0,0",6,3,3,null,null,null,null,"Total de Egresos",null,null,null,null,null,null,{"$f":"'Formato 6 c)'!B77","v":500000000},{"$f":"'Formato 6 c)'!C77","v":55920715.869999975},{"$f":"'Formato 6 c)'!D77","v":555920715.87},{"$f":"'Formato 6 c)'!E77","v":88795873.25},{"$f":"'Formato 6 c)'!F77","v":81949853.730000019},{"$f":"'Formato 6 c)'!G77","v":467124842.62}]

{"sheet":"Formato 6 d)","index":19,"n_rows":33,"n_cols":7,"rows_kept":33,"cut":false,"hidden":false,"merged":[[6,0,7,0],[6,1,6,5],[6,6,7,6],[0,0,0,6],[1,0,1,6],[2,0,2,6],[3,0,3,6],[4,0,4,6],[5,0,5,6]]}
["Formato 6 d) Estado Analítico del Ejercicio del Presupuesto de Egresos Detallado  - LDF\n                        (Clasificación de Servicios Personales por Categoría)"]
[{"$f":"ENTE_PUBLICO_A","v":"Municipio de Valle de Santiago, Gto., Gobierno del Estado de Guanajuato (a)"}]
["Estado Analítico del Ejercicio del Presupuesto de Egresos Detallado - LDF"]
["Clasificación de Servicios Personales por Categoría"]
[{"$f":"TRIMESTRE","v":"Del 1 de enero al 30 de marzo de 2022 (b)"}]
["(PESOS)"]
["Concepto ( c )","Egresos",null,null,null,null,"Subejercicio (e)"]
[null,"Aprobado (d)","Ampliaciones / (Reducciones)","Modificado","Devengado","Pagado"]
["I. Gasto No Etiquetado (I=A+B+C+D+E+F)",{"$f":"SUM(B10,B11,B12,B15,B16,B19)","v":109782618},{"$f":"SUM(C10,C11,C12,C15,C16,C19)","v":0},109782618,22574450.210000001,22138386.399999999,{"$f":"SUM(G10,G11,G12,G15,G16,G19)","v":87208167.789999992}]
["A. Personal Administrativo",109782618,0,109782618,22574450.210000001,22138386.399999999,{"$f":"D10-E10","v":87208167.789999992}]
["B. Magisterio",0,0,0,0,0,0]
["C. Servicios de Salud (C=c1+c2)",0,0,0,0,0,0]
["c1) Personal Administrativo",0,0,0,0,0,0]
["c2) Personal Médico, paramédico y afín",0,0,0,0,0,0]
["D. Seguridad Pública",0,0,0,0,0,0]
["E. Gastos asociados a la implementación de nuevas leyes federales o reformas a las mismas (E=e1+e2)",0,0,0,0,0,0]
["e1) Nombre del Programa o Ley 1",0,0,0,0,0,0]
["e2) Nombre del Programa o Ley 2",0,0,0,0,0,0]
["F. Sentencias laborales definitivas",0,0,0,0,0,0]
[]
["II. Gasto  Etiquetado (I=A+B+C+D+E+F)",{"$f":"SUM(B22,B23,B24,B27,B28,B31)","v":61312868.880000003},{"$f":"SUM(C22,C23,C24,C27,C28,C31)","v":0},61312868.880000003,12986188.119999999,12614915.279999999,{"$f":"G22","v":48326680.760000005}]
["A. Personal Administrativo",61312868.880000003,0,61312868.880000003,12986188.119999999,12614915.279999999,{"$f":"D22-E22","v":48326680.760000005}]
["B. Magisterio",0,0,0,0,0,0]
["C. Servicios de Salud (C=c1+c2)",0,0,0,0,0,0]
["c1) Personal Administrativo",0,0,0,0,0,0]
["c2) Personal Médico, paramédico y afín",0,0,0,0,0,0]
["D. Seguridad Pública",0,0,0,0,0,0]
["E. Gastos asociados a la implementación de nuevas leyes federales o reformas a las mismas (E=e1+e2)",0,0,0,0,0,0]
["e1) Nombre del Programa o Ley 1",0,0,0,0,0,0]
["e2) Nombre del Programa o Ley 2",0,0,0,0,0,0]
["F. Sentencias laborales definitivas",0,0,0,0,0,0]
[]
["III. Total de Gasto en Servicios Personales (III = I + II)",{"$f":"B21+B9","v":171095486.88},{"$f":"C21+C9","v":0},171095486.88,35560638.329999998,34753301.68,{"$f":"G21+G9","v":135534848.55000001}]

{"sheet":"F06d","index":20,"n_rows":24,"n_cols":21,"rows_kept":24,"cut":false,"hidden":true,"merged":[]}
["CLAVE","N1","N2","N3","N4","N5","N6","N7","C  O  N  C  E  P  T  O  S",null,null,null,null,null,null,"APROBADO","AMPLIACIONES","MODIFICADO","DEVENGADO","PAGADO","SUBEJERCICIO"]
[{"$f":"IF(LEN(CLEAN(B2))=0,\"0\",B2)&\",\"&IF(LEN(CLEAN(C2))=0,\"0\",C2)&\",\"&IF(LEN(CLEAN(D2))=0,\"0\",D2)&\",\"&IF(LEN(CLEAN(E2))=0,\"0\",E2)&\",\"&IF(LEN(CLEAN(F2))=0,\"0\",F2)&\",\"&IF(LEN(CLEAN(G2))=0,\"0\",G2)&\",\"&IF(LEN(CLEAN(H2))=0,\"0\",H2)","v":"6,4,1,0,0,0,0"},6,4,1,null,null,null,null,"Gasto No Etiquetado",null,null,null,null,null,null,{"$f":"'Formato 6 d)'!B9","v":109782618},{"$f":"'Formato 6 d)'!C9","v":0},{"$f":"'Formato 6 d)'!D9","v":109782618},{"$f":"'Formato 6 d)'!E9","v":22574450.210000001},{"$f":"'Formato 6 d)'!F9","v":22138386.399999999},{"$f":"'Formato 6 d)'!G9","v":87208167.789999992}]
[{"$f":"IF(LEN(CLEAN(B3))=0,\"0\",B3)&\",\"&IF(LEN(CLEAN(C3))=0,\"0\",C3)&\",\"&IF(LEN(CLEAN(D3))=0,\"0\",D3)&\",\"&IF(LEN(CLEAN(E3))=0,\"0\",E3)&\",\"&IF(LEN(CLEAN(F3))=0,\"0\",F3)&\",\"&IF(LEN(CLEAN(G3))=0,\"0\",G3)&\",\"&IF(LEN(CLEAN(H3))=0,\"0\",H3)","v":"6,4,1,1,0,0,0"},6,4,1,1,null,null,null,null,"Personal Administrativo",null,null,null,null,null,{"$f":"'Formato 6 d)'!B10","v":109782618},{"$f":"'Formato 6 d)'!C10","v":0},{"$f":"'Formato 6 d)'!D10","v":109782618},{"$f":"'Formato 6 d)'!E10","v":22574450.210000001},{"$f":"'Formato 6 d)'!F10","v":22138386.399999999},{"$f":"'Formato 6 d)'!G10","v":87208167.789999992}]
["6,4,1,2,0,0,0",6,4,1,2,null,null,null,null,"Magisterio",null,null,null,null,null,{"$f":"'Formato 6 d)'!B11","v":0},{"$f":"'Formato 6 d)'!C11","v":0},{"$f":"'Formato 6 d)'!D11","v":0},{"$f":"'Formato 6 d)'!E11","v":0},{"$f":"'Formato 6 d)'!F11","v":0},{"$f":"'Formato 6 d)'!G11","v":0}]
["6,4,1,3,0,0,0",6,4,1,3,null,null,null,null,"Servicios de Salud",null,null,null,null,null,{"$f":"'Formato 6 d)'!B12","v":0},{"$f":"'Formato 6 d)'!C12","v":0},{"$f":"'Formato 6 d)'!D12","v":0},{"$f":"'Formato 6 d)'!E12","v":0},{"$f":"'Formato 6 d)'!F12","v":0},{"$f":"'Formato 6 d)'!G12","v":0}]
["6,4,1,3,1,0,0",6,4,1,3,1,null,null,null,null,"Personal Administrativo",null,null,null,null,{"$f":"'Formato 6 d)'!B13","v":0},{"$f":"'Formato 6 d)'!C13","v":0},{"$f":"'Formato 6 d)'!D13","v":0},{"$f":"'Formato 6 d)'!E13","v":0},{"$f":"'Formato 6 d)'!F13","v":0},{"$f":"'Formato 6 d)'!G13","v":0}]
[{"$f":"IF(LEN(CLEAN(B7))=0,\"0\",B7)&\",\"&IF(LEN(CLEAN(C7))=0,\"0\",C7)&\",\"&IF(LEN(CLEAN(D7))=0,\"0\",D7)&\",\"&IF(LEN(CLEAN(E7))=0,\"0\",E7)&\",\"&IF(LEN(CLEAN(F7))=0,\"0\",F7)&\",\"&IF(LEN(CLEAN(G7))=0,\"0\",G7)&\",\"&IF(LEN(CLEAN(H7))=0,\"0\",H7)","v":"6,4,1,3,2,0,0"},6,4,1,3,2,null,null,null,null,"Personal Médico, paramédico y afín",null,null,null,null,{"$f":"'Formato 6 d)'!B14","v":0},{"$f":"'Formato 6 d)'!C14","v":0},{"$f":"'Formato 6 d)'!D14","v":0},{"$f":"'Formato 6 d)'!E14","v":0},{"$f":"'Formato 6 d)'!F14","v":0},{"$f":"'Formato 6 d)'!G14","v":0}]
["6,4,1,4,0,0,0",6,4,1,4,null,null,null,null,"Seguridad Pública",null,null,null,null,null,{"$f":"'Formato 6 d)'!B15","v":0},{"$f":"'Formato 6 d)'!C15","v":0},{"$f":"'Formato 6 d)'!D15","v":0},{"$f":"'Formato 6 d)'!E15","v":0},{"$f":"'Formato 6 d)'!F15","v":0},{"$f":"'Formato 6 d)'!G15","v":0}]
["6,4,1,5,0,0,0",6,4,1,5,null,null,null,null,"Gastos asociados a la implementación de nuevas leyes federales o reformas a las mismas",null,null,null,null,null,{"$f":"'Formato 6 d)'!B16","v":0},{"$f":"'Formato 6 d)'!C16","v":0},{"$f":"'Formato 6 d)'!D16","v":0},{"$f":"'Formato 6 d)'!E16","v":0},{"$f":"'Formato 6 d)'!F16","v":0},{"$f":"'Formato 6 d)'!G16","v":0}]
["6,4,1,5,1,0,0",6,4,1,5,1,null,null,null,null,"Nombre del Programa o Ley 1",null,null,null,null,{"$f":"'Formato 6 d)'!B17","v":0},{"$f":"'Formato 6 d)'!C17","v":0},{"$f":"'Formato 6 d)'!D17","v":0},{"$f":"'Formato 6 d)'!E17","v":0},{"$f":"'Formato 6 d)'!F17","v":0},{"$f":"'Formato 6 d)'!G17","v":0}]
["6,4,1,5,2,0,0",6,4,1,5,2,null,null,null,null,"Nombre del Programa o Ley 2",null,null,null,null,{"$f":"'Formato 6 d)'!B18","v":0},{"$f":"'Formato 6 d)'!C18","v":0},{"$f":"'Formato 6 d)'!D18","v":0},{"$f":"'Formato 6 d)'!E18","v":0},{"$f":"'Formato 6 d)'!F18","v":0},{"$f":"'Formato 6 d)'!G18","v":0}]
["6,4,1,6,0,0,0",6,4,1,6,null,null,null,null,"Sentencias laborales definitivas",null,null,null,null,null,{"$f":"'Formato 6 d)'!B19","v":0},{"$f":"'Formato 6 d)'!C19","v":0},{"$f":"'Formato 6 d)'!D19","v":0},{"$f":"'Formato 6 d)'!E19","v":0},{"$f":"'Formato 6 d)'!F19","v":0},{"$f":"'Formato 6 d)'!G19","v":0}]
["6,4,2,0,0,0,0",6,4,2,null,null,null,null,"Gasto  Etiquetado",null,null,null,null,null,null,{"$f":"'Formato 6 d)'!B21","v":61312868.880000003},{"$f":"'Formato 6 d)'!C21","v":0},{"$f":"'Formato 6 d)'!D21","v":61312868.880000003},{"$f":"'Formato 6 d)'!E21","v":12986188.119999999},{"$f":"'Formato 6 d)'!F21","v":12614915.279999999},{"$f":"'Formato 6 d)'!G21","v":48326680.760000005}]
["6,4,2,1,0,0,0",6,4,2,1,null,null,null,null,"Personal Administrativo",null,null,null,null,null,{"$f":"'Formato 6 d)'!B22","v":61312868.880000003},{"$f":"'Formato 6 d)'!C22","v":0},{"$f":"'Formato 6 d)'!D22","v":61312868.880000003},{"$f":"'Formato 6 d)'!E22","v":12986188.119999999},{"$f":"'Formato 6 d)'!F22","v":12614915.279999999},{"$f":"'Formato 6 d)'!G22","v":48326680.760000005}]
["6,4,2,2,0,0,0",6,4,2,2,null,null,null,null,"Magisterio",null,null,null,null,null,{"$f":"'Formato 6 d)'!B23","v":0},{"$f":"'Formato 6 d)'!C23","v":0},{"$f":"'Formato 6 d)'!D23","v":0},{"$f":"'Formato 6 d)'!E23","v":0},{"$f":"'Formato 6 d)'!F23","v":0},{"$f":"'Formato 6 d)'!G23","v":0}]
["6,4,2,3,0,0,0",6,4,2,3,null,null,null,null,"Servicios de Salud",null,null,null,null,null,{"$f":"'Formato 6 d)'!B24","v":0},{"$f":"'Formato 6 d)'!C24","v":0},{"$f":"'Formato 6 d)'!D24","v":0},{"$f":"'Formato 6 d)'!E24","v":0},{"$f":"'Formato 6 d)'!F24","v":0},{"$f":"'Formato 6 d)'!G24","v":0}]
["6,4,2,3,1,0,0",6,4,2,3,1,null,null,null,null,"Personal Administrativo",null,null,null,null,{"$f":"'Formato 6 d)'!B25","v":0},{"$f":"'Formato 6 d)'!C25","v":0},{"$f":"'Formato 6 d)'!D25","v":0},{"$f":"'Formato 6 d)'!E25","v":0},{"$f":"'Formato 6 d)'!F25","v":0},{"$f":"'Formato 6 d)'!G25","v":0}]
["6,4,2,3,2,0,0",6,4,2,3,2,null,null,null,null,"Personal Médico, paramédico y afín",null,null,null,null,{"$f":"'Formato 6 d)'!B26","v":0},{"$f":"'Formato 6 d)'!C26","v":0},{"$f":"'Formato 6 d)'!D26","v":0},{"$f":"'Formato 6 d)'!E26","v":0},{"$f":"'Formato 6 d)'!F26","v":0},{"$f":"'Formato 6 d)'!G26","v":0}]
["6,4,2,4,0,0,0",6,4,2,4,null,null,null,null,"Seguridad Pública",null,null,null,null,null,{"$f":"'Formato 6 d)'!B27","v":0},{"$f":"'Formato 6 d)'!C27","v":0},{"$f":"'Formato 6 d)'!D27","v":0},{"$f":"'Formato 6 d)'!E27","v":0},{"$f":"'Formato 6 d)'!F27","v":0},{"$f":"'Formato 6 d)'!G27","v":0}]
["6,4,2,5,0,0,0",6,4,2,5,null,null,null,null,"Gastos asociados a la implementación de nuevas leyes federales o reformas a las mismas",null,null,null,null,null,{"$f":"'Formato 6 d)'!B28","v":0},{"$f":"'Formato 6 d)'!C28","v":0},{"$f":"'Formato 6 d)'!D28","v":0},{"$f":"'Formato 6 d)'!E28","v":0},{"$f":"'Formato 6 d)'!F28","v":0},{"$f":"'Formato 6 d)'!G28","v":0}]
["6,4,2,5,1,0,0",6,4,2,5,1,null,null,null,null,"Nombre del Programa o Ley 1",null,null,null,null,{"$f":"'Formato 6 d)'!B29","v":0},{"$f":"'Formato 6 d)'!C29","v":0},{"$f":"'Formato 6 d)'!D29","v":0},{"$f":"'Formato 6 d)'!E29","v":0},{"$f":"'Formato 6 d)'!F29","v":0},{"$f":"'Formato 6 d)'!G29","v":0}]
["6,4,2,5,2,0,0",6,4,2,5,2,null,null,null,null,"Nombre del Programa o Ley 2",null,null,null,null,{"$f":"'Formato 6 d)'!B30","v":0},{"$f":"'Formato 6 d)'!C30","v":0},{"$f":"'Formato 6 d)'!D30","v":0},{"$f":"'Formato 6 d)'!E30","v":0},{"$f":"'Formato 6 d)'!F30","v":0},{"$f":"'Formato 6 d)'!G30","v":0}]
["6,4,2,6,0,0,0",6,4,2,6,null,null,null,null,"Sentencias laborales definitivas",null,null,null,null,null,{"$f":"'Formato 6 d)'!B31","v":0},{"$f":"'Formato 6 d)'!C31","v":0},{"$f":"'Formato 6 d)'!D31","v":0},{"$f":"'Formato 6 d)'!E31","v":0},{"$f":"'Formato 6 d)'!F31","v":0},{"$f":"'Formato 6 d)'!G31","v":0}]
["6,4,3,0,0,0,0",6,4,3,null,null,null,null,"Total de Gasto en Servicios Personales",null,null,null,null,null,null,{"$f":"'Formato 6 d)'!B33","v":171095486.88},{"$f":"'Formato 6 d)'!C33","v":0},{"$f":"'Formato 6 d)'!D33","v":171095486.88},{"$f":"'Formato 6 d)'!E33","v":35560638.329999998},{"$f":"'Formato 6 d)'!F33","v":34753301.68},{"$f":"'Formato 6 d)'!G33","v":135534848.55000001}]

{"sheet":"Formato 7 a)","index":21,"n_rows":37,"n_cols":7,"rows_kept":37,"cut":false,"hidden":false,"merged":[[5,6,6,6],[0,0,0,6],[1,0,1,6],[2,0,2,6],[3,0,3,6],[4,0,4,6],[5,0,6,0],[5,2,6,2],[5,3,6,3],[5,4,6,4],[5,5,6,5]]}
["Formato 7 a) Proyecciones de Ingresos - LDF"]
[{"$f":"ENTIDAD","v":"Municipio de Valle de Santiago, Gobierno del Estado de Guanajuato"}]
["Proyecciones de Ingresos - LDF"]
["(PESOS)"]
["(CIFRAS NOMINALES)"]
["Concepto (b)",{"$f":"ANIO1P","v":2023},{"$f":"ANIO2P","v":"2024 (d)"},{"$f":"ANIO3P","v":"2025 (d)"},{"$f":"ANIO4P","v":"2026 (d)"},{"$f":"ANIO5P","v":"2027 (d)"},{"$f":"ANIO6P","v":"2028 (d)"}]
[null,"Año en Cuestión\n(de proyecto de presupuesto) (c)"]
["1. Ingresos de Libre Disposición (1=A+B+C+D+E+F+G+H+I+J+K+L)",{"$f":"SUM(B9:B20)","v":0},{"$f":"SUM(C9:C20)","v":0},0,0,0,{"$f":"SUM(G9:G20)","v":0}]
["A. Impuestos",0,0,0,0,0,0]
["B. Cuotas y Aportaciones de Seguridad Social",0,0,0,0,0,0]
["C. Contribuciones de Mejoras",0,0,0,0,0,0]
["D. Derechos ",0,0,0,0,0,0]
["E. Productos",0,0,0,0,0,0]
["F. Aprovechamientos",0,0,0,0,0,0]
["G. Ingresos por ventas de Bienes y Servicios",0,0,0,0,0,0]
["H. Participaciones",0,0,0,0,0,0]
["I. Incentivos Derivados de la Colaboración Fiscal",0,0,0,0,0,0]
["J. Transferencias",0,0,0,0,0,0]
["K. Convenios",0,0,0,0,0,0]
["L. Otros Ingresos de Libre Disposición",0,0,0,0,0,0]
[]
["2. Transferencias Federales Etiquetadas (2=A+B+C+D+E)",{"$f":"SUM(B23:B27)","v":0},0,0,0,0,0]
["A. Aportaciones",0,0,0,0,0,{"$f":"F23*1.04","v":0}]
["B. Convenios",0,0,0,0,0,{"$f":"F24*1.04","v":0}]
["C. Fondos Distintos de Aportaciones",0,0,0,0,0,0]
["D. Transferencias, Subsidios y Subvenciones, y Pensiones y Jubilaciones",0,0,0,0,0,0]
["E. Otras Transferencias Federales Etiquetadas",0,0,0,0,0,0]
[]
["3. Ingresos Derivados de Financiamientos (3=A)",{"$f":"B30","v":0},{"$f":"C30","v":0},0,0,0,{"$f":"G30","v":0}]
["A. Ingresos Derivados de Financiamientos",0,0,0,0,0,0]
[]
["4. Total de Ingresos Proyectados (4=1+2+3)",{"$f":"B29+B22+B8","v":0},0,0,0,0,0]
[]
["Datos Informativos"]
["1. Ingresos Derivados de Financiamientos con Fuente de Pago de Recursos de Libre Disposición",0,0,0,0,0,0]
["2. Ingresos Derivados de Financiamientos con Fuente de Pago de Transferencias Federales Etiquetadas",0,0,0,0,0,0]
["3. Ingresos Derivados de Financiamientos (3= 1 + 2)",{"$f":"B36+B35","v":0},{"$f":"C36+C35","v":0},0,0,0,{"$f":"G36+G35","v":0}]

{"sheet":"F07a","index":22,"n_rows":27,"n_cols":21,"rows_kept":27,"cut":false,"hidden":true,"merged":[]}
["CLAVE","N1","N2","N3","N4","N5","N6","N7","C  O  N  C  E  P  T  O  S",null,null,null,null,null,null,"AÑO_CUESTION_1","AÑO_CUESTION_2","AÑO_CUESTION_3","AÑO_CUESTION_4","AÑO_CUESTION_5","AÑO_CUESTION_6"]
[{"$f":"IF(LEN(CLEAN(B2))=0,\"0\",B2)&\",\"&IF(LEN(CLEAN(C2))=0,\"0\",C2)&\",\"&IF(LEN(CLEAN(D2))=0,\"0\",D2)&\",\"&IF(LEN(CLEAN(E2))=0,\"0\",E2)&\",\"&IF(LEN(CLEAN(F2))=0,\"0\",F2)&\",\"&IF(LEN(CLEAN(G2))=0,\"0\",G2)&\",\"&IF(LEN(CLEAN(H2))=0,\"0\",H2)","v":"7,1,1,0,0,0,0"},7,1,1,null,null,null,null,"Ingresos de Libre Disposición",null,null,null,null,null,null,{"$f":"'Formato 7 a)'!B8","v":0},{"$f":"'Formato 7 a)'!C8","v":0},{"$f":"'Formato 7 a)'!D8","v":0},{"$f":"'Formato 7 a)'!E8","v":0},{"$f":"'Formato 7 a)'!F8","v":0},{"$f":"'Formato 7 a)'!G8","v":0}]
[{"$f":"IF(LEN(CLEAN(B3))=0,\"0\",B3)&\",\"&IF(LEN(CLEAN(C3))=0,\"0\",C3)&\",\"&IF(LEN(CLEAN(D3))=0,\"0\",D3)&\",\"&IF(LEN(CLEAN(E3))=0,\"0\",E3)&\",\"&IF(LEN(CLEAN(F3))=0,\"0\",F3)&\",\"&IF(LEN(CLEAN(G3))=0,\"0\",G3)&\",\"&IF(LEN(CLEAN(H3))=0,\"0\",H3)","v":"7,1,1,1,0,0,0"},7,1,1,1,null,null,null,null,"Impuestos",null,null,null,null,null,{"$f":"'Formato 7 a)'!B9","v":0},{"$f":"'Formato 7 a)'!C9","v":0},{"$f":"'Formato 7 a)'!D9","v":0},{"$f":"'Formato 7 a)'!E9","v":0},{"$f":"'Formato 7 a)'!F9","v":0},{"$f":"'Formato 7 a)'!G9","v":0}]
["7,1,1,2,0,0,0",7,1,1,2,null,null,null,null,"Cuotas y Aportaciones de Seguridad Social",null,null,null,null,null,{"$f":"'Formato 7 a)'!B10","v":0},{"$f":"'Formato 7 a)'!C10","v":0},{"$f":"'Formato 7 a)'!D10","v":0},{"$f":"'Formato 7 a)'!E10","v":0},{"$f":"'Formato 7 a)'!F10","v":0},{"$f":"'Formato 7 a)'!G10","v":0}]
["7,1,1,3,0,0,0",7,1,1,3,null,null,null,null,"Contribuciones de Mejoras",null,null,null,null,null,{"$f":"'Formato 7 a)'!B11","v":0},{"$f":"'Formato 7 a)'!C11","v":0},{"$f":"'Formato 7 a)'!D11","v":0},{"$f":"'Formato 7 a)'!E11","v":0},{"$f":"'Formato 7 a)'!F11","v":0},{"$f":"'Formato 7 a)'!G11","v":0}]
["7,1,1,4,0,0,0",7,1,1,4,null,null,null,null,"Derechos ",null,null,null,null,null,{"$f":"'Formato 7 a)'!B12","v":0},{"$f":"'Formato 7 a)'!C12","v":0},{"$f":"'Formato 7 a)'!D12","v":0},{"$f":"'Formato 7 a)'!E12","v":0},{"$f":"'Formato 7 a)'!F12","v":0},{"$f":"'Formato 7 a)'!G12","v":0}]
["7,1,1,5,0,0,0",7,1,1,5,null,null,null,null,"Productos",null,null,null,null,null,{"$f":"'Formato 7 a)'!B13","v":0},{"$f":"'Formato 7 a)'!C13","v":0},{"$f":"'Formato 7 a)'!D13","v":0},{"$f":"'Formato 7 a)'!E13","v":0},{"$f":"'Formato 7 a)'!F13","v":0},{"$f":"'Formato 7 a)'!G13","v":0}]
["7,1,1,6,0,0,0",7,1,1,6,null,null,null,null,"Aprovechamientos",null,null,null,null,null,{"$f":"'Formato 7 a)'!B14","v":0},{"$f":"'Formato 7 a)'!C14","v":0},{"$f":"'Formato 7 a)'!D14","v":0},{"$f":"'Formato 7 a)'!E14","v":0},{"$f":"'Formato 7 a)'!F14","v":0},{"$f":"'Formato 7 a)'!G14","v":0}]
["7,1,1,7,0,0,0",7,1,1,7,null,null,null,null,"Ingresos por ventas de Bienes y Servicios",null,null,null,null,null,{"$f":"'Formato 7 a)'!B15","v":0},{"$f":"'Formato 7 a)'!C15","v":0},{"$f":"'Formato 7 a)'!D15","v":0},{"$f":"'Formato 7 a)'!E15","v":0},{"$f":"'Formato 7 a)'!F15","v":0},{"$f":"'Formato 7 a)'!G15","v":0}]
["7,1,1,8,0,0,0",7,1,1,8,null,null,null,null,"Participaciones",null,null,null,null,null,{"$f":"'Formato 7 a)'!B16","v":0},{"$f":"'Formato 7 a)'!C16","v":0},{"$f":"'Formato 7 a)'!D16","v":0},{"$f":"'Formato 7 a)'!E16","v":0},{"$f":"'Formato 7 a)'!F16","v":0},{"$f":"'Formato 7 a)'!G16","v":0}]
["7,1,1,9,0,0,0",7,1,1,9,null,null,null,null,"Incentivos Derivados de la Colaboración Fiscal",null,null,null,null,null,{"$f":"'Formato 7 a)'!B17","v":0},{"$f":"'Formato 7 a)'!C17","v":0},{"$f":"'Formato 7 a)'!D17","v":0},{"$f":"'Formato 7 a)'!E17","v":0},{"$f":"'Formato 7 a)'!F17","v":0},{"$f":"'Formato 7 a)'!G17","v":0}]
["7,1,1,10,0,0,0",7,1,1,10,null,null,null,null,"Transferencias",null,null,null,null,null,{"$f":"'Formato 7 a)'!B18","v":0},{"$f":"'Formato 7 a)'!C18","v":0},{"$f":"'Formato 7 a)'!D18","v":0},{"$f":"'Formato 7 a)'!E18","v":0},{"$f":"'Formato 7 a)'!F18","v":0},{"$f":"'Formato 7 a)'!G18","v":0}]
["7,1,1,11,0,0,0",7,1,1,11,null,null,null,null,"Convenios",null,null,null,null,null,{"$f":"'Formato 7 a)'!B19","v":0},{"$f":"'Formato 7 a)'!C19","v":0},{"$f":"'Formato 7 a)'!D19","v":0},{"$f":"'Formato 7 a)'!E19","v":0},{"$f":"'Formato 7 a)'!F19","v":0},{"$f":"'Formato 7 a)'!G19","v":0}]
["7,1,1,12,0,0,0",7,1,1,12,null,null,null,null,"Otros Ingresos de Libre Disposición",null,null,null,null,null,{"$f":"'Formato 7 a)'!B20","v":0},{"$f":"'Formato 7 a)'!C20","v":0},{"$f":"'Formato 7 a)'!D20","v":0},{"$f":"'Formato 7 a)'!E20","v":0},{"$f":"'Formato 7 a)'!F20","v":0},{"$f":"'Formato 7 a)'!G20","v":0}]
["7,1,2,0,0,0,0",7,1,2,null,null,null,null,"Transferencias Federales Etiquetadas",null,null,null,null,null,null,{"$f":"'Formato 7 a)'!B22","v":0},{"$f":"'Formato 7 a)'!C22","v":0},{"$f":"'Formato 7 a)'!D22","v":0},{"$f":"'Formato 7 a)'!E22","v":0},{"$f":"'Formato 7 a)'!F22","v":0},{"$f":"'Formato 7 a)'!G22","v":0}]
["7,1,2,1,0,0,0",7,1,2,1,null,null,null,null,"Aportaciones",null,null,null,null,null,{"$f":"'Formato 7 a)'!B23","v":0},{"$f":"'Formato 7 a)'!C23","v":0},{"$f":"'Formato 7 a)'!D23","v":0},{"$f":"'Formato 7 a)'!E23","v":0},{"$f":"'Formato 7 a)'!F23","v":0},{"$f":"'Formato 7 a)'!G23","v":0}]
["7,1,2,2,0,0,0",7,1,2,2,null,null,null,null,"Convenios",null,null,null,null,null,{"$f":"'Formato 7 a)'!B24","v":0},{"$f":"'Formato 7 a)'!C24","v":0},{"$f":"'Formato 7 a)'!D24","v":0},{"$f":"'Formato 7 a)'!E24","v":0},{"$f":"'Formato 7 a)'!F24","v":0},{"$f":"'Formato 7 a)'!G24","v":0}]
["7,1,2,3,0,0,0",7,1,2,3,null,null,null,null,"Fondos Distintos de Aportaciones",null,null,null,null,null,{"$f":"'Formato 7 a)'!B25","v":0},{"$f":"'Formato 7 a)'!C25","v":0},{"$f":"'Formato 7 a)'!D25","v":0},{"$f":"'Formato 7 a)'!E25","v":0},{"$f":"'Formato 7 a)'!F25","v":0},{"$f":"'Formato 7 a)'!G25","v":0}]
["7,1,2,4,0,0,0",7,1,2,4,null,null,null,null,"Transferencias, Subsidios y Subvenciones, y Pensiones y Jubilaciones",null,null,null,null,null,{"$f":"'Formato 7 a)'!B26","v":0},{"$f":"'Formato 7 a)'!C26","v":0},{"$f":"'Formato 7 a)'!D26","v":0},{"$f":"'Formato 7 a)'!E26","v":0},{"$f":"'Formato 7 a)'!F26","v":0},{"$f":"'Formato 7 a)'!G26","v":0}]
["7,1,2,5,0,0,0",7,1,2,5,null,null,null,null,"Otras Transferencias Federales Etiquetadas",null,null,null,null,null,{"$f":"'Formato 7 a)'!B27","v":0},{"$f":"'Formato 7 a)'!C27","v":0},{"$f":"'Formato 7 a)'!D27","v":0},{"$f":"'Formato 7 a)'!E27","v":0},{"$f":"'Formato 7 a)'!F27","v":0},{"$f":"'Formato 7 a)'!G27","v":0}]
["7,1,3,0,0,0,0",7,1,3,null,null,null,null,"Ingresos Derivados de Financiamientos",null,null,null,null,null,null,{"$f":"'Formato 7 a)'!B29","v":0},{"$f":"'Formato 7 a)'!C29","v":0},{"$f":"'Formato 7 a)'!D29","v":0},{"$f":"'Formato 7 a)'!E29","v":0},{"$f":"'Formato 7 a)'!F29","v":0},{"$f":"'Formato 7 a)'!G29","v":0}]
["7,1,3,1,0,0,0",7,1,3,1,null,null,null,null,"Ingresos Derivados de Financiamientos",null,null,null,null,null,{"$f":"'Formato 7 a)'!B30","v":0},{"$f":"'Formato 7 a)'!C30","v":0},{"$f":"'Formato 7 a)'!D30","v":0},{"$f":"'Formato 7 a)'!E30","v":0},{"$f":"'Formato 7 a)'!F30","v":0},{"$f":"'Formato 7 a)'!G30","v":0}]
["7,1,4,0,0,0,0",7,1,4,null,null,null,null,"Total de Ingresos Proyectados",null,null,null,null,null,null,{"$f":"'Formato 7 a)'!B32","v":0},{"$f":"'Formato 7 a)'!C32","v":0},{"$f":"'Formato 7 a)'!D32","v":0},{"$f":"'Formato 7 a)'!E32","v":0},{"$f":"'Formato 7 a)'!F32","v":0},{"$f":"'Formato 7 a)'!G32","v":0}]
["7,1,5,0,0,0,0",7,1,5,null,null,null,null,"Datos Informativos"]
["7,1,0,1,0,0,0",7,1,null,1,null,null,null,null,"Ingresos Derivados de Financiamientos con Fuente de Pago de Recursos de Libre Disposición",null,null,null,null,null,{"$f":"'Formato 7 a)'!B35","v":0},{"$f":"'Formato 7 a)'!C35","v":0},{"$f":"'Formato 7 a)'!D35","v":0},{"$f":"'Formato 7 a)'!E35","v":0},{"$f":"'Formato 7 a)'!F35","v":0},{"$f":"'Formato 7 a)'!G35","v":0}]
["7,1,0,2,0,0,0",7,1,null,2,null,null,null,null,"Ingresos Derivados de Financiamientos con Fuente de Pago de Transferencias Federales Etiquetadas",null,null,null,null,null,{"$f":"'Formato 7 a)'!B36","v":0},{"$f":"'Formato 7 a)'!C36","v":0},{"$f":"'Formato 7 a)'!D36","v":0},{"$f":"'Formato 7 a)'!E36","v":0},{"$f":"'Formato 7 a)'!F36","v":0},{"$f":"'Formato 7 a)'!G36","v":0}]
["7,1,0,3,0,0,0",7,1,null,3,null,null,null,null,"Ingresos Derivados de Financiamientos",null,null,null,null,null,{"$f":"'Formato 7 a)'!B37","v":0},{"$f":"'Formato 7 a)'!C37","v":0},{"$f":"'Formato 7 a)'!D37","v":0},{"$f":"'Formato 7 a)'!E37","v":0},{"$f":"'Formato 7 a)'!F37","v":0},{"$f":"'Formato 7 a)'!G37","v":0}]

{"sheet":"Formato 7 b)","index":23,"n_rows":30,"n_cols":7,"rows_kept":30,"cut":false,"hidden":false,"merged":[[0,0,0,6],[1,0,1,6],[2,0,2,6],[3,0,3,6],[4,0,4,6],[5,6,6,6],[5,0,6,0],[5,2,6,2],[5,3,6,3],[5,4,6,4],[5,5,6,5]]}
["Formato 7 b) Proyecciones de Egresos - LDF"]
[{"$f":"ENTIDAD","v":"Municipio de Valle de Santiago, Gobierno del Estado de Guanajuato"}]
["Proyecciones de Egresos - LDF"]
["(PESOS)"]
["(CIFRAS NOMINALES)"]
["        Concepto (b)",{"$f":"ANIO1P","v":2023},{"$f":"ANIO2P","v":"2024 (d)"},{"$f":"ANIO3P","v":"2025 (d)"},{"$f":"ANIO4P","v":"2026 (d)"},{"$f":"ANIO5P","v":"2027 (d)"},{"$f":"ANIO6P","v":"2028 (d)"}]
[null,"Año en Cuestión\n(de proyecto de presupuesto) (c)"]
["1.  Gasto No Etiquetado (1=A+B+C+D+E+F+G+H+I)",{"$f":"SUM(B9:B17)","v":0},{"$f":"SUM(C9:C17)","v":0},0,0,0,{"$f":"SUM(G9:G17)","v":0}]
["A.     Servicios Personales",0,0,0,0,0,0]
["B.     Materiales y Suministros",0,0,0,0,0,0]
["C.    Servicios Generales",0,0,0,0,0,0]
["D.    Transferencias, Asignaciones, Subsidios y Otras Ayudas",0,0,0,0,0,0]
["E.     Bienes Muebles, Inmuebles e Intangibles",0,0,0,0,0,0]
["F.     Inversión Pública",0,0,0,0,0,0]
["G.    Inversiones Financieras y Otras Provisiones",0,0,0,0,0,0]
["H.    Participaciones y Aportaciones ",0,0,0,0,0,0]
["I.      Deuda Pública",0,0,0,0,0,0]
[]
["1.  Gasto Etiquetado (2=A+B+C+D+E+F+G+H+I)",{"$f":"SUM(B20:B28)","v":0},{"$f":"SUM(C20:C28)","v":0},0,0,0,{"$f":"SUM(G20:G28)","v":0}]
["A.     Servicios Personales",0,0,0,0,0,0]
["B.     Materiales y Suministros",0,0,0,0,0,0]
["C.    Servicios Generales",0,0,0,0,0,0]
["D.    Transferencias, Asignaciones, Subsidios y Otras Ayudas",0,0,0,0,0,0]
["E.     Bienes Muebles, Inmuebles e Intangibles",0,0,0,0,0,0]
["F.     Inversión Pública",0,0,0,0,0,0]
["G.    Inversiones Financieras y Otras Provisiones",0,0,0,0,0,0]
["H.    Participaciones y Aportaciones",0,0,0,0,0,0]
["I.      Deuda Pública",0,0,0,0,0,0]
[]
["2.  Total de Egresos Proyectados (3 = 1 + 2)",{"$f":"B8+B19","v":0},{"$f":"C8+C19","v":0},0,0,0,{"$f":"G8+G19","v":0}]

{"sheet":"F07b","index":24,"n_rows":22,"n_cols":21,"rows_kept":22,"cut":false,"hidden":true,"merged":[]}
["CLAVE","N1","N2","N3","N4","N5","N6","N7","C  O  N  C  E  P  T  O  S",null,null,null,null,null,null,"AÑO_CUESTION_1","AÑO_CUESTION_2","AÑO_CUESTION_3","AÑO_CUESTION_4","AÑO_CUESTION_5","AÑO_CUESTION_6"]
[{"$f":"IF(LEN(CLEAN(B2))=0,\"0\",B2)&\",\"&IF(LEN(CLEAN(C2))=0,\"0\",C2)&\",\"&IF(LEN(CLEAN(D2))=0,\"0\",D2)&\",\"&IF(LEN(CLEAN(E2))=0,\"0\",E2)&\",\"&IF(LEN(CLEAN(F2))=0,\"0\",F2)&\",\"&IF(LEN(CLEAN(G2))=0,\"0\",G2)&\",\"&IF(LEN(CLEAN(H2))=0,\"0\",H2)","v":"7,2,1,0,0,0,0"},7,2,1,null,null,null,null,"Gasto No Etiquetado",null,null,null,null,null,null,{"$f":"'Formato 7 b)'!B8","v":0},{"$f":"'Formato 7 b)'!C8","v":0},{"$f":"'Formato 7 b)'!D8","v":0},{"$f":"'Formato 7 b)'!E8","v":0},{"$f":"'Formato 7 b)'!F8","v":0},{"$f":"'Formato 7 b)'!G8","v":0}]
[{"$f":"IF(LEN(CLEAN(B3))=0,\"0\",B3)&\",\"&IF(LEN(CLEAN(C3))=0,\"0\",C3)&\",\"&IF(LEN(CLEAN(D3))=0,\"0\",D3)&\",\"&IF(LEN(CLEAN(E3))=0,\"0\",E3)&\",\"&IF(LEN(CLEAN(F3))=0,\"0\",F3)&\",\"&IF(LEN(CLEAN(G3))=0,\"0\",G3)&\",\"&IF(LEN(CLEAN(H3))=0,\"0\",H3)","v":"7,2,1,1,0,0,0"},7,2,1,1,null,null,null,null,"Servicios Personales",null,null,null,null,null,{"$f":"'Formato 7 b)'!B9","v":0},{"$f":"'Formato 7 b)'!C9","v":0},{"$f":"'Formato 7 b)'!D9","v":0},{"$f":"'Formato 7 b)'!E9","v":0},{"$f":"'Formato 7 b)'!F9","v":0},{"$f":"'Formato 7 b)'!G9","v":0}]
["7,2,1,2,0,0,0",7,2,1,2,null,null,null,null,"Materiales y Suministros",null,null,null,null,null,{"$f":"'Formato 7 b)'!B10","v":0},{"$f":"'Formato 7 b)'!C10","v":0},{"$f":"'Formato 7 b)'!D10","v":0},{"$f":"'Formato 7 b)'!E10","v":0},{"$f":"'Formato 7 b)'!F10","v":0},{"$f":"'Formato 7 b)'!G10","v":0}]
["7,2,1,3,0,0,0",7,2,1,3,null,null,null,null,"Servicios Generales",null,null,null,null,null,{"$f":"'Formato 7 b)'!B11","v":0},{"$f":"'Formato 7 b)'!C11","v":0},{"$f":"'Formato 7 b)'!D11","v":0},{"$f":"'Formato 7 b)'!E11","v":0},{"$f":"'Formato 7 b)'!F11","v":0},{"$f":"'Formato 7 b)'!G11","v":0}]
["7,2,1,4,0,0,0",7,2,1,4,null,null,null,null,"Transferencias, Asignaciones, Subsidios y Otras Ayudas",null,null,null,null,null,{"$f":"'Formato 7 b)'!B12","v":0},{"$f":"'Formato 7 b)'!C12","v":0},{"$f":"'Formato 7 b)'!D12","v":0},{"$f":"'Formato 7 b)'!E12","v":0},{"$f":"'Formato 7 b)'!F12","v":0},{"$f":"'Formato 7 b)'!G12","v":0}]
["7,2,1,5,0,0,0",7,2,1,5,null,null,null,null,"Bienes Muebles, Inmuebles e Intangibles",null,null,null,null,null,{"$f":"'Formato 7 b)'!B13","v":0},{"$f":"'Formato 7 b)'!C13","v":0},{"$f":"'Formato 7 b)'!D13","v":0},{"$f":"'Formato 7 b)'!E13","v":0},{"$f":"'Formato 7 b)'!F13","v":0},{"$f":"'Formato 7 b)'!G13","v":0}]
["7,2,1,6,0,0,0",7,2,1,6,null,null,null,null,"Inversión Pública",null,null,null,null,null,{"$f":"'Formato 7 b)'!B14","v":0},{"$f":"'Formato 7 b)'!C14","v":0},{"$f":"'Formato 7 b)'!D14","v":0},{"$f":"'Formato 7 b)'!E14","v":0},{"$f":"'Formato 7 b)'!F14","v":0},{"$f":"'Formato 7 b)'!G14","v":0}]
["7,2,1,7,0,0,0",7,2,1,7,null,null,null,null,"Inversiones Financieras y Otras Provisiones",null,null,null,null,null,{"$f":"'Formato 7 b)'!B15","v":0},{"$f":"'Formato 7 b)'!C15","v":0},{"$f":"'Formato 7 b)'!D15","v":0},{"$f":"'Formato 7 b)'!E15","v":0},{"$f":"'Formato 7 b)'!F15","v":0},{"$f":"'Formato 7 b)'!G15","v":0}]
["7,2,1,8,0,0,0",7,2,1,8,null,null,null,null,"Participaciones y Aportaciones ",null,null,null,null,null,{"$f":"'Formato 7 b)'!B16","v":0},{"$f":"'Formato 7 b)'!C16","v":0},{"$f":"'Formato 7 b)'!D16","v":0},{"$f":"'Formato 7 b)'!E16","v":0},{"$f":"'Formato 7 b)'!F16","v":0},{"$f":"'Formato 7 b)'!G16","v":0}]
["7,2,1,9,0,0,0",7,2,1,9,null,null,null,null,"Deuda Pública",null,null,null,null,null,{"$f":"'Formato 7 b)'!B17","v":0},{"$f":"'Formato 7 b)'!C17","v":0},{"$f":"'Formato 7 b)'!D17","v":0},{"$f":"'Formato 7 b)'!E17","v":0},{"$f":"'Formato 7 b)'!F17","v":0},{"$f":"'Formato 7 b)'!G17","v":0}]
["7,2,2,0,0,0,0",7,2,2,null,null,null,null,"Gasto Etiquetado",null,null,null,null,null,null,{"$f":"'Formato 7 b)'!B19","v":0},{"$f":"'Formato 7 b)'!C19","v":0},{"$f":"'Formato 7 b)'!D19","v":0},{"$f":"'Formato 7 b)'!E19","v":0},{"$f":"'Formato 7 b)'!F19","v":0},{"$f":"'Formato 7 b)'!G19","v":0}]
["7,2,2,1,0,0,0",7,2,2,1,null,null,null,null,"Servicios Personales",null,null,null,null,null,{"$f":"'Formato 7 b)'!B20","v":0},{"$f":"'Formato 7 b)'!C20","v":0},{"$f":"'Formato 7 b)'!D20","v":0},{"$f":"'Formato 7 b)'!E20","v":0},{"$f":"'Formato 7 b)'!F20","v":0},{"$f":"'Formato 7 b)'!G20","v":0}]
["7,2,2,2,0,0,0",7,2,2,2,null,null,null,null,"Materiales y Suministros",null,null,null,null,null,{"$f":"'Formato 7 b)'!B21","v":0},{"$f":"'Formato 7 b)'!C21","v":0},{"$f":"'Formato 7 b)'!D21","v":0},{"$f":"'Formato 7 b)'!E21","v":0},{"$f":"'Formato 7 b)'!F21","v":0},{"$f":"'Formato 7 b)'!G21","v":0}]
["7,2,2,3,0,0,0",7,2,2,3,null,null,null,null,"Servicios Generales",null,null,null,null,null,{"$f":"'Formato 7 b)'!B22","v":0},{"$f":"'Formato 7 b)'!C22","v":0},{"$f":"'Formato 7 b)'!D22","v":0},{"$f":"'Formato 7 b)'!E22","v":0},{"$f":"'Formato 7 b)'!F22","v":0},{"$f":"'Formato 7 b)'!G22","v":0}]
["7,2,2,4,0,0,0",7,2,2,4,null,null,null,null,"Transferencias, Asignaciones, Subsidios y Otras Ayudas",null,null,null,null,null,{"$f":"'Formato 7 b)'!B23","v":0},{"$f":"'Formato 7 b)'!C23","v":0},{"$f":"'Formato 7 b)'!D23","v":0},{"$f":"'Formato 7 b)'!E23","v":0},{"$f":"'Formato 7 b)'!F23","v":0},{"$f":"'Formato 7 b)'!G23","v":0}]
["7,2,2,5,0,0,0",7,2,2,5,null,null,null,null,"Bienes Muebles, Inmuebles e Intangibles",null,null,null,null,null,{"$f":"'Formato 7 b)'!B24","v":0},{"$f":"'Formato 7 b)'!C24","v":0},{"$f":"'Formato 7 b)'!D24","v":0},{"$f":"'Formato 7 b)'!E24","v":0},{"$f":"'Formato 7 b)'!F24","v":0},{"$f":"'Formato 7 b)'!G24","v":0}]
["7,2,2,6,0,0,0",7,2,2,6,null,null,null,null,"Inversión Pública",null,null,null,null,null,{"$f":"'Formato 7 b)'!B25","v":0},{"$f":"'Formato 7 b)'!C25","v":0},{"$f":"'Formato 7 b)'!D25","v":0},{"$f":"'Formato 7 b)'!E25","v":0},{"$f":"'Formato 7 b)'!F25","v":0},{"$f":"'Formato 7 b)'!G25","v":0}]
["7,2,2,7,0,0,0",7,2,2,7,null,null,null,null,"Inversiones Financieras y Otras Provisiones",null,null,null,null,null,{"$f":"'Formato 7 b)'!B26","v":0},{"$f":"'Formato 7 b)'!C26","v":0},{"$f":"'Formato 7 b)'!D26","v":0},{"$f":"'Formato 7 b)'!E26","v":0},{"$f":"'Formato 7 b)'!F26","v":0},{"$f":"'Formato 7 b)'!G26","v":0}]
["7,2,2,8,0,0,0",7,2,2,8,null,null,null,null,"Participaciones y Aportaciones",null,null,null,null,null,{"$f":"'Formato 7 b)'!B27","v":0},{"$f":"'Formato 7 b)'!C27","v":0},{"$f":"'Formato 7 b)'!D27","v":0},{"$f":"'Formato 7 b)'!E27","v":0},{"$f":"'Formato 7 b)'!F27","v":0},{"$f":"'Formato 7 b)'!G27","v":0}]
["7,2,2,9,0,0,0",7,2,2,9,null,null,null,null,"Deuda Pública",null,null,null,null,null,{"$f":"'Formato 7 b)'!B28","v":0},{"$f":"'Formato 7 b)'!C28","v":0},{"$f":"'Formato 7 b)'!D28","v":0},{"$f":"'Formato 7 b)'!E28","v":0},{"$f":"'Formato 7 b)'!F28","v":0},{"$f":"'Formato 7 b)'!G28","v":0}]
["7,2,3,0,0,0,0",7,2,3,null,null,null,null,"Total de Egresos Proyectados",null,null,null,null,null,null,{"$f":"'Formato 7 b)'!B30","v":0},{"$f":"'Formato 7 b)'!C30","v":0},{"$f":"'Formato 7 b)'!D30","v":0},{"$f":"'Formato 7 b)'!E30","v":0},{"$f":"'Formato 7 b)'!F30","v":0},{"$f":"'Formato 7 b)'!G30","v":0}]

{"sheet":"Formato 7 c)","index":25,"n_rows":40,"n_cols":7,"rows_kept":40,"cut":false,"hidden":false,"merged":[[39,0,39,6],[0,0,0,6],[1,0,1,6],[2,0,2,6],[3,0,3,6],[38,0,38,6],[4,5,5,5],[4,4,5,4],[4,3,5,3],[4,2,5,2],[4,1,5,1],[4,0,5,0]]}
["Formato 7 c) Resultados de Ingresos - LDF"]
[{"$f":"ENTIDAD","v":"Municipio de Valle de Santiago, Gobierno del Estado de Guanajuato"}]
["Resultados de Ingresos - LDF"]
["(PESOS)"]
["Concepto (b)",{"$f":"ANIO5R","v":"2017 ¹ (c)"},{"$f":"ANIO4R","v":"2018 ¹ (c)"},{"$f":"ANIO3R","v":"2019 ¹ (c)"},{"$f":"ANIO2R","v":"2020 ¹ (c)"},{"$f":"ANIO1R","v":"2021 ¹ (c)"},2021]
[null,null,null,null,null,null,"Año del Ejercicio\nVigente 2 (d)"]
["1.  Ingresos de Libre Disposición (1=A+B+C+D+E+F+G+H+I+J+K+L)",{"$f":"SUM(B8:B19)","v":0},{"$f":"SUM(C8:C19)","v":0},0,0,0,0]
["A.    Impuestos",0,0,0,0,0,0]
["B.    Cuotas y Aportaciones de Seguridad Social",0,0,0,0,0,0]
["C.    Contribuciones de Mejoras",0,0,0,0,0,0]
["D.    Derechos",0,0,0,0,0,0]
["E.    Productos",0,0,0,0,0,0]
["F.    Aprovechamientos",0,0,0,0,0,0]
["G.    Ingresos por Ventas de Bienes y Servicios",0,0,0,0,0,0]
["H.    Participaciones",0,0,0,0,0,0]
["I.     Incentivos Derivados de la Colaboración Fiscal",0,0,0,0,0,0]
["J.    Transferencias ",0,0,0,0,{"$f":"'[1]Formato 5'!D34","v":0},0]
["K.    Convenios",0,0,0,0,0,0]
["L.     Otros Ingresos de Libre Disposición",0,0,0,0,0,0]
[]
["2.  Transferencias Federales Etiquetadas (2=A+B+C+D+E)",{"$f":"SUM(B22:B26)","v":0},{"$f":"SUM(C22:C26)","v":0},{"$f":"SUM(D22:D26)","v":0},0,0,0]
["A.    Aportaciones",0,0,0,0,0,0]
["B.    Convenios",0,0,0,0,0,0]
["C.    Fondos Distintos de Aportaciones",0,0,0,0,0,0]
["D.    Transferencias, Subsidios y Subvenciones, y Pensiones y Jubilaciones",0,0,0,0,0,0]
["E.    Otras Transferencias Federales Etiquetadas",0,0,0,0,0,0]
[]
["3.  Ingresos Derivados de Financiamientos (3=A)",{"$f":"B29","v":0},{"$f":"C29","v":0},0,0,0,0]
["A. Ingresos Derivados de Financiamientos",0,0,0,0,0,0]
[]
["4.  Total de Resultados de Ingresos (4=1+2+3)",{"$f":"B7+B21+B28","v":0},0,0,0,0,0]
[]
["Datos Informativos"]
["1. Ingresos Derivados de Financiamientos con Fuente de Pago de Recursos de Libre Disposición",0,0,0,0,0,0]
["2. Ingresos derivados de Financiamientos con Fuente de Pago de Transferencias Federales Etiquetadas",0,0,0,0,0,0]
["3. Ingresos Derivados de Financiamiento (3 = 1 + 2)",{"$f":"B34+B35","v":0},0,0,0,0,0]
[]
[]
["1 Los importes corresponden al momento contable de los ingresos devengados."]
["2 Los importes corresponden a los ingresos devengados al cierre trimestral más reciente disponible y estimados para el resto del ejercicio."]

{"sheet":"F07c","index":26,"n_rows":27,"n_cols":21,"rows_kept":27,"cut":false,"hidden":true,"merged":[]}
["CLAVE","N1","N2","N3","N4","N5","N6","N7","C  O  N  C  E  P  T  O  S",null,null,null,null,null,null,"AÑO_CUESTION_5","AÑO_CUESTION_4","AÑO_CUESTION_3","AÑO_CUESTION_2","AÑO_CUESTION_1","AÑO_CUESTION"]
[{"$f":"IF(LEN(CLEAN(B2))=0,\"0\",B2)&\",\"&IF(LEN(CLEAN(C2))=0,\"0\",C2)&\",\"&IF(LEN(CLEAN(D2))=0,\"0\",D2)&\",\"&IF(LEN(CLEAN(E2))=0,\"0\",E2)&\",\"&IF(LEN(CLEAN(F2))=0,\"0\",F2)&\",\"&IF(LEN(CLEAN(G2))=0,\"0\",G2)&\",\"&IF(LEN(CLEAN(H2))=0,\"0\",H2)","v":"7,3,1,0,0,0,0"},7,3,1,null,null,null,null,"Ingresos de Libre Disposición",null,null,null,null,null,null,{"$f":"'Formato 7 c)'!B7","v":0},{"$f":"'Formato 7 c)'!C7","v":0},{"$f":"'Formato 7 c)'!D7","v":0},{"$f":"'Formato 7 c)'!E7","v":0},{"$f":"'Formato 7 c)'!F7","v":0},{"$f":"'Formato 7 c)'!G7","v":0}]
[{"$f":"IF(LEN(CLEAN(B3))=0,\"0\",B3)&\",\"&IF(LEN(CLEAN(C3))=0,\"0\",C3)&\",\"&IF(LEN(CLEAN(D3))=0,\"0\",D3)&\",\"&IF(LEN(CLEAN(E3))=0,\"0\",E3)&\",\"&IF(LEN(CLEAN(F3))=0,\"0\",F3)&\",\"&IF(LEN(CLEAN(G3))=0,\"0\",G3)&\",\"&IF(LEN(CLEAN(H3))=0,\"0\",H3)","v":"7,3,1,0,0,0,0"},7,3,1,null,null,null,null,null,"Impuestos",null,null,null,null,null,{"$f":"'Formato 7 c)'!B8","v":0},{"$f":"'Formato 7 c)'!C8","v":0},{"$f":"'Formato 7 c)'!D8","v":0},{"$f":"'Formato 7 c)'!E8","v":0},{"$f":"'Formato 7 c)'!F8","v":0},{"$f":"'Formato 7 c)'!G8","v":0}]
["7,3,1,0,0,0,0",7,3,1,null,null,null,null,null,"Cuotas y Aportaciones de Seguridad Social",null,null,null,null,null,{"$f":"'Formato 7 c)'!B9","v":0},{"$f":"'Formato 7 c)'!C9","v":0},{"$f":"'Formato 7 c)'!D9","v":0},{"$f":"'Formato 7 c)'!E9","v":0},{"$f":"'Formato 7 c)'!F9","v":0},{"$f":"'Formato 7 c)'!G9","v":0}]
["7,3,1,0,0,0,0",7,3,1,null,null,null,null,null,"Contribuciones de Mejoras",null,null,null,null,null,{"$f":"'Formato 7 c)'!B10","v":0},{"$f":"'Formato 7 c)'!C10","v":0},{"$f":"'Formato 7 c)'!D10","v":0},{"$f":"'Formato 7 c)'!E10","v":0},{"$f":"'Formato 7 c)'!F10","v":0},{"$f":"'Formato 7 c)'!G10","v":0}]
["7,3,1,0,0,0,0",7,3,1,null,null,null,null,null,"Derechos",null,null,null,null,null,{"$f":"'Formato 7 c)'!B11","v":0},{"$f":"'Formato 7 c)'!C11","v":0},{"$f":"'Formato 7 c)'!D11","v":0},{"$f":"'Formato 7 c)'!E11","v":0},{"$f":"'Formato 7 c)'!F11","v":0},{"$f":"'Formato 7 c)'!G11","v":0}]
["7,3,1,0,0,0,0",7,3,1,null,null,null,null,null,"Productos",null,null,null,null,null,{"$f":"'Formato 7 c)'!B12","v":0},{"$f":"'Formato 7 c)'!C12","v":0},{"$f":"'Formato 7 c)'!D12","v":0},{"$f":"'Formato 7 c)'!E12","v":0},{"$f":"'Formato 7 c)'!F12","v":0},{"$f":"'Formato 7 c)'!G12","v":0}]
["7,3,1,0,0,0,0",7,3,1,null,null,null,null,null,"Aprovechamientos",null,null,null,null,null,{"$f":"'Formato 7 c)'!B13","v":0},{"$f":"'Formato 7 c)'!C13","v":0},{"$f":"'Formato 7 c)'!D13","v":0},{"$f":"'Formato 7 c)'!E13","v":0},{"$f":"'Formato 7 c)'!F13","v":0},{"$f":"'Formato 7 c)'!G13","v":0}]
["7,3,1,0,0,0,0",7,3,1,null,null,null,null,null,"Ingresos por Ventas de Bienes y Servicios",null,null,null,null,null,{"$f":"'Formato 7 c)'!B14","v":0},{"$f":"'Formato 7 c)'!C14","v":0},{"$f":"'Formato 7 c)'!D14","v":0},{"$f":"'Formato 7 c)'!E14","v":0},{"$f":"'Formato 7 c)'!F14","v":0},{"$f":"'Formato 7 c)'!G14","v":0}]
["7,3,1,0,0,0,0",7,3,1,null,null,null,null,null,"Participaciones",null,null,null,null,null,{"$f":"'Formato 7 c)'!B15","v":0},{"$f":"'Formato 7 c)'!C15","v":0},{"$f":"'Formato 7 c)'!D15","v":0},{"$f":"'Formato 7 c)'!E15","v":0},{"$f":"'Formato 7 c)'!F15","v":0},{"$f":"'Formato 7 c)'!G15","v":0}]
["7,3,1,0,0,0,0",7,3,1,null,null,null,null,null,"Incentivos Derivados de la Colaboración Fiscal",null,null,null,null,null,{"$f":"'Formato 7 c)'!B16","v":0},{"$f":"'Formato 7 c)'!C16","v":0},{"$f":"'Formato 7 c)'!D16","v":0},{"$f":"'Formato 7 c)'!E16","v":0},{"$f":"'Formato 7 c)'!F16","v":0},{"$f":"'Formato 7 c)'!G16","v":0}]
["7,3,1,0,0,0,0",7,3,1,null,null,null,null,null,"Transferencias ",null,null,null,null,null,{"$f":"'Formato 7 c)'!B17","v":0},{"$f":"'Formato 7 c)'!C17","v":0},{"$f":"'Formato 7 c)'!D17","v":0},{"$f":"'Formato 7 c)'!E17","v":0},{"$f":"'Formato 7 c)'!F17","v":0},{"$f":"'Formato 7 c)'!G17","v":0}]
["7,3,1,0,0,0,0",7,3,1,null,null,null,null,null,"Convenios",null,null,null,null,null,{"$f":"'Formato 7 c)'!B18","v":0},{"$f":"'Formato 7 c)'!C18","v":0},{"$f":"'Formato 7 c)'!D18","v":0},{"$f":"'Formato 7 c)'!E18","v":0},{"$f":"'Formato 7 c)'!F18","v":0},{"$f":"'Formato 7 c)'!G18","v":0}]
["7,3,1,0,0,0,0",7,3,1,null,null,null,null,null,"Otros Ingresos de Libre Disposición",null,null,null,null,null,{"$f":"'Formato 7 c)'!B19","v":0},{"$f":"'Formato 7 c)'!C19","v":0},{"$f":"'Formato 7 c)'!D19","v":0},{"$f":"'Formato 7 c)'!E19","v":0},{"$f":"'Formato 7 c)'!F19","v":0},{"$f":"'Formato 7 c)'!G19","v":0}]
["7,3,2,0,0,0,0",7,3,2,null,null,null,null,"Transferencias Federales Etiquetadas",null,null,null,null,null,null,{"$f":"'Formato 7 c)'!B21","v":0},{"$f":"'Formato 7 c)'!C21","v":0},{"$f":"'Formato 7 c)'!D21","v":0},{"$f":"'Formato 7 c)'!E21","v":0},{"$f":"'Formato 7 c)'!F21","v":0},{"$f":"'Formato 7 c)'!G21","v":0}]
["7,3,2,0,0,0,0",7,3,2,null,null,null,null,null,"Aportaciones",null,null,null,null,null,{"$f":"'Formato 7 c)'!B22","v":0},{"$f":"'Formato 7 c)'!C22","v":0},{"$f":"'Formato 7 c)'!D22","v":0},{"$f":"'Formato 7 c)'!E22","v":0},{"$f":"'Formato 7 c)'!F22","v":0},{"$f":"'Formato 7 c)'!G22","v":0}]
["7,3,2,0,0,0,0",7,3,2,null,null,null,null,null,"Convenios",null,null,null,null,null,{"$f":"'Formato 7 c)'!B23","v":0},{"$f":"'Formato 7 c)'!C23","v":0},{"$f":"'Formato 7 c)'!D23","v":0},{"$f":"'Formato 7 c)'!E23","v":0},{"$f":"'Formato 7 c)'!F23","v":0},{"$f":"'Formato 7 c)'!G23","v":0}]
["7,3,2,0,0,0,0",7,3,2,null,null,null,null,null,"Fondos Distintos de Aportaciones",null,null,null,null,null,{"$f":"'Formato 7 c)'!B24","v":0},{"$f":"'Formato 7 c)'!C24","v":0},{"$f":"'Formato 7 c)'!D24","v":0},{"$f":"'Formato 7 c)'!E24","v":0},{"$f":"'Formato 7 c)'!F24","v":0},{"$f":"'Formato 7 c)'!G24","v":0}]
["7,3,2,0,0,0,0",7,3,2,null,null,null,null,null,"Transferencias, Subsidios y Subvenciones, y Pensiones y Jubilaciones",null,null,null,null,null,{"$f":"'Formato 7 c)'!B25","v":0},{"$f":"'Formato 7 c)'!C25","v":0},{"$f":"'Formato 7 c)'!D25","v":0},{"$f":"'Formato 7 c)'!E25","v":0},{"$f":"'Formato 7 c)'!F25","v":0},{"$f":"'Formato 7 c)'!G25","v":0}]
["7,3,2,0,0,0,0",7,3,2,null,null,null,null,null,"Otras Transferencias Federales Etiquetadas",null,null,null,null,null,{"$f":"'Formato 7 c)'!B26","v":0},{"$f":"'Formato 7 c)'!C26","v":0},{"$f":"'Formato 7 c)'!D26","v":0},{"$f":"'Formato 7 c)'!E26","v":0},{"$f":"'Formato 7 c)'!F26","v":0},{"$f":"'Formato 7 c)'!G26","v":0}]
["7,3,3,0,0,0,0",7,3,3,null,null,null,null,"Ingresos Derivados de Financiamientos",null,null,null,null,null,null,{"$f":"'Formato 7 c)'!B28","v":0},{"$f":"'Formato 7 c)'!C28","v":0},{"$f":"'Formato 7 c)'!D28","v":0},{"$f":"'Formato 7 c)'!E28","v":0},{"$f":"'Formato 7 c)'!F28","v":0},{"$f":"'Formato 7 c)'!G28","v":0}]
["7,3,3,0,0,0,0",7,3,3,null,null,null,null,null,"Ingresos Derivados de Financiamientos",null,null,null,null,null,{"$f":"'Formato 7 c)'!B29","v":0},{"$f":"'Formato 7 c)'!C29","v":0},{"$f":"'Formato 7 c)'!D29","v":0},{"$f":"'Formato 7 c)'!E29","v":0},{"$f":"'Formato 7 c)'!F29","v":0},{"$f":"'Formato 7 c)'!G29","v":0}]
["7,3,4,0,0,0,0",7,3,4,null,null,null,null,"Total de Resultados de Ingresos",null,null,null,null,null,null,{"$f":"'Formato 7 c)'!B31","v":0},{"$f":"'Formato 7 c)'!C31","v":0},{"$f":"'Formato 7 c)'!D31","v":0},{"$f":"'Formato 7 c)'!E31","v":0},{"$f":"'Formato 7 c)'!F31","v":0},{"$f":"'Formato 7 c)'!G31","v":0}]
["7,3,5,0,0,0,0",7,3,5,null,null,null,null,"Datos Informativos",null,null,null,null,null,null,{"$f":"'Formato 7 c)'!B33","v":0},{"$f":"'Formato 7 c)'!C33","v":0},{"$f":"'Formato 7 c)'!D33","v":0},{"$f":"'Formato 7 c)'!E33","v":0},{"$f":"'Formato 7 c)'!F33","v":0},{"$f":"'Formato 7 c)'!G33","v":0}]
["7,3,5,0,0,0,0",7,3,5,null,null,null,null,null,"Ingresos Derivados de Financiamientos con Fuente de Pago de Recursos de Libre Disposición",null,null,null,null,null,{"$f":"'Formato 7 c)'!B34","v":0},{"$f":"'Formato 7 c)'!C34","v":0},{"$f":"'Formato 7 c)'!D34","v":0},{"$f":"'Formato 7 c)'!E34","v":0},{"$f":"'Formato 7 c)'!F34","v":0},{"$f":"'Formato 7 c)'!G34","v":0}]
["7,3,5,0,0,0,0",7,3,5,null,null,null,null,null,"Ingresos derivados de Financiamientos con Fuente de Pago de Transferencias Federales Etiquetadas",null,null,null,null,null,{"$f":"'Formato 7 c)'!B35","v":0},{"$f":"'Formato 7 c)'!C35","v":0},{"$f":"'Formato 7 c)'!D35","v":0},{"$f":"'Formato 7 c)'!E35","v":0},{"$f":"'Formato 7 c)'!F35","v":0},{"$f":"'Formato 7 c)'!G35","v":0}]
["7,3,5,0,0,0,0",7,3,5,null,null,null,null,null,"Ingresos Derivados de Financiamiento",null,null,null,null,null,{"$f":"'Formato 7 c)'!B36","v":0},{"$f":"'Formato 7 c)'!C36","v":0},{"$f":"'Formato 7 c)'!D36","v":0},{"$f":"'Formato 7 c)'!E36","v":0},{"$f":"'Formato 7 c)'!F36","v":0},{"$f":"'Formato 7 c)'!G36","v":0}]

{"sheet":"Formato 7 d)","index":27,"n_rows":33,"n_cols":7,"rows_kept":33,"cut":false,"hidden":false,"merged":[[32,0,32,6],[0,0,0,6],[1,0,1,6],[2,0,2,6],[3,0,3,6],[31,0,31,6],[4,0,5,0],[4,1,5,1],[4,2,5,2],[4,3,5,3],[4,4,5,4],[4,5,5,5]]}
["Formato 7 d) Resultados de Egresos - LDF"]
[{"$f":"ENTIDAD","v":"Municipio de Valle de Santiago, Gobierno del Estado de Guanajuato"}]
["Resultados de Egresos - LDF"]
["(PESOS)"]
["        Concepto (b)",{"$f":"ANIO5R","v":"2017 ¹ (c)"},{"$f":"ANIO4R","v":"2018 ¹ (c)"},{"$f":"ANIO3R","v":"2019 ¹ (c)"},{"$f":"ANIO2R","v":"2020 ¹ (c)"},{"$f":"ANIO1R","v":"2021 ¹ (c)"},2021]
[null,null,null,null,null,null,"Año del Ejercicio \nVigente 2 (d)"]
["1.  Gasto No Etiquetado (1=A+B+C+D+E+F+G+H+I)",{"$f":"SUM(B8:B16)","v":0},{"$f":"SUM(C8:C16)","v":0},0,0,0,0]
["A.     Servicios Personales",0,0,0,0,0,0]
["B.     Materiales y Suministros",0,0,0,0,0,0]
["C.    Servicios Generales",0,0,0,0,0,0]
["D.    Transferencias, Asignaciones, Subsidios y Otras Ayudas",0,0,0,0,0,0]
["E.     Bienes Muebles, Inmuebles e Intangibles",0,0,0,0,0,0]
["F.     Inversión Pública",0,0,0,0,0,0]
["G.    Inversiones Financieras y Otras Provisiones",0,0,0,0,0,0]
["H.    Participaciones y Aportaciones ",0,0,0,0,0,0]
["I.      Deuda Pública",0,0,0,0,0,0]
[null,null,null,0]
["2.  Gasto Etiquetado (2=A+B+C+D+E+F+G+H+I)",{"$f":"SUM(B19:B27)","v":0},{"$f":"SUM(C19:C27)","v":0},{"$f":"SUM(D19:D27)","v":0},0,0,0]
["A.     Servicios Personales",0,0,0,0,0,0]
["B.     Materiales y Suministros",0,0,0,0,0,0]
["C.    Servicios Generales",0,0,0,0,0,0]
["D.    Transferencias, Asignaciones, Subsidios y Otras Ayudas",0,0,0,0,0,0]
["E.     Bienes Muebles, Inmuebles e Intangibles",0,0,0,0,0,0]
["F.     Inversión Pública",0,0,0,0,0,0]
["G.    Inversiones Financieras y Otras Provisiones",0,0,0,0,0,0]
["H.    Participaciones y Aportaciones",0,0,0,0,0,0]
["I.      Deuda Pública",0,0,0,0,0,0]
[]
["3.  Total del Resultado de Egresos (3=1+2)",{"$f":"B7+B18","v":0},{"$f":"C7+C18","v":0},0,0,0,0]
[]
[]
["1 Los importes corresponden al momento contable de los ingresos devengados."]
["2 Los importes corresponden a los ingresos devengados al cierre trimestral más reciente disponible y estimados para el resto del ejercicio."]

{"sheet":"F07d","index":28,"n_rows":22,"n_cols":21,"rows_kept":22,"cut":false,"hidden":true,"merged":[]}
["CLAVE","N1","N2","N3","N4","N5","N6","N7","C  O  N  C  E  P  T  O  S",null,null,null,null,null,null,"AÑO_CUESTION_5","AÑO_CUESTION_4","AÑO_CUESTION_3","AÑO_CUESTION_2","AÑO_CUESTION_1","AÑO_CUESTION"]
[{"$f":"IF(LEN(CLEAN(B2))=0,\"0\",B2)&\",\"&IF(LEN(CLEAN(C2))=0,\"0\",C2)&\",\"&IF(LEN(CLEAN(D2))=0,\"0\",D2)&\",\"&IF(LEN(CLEAN(E2))=0,\"0\",E2)&\",\"&IF(LEN(CLEAN(F2))=0,\"0\",F2)&\",\"&IF(LEN(CLEAN(G2))=0,\"0\",G2)&\",\"&IF(LEN(CLEAN(H2))=0,\"0\",H2)","v":"7,4,1,0,0,0,0"},7,4,1,null,null,null,null,"Gasto No Etiquetado",null,null,null,null,null,null,{"$f":"'Formato 7 d)'!B7","v":0},{"$f":"'Formato 7 d)'!C7","v":0},{"$f":"'Formato 7 d)'!D7","v":0},{"$f":"'Formato 7 d)'!E7","v":0},{"$f":"'Formato 7 d)'!F7","v":0},{"$f":"'Formato 7 d)'!G7","v":0}]
[{"$f":"IF(LEN(CLEAN(B3))=0,\"0\",B3)&\",\"&IF(LEN(CLEAN(C3))=0,\"0\",C3)&\",\"&IF(LEN(CLEAN(D3))=0,\"0\",D3)&\",\"&IF(LEN(CLEAN(E3))=0,\"0\",E3)&\",\"&IF(LEN(CLEAN(F3))=0,\"0\",F3)&\",\"&IF(LEN(CLEAN(G3))=0,\"0\",G3)&\",\"&IF(LEN(CLEAN(H3))=0,\"0\",H3)","v":"7,4,1,1,0,0,0"},7,4,1,1,null,null,null,null,"Servicios Personales",null,null,null,null,null,{"$f":"'Formato 7 d)'!B8","v":0},{"$f":"'Formato 7 d)'!C8","v":0},{"$f":"'Formato 7 d)'!D8","v":0},{"$f":"'Formato 7 d)'!E8","v":0},{"$f":"'Formato 7 d)'!F8","v":0},{"$f":"'Formato 7 d)'!G8","v":0}]
["7,4,1,2,0,0,0",7,4,1,2,null,null,null,null,"Materiales y Suministros",null,null,null,null,null,{"$f":"'Formato 7 d)'!B9","v":0},{"$f":"'Formato 7 d)'!C9","v":0},{"$f":"'Formato 7 d)'!D9","v":0},{"$f":"'Formato 7 d)'!E9","v":0},{"$f":"'Formato 7 d)'!F9","v":0},{"$f":"'Formato 7 d)'!G9","v":0}]
["7,4,1,3,0,0,0",7,4,1,3,null,null,null,null,"Servicios Generales",null,null,null,null,null,{"$f":"'Formato 7 d)'!B10","v":0},{"$f":"'Formato 7 d)'!C10","v":0},{"$f":"'Formato 7 d)'!D10","v":0},{"$f":"'Formato 7 d)'!E10","v":0},{"$f":"'Formato 7 d)'!F10","v":0},{"$f":"'Formato 7 d)'!G10","v":0}]
["7,4,1,4,0,0,0",7,4,1,4,null,null,null,null,"Transferencias, Asignaciones, Subsidios y Otras Ayudas",null,null,null,null,null,{"$f":"'Formato 7 d)'!B11","v":0},{"$f":"'Formato 7 d)'!C11","v":0},{"$f":"'Formato 7 d)'!D11","v":0},{"$f":"'Formato 7 d)'!E11","v":0},{"$f":"'Formato 7 d)'!F11","v":0},{"$f":"'Formato 7 d)'!G11","v":0}]
["7,4,1,5,0,0,0",7,4,1,5,null,null,null,null,"Bienes Muebles, Inmuebles e Intangibles",null,null,null,null,null,{"$f":"'Formato 7 d)'!B12","v":0},{"$f":"'Formato 7 d)'!C12","v":0},{"$f":"'Formato 7 d)'!D12","v":0},{"$f":"'Formato 7 d)'!E12","v":0},{"$f":"'Formato 7 d)'!F12","v":0},{"$f":"'Formato 7 d)'!G12","v":0}]
["7,4,1,6,0,0,0",7,4,1,6,null,null,null,null,"Inversión Pública",null,null,null,null,null,{"$f":"'Formato 7 d)'!B13","v":0},{"$f":"'Formato 7 d)'!C13","v":0},{"$f":"'Formato 7 d)'!D13","v":0},{"$f":"'Formato 7 d)'!E13","v":0},{"$f":"'Formato 7 d)'!F13","v":0},{"$f":"'Formato 7 d)'!G13","v":0}]
["7,4,1,7,0,0,0",7,4,1,7,null,null,null,null,"Inversiones Financieras y Otras Provisiones",null,null,null,null,null,{"$f":"'Formato 7 d)'!B14","v":0},{"$f":"'Formato 7 d)'!C14","v":0},{"$f":"'Formato 7 d)'!D14","v":0},{"$f":"'Formato 7 d)'!E14","v":0},{"$f":"'Formato 7 d)'!F14","v":0},{"$f":"'Formato 7 d)'!G14","v":0}]
["7,4,1,8,0,0,0",7,4,1,8,null,null,null,null,"Participaciones y Aportaciones ",null,null,null,null,null,{"$f":"'Formato 7 d)'!B15","v":0},{"$f":"'Formato 7 d)'!C15","v":0},{"$f":"'Formato 7 d)'!D15","v":0},{"$f":"'Formato 7 d)'!E15","v":0},{"$f":"'Formato 7 d)'!F15","v":0},{"$f":"'Formato 7 d)'!G15","v":0}]
["7,4,1,9,0,0,0",7,4,1,9,null,null,null,null,"Deuda Pública",null,null,null,null,null,{"$f":"'Formato 7 d)'!B16","v":0},{"$f":"'Formato 7 d)'!C16","v":0},{"$f":"'Formato 7 d)'!D16","v":0},{"$f":"'Formato 7 d)'!E16","v":0},{"$f":"'Formato 7 d)'!F16","v":0},{"$f":"'Formato 7 d)'!G16","v":0}]
[{"$f":"IF(LEN(CLEAN(B12))=0,\"0\",B12)&\",\"&IF(LEN(CLEAN(C12))=0,\"0\",C12)&\",\"&IF(LEN(CLEAN(D12))=0,\"0\",D12)&\",\"&IF(LEN(CLEAN(E12))=0,\"0\",E12)&\",\"&IF(LEN(CLEAN(F12))=0,\"0\",F12)&\",\"&IF(LEN(CLEAN(G12))=0,\"0\",G12)&\",\"&IF(LEN(CLEAN(H12))=0,\"0\",H12)","v":"7,4,2,0,0,0,0"},7,4,2,null,null,null,null,"Gasto Etiquetado",null,null,null,null,null,null,{"$f":"'Formato 7 d)'!B18","v":0},{"$f":"'Formato 7 d)'!C18","v":0},{"$f":"'Formato 7 d)'!D18","v":0},{"$f":"'Formato 7 d)'!E18","v":0},{"$f":"'Formato 7 d)'!F18","v":0},{"$f":"'Formato 7 d)'!G18","v":0}]
[{"$f":"IF(LEN(CLEAN(B13))=0,\"0\",B13)&\",\"&IF(LEN(CLEAN(C13))=0,\"0\",C13)&\",\"&IF(LEN(CLEAN(D13))=0,\"0\",D13)&\",\"&IF(LEN(CLEAN(E13))=0,\"0\",E13)&\",\"&IF(LEN(CLEAN(F13))=0,\"0\",F13)&\",\"&IF(LEN(CLEAN(G13))=0,\"0\",G13)&\",\"&IF(LEN(CLEAN(H13))=0,\"0\",H13)","v":"7,4,2,1,0,0,0"},7,4,2,1,null,null,null,null,"Servicios Personales",null,null,null,null,null,{"$f":"'Formato 7 d)'!B19","v":0},{"$f":"'Formato 7 d)'!C19","v":0},{"$f":"'Formato 7 d)'!D19","v":0},{"$f":"'Formato 7 d)'!E19","v":0},{"$f":"'Formato 7 d)'!F19","v":0},{"$f":"'Formato 7 d)'!G19","v":0}]
["7,4,2,2,0,0,0",7,4,2,2,null,null,null,null,"Materiales y Suministros",null,null,null,null,null,{"$f":"'Formato 7 d)'!B20","v":0},{"$f":"'Formato 7 d)'!C20","v":0},{"$f":"'Formato 7 d)'!D20","v":0},{"$f":"'Formato 7 d)'!E20","v":0},{"$f":"'Formato 7 d)'!F20","v":0},{"$f":"'Formato 7 d)'!G20","v":0}]
["7,4,2,3,0,0,0",7,4,2,3,null,null,null,null,"Servicios Generales",null,null,null,null,null,{"$f":"'Formato 7 d)'!B21","v":0},{"$f":"'Formato 7 d)'!C21","v":0},{"$f":"'Formato 7 d)'!D21","v":0},{"$f":"'Formato 7 d)'!E21","v":0},{"$f":"'Formato 7 d)'!F21","v":0},{"$f":"'Formato 7 d)'!G21","v":0}]
["7,4,2,4,0,0,0",7,4,2,4,null,null,null,null,"Transferencias, Asignaciones, Subsidios y Otras Ayudas",null,null,null,null,null,{"$f":"'Formato 7 d)'!B22","v":0},{"$f":"'Formato 7 d)'!C22","v":0},{"$f":"'Formato 7 d)'!D22","v":0},{"$f":"'Formato 7 d)'!E22","v":0},{"$f":"'Formato 7 d)'!F22","v":0},{"$f":"'Formato 7 d)'!G22","v":0}]
["7,4,2,5,0,0,0",7,4,2,5,null,null,null,null,"Bienes Muebles, Inmuebles e Intangibles",null,null,null,null,null,{"$f":"'Formato 7 d)'!B23","v":0},{"$f":"'Formato 7 d)'!C23","v":0},{"$f":"'Formato 7 d)'!D23","v":0},{"$f":"'Formato 7 d)'!E23","v":0},{"$f":"'Formato 7 d)'!F23","v":0},{"$f":"'Formato 7 d)'!G23","v":0}]
["7,4,2,6,0,0,0",7,4,2,6,null,null,null,null,"Inversión Pública",null,null,null,null,null,{"$f":"'Formato 7 d)'!B24","v":0},{"$f":"'Formato 7 d)'!C24","v":0},{"$f":"'Formato 7 d)'!D24","v":0},{"$f":"'Formato 7 d)'!E24","v":0},{"$f":"'Formato 7 d)'!F24","v":0},{"$f":"'Formato 7 d)'!G24","v":0}]
["7,4,2,7,0,0,0",7,4,2,7,null,null,null,null,"Inversiones Financieras y Otras Provisiones",null,null,null,null,null,{"$f":"'Formato 7 d)'!B25","v":0},{"$f":"'Formato 7 d)'!C25","v":0},{"$f":"'Formato 7 d)'!D25","v":0},{"$f":"'Formato 7 d)'!E25","v":0},{"$f":"'Formato 7 d)'!F25","v":0},{"$f":"'Formato 7 d)'!G25","v":0}]
["7,4,2,8,0,0,0",7,4,2,8,null,null,null,null,"Participaciones y Aportaciones ",null,null,null,null,null,{"$f":"'Formato 7 d)'!B26","v":0},{"$f":"'Formato 7 d)'!C26","v":0},{"$f":"'Formato 7 d)'!D26","v":0},{"$f":"'Formato 7 d)'!E26","v":0},{"$f":"'Formato 7 d)'!F26","v":0},{"$f":"'Formato 7 d)'!G26","v":0}]
["7,4,2,9,0,0,0",7,4,2,9,null,null,null,null,"Deuda Pública",null,null,null,null,null,{"$f":"'Formato 7 d)'!B27","v":0},{"$f":"'Formato 7 d)'!C27","v":0},{"$f":"'Formato 7 d)'!D27","v":0},{"$f":"'Formato 7 d)'!E27","v":0},{"$f":"'Formato 7 d)'!F27","v":0},{"$f":"'Formato 7 d)'!G27","v":0}]
["7,4,3,0,0,0,0",7,4,3,null,null,null,null,"3.  Total del Resultado de Egresos (3=1+2)",null,null,null,null,null,null,{"$f":"'Formato 7 d)'!B29","v":0},{"$f":"'Formato 7 d)'!C29","v":0},{"$f":"'Formato 7 d)'!D29","v":0},{"$f":"'Formato 7 d)'!E29","v":0},{"$f":"'Formato 7 d)'!F29","v":0},{"$f":"'Formato 7 d)'!G29","v":0}]

{"sheet":"Formato 8","index":29,"n_rows":66,"n_cols":6,"rows_kept":66,"cut":false,"hidden":false,"merged":[[1,0,1,5],[2,0,2,5],[0,0,0,5]]}
["Formato 8) Informe sobre Estudios Actuariales – LDF"]
[{"$f":"ENTE_PUBLICO","v":"Municipio de Valle de Santiago, Gto., Gobierno del Estado de Guanajuato"}]
["Informe sobre Estudios Actuariales - LDF"]
[null,"Pensiones y jubilaciones","Salud","Riesgos de trabajo","Invalidez y vida","Otras prestaciones sociales"]
["Tipo de Sistema"]
["Prestación laboral o Fondo general para trabajadores del estado o municipio"]
["Beneficio definido, Contribución definida o Mixto"]
[]
["Población afiliada"]
["Activos",713,null,713,713,713]
["Edad máxima",79,null,79,79,79]
["Edad mínima",19,null,19,19,19]
["Edad promedio",43,null,43,43,43]
["Pensionados y Jubilados",60,null,0,1,0]
["Edad máxima",89,null,0,49,0]
["Edad mínima",40,null,0,49,0]
["Edad promedio",65,null,0,49,0]
["Beneficiarios"]
["Promedio de años de servicio (trabajadores activos)",5.81,null,5.81,5.81,5.81]
["Aportación individual al plan de pensión como % del salario",0,null,0,0,0]
["Aportación del ente público al plan de pensión como % del salario",0,null,0,0,0]
["Crecimiento esperado de los pensionados y jubilados (como %)",0.06,null,"-","-","NA"]
["Crecimiento esperado de los activos (como %)",6.1050000000000002E-3,null,6.1050000000000002E-3,6.1050000000000002E-3,6.1050000000000002E-3]
["Edad de Jubilación o Pensión",52.12,null,0,39,0]
["Esperanza de vida",28.23,null,0,39.22,0]
[]
["Ingresos del Fondo"]
["Ingresos Anuales al Fondo de Pensiones",0,null,0,0,0]
[]
["Nómina anual"]
["Activos",96018827.400000006,null,96018827.400000006,96018827.400000006,96018827.400000006]
["Pensionados y Jubilados",5075391.3600000003,null,0,66705.600000000006,0]
["Beneficiarios de Pensionados y Jubilados",0,null,0,0,0]
[]
["Monto mensual por pensión"]
["Máximo",18129.28,null,0,5558.8,0]
["Mínimo",2697.76,null,0,5558.8,0]
["Promedio",7049.15,null,0,5558.8,0]
[]
["Monto de la reserva"]
[]
["Valor presente de las obligaciones"]
["Pensiones y Jubilaciones en curso de pago",86973427.459999993,null,0,1785543.73,0]
["Generación actual",365700673.57999998,null,0,0,31156963.039999999]
["Generaciones futuras",666100076.72000003,null,0,0,96048106.359999999]
[]
["Valor presente de las contribuciones asociadas a los sueldos futuros de cotización X%"]
["Generación actual"]
["Generaciones futuras"]
[]
["Valor presente de aportaciones futuras"]
["Generación actual",0,null,0,0,0]
["Generaciones futuras",0,null,0,0,0]
["Otros Ingresos",0,null,0,0,0]
[]
["Déficit/superávit actuarial"]
["Generación actual",-452674101.02999997,null,0,-1785543.73,-31156963.039999999]
["Generaciones futuras",-666100076.72000003,null,0,0,-96048106.359999999]
[]
["Periodo de suficiencia"]
["Año de descapitalización",2019,null,2019,2019,2019]
["Tasa de rendimiento",0.03,null,0.03,0.03,0.03]
[]
["Estudio actuarial"]
["Año de elaboración del estudio actuarial",2018,null,2018,2018,2018]
["Empresa que elaboró el estudio actuarial","Valuaciones Actuariales del Norte S.C.",null,"Valuaciones Actuariales del Norte S.C.","Valuaciones Actuariales del Norte S.C.","Valuaciones Actuariales del Norte S.C."]

{"sheet":"F08","index":30,"n_rows":52,"n_cols":20,"rows_kept":52,"cut":false,"hidden":true,"merged":[]}
["CLAVE","N1","N2","N3","N4","N5","N6","N7","C  O  N  C  E  P  T  O  S",null,null,null,null,null,null,"PENSIONES","SALUD","RIESGOS","INVALIDEZ","OTRAS"]
[{"$f":"IF(LEN(CLEAN(B2))=0,\"0\",B2)&\",\"&IF(LEN(CLEAN(C2))=0,\"0\",C2)&\",\"&IF(LEN(CLEAN(D2))=0,\"0\",D2)&\",\"&IF(LEN(CLEAN(E2))=0,\"0\",E2)&\",\"&IF(LEN(CLEAN(F2))=0,\"0\",F2)&\",\"&IF(LEN(CLEAN(G2))=0,\"0\",G2)&\",\"&IF(LEN(CLEAN(H2))=0,\"0\",H2)","v":"8,1,0,0,0,0,0"},8,1,null,null,null,null,null,"Tipo de Sistema"]
[{"$f":"IF(LEN(CLEAN(B3))=0,\"0\",B3)&\",\"&IF(LEN(CLEAN(C3))=0,\"0\",C3)&\",\"&IF(LEN(CLEAN(D3))=0,\"0\",D3)&\",\"&IF(LEN(CLEAN(E3))=0,\"0\",E3)&\",\"&IF(LEN(CLEAN(F3))=0,\"0\",F3)&\",\"&IF(LEN(CLEAN(G3))=0,\"0\",G3)&\",\"&IF(LEN(CLEAN(H3))=0,\"0\",H3)","v":"8,1,1,0,0,0,0"},8,1,1,null,null,null,null,null,"Prestación laboral o Fondo general para trabajadores del estado o municipio",null,null,null,null,null,{"$f":"'Formato 8'!B6","v":0},{"$f":"'Formato 8'!C6","v":0},{"$f":"'Formato 8'!D6","v":0},{"$f":"'Formato 8'!E6","v":0},{"$f":"'Formato 8'!F6","v":0}]
["8,1,2,0,0,0,0",8,1,2,null,null,null,null,null,"Beneficio definido, Contribución definida o Mixto",null,null,null,null,null,{"$f":"'Formato 8'!B7","v":0},{"$f":"'Formato 8'!C7","v":0},{"$f":"'Formato 8'!D7","v":0},{"$f":"'Formato 8'!E7","v":0},{"$f":"'Formato 8'!F7","v":0}]
["8,2,0,0,0,0,0",8,2,null,null,null,null,null,"Población afiliada"]
["8,2,1,0,0,0,0",8,2,1,null,null,null,null,null,"Activos",null,null,null,null,null,{"$f":"'Formato 8'!B10","v":713},{"$f":"'Formato 8'!C10","v":0},{"$f":"'Formato 8'!D10","v":713},{"$f":"'Formato 8'!E10","v":713},{"$f":"'Formato 8'!F10","v":713}]
["8,2,1,1,0,0,0",8,2,1,1,null,null,null,null,null,"Edad máxima",null,null,null,null,{"$f":"'Formato 8'!B11","v":79},{"$f":"'Formato 8'!C11","v":0},{"$f":"'Formato 8'!D11","v":79},{"$f":"'Formato 8'!E11","v":79},{"$f":"'Formato 8'!F11","v":79}]
["8,2,1,2,0,0,0",8,2,1,2,null,null,null,null,null,"Edad mínima",null,null,null,null,{"$f":"'Formato 8'!B12","v":19},{"$f":"'Formato 8'!C12","v":0},{"$f":"'Formato 8'!D12","v":19},{"$f":"'Formato 8'!E12","v":19},{"$f":"'Formato 8'!F12","v":19}]
["8,2,1,3,0,0,0",8,2,1,3,null,null,null,null,null,"Edad promedio",null,null,null,null,{"$f":"'Formato 8'!B13","v":43},{"$f":"'Formato 8'!C13","v":0},{"$f":"'Formato 8'!D13","v":43},{"$f":"'Formato 8'!E13","v":43},{"$f":"'Formato 8'!F13","v":43}]
["8,2,2,0,0,0,0",8,2,2,null,null,null,null,null,"Pensionados y Jubilados",null,null,null,null,null,{"$f":"'Formato 8'!B14","v":60},{"$f":"'Formato 8'!C14","v":0},{"$f":"'Formato 8'!D14","v":0},{"$f":"'Formato 8'!E14","v":1},{"$f":"'Formato 8'!F14","v":0}]
["8,2,2,1,0,0,0",8,2,2,1,null,null,null,null,null,"Edad máxima",null,null,null,null,{"$f":"'Formato 8'!B15","v":89},{"$f":"'Formato 8'!C15","v":0},{"$f":"'Formato 8'!D15","v":0},{"$f":"'Formato 8'!E15","v":49},{"$f":"'Formato 8'!F15","v":0}]
["8,2,2,2,0,0,0",8,2,2,2,null,null,null,null,null,"Edad mínima",null,null,null,null,{"$f":"'Formato 8'!B16","v":40},{"$f":"'Formato 8'!C16","v":0},{"$f":"'Formato 8'!D16","v":0},{"$f":"'Formato 8'!E16","v":49},{"$f":"'Formato 8'!F16","v":0}]
["8,2,2,3,0,0,0",8,2,2,3,null,null,null,null,null,"Edad promedio",null,null,null,null,{"$f":"'Formato 8'!B17","v":65},{"$f":"'Formato 8'!C17","v":0},{"$f":"'Formato 8'!D17","v":0},{"$f":"'Formato 8'!E17","v":49},{"$f":"'Formato 8'!F17","v":0}]
["8,2,3,0,0,0,0",8,2,3,null,null,null,null,null,"Beneficiarios",null,null,null,null,null,{"$f":"'Formato 8'!B18","v":0},{"$f":"'Formato 8'!C18","v":0},{"$f":"'Formato 8'!D18","v":0},{"$f":"'Formato 8'!E18","v":0},{"$f":"'Formato 8'!F18","v":0}]
["8,2,4,0,0,0,0",8,2,4,null,null,null,null,null,"Promedio de años de servicio (trabajadores activos)",null,null,null,null,null,{"$f":"'Formato 8'!B19","v":5.81},{"$f":"'Formato 8'!C19","v":0},{"$f":"'Formato 8'!D19","v":5.81},{"$f":"'Formato 8'!E19","v":5.81},{"$f":"'Formato 8'!F19","v":5.81}]
["8,2,5,0,0,0,0",8,2,5,null,null,null,null,null,"Aportación individual al plan de pensión como % del salario",null,null,null,null,null,{"$f":"'Formato 8'!B20","v":0},{"$f":"'Formato 8'!C20","v":0},{"$f":"'Formato 8'!D20","v":0},{"$f":"'Formato 8'!E20","v":0},{"$f":"'Formato 8'!F20","v":0}]
["8,2,6,0,0,0,0",8,2,6,null,null,null,null,null,"Aportación del ente público al plan de pensión como % del salario",null,null,null,null,null,{"$f":"'Formato 8'!B21","v":0},{"$f":"'Formato 8'!C21","v":0},{"$f":"'Formato 8'!D21","v":0},{"$f":"'Formato 8'!E21","v":0},{"$f":"'Formato 8'!F21","v":0}]
["8,2,7,0,0,0,0",8,2,7,null,null,null,null,null,"Crecimiento esperado de los pensionados y jubilados (como %)",null,null,null,null,null,{"$f":"'Formato 8'!B22","v":0.06},{"$f":"'Formato 8'!C22","v":0},{"$f":"'Formato 8'!D22","v":"-"},{"$f":"'Formato 8'!E22","v":"-"},{"$f":"'Formato 8'!F22","v":"NA"}]
["8,2,8,0,0,0,0",8,2,8,null,null,null,null,null,"Crecimiento esperado de los activos (como %)",null,null,null,null,null,{"$f":"'Formato 8'!B23","v":6.1050000000000002E-3},{"$f":"'Formato 8'!C23","v":0},{"$f":"'Formato 8'!D23","v":6.1050000000000002E-3},{"$f":"'Formato 8'!E23","v":6.1050000000000002E-3},{"$f":"'Formato 8'!F23","v":6.1050000000000002E-3}]
["8,2,9,0,0,0,0",8,2,9,null,null,null,null,null,"Edad de Jubilación o Pensión",null,null,null,null,null,{"$f":"'Formato 8'!B24","v":52.12},{"$f":"'Formato 8'!C24","v":0},{"$f":"'Formato 8'!D24","v":0},{"$f":"'Formato 8'!E24","v":39},{"$f":"'Formato 8'!F24","v":0}]
["8,2,10,0,0,0,0",8,2,10,null,null,null,null,null,"Esperanza de vida",null,null,null,null,null,{"$f":"'Formato 8'!B25","v":28.23},{"$f":"'Formato 8'!C25","v":0},{"$f":"'Formato 8'!D25","v":0},{"$f":"'Formato 8'!E25","v":39.22},{"$f":"'Formato 8'!F25","v":0}]
["8,3,0,0,0,0,0",8,3,null,null,null,null,null,"Ingresos del Fondo"]
["8,3,1,0,0,0,0",8,3,1,null,null,null,null,null,"Ingresos Anuales al Fondo de Pensiones",null,null,null,null,null,{"$f":"'Formato 8'!B28","v":0},{"$f":"'Formato 8'!C28","v":0},{"$f":"'Formato 8'!D28","v":0},{"$f":"'Formato 8'!E28","v":0},{"$f":"'Formato 8'!F28","v":0}]
["8,4,0,0,0,0,0",8,4,null,null,null,null,null,"Nómina anual"]
["8,4,1,0,0,0,0",8,4,1,null,null,null,null,null,"Activos",null,null,null,null,null,{"$f":"'Formato 8'!B31","v":96018827.400000006},{"$f":"'Formato 8'!C31","v":0},{"$f":"'Formato 8'!D31","v":96018827.400000006},{"$f":"'Formato 8'!E31","v":96018827.400000006},{"$f":"'Formato 8'!F31","v":96018827.400000006}]
["8,4,2,0,0,0,0",8,4,2,null,null,null,null,null,"Pensionados y Jubilados",null,null,null,null,null,{"$f":"'Formato 8'!B32","v":5075391.3600000003},{"$f":"'Formato 8'!C32","v":0},{"$f":"'Formato 8'!D32","v":0},{"$f":"'Formato 8'!E32","v":66705.600000000006},{"$f":"'Formato 8'!F32","v":0}]
["8,4,3,0,0,0,0",8,4,3,null,null,null,null,null,"Beneficiarios de Pensionados y Jubilados",null,null,null,null,null,{"$f":"'Formato 8'!B33","v":0},{"$f":"'Formato 8'!C33","v":0},{"$f":"'Formato 8'!D33","v":0},{"$f":"'Formato 8'!E33","v":0},{"$f":"'Formato 8'!F33","v":0}]
["8,5,0,0,0,0,0",8,5,null,null,null,null,null,"Monto mensual por pensión"]
["8,5,1,0,0,0,0",8,5,1,null,null,null,null,null,"Máximo",null,null,null,null,null,{"$f":"'Formato 8'!B36","v":18129.28},{"$f":"'Formato 8'!C36","v":0},{"$f":"'Formato 8'!D36","v":0},{"$f":"'Formato 8'!E36","v":5558.8},{"$f":"'Formato 8'!F36","v":0}]
["8,5,2,0,0,0,0",8,5,2,null,null,null,null,null,"Mínimo",null,null,null,null,null,{"$f":"'Formato 8'!B37","v":2697.76},{"$f":"'Formato 8'!C37","v":0},{"$f":"'Formato 8'!D37","v":0},{"$f":"'Formato 8'!E37","v":5558.8},{"$f":"'Formato 8'!F37","v":0}]
["8,5,3,0,0,0,0",8,5,3,null,null,null,null,null,"Promedio",null,null,null,null,null,{"$f":"'Formato 8'!B38","v":7049.15},{"$f":"'Formato 8'!C38","v":0},{"$f":"'Formato 8'!D38","v":0},{"$f":"'Formato 8'!E38","v":5558.8},{"$f":"'Formato 8'!F38","v":0}]
["8,6,0,0,0,0,0",8,6,null,null,null,null,null,"Monto de la reserva",null,null,null,null,null,null,{"$f":"'Formato 8'!B40","v":0},{"$f":"'Formato 8'!C40","v":0},{"$f":"'Formato 8'!D40","v":0},{"$f":"'Formato 8'!E40","v":0},{"$f":"'Formato 8'!F40","v":0}]
["8,7,0,0,0,0,0",8,7,null,null,null,null,null,"Valor presente de las obligaciones"]
["8,7,1,0,0,0,0",8,7,1,null,null,null,null,null,"Pensiones y Jubilaciones en curso de pago",null,null,null,null,null,{"$f":"'Formato 8'!B43","v":86973427.459999993},{"$f":"'Formato 8'!C43","v":0},{"$f":"'Formato 8'!D43","v":0},{"$f":"'Formato 8'!E43","v":1785543.73},{"$f":"'Formato 8'!F43","v":0}]
["8,7,2,0,0,0,0",8,7,2,null,null,null,null,null,"Generación actual",null,null,null,null,null,{"$f":"'Formato 8'!B44","v":365700673.57999998},{"$f":"'Formato 8'!C44","v":0},{"$f":"'Formato 8'!D44","v":0},{"$f":"'Formato 8'!E44","v":0},{"$f":"'Formato 8'!F44","v":31156963.039999999}]
["8,7,3,0,0,0,0",8,7,3,null,null,null,null,null,"Generaciones futuras",null,null,null,null,null,{"$f":"'Formato 8'!B45","v":666100076.72000003},{"$f":"'Formato 8'!C45","v":0},{"$f":"'Formato 8'!D45","v":0},{"$f":"'Formato 8'!E45","v":0},{"$f":"'Formato 8'!F45","v":96048106.359999999}]
["8,8,0,0,0,0,0",8,8,null,null,null,null,null,"Valor presente de las contribuciones asociadas a los sueldos futuros de cotización X%"]
["8,8,1,0,0,0,0",8,8,1,null,null,null,null,null,"Generación actual",null,null,null,null,null,{"$f":"'Formato 8'!B48","v":0},{"$f":"'Formato 8'!C48","v":0},{"$f":"'Formato 8'!D48","v":0},{"$f":"'Formato 8'!E48","v":0},{"$f":"'Formato 8'!F48","v":0}]
["8,8,2,0,0,0,0",8,8,2,null,null,null,null,null,"Generaciones futuras",null,null,null,null,null,{"$f":"'Formato 8'!B49","v":0},{"$f":"'Formato 8'!C49","v":0},{"$f":"'Formato 8'!D49","v":0},{"$f":"'Formato 8'!E49","v":0},{"$f":"'Formato 8'!F49","v":0}]
["8,9,0,0,0,0,0",8,9,null,null,null,null,null,"Valor presente de aportaciones futuras"]
["8,9,1,0,0,0,0",8,9,1,null,null,null,null,null,"Generación actual",null,null,null,null,null,{"$f":"'Formato 8'!B52","v":0},{"$f":"'Formato 8'!C52","v":0},{"$f":"'Formato 8'!D52","v":0},{"$f":"'Formato 8'!E52","v":0},{"$f":"'Formato 8'!F52","v":0}]
["8,9,2,0,0,0,0",8,9,2,null,null,null,null,null,"Generaciones futuras",null,null,null,null,null,{"$f":"'Formato 8'!B53","v":0},{"$f":"'Formato 8'!C53","v":0},{"$f":"'Formato 8'!D53","v":0},{"$f":"'Formato 8'!E53","v":0},{"$f":"'Formato 8'!F53","v":0}]
["8,9,3,0,0,0,0",8,9,3,null,null,null,null,null,"Otros Ingresos",null,null,null,null,null,{"$f":"'Formato 8'!B54","v":0},{"$f":"'Formato 8'!C54","v":0},{"$f":"'Formato 8'!D54","v":0},{"$f":"'Formato 8'!E54","v":0},{"$f":"'Formato 8'!F54","v":0}]
["8,10,0,0,0,0,0",8,10,null,null,null,null,null,"Déficit/superávit actuarial"]
["8,10,1,0,0,0,0",8,10,1,null,null,null,null,null,"Generación actual",null,null,null,null,null,{"$f":"'Formato 8'!B57","v":-452674101.02999997},{"$f":"'Formato 8'!C57","v":0},{"$f":"'Formato 8'!D57","v":0},{"$f":"'Formato 8'!E57","v":-1785543.73},{"$f":"'Formato 8'!F57","v":-31156963.039999999}]
["8,10,2,0,0,0,0",8,10,2,null,null,null,null,null,"Generaciones futuras",null,null,null,null,null,{"$f":"'Formato 8'!B58","v":-666100076.72000003},{"$f":"'Formato 8'!C58","v":0},{"$f":"'Formato 8'!D58","v":0},{"$f":"'Formato 8'!E58","v":0},{"$f":"'Formato 8'!F58","v":-96048106.359999999}]
["8,11,0,0,0,0,0",8,11,null,null,null,null,null,"Periodo de suficiencia"]
["8,11,1,0,0,0,0",8,11,1,null,null,null,null,null,"Año de descapitalización",null,null,null,null,null,{"$f":"'Formato 8'!B61","v":2019},{"$f":"'Formato 8'!C61","v":0},{"$f":"'Formato 8'!D61","v":2019},{"$f":"'Formato 8'!E61","v":2019},{"$f":"'Formato 8'!F61","v":2019}]
["8,11,2,0,0,0,0",8,11,2,null,null,null,null,null,"Tasa de rendimiento",null,null,null,null,null,{"$f":"'Formato 8'!B62","v":0.03},{"$f":"'Formato 8'!C62","v":0},{"$f":"'Formato 8'!D62","v":0.03},{"$f":"'Formato 8'!E62","v":0.03},{"$f":"'Formato 8'!F62","v":0.03}]
["8,12,0,0,0,0,0",8,12,null,null,null,null,null,"Estudio actuarial"]
["8,12,1,0,0,0,0",8,12,1,null,null,null,null,null,"Año de elaboración del estudio actuarial",null,null,null,null,null,{"$f":"'Formato 8'!B65","v":2018},{"$f":"'Formato 8'!C65","v":0},{"$f":"'Formato 8'!D65","v":2018},{"$f":"'Formato 8'!E65","v":2018},{"$f":"'Formato 8'!F65","v":2018}]
["8,12,2,0,0,0,0",8,12,2,null,null,null,null,null,"Empresa que elaboró el estudio actuarial",null,null,null,null,null,{"$f":"'Formato 8'!B66","v":"Valuaciones Actuariales del Norte S.C."},{"$f":"'Formato 8'!C66","v":0},{"$f":"'Formato 8'!D66","v":"Valuaciones Actuariales del Norte S.C."},{"$f":"'Formato 8'!E66","v":"Valuaciones Actuariales del Norte S.C."},{"$f":"'Formato 8'!F66","v":"Valuaciones Actuariales del Norte S.C."}]